{"text_format":"1","workbook":"xlsx","n_sheets":4,"sheets":["Coeff","h2h","handicap","totals"],"not_rendered":{"charts":0,"images":0,"macros":1,"external_links":0,"defined_names":15,"comments":0,"pivot_tables":0},"unopened":[],"bounds":{"document_bytes":16777216,"sheet_cells":100000,"rows_first":2000,"rows_last":500,"rows_between":2000,"halvings":0,"cell_chars":16384,"cell_head_chars":4096},"cells_cut":0,"cells_raw":0,"read":"whole","date_system":"1900"}

{"sheet":"Coeff","index":0,"n_rows":15,"n_cols":2,"rows_kept":15,"cut":false,"hidden":false,"merged":[]}
[]
["H2H"]
["Bank Balance",1000]
["Kelly",10]
["Min. Overlay",0.05]
[]
["Handicap"]
["Bank Balance",1000]
["Kelly",10]
["Min. Overlay",0.05]
[]
["Totals"]
["Bank Balance",1000]
["Kelly",10]
["Min. Overlay",0.05]

{"sheet":"h2h","index":1,"n_rows":500,"n_cols":11,"rows_kept":500,"cut":false,"hidden":false,"merged":[]}
[]
[]
["League","Team1","Team2","Prob(T1)","Prob(Draw)","Prob(T2)","Odds(T1)","Odds(Draw)","Odds(T2)","$Bet(T1)","$Bet(T2)"]
["Austria tipp3-Bundesliga","Wiener Neustadt","RZ Pellets WAC",0.376,0.316,0.309,2.5,3.4,2.91,{"$f":"IF(G4=\"\",\"\",IF((G4*D4-1)>=Coeff!$B$5,Coeff!$B$3/Coeff!$B$4*(G4*D4-1)/(G4-1),0))","v":0},{"$f":"IF(I4=\"\",\"\",IF((I4*F4-1)>=Coeff!$B$5,Coeff!$B$3/Coeff!$B$4*(I4*F4-1)/(I4-1),0))","v":0}]
["Austria tipp3-Bundesliga","Austria Wien","Mattersburg",0.78900000000000003,0.14399999999999999,6.7000000000000004E-2,1.36,5.0599999999999996,11.69,{"$f":"IF(G5=\"\",\"\",IF((G5*D5-1)>=Coeff!$B$5,Coeff!$B$3/Coeff!$B$4*(G5*D5-1)/(G5-1),0))","v":20.288888888888945},{"$f":"IF(I5=\"\",\"\",IF((I5*F5-1)>=Coeff!$B$5,Coeff!$B$3/Coeff!$B$4*(I5*F5-1)/(I5-1),0))","v":0}]
["Austria tipp3-Bundesliga","Adm/Modling","Rapid Wien",0.32500000000000001,0.317,0.35799999999999998,3.03,3.55,2.41,{"$f":"IF(G6=\"\",\"\",IF((G6*D6-1)>=Coeff!$B$5,Coeff!$B$3/Coeff!$B$4*(G6*D6-1)/(G6-1),0))","v":0},{"$f":"IF(I6=\"\",\"\",IF((I6*F6-1)>=Coeff!$B$5,Coeff!$B$3/Coeff!$B$4*(I6*F6-1)/(I6-1),0))","v":0}]
["Austria tipp3-Bundesliga","FC Wacker Innsbruck","Sturm Graz",0.33,0.317,0.35299999999999998,2.5,3.61,2.9,{"$f":"IF(G7=\"\",\"\",IF((G7*D7-1)>=Coeff!$B$5,Coeff!$B$3/Coeff!$B$4*(G7*D7-1)/(G7-1),0))","v":0},{"$f":"IF(I7=\"\",\"\",IF((I7*F7-1)>=Coeff!$B$5,Coeff!$B$3/Coeff!$B$4*(I7*F7-1)/(I7-1),0))","v":0}]
["Austria tipp3-Bundesliga","Ried","Salzburg",0.22700000000000001,0.29499999999999998,0.47799999999999998,4.53,3.79,1.86,{"$f":"IF(G8=\"\",\"\",IF((G8*D8-1)>=Coeff!$B$5,Coeff!$B$3/Coeff!$B$4*(G8*D8-1)/(G8-1),0))","v":0},{"$f":"IF(I8=\"\",\"\",IF((I8*F8-1)>=Coeff!$B$5,Coeff!$B$3/Coeff!$B$4*(I8*F8-1)/(I8-1),0))","v":0}]
["Austria ADEG Erste Liga","Vienna FC","SV Horn",0.442,0.24299999999999999,0.315,null,null,null,{"$f":"IF(G9=\"\",\"\",IF((G9*D9-1)>=Coeff!$B$5,Coeff!$B$3/Coeff!$B$4*(G9*D9-1)/(G9-1),0))","v":""},{"$f":"IF(I9=\"\",\"\",IF((I9*F9-1)>=Coeff!$B$5,Coeff!$B$3/Coeff!$B$4*(I9*F9-1)/(I9-1),0))","v":""}]
["Belarus Premier Division","FC Minsk","Shakhtyor Soligorsk",0.18,0.23699999999999999,0.58199999999999996,4.75,3.45,1.88,{"$f":"IF(G10=\"\",\"\",IF((G10*D10-1)>=Coeff!$B$5,Coeff!$B$3/Coeff!$B$4*(G10*D10-1)/(G10-1),0))","v":0},{"$f":"IF(I10=\"\",\"\",IF((I10*F10-1)>=Coeff!$B$5,Coeff!$B$3/Coeff!$B$4*(I10*F10-1)/(I10-1),0))","v":10.699999999999978}]
["Belarus Premier Division","Belshina Bobruisk","Dinamo Minsk",0.25,0.27100000000000002,0.47899999999999998,3.8,3.3,2,{"$f":"IF(G11=\"\",\"\",IF((G11*D11-1)>=Coeff!$B$5,Coeff!$B$3/Coeff!$B$4*(G11*D11-1)/(G11-1),0))","v":0},{"$f":"IF(I11=\"\",\"\",IF((I11*F11-1)>=Coeff!$B$5,Coeff!$B$3/Coeff!$B$4*(I11*F11-1)/(I11-1),0))","v":0}]
["Bulgaria A Grupa","Botev Vratsa","Montana",0.46400000000000002,0.27300000000000002,0.26200000000000001,1.36,4.75,6.5,{"$f":"IF(G12=\"\",\"\",IF((G12*D12-1)>=Coeff!$B$5,Coeff!$B$3/Coeff!$B$4*(G12*D12-1)/(G12-1),0))","v":0},{"$f":"IF(I12=\"\",\"\",IF((I12*F12-1)>=Coeff!$B$5,Coeff!$B$3/Coeff!$B$4*(I12*F12-1)/(I12-1),0))","v":12.781818181818183}]
["Bulgaria A Grupa","Slavia Sofia","Chernomorets Burgas",0.45200000000000001,0.27600000000000002,0.27200000000000002,1.8,3.8,3.4,{"$f":"IF(G13=\"\",\"\",IF((G13*D13-1)>=Coeff!$B$5,Coeff!$B$3/Coeff!$B$4*(G13*D13-1)/(G13-1),0))","v":0},{"$f":"IF(I13=\"\",\"\",IF((I13*F13-1)>=Coeff!$B$5,Coeff!$B$3/Coeff!$B$4*(I13*F13-1)/(I13-1),0))","v":0}]
["Bulgaria A Grupa","Litex Lovech","Lokomotiv Sofia",0.85099999999999998,9.8000000000000004E-2,5.0999999999999997E-2,2.2000000000000002,3.3,3,{"$f":"IF(G14=\"\",\"\",IF((G14*D14-1)>=Coeff!$B$5,Coeff!$B$3/Coeff!$B$4*(G14*D14-1)/(G14-1),0))","v":72.683333333333337},{"$f":"IF(I14=\"\",\"\",IF((I14*F14-1)>=Coeff!$B$5,Coeff!$B$3/Coeff!$B$4*(I14*F14-1)/(I14-1),0))","v":0}]
["Bulgaria A Grupa","Lokomotiv Plovdiv","Beroe",0.55500000000000005,0.247,0.19800000000000001,2,3.25,3.3,{"$f":"IF(G15=\"\",\"\",IF((G15*D15-1)>=Coeff!$B$5,Coeff!$B$3/Coeff!$B$4*(G15*D15-1)/(G15-1),0))","v":11.000000000000011},{"$f":"IF(I15=\"\",\"\",IF((I15*F15-1)>=Coeff!$B$5,Coeff!$B$3/Coeff!$B$4*(I15*F15-1)/(I15-1),0))","v":0}]
["Bulgaria A Grupa","Minyor","Cherno More Varna",0.22800000000000001,0.26100000000000001,0.51100000000000001,4.5,3.5,1.7,{"$f":"IF(G16=\"\",\"\",IF((G16*D16-1)>=Coeff!$B$5,Coeff!$B$3/Coeff!$B$4*(G16*D16-1)/(G16-1),0))","v":0},{"$f":"IF(I16=\"\",\"\",IF((I16*F16-1)>=Coeff!$B$5,Coeff!$B$3/Coeff!$B$4*(I16*F16-1)/(I16-1),0))","v":0}]
["Bulgaria A Grupa","PFC Ludogorets Razgrad","Botev Plovdiv",0.67500000000000004,0.19600000000000001,0.129,1.67,3.8,4,{"$f":"IF(G17=\"\",\"\",IF((G17*D17-1)>=Coeff!$B$5,Coeff!$B$3/Coeff!$B$4*(G17*D17-1)/(G17-1),0))","v":18.992537313432852},{"$f":"IF(I17=\"\",\"\",IF((I17*F17-1)>=Coeff!$B$5,Coeff!$B$3/Coeff!$B$4*(I17*F17-1)/(I17-1),0))","v":0}]
["Bulgaria A Grupa","CSKA Sofia","Pirin Gotse Delchev",0.90800000000000003,6.2E-2,0.03,null,null,null,{"$f":"IF(G18=\"\",\"\",IF((G18*D18-1)>=Coeff!$B$5,Coeff!$B$3/Coeff!$B$4*(G18*D18-1)/(G18-1),0))","v":""},{"$f":"IF(I18=\"\",\"\",IF((I18*F18-1)>=Coeff!$B$5,Coeff!$B$3/Coeff!$B$4*(I18*F18-1)/(I18-1),0))","v":""}]
["Czech Republic Gambrinus League","Jihlava","Slovacko",0.40600000000000003,0.28999999999999998,0.30399999999999999,2.54,3.11,3.27,{"$f":"IF(G19=\"\",\"\",IF((G19*D19-1)>=Coeff!$B$5,Coeff!$B$3/Coeff!$B$4*(G19*D19-1)/(G19-1),0))","v":0},{"$f":"IF(I19=\"\",\"\",IF((I19*F19-1)>=Coeff!$B$5,Coeff!$B$3/Coeff!$B$4*(I19*F19-1)/(I19-1),0))","v":0}]
["Czech Republic Gambrinus League","Slavia Prague","Budejovice",0.67700000000000005,0.19800000000000001,0.125,1.74,4.1500000000000004,5.01,{"$f":"IF(G20=\"\",\"\",IF((G20*D20-1)>=Coeff!$B$5,Coeff!$B$3/Coeff!$B$4*(G20*D20-1)/(G20-1),0))","v":24.051351351351354},{"$f":"IF(I20=\"\",\"\",IF((I20*F20-1)>=Coeff!$B$5,Coeff!$B$3/Coeff!$B$4*(I20*F20-1)/(I20-1),0))","v":0}]
["Czech Republic Gambrinus League","Banik Ostrava","Dukla Praha",0.316,0.29099999999999998,0.39300000000000002,2.4700000000000002,3.42,3.1,{"$f":"IF(G21=\"\",\"\",IF((G21*D21-1)>=Coeff!$B$5,Coeff!$B$3/Coeff!$B$4*(G21*D21-1)/(G21-1),0))","v":0},{"$f":"IF(I21=\"\",\"\",IF((I21*F21-1)>=Coeff!$B$5,Coeff!$B$3/Coeff!$B$4*(I21*F21-1)/(I21-1),0))","v":10.395238095238103}]
["Czech Republic Gambrinus League","M Boleslav","Jablonec",0.40400000000000003,0.28999999999999998,0.30599999999999999,2.35,3.47,3.23,{"$f":"IF(G22=\"\",\"\",IF((G22*D22-1)>=Coeff!$B$5,Coeff!$B$3/Coeff!$B$4*(G22*D22-1)/(G22-1),0))","v":0},{"$f":"IF(I22=\"\",\"\",IF((I22*F22-1)>=Coeff!$B$5,Coeff!$B$3/Coeff!$B$4*(I22*F22-1)/(I22-1),0))","v":0}]
["Czech Republic Gambrinus League","Sigma Olomouc","Viktoria Plzen",0.32100000000000001,0.29199999999999998,0.38800000000000001,4.75,3.78,1.85,{"$f":"IF(G23=\"\",\"\",IF((G23*D23-1)>=Coeff!$B$5,Coeff!$B$3/Coeff!$B$4*(G23*D23-1)/(G23-1),0))","v":13.993333333333336},{"$f":"IF(I23=\"\",\"\",IF((I23*F23-1)>=Coeff!$B$5,Coeff!$B$3/Coeff!$B$4*(I23*F23-1)/(I23-1),0))","v":0}]
["Czech Republic Gambrinus League","Brno","Sparta Prague",0.16400000000000001,0.23200000000000001,0.60299999999999998,8.0500000000000007,4.6100000000000003,1.47,{"$f":"IF(G24=\"\",\"\",IF((G24*D24-1)>=Coeff!$B$5,Coeff!$B$3/Coeff!$B$4*(G24*D24-1)/(G24-1),0))","v":4.5418439716312085},{"$f":"IF(I24=\"\",\"\",IF((I24*F24-1)>=Coeff!$B$5,Coeff!$B$3/Coeff!$B$4*(I24*F24-1)/(I24-1),0))","v":0}]
["Czech Republic Druha League","Most","Karvina",0.32900000000000001,0.28999999999999998,0.38100000000000001,1.57,4,4.33,{"$f":"IF(G25=\"\",\"\",IF((G25*D25-1)>=Coeff!$B$5,Coeff!$B$3/Coeff!$B$4*(G25*D25-1)/(G25-1),0))","v":0},{"$f":"IF(I25=\"\",\"\",IF((I25*F25-1)>=Coeff!$B$5,Coeff!$B$3/Coeff!$B$4*(I25*F25-1)/(I25-1),0))","v":19.511411411411416}]
["Czech Republic Druha League","FK MAS Taborsko","Slovan Varnsdorf",0.39600000000000002,0.28899999999999998,0.315,2.2000000000000002,3.3,2.8,{"$f":"IF(G26=\"\",\"\",IF((G26*D26-1)>=Coeff!$B$5,Coeff!$B$3/Coeff!$B$4*(G26*D26-1)/(G26-1),0))","v":0},{"$f":"IF(I26=\"\",\"\",IF((I26*F26-1)>=Coeff!$B$5,Coeff!$B$3/Coeff!$B$4*(I26*F26-1)/(I26-1),0))","v":0}]
["Czech Republic Druha League","Sokolov","Opava",0.61899999999999999,0.224,0.156,1.57,3.75,5,{"$f":"IF(G27=\"\",\"\",IF((G27*D27-1)>=Coeff!$B$5,Coeff!$B$3/Coeff!$B$4*(G27*D27-1)/(G27-1),0))","v":0},{"$f":"IF(I27=\"\",\"\",IF((I27*F27-1)>=Coeff!$B$5,Coeff!$B$3/Coeff!$B$4*(I27*F27-1)/(I27-1),0))","v":0}]
["Czech Republic Druha League","Caslav","Znojmo",0.26800000000000002,0.28000000000000003,0.45200000000000001,2.88,3.5,2.1,{"$f":"IF(G28=\"\",\"\",IF((G28*D28-1)>=Coeff!$B$5,Coeff!$B$3/Coeff!$B$4*(G28*D28-1)/(G28-1),0))","v":0},{"$f":"IF(I28=\"\",\"\",IF((I28*F28-1)>=Coeff!$B$5,Coeff!$B$3/Coeff!$B$4*(I28*F28-1)/(I28-1),0))","v":0}]
["Czech Republic Druha League","Usti nad Labem","FC Vlasim",0.55800000000000005,0.249,0.193,1.75,3.4,4,{"$f":"IF(G29=\"\",\"\",IF((G29*D29-1)>=Coeff!$B$5,Coeff!$B$3/Coeff!$B$4*(G29*D29-1)/(G29-1),0))","v":0},{"$f":"IF(I29=\"\",\"\",IF((I29*F29-1)>=Coeff!$B$5,Coeff!$B$3/Coeff!$B$4*(I29*F29-1)/(I29-1),0))","v":0}]
["Denmark 2. Division","Herlev","Frem",0.23400000000000001,0.22,0.54600000000000004,4.2,4.4000000000000004,1.6,{"$f":"IF(G30=\"\",\"\",IF((G30*D30-1)>=Coeff!$B$5,Coeff!$B$3/Coeff!$B$4*(G30*D30-1)/(G30-1),0))","v":0},{"$f":"IF(I30=\"\",\"\",IF((I30*F30-1)>=Coeff!$B$5,Coeff!$B$3/Coeff!$B$4*(I30*F30-1)/(I30-1),0))","v":0}]
["Greece Super League","Pas Giannina","Atromitos",0.49199999999999999,0.28299999999999997,0.22500000000000001,2.5099999999999998,3.1,3.38,{"$f":"IF(G31=\"\",\"\",IF((G31*D31-1)>=Coeff!$B$5,Coeff!$B$3/Coeff!$B$4*(G31*D31-1)/(G31-1),0))","v":15.557615894039724},{"$f":"IF(I31=\"\",\"\",IF((I31*F31-1)>=Coeff!$B$5,Coeff!$B$3/Coeff!$B$4*(I31*F31-1)/(I31-1),0))","v":0}]
["Greece Super League","Asteras Tripolis","PAOK Thessaloniki FC",0.35299999999999998,0.307,0.34,2.6,3.12,3.25,{"$f":"IF(G32=\"\",\"\",IF((G32*D32-1)>=Coeff!$B$5,Coeff!$B$3/Coeff!$B$4*(G32*D32-1)/(G32-1),0))","v":0},{"$f":"IF(I32=\"\",\"\",IF((I32*F32-1)>=Coeff!$B$5,Coeff!$B$3/Coeff!$B$4*(I32*F32-1)/(I32-1),0))","v":4.6666666666666661}]
["Greece Football League","Olymp. Volou","Iraklis",0.52400000000000002,0.28299999999999997,0.193,null,null,null,{"$f":"IF(G33=\"\",\"\",IF((G33*D33-1)>=Coeff!$B$5,Coeff!$B$3/Coeff!$B$4*(G33*D33-1)/(G33-1),0))","v":""},{"$f":"IF(I33=\"\",\"\",IF((I33*F33-1)>=Coeff!$B$5,Coeff!$B$3/Coeff!$B$4*(I33*F33-1)/(I33-1),0))","v":""}]
["Greece Football League","Pierikos FC","Panaitolikos",0.23100000000000001,0.30199999999999999,0.46800000000000003,null,null,null,{"$f":"IF(G34=\"\",\"\",IF((G34*D34-1)>=Coeff!$B$5,Coeff!$B$3/Coeff!$B$4*(G34*D34-1)/(G34-1),0))","v":""},{"$f":"IF(I34=\"\",\"\",IF((I34*F34-1)>=Coeff!$B$5,Coeff!$B$3/Coeff!$B$4*(I34*F34-1)/(I34-1),0))","v":""}]
["Greece Football League","Apollon Smirnis","Ethnikos Gazoros F.C.",0.629,0.23699999999999999,0.13500000000000001,null,null,null,{"$f":"IF(G35=\"\",\"\",IF((G35*D35-1)>=Coeff!$B$5,Coeff!$B$3/Coeff!$B$4*(G35*D35-1)/(G35-1),0))","v":""},{"$f":"IF(I35=\"\",\"\",IF((I35*F35-1)>=Coeff!$B$5,Coeff!$B$3/Coeff!$B$4*(I35*F35-1)/(I35-1),0))","v":""}]
["Greece Football League","Anagennisi Giannitsa","Kalloni Lekanopedio",0.13200000000000001,0.23400000000000001,0.63300000000000001,null,null,null,{"$f":"IF(G36=\"\",\"\",IF((G36*D36-1)>=Coeff!$B$5,Coeff!$B$3/Coeff!$B$4*(G36*D36-1)/(G36-1),0))","v":""},{"$f":"IF(I36=\"\",\"\",IF((I36*F36-1)>=Coeff!$B$5,Coeff!$B$3/Coeff!$B$4*(I36*F36-1)/(I36-1),0))","v":""}]
["Greece Football League","Anagennisi Epanomi","Kavala",0.14499999999999999,0.247,0.60799999999999998,null,null,null,{"$f":"IF(G37=\"\",\"\",IF((G37*D37-1)>=Coeff!$B$5,Coeff!$B$3/Coeff!$B$4*(G37*D37-1)/(G37-1),0))","v":""},{"$f":"IF(I37=\"\",\"\",IF((I37*F37-1)>=Coeff!$B$5,Coeff!$B$3/Coeff!$B$4*(I37*F37-1)/(I37-1),0))","v":""}]
["Greece Football League","Kalithea","Fokikos",0.65500000000000003,0.223,0.122,null,null,null,{"$f":"IF(G38=\"\",\"\",IF((G38*D38-1)>=Coeff!$B$5,Coeff!$B$3/Coeff!$B$4*(G38*D38-1)/(G38-1),0))","v":""},{"$f":"IF(I38=\"\",\"\",IF((I38*F38-1)>=Coeff!$B$5,Coeff!$B$3/Coeff!$B$4*(I38*F38-1)/(I38-1),0))","v":""}]
["Greece Football League","Iraklis Psachna FC","Panachaiki",0.61499999999999999,0.24399999999999999,0.14199999999999999,null,null,null,{"$f":"IF(G39=\"\",\"\",IF((G39*D39-1)>=Coeff!$B$5,Coeff!$B$3/Coeff!$B$4*(G39*D39-1)/(G39-1),0))","v":""},{"$f":"IF(I39=\"\",\"\",IF((I39*F39-1)>=Coeff!$B$5,Coeff!$B$3/Coeff!$B$4*(I39*F39-1)/(I39-1),0))","v":""}]
["Greece Football League","Panserraikos FC","Vyzas",0.754,0.16700000000000001,7.9000000000000001E-2,null,null,null,{"$f":"IF(G40=\"\",\"\",IF((G40*D40-1)>=Coeff!$B$5,Coeff!$B$3/Coeff!$B$4*(G40*D40-1)/(G40-1),0))","v":""},{"$f":"IF(I40=\"\",\"\",IF((I40*F40-1)>=Coeff!$B$5,Coeff!$B$3/Coeff!$B$4*(I40*F40-1)/(I40-1),0))","v":""}]
["Greece Football League","Doxa Dramas","Larisa",0.433,0.31,0.25600000000000001,null,null,null,{"$f":"IF(G41=\"\",\"\",IF((G41*D41-1)>=Coeff!$B$5,Coeff!$B$3/Coeff!$B$4*(G41*D41-1)/(G41-1),0))","v":""},{"$f":"IF(I41=\"\",\"\",IF((I41*F41-1)>=Coeff!$B$5,Coeff!$B$3/Coeff!$B$4*(I41*F41-1)/(I41-1),0))","v":""}]
["Greece Football League","Ergotelis","Thrasyvoulos",0.78100000000000003,0.15,6.9000000000000006E-2,null,null,null,{"$f":"IF(G42=\"\",\"\",IF((G42*D42-1)>=Coeff!$B$5,Coeff!$B$3/Coeff!$B$4*(G42*D42-1)/(G42-1),0))","v":""},{"$f":"IF(I42=\"\",\"\",IF((I42*F42-1)>=Coeff!$B$5,Coeff!$B$3/Coeff!$B$4*(I42*F42-1)/(I42-1),0))","v":""}]
["Lithuania A Lyga","FK Tauras Taurage","Zalgiris Vilnius",2.7E-2,0.114,0.85899999999999999,13,7,1.1299999999999999,{"$f":"IF(G43=\"\",\"\",IF((G43*D43-1)>=Coeff!$B$5,Coeff!$B$3/Coeff!$B$4*(G43*D43-1)/(G43-1),0))","v":0},{"$f":"IF(I43=\"\",\"\",IF((I43*F43-1)>=Coeff!$B$5,Coeff!$B$3/Coeff!$B$4*(I43*F43-1)/(I43-1),0))","v":0}]
["Lithuania A Lyga","Ekranas","Banga Gargzdai",0.64900000000000002,0.26800000000000002,8.3000000000000004E-2,1.33,4.75,6.5,{"$f":"IF(G44=\"\",\"\",IF((G44*D44-1)>=Coeff!$B$5,Coeff!$B$3/Coeff!$B$4*(G44*D44-1)/(G44-1),0))","v":0},{"$f":"IF(I44=\"\",\"\",IF((I44*F44-1)>=Coeff!$B$5,Coeff!$B$3/Coeff!$B$4*(I44*F44-1)/(I44-1),0))","v":0}]
["Norway 1. Division","Kristiansund BK","Hødd",0.48799999999999999,0.23699999999999999,0.27500000000000002,2.14,3.67,3.43,{"$f":"IF(G45=\"\",\"\",IF((G45*D45-1)>=Coeff!$B$5,Coeff!$B$3/Coeff!$B$4*(G45*D45-1)/(G45-1),0))","v":0},{"$f":"IF(I45=\"\",\"\",IF((I45*F45-1)>=Coeff!$B$5,Coeff!$B$3/Coeff!$B$4*(I45*F45-1)/(I45-1),0))","v":0}]
["Paraguay Apertura","Sol de America","General Diaz",0.35499999999999998,0.307,0.33800000000000002,2.38,3.25,3,{"$f":"IF(G46=\"\",\"\",IF((G46*D46-1)>=Coeff!$B$5,Coeff!$B$3/Coeff!$B$4*(G46*D46-1)/(G46-1),0))","v":0},{"$f":"IF(I46=\"\",\"\",IF((I46*F46-1)>=Coeff!$B$5,Coeff!$B$3/Coeff!$B$4*(I46*F46-1)/(I46-1),0))","v":0}]
["Paraguay Apertura","Nacional","Deportivo Capiata",0.65,0.218,0.13100000000000001,1.4,4.33,8.5,{"$f":"IF(G47=\"\",\"\",IF((G47*D47-1)>=Coeff!$B$5,Coeff!$B$3/Coeff!$B$4*(G47*D47-1)/(G47-1),0))","v":0},{"$f":"IF(I47=\"\",\"\",IF((I47*F47-1)>=Coeff!$B$5,Coeff!$B$3/Coeff!$B$4*(I47*F47-1)/(I47-1),0))","v":1.5133333333333354}]
["Paraguay Apertura","Club Deportivo Carapegua","Cerro Porteno PF",0.39900000000000002,0.30299999999999999,0.29799999999999999,2.1,3.2,3.1,{"$f":"IF(G48=\"\",\"\",IF((G48*D48-1)>=Coeff!$B$5,Coeff!$B$3/Coeff!$B$4*(G48*D48-1)/(G48-1),0))","v":0},{"$f":"IF(I48=\"\",\"\",IF((I48*F48-1)>=Coeff!$B$5,Coeff!$B$3/Coeff!$B$4*(I48*F48-1)/(I48-1),0))","v":0}]
["Poland 1. Division","Kolejarz Stroze","Okocimski KS Brzesko",0.56200000000000006,0.25700000000000001,0.18099999999999999,2.15,3.2,3.6,{"$f":"IF(G49=\"\",\"\",IF((G49*D49-1)>=Coeff!$B$5,Coeff!$B$3/Coeff!$B$4*(G49*D49-1)/(G49-1),0))","v":18.113043478260884},{"$f":"IF(I49=\"\",\"\",IF((I49*F49-1)>=Coeff!$B$5,Coeff!$B$3/Coeff!$B$4*(I49*F49-1)/(I49-1),0))","v":0}]
["Poland 1. Division","Warta Poznan","Stomil Olsztyn",0.30099999999999999,0.30199999999999999,0.39700000000000002,4.2,3.3,1.99,{"$f":"IF(G50=\"\",\"\",IF((G50*D50-1)>=Coeff!$B$5,Coeff!$B$3/Coeff!$B$4*(G50*D50-1)/(G50-1),0))","v":8.2562499999999996},{"$f":"IF(I50=\"\",\"\",IF((I50*F50-1)>=Coeff!$B$5,Coeff!$B$3/Coeff!$B$4*(I50*F50-1)/(I50-1),0))","v":0}]
["Poland 1. Division","Olimpia Grudziadz","Polonia Bytom",0.621,0.23200000000000001,0.14699999999999999,1.57,3.8,6,{"$f":"IF(G51=\"\",\"\",IF((G51*D51-1)>=Coeff!$B$5,Coeff!$B$3/Coeff!$B$4*(G51*D51-1)/(G51-1),0))","v":0},{"$f":"IF(I51=\"\",\"\",IF((I51*F51-1)>=Coeff!$B$5,Coeff!$B$3/Coeff!$B$4*(I51*F51-1)/(I51-1),0))","v":0}]
["Poland 1. Division","Flota Swinoujscie","Sandecja Nowy Sacz",0.54400000000000004,0.26400000000000001,0.192,1.73,3.45,5.25,{"$f":"IF(G52=\"\",\"\",IF((G52*D52-1)>=Coeff!$B$5,Coeff!$B$3/Coeff!$B$4*(G52*D52-1)/(G52-1),0))","v":0},{"$f":"IF(I52=\"\",\"\",IF((I52*F52-1)>=Coeff!$B$5,Coeff!$B$3/Coeff!$B$4*(I52*F52-1)/(I52-1),0))","v":0}]
["Serbia Super Liga","FK Donji Srem","Hajduk K.",0.24299999999999999,0.28699999999999998,0.47,1.67,3.6,4.2,{"$f":"IF(G53=\"\",\"\",IF((G53*D53-1)>=Coeff!$B$5,Coeff!$B$3/Coeff!$B$4*(G53*D53-1)/(G53-1),0))","v":0},{"$f":"IF(I53=\"\",\"\",IF((I53*F53-1)>=Coeff!$B$5,Coeff!$B$3/Coeff!$B$4*(I53*F53-1)/(I53-1),0))","v":30.437499999999996}]
["Serbia Super Liga","BSK Borca","Jagodina",0.31900000000000001,0.30399999999999999,0.377,1.67,3.5,4.33,{"$f":"IF(G54=\"\",\"\",IF((G54*D54-1)>=Coeff!$B$5,Coeff!$B$3/Coeff!$B$4*(G54*D54-1)/(G54-1),0))","v":0},{"$f":"IF(I54=\"\",\"\",IF((I54*F54-1)>=Coeff!$B$5,Coeff!$B$3/Coeff!$B$4*(I54*F54-1)/(I54-1),0))","v":18.991291291291294}]
["Serbia Super Liga","FK Spartak Zlatibor Voda","OFK Beograd",0.44,0.29399999999999998,0.26500000000000001,null,null,null,{"$f":"IF(G55=\"\",\"\",IF((G55*D55-1)>=Coeff!$B$5,Coeff!$B$3/Coeff!$B$4*(G55*D55-1)/(G55-1),0))","v":""},{"$f":"IF(I55=\"\",\"\",IF((I55*F55-1)>=Coeff!$B$5,Coeff!$B$3/Coeff!$B$4*(I55*F55-1)/(I55-1),0))","v":""}]
["Serbia Super Liga","FC Smederevo","Partizan Belgrad",6.3E-2,0.128,0.80900000000000005,10,5.5,1.2,{"$f":"IF(G56=\"\",\"\",IF((G56*D56-1)>=Coeff!$B$5,Coeff!$B$3/Coeff!$B$4*(G56*D56-1)/(G56-1),0))","v":0},{"$f":"IF(I56=\"\",\"\",IF((I56*F56-1)>=Coeff!$B$5,Coeff!$B$3/Coeff!$B$4*(I56*F56-1)/(I56-1),0))","v":0}]
["Serbia Super Liga","Novi Pazar","Rad",0.29899999999999999,0.30099999999999999,0.39900000000000002,1.4,4,6.5,{"$f":"IF(G57=\"\",\"\",IF((G57*D57-1)>=Coeff!$B$5,Coeff!$B$3/Coeff!$B$4*(G57*D57-1)/(G57-1),0))","v":0},{"$f":"IF(I57=\"\",\"\",IF((I57*F57-1)>=Coeff!$B$5,Coeff!$B$3/Coeff!$B$4*(I57*F57-1)/(I57-1),0))","v":28.972727272727276}]
["Serbia Super Liga","FK Radnicki 1923","Vojvodina",0.21199999999999999,0.27400000000000002,0.51400000000000001,1.57,3.75,4.75,{"$f":"IF(G58=\"\",\"\",IF((G58*D58-1)>=Coeff!$B$5,Coeff!$B$3/Coeff!$B$4*(G58*D58-1)/(G58-1),0))","v":0},{"$f":"IF(I58=\"\",\"\",IF((I58*F58-1)>=Coeff!$B$5,Coeff!$B$3/Coeff!$B$4*(I58*F58-1)/(I58-1),0))","v":38.440000000000005}]
["Serbia Super Liga","Radnicki N.","Javor",0.28899999999999998,0.3,0.41199999999999998,1.91,3.6,3.2,{"$f":"IF(G59=\"\",\"\",IF((G59*D59-1)>=Coeff!$B$5,Coeff!$B$3/Coeff!$B$4*(G59*D59-1)/(G59-1),0))","v":0},{"$f":"IF(I59=\"\",\"\",IF((I59*F59-1)>=Coeff!$B$5,Coeff!$B$3/Coeff!$B$4*(I59*F59-1)/(I59-1),0))","v":14.472727272727273}]
["Serbia Super Liga","Red Star Belgrad","FK Sloboda Point Sevojno",0.63200000000000001,0.22600000000000001,0.14199999999999999,null,null,null,{"$f":"IF(G60=\"\",\"\",IF((G60*D60-1)>=Coeff!$B$5,Coeff!$B$3/Coeff!$B$4*(G60*D60-1)/(G60-1),0))","v":""},{"$f":"IF(I60=\"\",\"\",IF((I60*F60-1)>=Coeff!$B$5,Coeff!$B$3/Coeff!$B$4*(I60*F60-1)/(I60-1),0))","v":""}]
["Slovakia Corgon Liga","Trencin","Ruzomberok",0.433,0.316,0.25,1.75,3.4,4.43,{"$f":"IF(G61=\"\",\"\",IF((G61*D61-1)>=Coeff!$B$5,Coeff!$B$3/Coeff!$B$4*(G61*D61-1)/(G61-1),0))","v":0},{"$f":"IF(I61=\"\",\"\",IF((I61*F61-1)>=Coeff!$B$5,Coeff!$B$3/Coeff!$B$4*(I61*F61-1)/(I61-1),0))","v":3.13411078717201}]
["Slovakia Corgon Liga","Myjava","Kosice",0.26600000000000001,0.32100000000000001,0.41299999999999998,2.2999999999999998,3.3,3,{"$f":"IF(G62=\"\",\"\",IF((G62*D62-1)>=Coeff!$B$5,Coeff!$B$3/Coeff!$B$4*(G62*D62-1)/(G62-1),0))","v":0},{"$f":"IF(I62=\"\",\"\",IF((I62*F62-1)>=Coeff!$B$5,Coeff!$B$3/Coeff!$B$4*(I62*F62-1)/(I62-1),0))","v":11.949999999999994}]
["Slovakia Corgon Liga","FK Senica","Zlate Moravce",0.55900000000000005,0.27300000000000002,0.16800000000000001,1.44,4,7,{"$f":"IF(G63=\"\",\"\",IF((G63*D63-1)>=Coeff!$B$5,Coeff!$B$3/Coeff!$B$4*(G63*D63-1)/(G63-1),0))","v":0},{"$f":"IF(I63=\"\",\"\",IF((I63*F63-1)>=Coeff!$B$5,Coeff!$B$3/Coeff!$B$4*(I63*F63-1)/(I63-1),0))","v":2.9333333333333358}]
["Slovakia Corgon Liga","Zilina","Presov",0.61399999999999999,0.248,0.13800000000000001,2,3.4,3.55,{"$f":"IF(G64=\"\",\"\",IF((G64*D64-1)>=Coeff!$B$5,Coeff!$B$3/Coeff!$B$4*(G64*D64-1)/(G64-1),0))","v":22.799999999999997},{"$f":"IF(I64=\"\",\"\",IF((I64*F64-1)>=Coeff!$B$5,Coeff!$B$3/Coeff!$B$4*(I64*F64-1)/(I64-1),0))","v":0}]
["Slovakia Corgon Liga","Trnava","Banska Bystrica",0.61099999999999999,0.249,0.14000000000000001,1.8,3.5,4.3499999999999996,{"$f":"IF(G65=\"\",\"\",IF((G65*D65-1)>=Coeff!$B$5,Coeff!$B$3/Coeff!$B$4*(G65*D65-1)/(G65-1),0))","v":12.475000000000014},{"$f":"IF(I65=\"\",\"\",IF((I65*F65-1)>=Coeff!$B$5,Coeff!$B$3/Coeff!$B$4*(I65*F65-1)/(I65-1),0))","v":0}]
["Slovakia Corgon Liga","Slovan Bratislava","Nitra",0.56100000000000005,0.27200000000000002,0.16700000000000001,1.36,4.5,8,{"$f":"IF(G66=\"\",\"\",IF((G66*D66-1)>=Coeff!$B$5,Coeff!$B$3/Coeff!$B$4*(G66*D66-1)/(G66-1),0))","v":0},{"$f":"IF(I66=\"\",\"\",IF((I66*F66-1)>=Coeff!$B$5,Coeff!$B$3/Coeff!$B$4*(I66*F66-1)/(I66-1),0))","v":4.8000000000000016}]
["Slovenia PrvaLiga","Rudar Velenje","Maribor",0.24099999999999999,0.223,0.53600000000000003,5,4,1.67,{"$f":"IF(G67=\"\",\"\",IF((G67*D67-1)>=Coeff!$B$5,Coeff!$B$3/Coeff!$B$4*(G67*D67-1)/(G67-1),0))","v":5.1250000000000018},{"$f":"IF(I67=\"\",\"\",IF((I67*F67-1)>=Coeff!$B$5,Coeff!$B$3/Coeff!$B$4*(I67*F67-1)/(I67-1),0))","v":0}]
["Slovenia PrvaLiga","Koper","Ol Ljubljana",0.51900000000000002,0.22700000000000001,0.253,2.1,3.6,3.75,{"$f":"IF(G68=\"\",\"\",IF((G68*D68-1)>=Coeff!$B$5,Coeff!$B$3/Coeff!$B$4*(G68*D68-1)/(G68-1),0))","v":8.1727272727272808},{"$f":"IF(I68=\"\",\"\",IF((I68*F68-1)>=Coeff!$B$5,Coeff!$B$3/Coeff!$B$4*(I68*F68-1)/(I68-1),0))","v":0}]
["Slovenia PrvaLiga","Domzale","Gorica",0.432,0.24299999999999999,0.32500000000000001,1.6,4.33,5.5,{"$f":"IF(G69=\"\",\"\",IF((G69*D69-1)>=Coeff!$B$5,Coeff!$B$3/Coeff!$B$4*(G69*D69-1)/(G69-1),0))","v":0},{"$f":"IF(I69=\"\",\"\",IF((I69*F69-1)>=Coeff!$B$5,Coeff!$B$3/Coeff!$B$4*(I69*F69-1)/(I69-1),0))","v":17.500000000000004}]
["Slovenia PrvaLiga","ND Triglav","Mura",0.42499999999999999,0.24299999999999999,0.33200000000000002,null,null,null,{"$f":"IF(G70=\"\",\"\",IF((G70*D70-1)>=Coeff!$B$5,Coeff!$B$3/Coeff!$B$4*(G70*D70-1)/(G70-1),0))","v":""},{"$f":"IF(I70=\"\",\"\",IF((I70*F70-1)>=Coeff!$B$5,Coeff!$B$3/Coeff!$B$4*(I70*F70-1)/(I70-1),0))","v":""}]
["Slovenia PrvaLiga","Aluminij","MIK CM Celje",0.28399999999999997,0.23599999999999999,0.48099999999999998,1.91,3.4,3.6,{"$f":"IF(G71=\"\",\"\",IF((G71*D71-1)>=Coeff!$B$5,Coeff!$B$3/Coeff!$B$4*(G71*D71-1)/(G71-1),0))","v":0},{"$f":"IF(I71=\"\",\"\",IF((I71*F71-1)>=Coeff!$B$5,Coeff!$B$3/Coeff!$B$4*(I71*F71-1)/(I71-1),0))","v":28.138461538461534}]
["Sweden Allsvenskan","Gefle","IFK Gothenburg",0.252,0.254,0.49399999999999999,3.65,3.46,2.21,{"$f":"IF(G72=\"\",\"\",IF((G72*D72-1)>=Coeff!$B$5,Coeff!$B$3/Coeff!$B$4*(G72*D72-1)/(G72-1),0))","v":0},{"$f":"IF(I72=\"\",\"\",IF((I72*F72-1)>=Coeff!$B$5,Coeff!$B$3/Coeff!$B$4*(I72*F72-1)/(I72-1),0))","v":7.5818181818181758}]
["Sweden Allsvenskan","AIK","Djurgaarden",0.68600000000000005,0.183,0.13100000000000001,1.69,3.95,6,{"$f":"IF(G73=\"\",\"\",IF((G73*D73-1)>=Coeff!$B$5,Coeff!$B$3/Coeff!$B$4*(G73*D73-1)/(G73-1),0))","v":23.092753623188415},{"$f":"IF(I73=\"\",\"\",IF((I73*F73-1)>=Coeff!$B$5,Coeff!$B$3/Coeff!$B$4*(I73*F73-1)/(I73-1),0))","v":0}]
["Sweden Superettan","Degerfors","Ostersund",null,null,null,null,null,null,{"$f":"IF(G74=\"\",\"\",IF((G74*D74-1)>=Coeff!$B$5,Coeff!$B$3/Coeff!$B$4*(G74*D74-1)/(G74-1),0))","v":""},{"$f":"IF(I74=\"\",\"\",IF((I74*F74-1)>=Coeff!$B$5,Coeff!$B$3/Coeff!$B$4*(I74*F74-1)/(I74-1),0))","v":""}]
["Sweden Superettan","Orebro","Angelholm",0.57199999999999995,0.22,0.20799999999999999,1.36,5.35,10.15,{"$f":"IF(G75=\"\",\"\",IF((G75*D75-1)>=Coeff!$B$5,Coeff!$B$3/Coeff!$B$4*(G75*D75-1)/(G75-1),0))","v":0},{"$f":"IF(I75=\"\",\"\",IF((I75*F75-1)>=Coeff!$B$5,Coeff!$B$3/Coeff!$B$4*(I75*F75-1)/(I75-1),0))","v":12.144262295081969}]
["Sweden Superettan","Jonkoping S.","IFK Varnamo",0.49,0.24299999999999999,0.26700000000000002,1.71,4.1100000000000003,5.13,{"$f":"IF(G76=\"\",\"\",IF((G76*D76-1)>=Coeff!$B$5,Coeff!$B$3/Coeff!$B$4*(G76*D76-1)/(G76-1),0))","v":0},{"$f":"IF(I76=\"\",\"\",IF((I76*F76-1)>=Coeff!$B$5,Coeff!$B$3/Coeff!$B$4*(I76*F76-1)/(I76-1),0))","v":8.9518159806295401}]
["Switzerland Super League","Servette","Sion",0.52600000000000002,0.26500000000000001,0.20899999999999999,2.4,3.53,3.3,{"$f":"IF(G77=\"\",\"\",IF((G77*D77-1)>=Coeff!$B$5,Coeff!$B$3/Coeff!$B$4*(G77*D77-1)/(G77-1),0))","v":18.74285714285714},{"$f":"IF(I77=\"\",\"\",IF((I77*F77-1)>=Coeff!$B$5,Coeff!$B$3/Coeff!$B$4*(I77*F77-1)/(I77-1),0))","v":0}]
["Bolivia Apertura","La Paz FC","Nacional Potosi",0.56499999999999995,0.23100000000000001,0.20300000000000001,null,null,null,{"$f":"IF(G78=\"\",\"\",IF((G78*D78-1)>=Coeff!$B$5,Coeff!$B$3/Coeff!$B$4*(G78*D78-1)/(G78-1),0))","v":""},{"$f":"IF(I78=\"\",\"\",IF((I78*F78-1)>=Coeff!$B$5,Coeff!$B$3/Coeff!$B$4*(I78*F78-1)/(I78-1),0))","v":""}]
["Bolivia Apertura","The Strongest","Jorge Wilstermann",0.59699999999999998,0.22,0.183,null,null,null,{"$f":"IF(G79=\"\",\"\",IF((G79*D79-1)>=Coeff!$B$5,Coeff!$B$3/Coeff!$B$4*(G79*D79-1)/(G79-1),0))","v":""},{"$f":"IF(I79=\"\",\"\",IF((I79*F79-1)>=Coeff!$B$5,Coeff!$B$3/Coeff!$B$4*(I79*F79-1)/(I79-1),0))","v":""}]
["Paraguay Apertura","Guarani","Luqueno",0.57199999999999995,0.254,0.17399999999999999,1.5,3.75,7.5,{"$f":"IF(G80=\"\",\"\",IF((G80*D80-1)>=Coeff!$B$5,Coeff!$B$3/Coeff!$B$4*(G80*D80-1)/(G80-1),0))","v":0},{"$f":"IF(I80=\"\",\"\",IF((I80*F80-1)>=Coeff!$B$5,Coeff!$B$3/Coeff!$B$4*(I80*F80-1)/(I80-1),0))","v":4.6923076923076916}]
["Paraguay Apertura","Cerro Porteno","Libertad",0.29299999999999998,0.30299999999999999,0.40400000000000003,2.2999999999999998,3.25,3.1,{"$f":"IF(G81=\"\",\"\",IF((G81*D81-1)>=Coeff!$B$5,Coeff!$B$3/Coeff!$B$4*(G81*D81-1)/(G81-1),0))","v":0},{"$f":"IF(I81=\"\",\"\",IF((I81*F81-1)>=Coeff!$B$5,Coeff!$B$3/Coeff!$B$4*(I81*F81-1)/(I81-1),0))","v":12.019047619047626}]
["Peru Primera División","Juan Aurich","Sport Huancayo",0.621,0.21299999999999999,0.16600000000000001,1.67,3.6,4.2,{"$f":"IF(G82=\"\",\"\",IF((G82*D82-1)>=Coeff!$B$5,Coeff!$B$3/Coeff!$B$4*(G82*D82-1)/(G82-1),0))","v":0},{"$f":"IF(I82=\"\",\"\",IF((I82*F82-1)>=Coeff!$B$5,Coeff!$B$3/Coeff!$B$4*(I82*F82-1)/(I82-1),0))","v":0}]
[null,null,null,null,null,null,null,null,null,{"$f":"IF(G83=\"\",\"\",IF((G83*D83-1)>=Coeff!$B$5,Coeff!$B$3/Coeff!$B$4*(G83*D83-1)/(G83-1),0))","v":""},{"$f":"IF(I83=\"\",\"\",IF((I83*F83-1)>=Coeff!$B$5,Coeff!$B$3/Coeff!$B$4*(I83*F83-1)/(I83-1),0))","v":""}]
[null,null,null,null,null,null,null,null,null,{"$f":"IF(G84=\"\",\"\",IF((G84*D84-1)>=Coeff!$B$5,Coeff!$B$3/Coeff!$B$4*(G84*D84-1)/(G84-1),0))","v":""},{"$f":"IF(I84=\"\",\"\",IF((I84*F84-1)>=Coeff!$B$5,Coeff!$B$3/Coeff!$B$4*(I84*F84-1)/(I84-1),0))","v":""}]
[null,null,null,null,null,null,null,null,null,{"$f":"IF(G85=\"\",\"\",IF((G85*D85-1)>=Coeff!$B$5,Coeff!$B$3/Coeff!$B$4*(G85*D85-1)/(G85-1),0))","v":""},{"$f":"IF(I85=\"\",\"\",IF((I85*F85-1)>=Coeff!$B$5,Coeff!$B$3/Coeff!$B$4*(I85*F85-1)/(I85-1),0))","v":""}]
[null,null,null,null,null,null,null,null,null,{"$f":"IF(G86=\"\",\"\",IF((G86*D86-1)>=Coeff!$B$5,Coeff!$B$3/Coeff!$B$4*(G86*D86-1)/(G86-1),0))","v":""},{"$f":"IF(I86=\"\",\"\",IF((I86*F86-1)>=Coeff!$B$5,Coeff!$B$3/Coeff!$B$4*(I86*F86-1)/(I86-1),0))","v":""}]
[null,null,null,null,null,null,null,null,null,{"$f":"IF(G87=\"\",\"\",IF((G87*D87-1)>=Coeff!$B$5,Coeff!$B$3/Coeff!$B$4*(G87*D87-1)/(G87-1),0))","v":""},{"$f":"IF(I87=\"\",\"\",IF((I87*F87-1)>=Coeff!$B$5,Coeff!$B$3/Coeff!$B$4*(I87*F87-1)/(I87-1),0))","v":""}]
[null,null,null,null,null,null,null,null,null,{"$f":"IF(G88=\"\",\"\",IF((G88*D88-1)>=Coeff!$B$5,Coeff!$B$3/Coeff!$B$4*(G88*D88-1)/(G88-1),0))","v":""},{"$f":"IF(I88=\"\",\"\",IF((I88*F88-1)>=Coeff!$B$5,Coeff!$B$3/Coeff!$B$4*(I88*F88-1)/(I88-1),0))","v":""}]
[null,null,null,null,null,null,null,null,null,{"$f":"IF(G89=\"\",\"\",IF((G89*D89-1)>=Coeff!$B$5,Coeff!$B$3/Coeff!$B$4*(G89*D89-1)/(G89-1),0))","v":""},{"$f":"IF(I89=\"\",\"\",IF((I89*F89-1)>=Coeff!$B$5,Coeff!$B$3/Coeff!$B$4*(I89*F89-1)/(I89-1),0))","v":""}]
[null,null,null,null,null,null,null,null,null,{"$f":"IF(G90=\"\",\"\",IF((G90*D90-1)>=Coeff!$B$5,Coeff!$B$3/Coeff!$B$4*(G90*D90-1)/(G90-1),0))","v":""},{"$f":"IF(I90=\"\",\"\",IF((I90*F90-1)>=Coeff!$B$5,Coeff!$B$3/Coeff!$B$4*(I90*F90-1)/(I90-1),0))","v":""}]
[null,null,null,null,null,null,null,null,null,{"$f":"IF(G91=\"\",\"\",IF((G91*D91-1)>=Coeff!$B$5,Coeff!$B$3/Coeff!$B$4*(G91*D91-1)/(G91-1),0))","v":""},{"$f":"IF(I91=\"\",\"\",IF((I91*F91-1)>=Coeff!$B$5,Coeff!$B$3/Coeff!$B$4*(I91*F91-1)/(I91-1),0))","v":""}]
[null,null,null,null,null,null,null,null,null,{"$f":"IF(G92=\"\",\"\",IF((G92*D92-1)>=Coeff!$B$5,Coeff!$B$3/Coeff!$B$4*(G92*D92-1)/(G92-1),0))","v":""},{"$f":"IF(I92=\"\",\"\",IF((I92*F92-1)>=Coeff!$B$5,Coeff!$B$3/Coeff!$B$4*(I92*F92-1)/(I92-1),0))","v":""}]
[null,null,null,null,null,null,null,null,null,{"$f":"IF(G93=\"\",\"\",IF((G93*D93-1)>=Coeff!$B$5,Coeff!$B$3/Coeff!$B$4*(G93*D93-1)/(G93-1),0))","v":""},{"$f":"IF(I93=\"\",\"\",IF((I93*F93-1)>=Coeff!$B$5,Coeff!$B$3/Coeff!$B$4*(I93*F93-1)/(I93-1),0))","v":""}]
[null,null,null,null,null,null,null,null,null,{"$f":"IF(G94=\"\",\"\",IF((G94*D94-1)>=Coeff!$B$5,Coeff!$B$3/Coeff!$B$4*(G94*D94-1)/(G94-1),0))","v":""},{"$f":"IF(I94=\"\",\"\",IF((I94*F94-1)>=Coeff!$B$5,Coeff!$B$3/Coeff!$B$4*(I94*F94-1)/(I94-1),0))","v":""}]
[null,null,null,null,null,null,null,null,null,{"$f":"IF(G95=\"\",\"\",IF((G95*D95-1)>=Coeff!$B$5,Coeff!$B$3/Coeff!$B$4*(G95*D95-1)/(G95-1),0))","v":""},{"$f":"IF(I95=\"\",\"\",IF((I95*F95-1)>=Coeff!$B$5,Coeff!$B$3/Coeff!$B$4*(I95*F95-1)/(I95-1),0))","v":""}]
[null,null,null,null,null,null,null,null,null,{"$f":"IF(G96=\"\",\"\",IF((G96*D96-1)>=Coeff!$B$5,Coeff!$B$3/Coeff!$B$4*(G96*D96-1)/(G96-1),0))","v":""},{"$f":"IF(I96=\"\",\"\",IF((I96*F96-1)>=Coeff!$B$5,Coeff!$B$3/Coeff!$B$4*(I96*F96-1)/(I96-1),0))","v":""}]
[null,null,null,null,null,null,null,null,null,{"$f":"IF(G97=\"\",\"\",IF((G97*D97-1)>=Coeff!$B$5,Coeff!$B$3/Coeff!$B$4*(G97*D97-1)/(G97-1),0))","v":""},{"$f":"IF(I97=\"\",\"\",IF((I97*F97-1)>=Coeff!$B$5,Coeff!$B$3/Coeff!$B$4*(I97*F97-1)/(I97-1),0))","v":""}]
[null,null,null,null,null,null,null,null,null,{"$f":"IF(G98=\"\",\"\",IF((G98*D98-1)>=Coeff!$B$5,Coeff!$B$3/Coeff!$B$4*(G98*D98-1)/(G98-1),0))","v":""},{"$f":"IF(I98=\"\",\"\",IF((I98*F98-1)>=Coeff!$B$5,Coeff!$B$3/Coeff!$B$4*(I98*F98-1)/(I98-1),0))","v":""}]
[null,null,null,null,null,null,null,null,null,{"$f":"IF(G99=\"\",\"\",IF((G99*D99-1)>=Coeff!$B$5,Coeff!$B$3/Coeff!$B$4*(G99*D99-1)/(G99-1),0))","v":""},{"$f":"IF(I99=\"\",\"\",IF((I99*F99-1)>=Coeff!$B$5,Coeff!$B$3/Coeff!$B$4*(I99*F99-1)/(I99-1),0))","v":""}]
[null,null,null,null,null,null,null,null,null,{"$f":"IF(G100=\"\",\"\",IF((G100*D100-1)>=Coeff!$B$5,Coeff!$B$3/Coeff!$B$4*(G100*D100-1)/(G100-1),0))","v":""},{"$f":"IF(I100=\"\",\"\",IF((I100*F100-1)>=Coeff!$B$5,Coeff!$B$3/Coeff!$B$4*(I100*F100-1)/(I100-1),0))","v":""}]
[null,null,null,null,null,null,null,null,null,{"$f":"IF(G101=\"\",\"\",IF((G101*D101-1)>=Coeff!$B$5,Coeff!$B$3/Coeff!$B$4*(G101*D101-1)/(G101-1),0))","v":""},{"$f":"IF(I101=\"\",\"\",IF((I101*F101-1)>=Coeff!$B$5,Coeff!$B$3/Coeff!$B$4*(I101*F101-1)/(I101-1),0))","v":""}]
[null,null,null,null,null,null,null,null,null,{"$f":"IF(G102=\"\",\"\",IF((G102*D102-1)>=Coeff!$B$5,Coeff!$B$3/Coeff!$B$4*(G102*D102-1)/(G102-1),0))","v":""},{"$f":"IF(I102=\"\",\"\",IF((I102*F102-1)>=Coeff!$B$5,Coeff!$B$3/Coeff!$B$4*(I102*F102-1)/(I102-1),0))","v":""}]
[null,null,null,null,null,null,null,null,null,{"$f":"IF(G103=\"\",\"\",IF((G103*D103-1)>=Coeff!$B$5,Coeff!$B$3/Coeff!$B$4*(G103*D103-1)/(G103-1),0))","v":""},{"$f":"IF(I103=\"\",\"\",IF((I103*F103-1)>=Coeff!$B$5,Coeff!$B$3/Coeff!$B$4*(I103*F103-1)/(I103-1),0))","v":""}]
[null,null,null,null,null,null,null,null,null,{"$f":"IF(G104=\"\",\"\",IF((G104*D104-1)>=Coeff!$B$5,Coeff!$B$3/Coeff!$B$4*(G104*D104-1)/(G104-1),0))","v":""},{"$f":"IF(I104=\"\",\"\",IF((I104*F104-1)>=Coeff!$B$5,Coeff!$B$3/Coeff!$B$4*(I104*F104-1)/(I104-1),0))","v":""}]
[null,null,null,null,null,null,null,null,null,{"$f":"IF(G105=\"\",\"\",IF((G105*D105-1)>=Coeff!$B$5,Coeff!$B$3/Coeff!$B$4*(G105*D105-1)/(G105-1),0))","v":""},{"$f":"IF(I105=\"\",\"\",IF((I105*F105-1)>=Coeff!$B$5,Coeff!$B$3/Coeff!$B$4*(I105*F105-1)/(I105-1),0))","v":""}]
[null,null,null,null,null,null,null,null,null,{"$f":"IF(G106=\"\",\"\",IF((G106*D106-1)>=Coeff!$B$5,Coeff!$B$3/Coeff!$B$4*(G106*D106-1)/(G106-1),0))","v":""},{"$f":"IF(I106=\"\",\"\",IF((I106*F106-1)>=Coeff!$B$5,Coeff!$B$3/Coeff!$B$4*(I106*F106-1)/(I106-1),0))","v":""}]
[null,null,null,null,null,null,null,null,null,{"$f":"IF(G107=\"\",\"\",IF((G107*D107-1)>=Coeff!$B$5,Coeff!$B$3/Coeff!$B$4*(G107*D107-1)/(G107-1),0))","v":""},{"$f":"IF(I107=\"\",\"\",IF((I107*F107-1)>=Coeff!$B$5,Coeff!$B$3/Coeff!$B$4*(I107*F107-1)/(I107-1),0))","v":""}]
[null,null,null,null,null,null,null,null,null,{"$f":"IF(G108=\"\",\"\",IF((G108*D108-1)>=Coeff!$B$5,Coeff!$B$3/Coeff!$B$4*(G108*D108-1)/(G108-1),0))","v":""},{"$f":"IF(I108=\"\",\"\",IF((I108*F108-1)>=Coeff!$B$5,Coeff!$B$3/Coeff!$B$4*(I108*F108-1)/(I108-1),0))","v":""}]
[null,null,null,null,null,null,null,null,null,{"$f":"IF(G109=\"\",\"\",IF((G109*D109-1)>=Coeff!$B$5,Coeff!$B$3/Coeff!$B$4*(G109*D109-1)/(G109-1),0))","v":""},{"$f":"IF(I109=\"\",\"\",IF((I109*F109-1)>=Coeff!$B$5,Coeff!$B$3/Coeff!$B$4*(I109*F109-1)/(I109-1),0))","v":""}]
[null,null,null,null,null,null,null,null,null,{"$f":"IF(G110=\"\",\"\",IF((G110*D110-1)>=Coeff!$B$5,Coeff!$B$3/Coeff!$B$4*(G110*D110-1)/(G110-1),0))","v":""},{"$f":"IF(I110=\"\",\"\",IF((I110*F110-1)>=Coeff!$B$5,Coeff!$B$3/Coeff!$B$4*(I110*F110-1)/(I110-1),0))","v":""}]
[null,null,null,null,null,null,null,null,null,{"$f":"IF(G111=\"\",\"\",IF((G111*D111-1)>=Coeff!$B$5,Coeff!$B$3/Coeff!$B$4*(G111*D111-1)/(G111-1),0))","v":""},{"$f":"IF(I111=\"\",\"\",IF((I111*F111-1)>=Coeff!$B$5,Coeff!$B$3/Coeff!$B$4*(I111*F111-1)/(I111-1),0))","v":""}]
[null,null,null,null,null,null,null,null,null,{"$f":"IF(G112=\"\",\"\",IF((G112*D112-1)>=Coeff!$B$5,Coeff!$B$3/Coeff!$B$4*(G112*D112-1)/(G112-1),0))","v":""},{"$f":"IF(I112=\"\",\"\",IF((I112*F112-1)>=Coeff!$B$5,Coeff!$B$3/Coeff!$B$4*(I112*F112-1)/(I112-1),0))","v":""}]
[null,null,null,null,null,null,null,null,null,{"$f":"IF(G113=\"\",\"\",IF((G113*D113-1)>=Coeff!$B$5,Coeff!$B$3/Coeff!$B$4*(G113*D113-1)/(G113-1),0))","v":""},{"$f":"IF(I113=\"\",\"\",IF((I113*F113-1)>=Coeff!$B$5,Coeff!$B$3/Coeff!$B$4*(I113*F113-1)/(I113-1),0))","v":""}]
[null,null,null,null,null,null,null,null,null,{"$f":"IF(G114=\"\",\"\",IF((G114*D114-1)>=Coeff!$B$5,Coeff!$B$3/Coeff!$B$4*(G114*D114-1)/(G114-1),0))","v":""},{"$f":"IF(I114=\"\",\"\",IF((I114*F114-1)>=Coeff!$B$5,Coeff!$B$3/Coeff!$B$4*(I114*F114-1)/(I114-1),0))","v":""}]
[null,null,null,null,null,null,null,null,null,{"$f":"IF(G115=\"\",\"\",IF((G115*D115-1)>=Coeff!$B$5,Coeff!$B$3/Coeff!$B$4*(G115*D115-1)/(G115-1),0))","v":""},{"$f":"IF(I115=\"\",\"\",IF((I115*F115-1)>=Coeff!$B$5,Coeff!$B$3/Coeff!$B$4*(I115*F115-1)/(I115-1),0))","v":""}]
[null,null,null,null,null,null,null,null,null,{"$f":"IF(G116=\"\",\"\",IF((G116*D116-1)>=Coeff!$B$5,Coeff!$B$3/Coeff!$B$4*(G116*D116-1)/(G116-1),0))","v":""},{"$f":"IF(I116=\"\",\"\",IF((I116*F116-1)>=Coeff!$B$5,Coeff!$B$3/Coeff!$B$4*(I116*F116-1)/(I116-1),0))","v":""}]
[null,null,null,null,null,null,null,null,null,{"$f":"IF(G117=\"\",\"\",IF((G117*D117-1)>=Coeff!$B$5,Coeff!$B$3/Coeff!$B$4*(G117*D117-1)/(G117-1),0))","v":""},{"$f":"IF(I117=\"\",\"\",IF((I117*F117-1)>=Coeff!$B$5,Coeff!$B$3/Coeff!$B$4*(I117*F117-1)/(I117-1),0))","v":""}]
[null,null,null,null,null,null,null,null,null,{"$f":"IF(G118=\"\",\"\",IF((G118*D118-1)>=Coeff!$B$5,Coeff!$B$3/Coeff!$B$4*(G118*D118-1)/(G118-1),0))","v":""},{"$f":"IF(I118=\"\",\"\",IF((I118*F118-1)>=Coeff!$B$5,Coeff!$B$3/Coeff!$B$4*(I118*F118-1)/(I118-1),0))","v":""}]
[null,null,null,null,null,null,null,null,null,{"$f":"IF(G119=\"\",\"\",IF((G119*D119-1)>=Coeff!$B$5,Coeff!$B$3/Coeff!$B$4*(G119*D119-1)/(G119-1),0))","v":""},{"$f":"IF(I119=\"\",\"\",IF((I119*F119-1)>=Coeff!$B$5,Coeff!$B$3/Coeff!$B$4*(I119*F119-1)/(I119-1),0))","v":""}]
[null,null,null,null,null,null,null,null,null,{"$f":"IF(G120=\"\",\"\",IF((G120*D120-1)>=Coeff!$B$5,Coeff!$B$3/Coeff!$B$4*(G120*D120-1)/(G120-1),0))","v":""},{"$f":"IF(I120=\"\",\"\",IF((I120*F120-1)>=Coeff!$B$5,Coeff!$B$3/Coeff!$B$4*(I120*F120-1)/(I120-1),0))","v":""}]
[null,null,null,null,null,null,null,null,null,{"$f":"IF(G121=\"\",\"\",IF((G121*D121-1)>=Coeff!$B$5,Coeff!$B$3/Coeff!$B$4*(G121*D121-1)/(G121-1),0))","v":""},{"$f":"IF(I121=\"\",\"\",IF((I121*F121-1)>=Coeff!$B$5,Coeff!$B$3/Coeff!$B$4*(I121*F121-1)/(I121-1),0))","v":""}]
[null,null,null,null,null,null,null,null,null,{"$f":"IF(G122=\"\",\"\",IF((G122*D122-1)>=Coeff!$B$5,Coeff!$B$3/Coeff!$B$4*(G122*D122-1)/(G122-1),0))","v":""},{"$f":"IF(I122=\"\",\"\",IF((I122*F122-1)>=Coeff!$B$5,Coeff!$B$3/Coeff!$B$4*(I122*F122-1)/(I122-1),0))","v":""}]
[null,null,null,null,null,null,null,null,null,{"$f":"IF(G123=\"\",\"\",IF((G123*D123-1)>=Coeff!$B$5,Coeff!$B$3/Coeff!$B$4*(G123*D123-1)/(G123-1),0))","v":""},{"$f":"IF(I123=\"\",\"\",IF((I123*F123-1)>=Coeff!$B$5,Coeff!$B$3/Coeff!$B$4*(I123*F123-1)/(I123-1),0))","v":""}]
[null,null,null,null,null,null,null,null,null,{"$f":"IF(G124=\"\",\"\",IF((G124*D124-1)>=Coeff!$B$5,Coeff!$B$3/Coeff!$B$4*(G124*D124-1)/(G124-1),0))","v":""},{"$f":"IF(I124=\"\",\"\",IF((I124*F124-1)>=Coeff!$B$5,Coeff!$B$3/Coeff!$B$4*(I124*F124-1)/(I124-1),0))","v":""}]
[null,null,null,null,null,null,null,null,null,{"$f":"IF(G125=\"\",\"\",IF((G125*D125-1)>=Coeff!$B$5,Coeff!$B$3/Coeff!$B$4*(G125*D125-1)/(G125-1),0))","v":""},{"$f":"IF(I125=\"\",\"\",IF((I125*F125-1)>=Coeff!$B$5,Coeff!$B$3/Coeff!$B$4*(I125*F125-1)/(I125-1),0))","v":""}]
[null,null,null,null,null,null,null,null,null,{"$f":"IF(G126=\"\",\"\",IF((G126*D126-1)>=Coeff!$B$5,Coeff!$B$3/Coeff!$B$4*(G126*D126-1)/(G126-1),0))","v":""},{"$f":"IF(I126=\"\",\"\",IF((I126*F126-1)>=Coeff!$B$5,Coeff!$B$3/Coeff!$B$4*(I126*F126-1)/(I126-1),0))","v":""}]
[null,null,null,null,null,null,null,null,null,{"$f":"IF(G127=\"\",\"\",IF((G127*D127-1)>=Coeff!$B$5,Coeff!$B$3/Coeff!$B$4*(G127*D127-1)/(G127-1),0))","v":""},{"$f":"IF(I127=\"\",\"\",IF((I127*F127-1)>=Coeff!$B$5,Coeff!$B$3/Coeff!$B$4*(I127*F127-1)/(I127-1),0))","v":""}]
[null,null,null,null,null,null,null,null,null,{"$f":"IF(G128=\"\",\"\",IF((G128*D128-1)>=Coeff!$B$5,Coeff!$B$3/Coeff!$B$4*(G128*D128-1)/(G128-1),0))","v":""},{"$f":"IF(I128=\"\",\"\",IF((I128*F128-1)>=Coeff!$B$5,Coeff!$B$3/Coeff!$B$4*(I128*F128-1)/(I128-1),0))","v":""}]
[null,null,null,null,null,null,null,null,null,{"$f":"IF(G129=\"\",\"\",IF((G129*D129-1)>=Coeff!$B$5,Coeff!$B$3/Coeff!$B$4*(G129*D129-1)/(G129-1),0))","v":""},{"$f":"IF(I129=\"\",\"\",IF((I129*F129-1)>=Coeff!$B$5,Coeff!$B$3/Coeff!$B$4*(I129*F129-1)/(I129-1),0))","v":""}]
[null,null,null,null,null,null,null,null,null,{"$f":"IF(G130=\"\",\"\",IF((G130*D130-1)>=Coeff!$B$5,Coeff!$B$3/Coeff!$B$4*(G130*D130-1)/(G130-1),0))","v":""},{"$f":"IF(I130=\"\",\"\",IF((I130*F130-1)>=Coeff!$B$5,Coeff!$B$3/Coeff!$B$4*(I130*F130-1)/(I130-1),0))","v":""}]
[null,null,null,null,null,null,null,null,null,{"$f":"IF(G131=\"\",\"\",IF((G131*D131-1)>=Coeff!$B$5,Coeff!$B$3/Coeff!$B$4*(G131*D131-1)/(G131-1),0))","v":""},{"$f":"IF(I131=\"\",\"\",IF((I131*F131-1)>=Coeff!$B$5,Coeff!$B$3/Coeff!$B$4*(I131*F131-1)/(I131-1),0))","v":""}]
[null,null,null,null,null,null,null,null,null,{"$f":"IF(G132=\"\",\"\",IF((G132*D132-1)>=Coeff!$B$5,Coeff!$B$3/Coeff!$B$4*(G132*D132-1)/(G132-1),0))","v":""},{"$f":"IF(I132=\"\",\"\",IF((I132*F132-1)>=Coeff!$B$5,Coeff!$B$3/Coeff!$B$4*(I132*F132-1)/(I132-1),0))","v":""}]
[null,null,null,null,null,null,null,null,null,{"$f":"IF(G133=\"\",\"\",IF((G133*D133-1)>=Coeff!$B$5,Coeff!$B$3/Coeff!$B$4*(G133*D133-1)/(G133-1),0))","v":""},{"$f":"IF(I133=\"\",\"\",IF((I133*F133-1)>=Coeff!$B$5,Coeff!$B$3/Coeff!$B$4*(I133*F133-1)/(I133-1),0))","v":""}]
[null,null,null,null,null,null,null,null,null,{"$f":"IF(G134=\"\",\"\",IF((G134*D134-1)>=Coeff!$B$5,Coeff!$B$3/Coeff!$B$4*(G134*D134-1)/(G134-1),0))","v":""},{"$f":"IF(I134=\"\",\"\",IF((I134*F134-1)>=Coeff!$B$5,Coeff!$B$3/Coeff!$B$4*(I134*F134-1)/(I134-1),0))","v":""}]
[null,null,null,null,null,null,null,null,null,{"$f":"IF(G135=\"\",\"\",IF((G135*D135-1)>=Coeff!$B$5,Coeff!$B$3/Coeff!$B$4*(G135*D135-1)/(G135-1),0))","v":""},{"$f":"IF(I135=\"\",\"\",IF((I135*F135-1)>=Coeff!$B$5,Coeff!$B$3/Coeff!$B$4*(I135*F135-1)/(I135-1),0))","v":""}]
[null,null,null,null,null,null,null,null,null,{"$f":"IF(G136=\"\",\"\",IF((G136*D136-1)>=Coeff!$B$5,Coeff!$B$3/Coeff!$B$4*(G136*D136-1)/(G136-1),0))","v":""},{"$f":"IF(I136=\"\",\"\",IF((I136*F136-1)>=Coeff!$B$5,Coeff!$B$3/Coeff!$B$4*(I136*F136-1)/(I136-1),0))","v":""}]
[null,null,null,null,null,null,null,null,null,{"$f":"IF(G137=\"\",\"\",IF((G137*D137-1)>=Coeff!$B$5,Coeff!$B$3/Coeff!$B$4*(G137*D137-1)/(G137-1),0))","v":""},{"$f":"IF(I137=\"\",\"\",IF((I137*F137-1)>=Coeff!$B$5,Coeff!$B$3/Coeff!$B$4*(I137*F137-1)/(I137-1),0))","v":""}]
[null,null,null,null,null,null,null,null,null,{"$f":"IF(G138=\"\",\"\",IF((G138*D138-1)>=Coeff!$B$5,Coeff!$B$3/Coeff!$B$4*(G138*D138-1)/(G138-1),0))","v":""},{"$f":"IF(I138=\"\",\"\",IF((I138*F138-1)>=Coeff!$B$5,Coeff!$B$3/Coeff!$B$4*(I138*F138-1)/(I138-1),0))","v":""}]
[null,null,null,null,null,null,null,null,null,{"$f":"IF(G139=\"\",\"\",IF((G139*D139-1)>=Coeff!$B$5,Coeff!$B$3/Coeff!$B$4*(G139*D139-1)/(G139-1),0))","v":""},{"$f":"IF(I139=\"\",\"\",IF((I139*F139-1)>=Coeff!$B$5,Coeff!$B$3/Coeff!$B$4*(I139*F139-1)/(I139-1),0))","v":""}]
[null,null,null,null,null,null,null,null,null,{"$f":"IF(G140=\"\",\"\",IF((G140*D140-1)>=Coeff!$B$5,Coeff!$B$3/Coeff!$B$4*(G140*D140-1)/(G140-1),0))","v":""},{"$f":"IF(I140=\"\",\"\",IF((I140*F140-1)>=Coeff!$B$5,Coeff!$B$3/Coeff!$B$4*(I140*F140-1)/(I140-1),0))","v":""}]
[null,null,null,null,null,null,null,null,null,{"$f":"IF(G141=\"\",\"\",IF((G141*D141-1)>=Coeff!$B$5,Coeff!$B$3/Coeff!$B$4*(G141*D141-1)/(G141-1),0))","v":""},{"$f":"IF(I141=\"\",\"\",IF((I141*F141-1)>=Coeff!$B$5,Coeff!$B$3/Coeff!$B$4*(I141*F141-1)/(I141-1),0))","v":""}]
[null,null,null,null,null,null,null,null,null,{"$f":"IF(G142=\"\",\"\",IF((G142*D142-1)>=Coeff!$B$5,Coeff!$B$3/Coeff!$B$4*(G142*D142-1)/(G142-1),0))","v":""},{"$f":"IF(I142=\"\",\"\",IF((I142*F142-1)>=Coeff!$B$5,Coeff!$B$3/Coeff!$B$4*(I142*F142-1)/(I142-1),0))","v":""}]
[null,null,null,null,null,null,null,null,null,{"$f":"IF(G143=\"\",\"\",IF((G143*D143-1)>=Coeff!$B$5,Coeff!$B$3/Coeff!$B$4*(G143*D143-1)/(G143-1),0))","v":""},{"$f":"IF(I143=\"\",\"\",IF((I143*F143-1)>=Coeff!$B$5,Coeff!$B$3/Coeff!$B$4*(I143*F143-1)/(I143-1),0))","v":""}]
[null,null,null,null,null,null,null,null,null,{"$f":"IF(G144=\"\",\"\",IF((G144*D144-1)>=Coeff!$B$5,Coeff!$B$3/Coeff!$B$4*(G144*D144-1)/(G144-1),0))","v":""},{"$f":"IF(I144=\"\",\"\",IF((I144*F144-1)>=Coeff!$B$5,Coeff!$B$3/Coeff!$B$4*(I144*F144-1)/(I144-1),0))","v":""}]
[null,null,null,null,null,null,null,null,null,{"$f":"IF(G145=\"\",\"\",IF((G145*D145-1)>=Coeff!$B$5,Coeff!$B$3/Coeff!$B$4*(G145*D145-1)/(G145-1),0))","v":""},{"$f":"IF(I145=\"\",\"\",IF((I145*F145-1)>=Coeff!$B$5,Coeff!$B$3/Coeff!$B$4*(I145*F145-1)/(I145-1),0))","v":""}]
[null,null,null,null,null,null,null,null,null,{"$f":"IF(G146=\"\",\"\",IF((G146*D146-1)>=Coeff!$B$5,Coeff!$B$3/Coeff!$B$4*(G146*D146-1)/(G146-1),0))","v":""},{"$f":"IF(I146=\"\",\"\",IF((I146*F146-1)>=Coeff!$B$5,Coeff!$B$3/Coeff!$B$4*(I146*F146-1)/(I146-1),0))","v":""}]
[null,null,null,null,null,null,null,null,null,{"$f":"IF(G147=\"\",\"\",IF((G147*D147-1)>=Coeff!$B$5,Coeff!$B$3/Coeff!$B$4*(G147*D147-1)/(G147-1),0))","v":""},{"$f":"IF(I147=\"\",\"\",IF((I147*F147-1)>=Coeff!$B$5,Coeff!$B$3/Coeff!$B$4*(I147*F147-1)/(I147-1),0))","v":""}]
[null,null,null,null,null,null,null,null,null,{"$f":"IF(G148=\"\",\"\",IF((G148*D148-1)>=Coeff!$B$5,Coeff!$B$3/Coeff!$B$4*(G148*D148-1)/(G148-1),0))","v":""},{"$f":"IF(I148=\"\",\"\",IF((I148*F148-1)>=Coeff!$B$5,Coeff!$B$3/Coeff!$B$4*(I148*F148-1)/(I148-1),0))","v":""}]
[null,null,null,null,null,null,null,null,null,{"$f":"IF(G149=\"\",\"\",IF((G149*D149-1)>=Coeff!$B$5,Coeff!$B$3/Coeff!$B$4*(G149*D149-1)/(G149-1),0))","v":""},{"$f":"IF(I149=\"\",\"\",IF((I149*F149-1)>=Coeff!$B$5,Coeff!$B$3/Coeff!$B$4*(I149*F149-1)/(I149-1),0))","v":""}]
[null,null,null,null,null,null,null,null,null,{"$f":"IF(G150=\"\",\"\",IF((G150*D150-1)>=Coeff!$B$5,Coeff!$B$3/Coeff!$B$4*(G150*D150-1)/(G150-1),0))","v":""},{"$f":"IF(I150=\"\",\"\",IF((I150*F150-1)>=Coeff!$B$5,Coeff!$B$3/Coeff!$B$4*(I150*F150-1)/(I150-1),0))","v":""}]
[null,null,null,null,null,null,null,null,null,{"$f":"IF(G151=\"\",\"\",IF((G151*D151-1)>=Coeff!$B$5,Coeff!$B$3/Coeff!$B$4*(G151*D151-1)/(G151-1),0))","v":""},{"$f":"IF(I151=\"\",\"\",IF((I151*F151-1)>=Coeff!$B$5,Coeff!$B$3/Coeff!$B$4*(I151*F151-1)/(I151-1),0))","v":""}]
[null,null,null,null,null,null,null,null,null,{"$f":"IF(G152=\"\",\"\",IF((G152*D152-1)>=Coeff!$B$5,Coeff!$B$3/Coeff!$B$4*(G152*D152-1)/(G152-1),0))","v":""},{"$f":"IF(I152=\"\",\"\",IF((I152*F152-1)>=Coeff!$B$5,Coeff!$B$3/Coeff!$B$4*(I152*F152-1)/(I152-1),0))","v":""}]
[null,null,null,null,null,null,null,null,null,{"$f":"IF(G153=\"\",\"\",IF((G153*D153-1)>=Coeff!$B$5,Coeff!$B$3/Coeff!$B$4*(G153*D153-1)/(G153-1),0))","v":""},{"$f":"IF(I153=\"\",\"\",IF((I153*F153-1)>=Coeff!$B$5,Coeff!$B$3/Coeff!$B$4*(I153*F153-1)/(I153-1),0))","v":""}]
[null,null,null,null,null,null,null,null,null,{"$f":"IF(G154=\"\",\"\",IF((G154*D154-1)>=Coeff!$B$5,Coeff!$B$3/Coeff!$B$4*(G154*D154-1)/(G154-1),0))","v":""},{"$f":"IF(I154=\"\",\"\",IF((I154*F154-1)>=Coeff!$B$5,Coeff!$B$3/Coeff!$B$4*(I154*F154-1)/(I154-1),0))","v":""}]
[null,null,null,null,null,null,null,null,null,{"$f":"IF(G155=\"\",\"\",IF((G155*D155-1)>=Coeff!$B$5,Coeff!$B$3/Coeff!$B$4*(G155*D155-1)/(G155-1),0))","v":""},{"$f":"IF(I155=\"\",\"\",IF((I155*F155-1)>=Coeff!$B$5,Coeff!$B$3/Coeff!$B$4*(I155*F155-1)/(I155-1),0))","v":""}]
[null,null,null,null,null,null,null,null,null,{"$f":"IF(G156=\"\",\"\",IF((G156*D156-1)>=Coeff!$B$5,Coeff!$B$3/Coeff!$B$4*(G156*D156-1)/(G156-1),0))","v":""},{"$f":"IF(I156=\"\",\"\",IF((I156*F156-1)>=Coeff!$B$5,Coeff!$B$3/Coeff!$B$4*(I156*F156-1)/(I156-1),0))","v":""}]
[null,null,null,null,null,null,null,null,null,{"$f":"IF(G157=\"\",\"\",IF((G157*D157-1)>=Coeff!$B$5,Coeff!$B$3/Coeff!$B$4*(G157*D157-1)/(G157-1),0))","v":""},{"$f":"IF(I157=\"\",\"\",IF((I157*F157-1)>=Coeff!$B$5,Coeff!$B$3/Coeff!$B$4*(I157*F157-1)/(I157-1),0))","v":""}]
[null,null,null,null,null,null,null,null,null,{"$f":"IF(G158=\"\",\"\",IF((G158*D158-1)>=Coeff!$B$5,Coeff!$B$3/Coeff!$B$4*(G158*D158-1)/(G158-1),0))","v":""},{"$f":"IF(I158=\"\",\"\",IF((I158*F158-1)>=Coeff!$B$5,Coeff!$B$3/Coeff!$B$4*(I158*F158-1)/(I158-1),0))","v":""}]
[null,null,null,null,null,null,null,null,null,{"$f":"IF(G159=\"\",\"\",IF((G159*D159-1)>=Coeff!$B$5,Coeff!$B$3/Coeff!$B$4*(G159*D159-1)/(G159-1),0))","v":""},{"$f":"IF(I159=\"\",\"\",IF((I159*F159-1)>=Coeff!$B$5,Coeff!$B$3/Coeff!$B$4*(I159*F159-1)/(I159-1),0))","v":""}]
[null,null,null,null,null,null,null,null,null,{"$f":"IF(G160=\"\",\"\",IF((G160*D160-1)>=Coeff!$B$5,Coeff!$B$3/Coeff!$B$4*(G160*D160-1)/(G160-1),0))","v":""},{"$f":"IF(I160=\"\",\"\",IF((I160*F160-1)>=Coeff!$B$5,Coeff!$B$3/Coeff!$B$4*(I160*F160-1)/(I160-1),0))","v":""}]
[null,null,null,null,null,null,null,null,null,{"$f":"IF(G161=\"\",\"\",IF((G161*D161-1)>=Coeff!$B$5,Coeff!$B$3/Coeff!$B$4*(G161*D161-1)/(G161-1),0))","v":""},{"$f":"IF(I161=\"\",\"\",IF((I161*F161-1)>=Coeff!$B$5,Coeff!$B$3/Coeff!$B$4*(I161*F161-1)/(I161-1),0))","v":""}]
[null,null,null,null,null,null,null,null,null,{"$f":"IF(G162=\"\",\"\",IF((G162*D162-1)>=Coeff!$B$5,Coeff!$B$3/Coeff!$B$4*(G162*D162-1)/(G162-1),0))","v":""},{"$f":"IF(I162=\"\",\"\",IF((I162*F162-1)>=Coeff!$B$5,Coeff!$B$3/Coeff!$B$4*(I162*F162-1)/(I162-1),0))","v":""}]
[null,null,null,null,null,null,null,null,null,{"$f":"IF(G163=\"\",\"\",IF((G163*D163-1)>=Coeff!$B$5,Coeff!$B$3/Coeff!$B$4*(G163*D163-1)/(G163-1),0))","v":""},{"$f":"IF(I163=\"\",\"\",IF((I163*F163-1)>=Coeff!$B$5,Coeff!$B$3/Coeff!$B$4*(I163*F163-1)/(I163-1),0))","v":""}]
[null,null,null,null,null,null,null,null,null,{"$f":"IF(G164=\"\",\"\",IF((G164*D164-1)>=Coeff!$B$5,Coeff!$B$3/Coeff!$B$4*(G164*D164-1)/(G164-1),0))","v":""},{"$f":"IF(I164=\"\",\"\",IF((I164*F164-1)>=Coeff!$B$5,Coeff!$B$3/Coeff!$B$4*(I164*F164-1)/(I164-1),0))","v":""}]
[null,null,null,null,null,null,null,null,null,{"$f":"IF(G165=\"\",\"\",IF((G165*D165-1)>=Coeff!$B$5,Coeff!$B$3/Coeff!$B$4*(G165*D165-1)/(G165-1),0))","v":""},{"$f":"IF(I165=\"\",\"\",IF((I165*F165-1)>=Coeff!$B$5,Coeff!$B$3/Coeff!$B$4*(I165*F165-1)/(I165-1),0))","v":""}]
[null,null,null,null,null,null,null,null,null,{"$f":"IF(G166=\"\",\"\",IF((G166*D166-1)>=Coeff!$B$5,Coeff!$B$3/Coeff!$B$4*(G166*D166-1)/(G166-1),0))","v":""},{"$f":"IF(I166=\"\",\"\",IF((I166*F166-1)>=Coeff!$B$5,Coeff!$B$3/Coeff!$B$4*(I166*F166-1)/(I166-1),0))","v":""}]
[null,null,null,null,null,null,null,null,null,{"$f":"IF(G167=\"\",\"\",IF((G167*D167-1)>=Coeff!$B$5,Coeff!$B$3/Coeff!$B$4*(G167*D167-1)/(G167-1),0))","v":""},{"$f":"IF(I167=\"\",\"\",IF((I167*F167-1)>=Coeff!$B$5,Coeff!$B$3/Coeff!$B$4*(I167*F167-1)/(I167-1),0))","v":""}]
[null,null,null,null,null,null,null,null,null,{"$f":"IF(G168=\"\",\"\",IF((G168*D168-1)>=Coeff!$B$5,Coeff!$B$3/Coeff!$B$4*(G168*D168-1)/(G168-1),0))","v":""},{"$f":"IF(I168=\"\",\"\",IF((I168*F168-1)>=Coeff!$B$5,Coeff!$B$3/Coeff!$B$4*(I168*F168-1)/(I168-1),0))","v":""}]
[null,null,null,null,null,null,null,null,null,{"$f":"IF(G169=\"\",\"\",IF((G169*D169-1)>=Coeff!$B$5,Coeff!$B$3/Coeff!$B$4*(G169*D169-1)/(G169-1),0))","v":""},{"$f":"IF(I169=\"\",\"\",IF((I169*F169-1)>=Coeff!$B$5,Coeff!$B$3/Coeff!$B$4*(I169*F169-1)/(I169-1),0))","v":""}]
[null,null,null,null,null,null,null,null,null,{"$f":"IF(G170=\"\",\"\",IF((G170*D170-1)>=Coeff!$B$5,Coeff!$B$3/Coeff!$B$4*(G170*D170-1)/(G170-1),0))","v":""},{"$f":"IF(I170=\"\",\"\",IF((I170*F170-1)>=Coeff!$B$5,Coeff!$B$3/Coeff!$B$4*(I170*F170-1)/(I170-1),0))","v":""}]
[null,null,null,null,null,null,null,null,null,{"$f":"IF(G171=\"\",\"\",IF((G171*D171-1)>=Coeff!$B$5,Coeff!$B$3/Coeff!$B$4*(G171*D171-1)/(G171-1),0))","v":""},{"$f":"IF(I171=\"\",\"\",IF((I171*F171-1)>=Coeff!$B$5,Coeff!$B$3/Coeff!$B$4*(I171*F171-1)/(I171-1),0))","v":""}]
[null,null,null,null,null,null,null,null,null,{"$f":"IF(G172=\"\",\"\",IF((G172*D172-1)>=Coeff!$B$5,Coeff!$B$3/Coeff!$B$4*(G172*D172-1)/(G172-1),0))","v":""},{"$f":"IF(I172=\"\",\"\",IF((I172*F172-1)>=Coeff!$B$5,Coeff!$B$3/Coeff!$B$4*(I172*F172-1)/(I172-1),0))","v":""}]
[null,null,null,null,null,null,null,null,null,{"$f":"IF(G173=\"\",\"\",IF((G173*D173-1)>=Coeff!$B$5,Coeff!$B$3/Coeff!$B$4*(G173*D173-1)/(G173-1),0))","v":""},{"$f":"IF(I173=\"\",\"\",IF((I173*F173-1)>=Coeff!$B$5,Coeff!$B$3/Coeff!$B$4*(I173*F173-1)/(I173-1),0))","v":""}]
[null,null,null,null,null,null,null,null,null,{"$f":"IF(G174=\"\",\"\",IF((G174*D174-1)>=Coeff!$B$5,Coeff!$B$3/Coeff!$B$4*(G174*D174-1)/(G174-1),0))","v":""},{"$f":"IF(I174=\"\",\"\",IF((I174*F174-1)>=Coeff!$B$5,Coeff!$B$3/Coeff!$B$4*(I174*F174-1)/(I174-1),0))","v":""}]
[null,null,null,null,null,null,null,null,null,{"$f":"IF(G175=\"\",\"\",IF((G175*D175-1)>=Coeff!$B$5,Coeff!$B$3/Coeff!$B$4*(G175*D175-1)/(G175-1),0))","v":""},{"$f":"IF(I175=\"\",\"\",IF((I175*F175-1)>=Coeff!$B$5,Coeff!$B$3/Coeff!$B$4*(I175*F175-1)/(I175-1),0))","v":""}]
[null,null,null,null,null,null,null,null,null,{"$f":"IF(G176=\"\",\"\",IF((G176*D176-1)>=Coeff!$B$5,Coeff!$B$3/Coeff!$B$4*(G176*D176-1)/(G176-1),0))","v":""},{"$f":"IF(I176=\"\",\"\",IF((I176*F176-1)>=Coeff!$B$5,Coeff!$B$3/Coeff!$B$4*(I176*F176-1)/(I176-1),0))","v":""}]
[null,null,null,null,null,null,null,null,null,{"$f":"IF(G177=\"\",\"\",IF((G177*D177-1)>=Coeff!$B$5,Coeff!$B$3/Coeff!$B$4*(G177*D177-1)/(G177-1),0))","v":""},{"$f":"IF(I177=\"\",\"\",IF((I177*F177-1)>=Coeff!$B$5,Coeff!$B$3/Coeff!$B$4*(I177*F177-1)/(I177-1),0))","v":""}]
[null,null,null,null,null,null,null,null,null,{"$f":"IF(G178=\"\",\"\",IF((G178*D178-1)>=Coeff!$B$5,Coeff!$B$3/Coeff!$B$4*(G178*D178-1)/(G178-1),0))","v":""},{"$f":"IF(I178=\"\",\"\",IF((I178*F178-1)>=Coeff!$B$5,Coeff!$B$3/Coeff!$B$4*(I178*F178-1)/(I178-1),0))","v":""}]
[null,null,null,null,null,null,null,null,null,{"$f":"IF(G179=\"\",\"\",IF((G179*D179-1)>=Coeff!$B$5,Coeff!$B$3/Coeff!$B$4*(G179*D179-1)/(G179-1),0))","v":""},{"$f":"IF(I179=\"\",\"\",IF((I179*F179-1)>=Coeff!$B$5,Coeff!$B$3/Coeff!$B$4*(I179*F179-1)/(I179-1),0))","v":""}]
[null,null,null,null,null,null,null,null,null,{"$f":"IF(G180=\"\",\"\",IF((G180*D180-1)>=Coeff!$B$5,Coeff!$B$3/Coeff!$B$4*(G180*D180-1)/(G180-1),0))","v":""},{"$f":"IF(I180=\"\",\"\",IF((I180*F180-1)>=Coeff!$B$5,Coeff!$B$3/Coeff!$B$4*(I180*F180-1)/(I180-1),0))","v":""}]
[null,null,null,null,null,null,null,null,null,{"$f":"IF(G181=\"\",\"\",IF((G181*D181-1)>=Coeff!$B$5,Coeff!$B$3/Coeff!$B$4*(G181*D181-1)/(G181-1),0))","v":""},{"$f":"IF(I181=\"\",\"\",IF((I181*F181-1)>=Coeff!$B$5,Coeff!$B$3/Coeff!$B$4*(I181*F181-1)/(I181-1),0))","v":""}]
[null,null,null,null,null,null,null,null,null,{"$f":"IF(G182=\"\",\"\",IF((G182*D182-1)>=Coeff!$B$5,Coeff!$B$3/Coeff!$B$4*(G182*D182-1)/(G182-1),0))","v":""},{"$f":"IF(I182=\"\",\"\",IF((I182*F182-1)>=Coeff!$B$5,Coeff!$B$3/Coeff!$B$4*(I182*F182-1)/(I182-1),0))","v":""}]
[null,null,null,null,null,null,null,null,null,{"$f":"IF(G183=\"\",\"\",IF((G183*D183-1)>=Coeff!$B$5,Coeff!$B$3/Coeff!$B$4*(G183*D183-1)/(G183-1),0))","v":""},{"$f":"IF(I183=\"\",\"\",IF((I183*F183-1)>=Coeff!$B$5,Coeff!$B$3/Coeff!$B$4*(I183*F183-1)/(I183-1),0))","v":""}]
[null,null,null,null,null,null,null,null,null,{"$f":"IF(G184=\"\",\"\",IF((G184*D184-1)>=Coeff!$B$5,Coeff!$B$3/Coeff!$B$4*(G184*D184-1)/(G184-1),0))","v":""},{"$f":"IF(I184=\"\",\"\",IF((I184*F184-1)>=Coeff!$B$5,Coeff!$B$3/Coeff!$B$4*(I184*F184-1)/(I184-1),0))","v":""}]
[null,null,null,null,null,null,null,null,null,{"$f":"IF(G185=\"\",\"\",IF((G185*D185-1)>=Coeff!$B$5,Coeff!$B$3/Coeff!$B$4*(G185*D185-1)/(G185-1),0))","v":""},{"$f":"IF(I185=\"\",\"\",IF((I185*F185-1)>=Coeff!$B$5,Coeff!$B$3/Coeff!$B$4*(I185*F185-1)/(I185-1),0))","v":""}]
[null,null,null,null,null,null,null,null,null,{"$f":"IF(G186=\"\",\"\",IF((G186*D186-1)>=Coeff!$B$5,Coeff!$B$3/Coeff!$B$4*(G186*D186-1)/(G186-1),0))","v":""},{"$f":"IF(I186=\"\",\"\",IF((I186*F186-1)>=Coeff!$B$5,Coeff!$B$3/Coeff!$B$4*(I186*F186-1)/(I186-1),0))","v":""}]
[null,null,null,null,null,null,null,null,null,{"$f":"IF(G187=\"\",\"\",IF((G187*D187-1)>=Coeff!$B$5,Coeff!$B$3/Coeff!$B$4*(G187*D187-1)/(G187-1),0))","v":""},{"$f":"IF(I187=\"\",\"\",IF((I187*F187-1)>=Coeff!$B$5,Coeff!$B$3/Coeff!$B$4*(I187*F187-1)/(I187-1),0))","v":""}]
[null,null,null,null,null,null,null,null,null,{"$f":"IF(G188=\"\",\"\",IF((G188*D188-1)>=Coeff!$B$5,Coeff!$B$3/Coeff!$B$4*(G188*D188-1)/(G188-1),0))","v":""},{"$f":"IF(I188=\"\",\"\",IF((I188*F188-1)>=Coeff!$B$5,Coeff!$B$3/Coeff!$B$4*(I188*F188-1)/(I188-1),0))","v":""}]
[null,null,null,null,null,null,null,null,null,{"$f":"IF(G189=\"\",\"\",IF((G189*D189-1)>=Coeff!$B$5,Coeff!$B$3/Coeff!$B$4*(G189*D189-1)/(G189-1),0))","v":""},{"$f":"IF(I189=\"\",\"\",IF((I189*F189-1)>=Coeff!$B$5,Coeff!$B$3/Coeff!$B$4*(I189*F189-1)/(I189-1),0))","v":""}]
[null,null,null,null,null,null,null,null,null,{"$f":"IF(G190=\"\",\"\",IF((G190*D190-1)>=Coeff!$B$5,Coeff!$B$3/Coeff!$B$4*(G190*D190-1)/(G190-1),0))","v":""},{"$f":"IF(I190=\"\",\"\",IF((I190*F190-1)>=Coeff!$B$5,Coeff!$B$3/Coeff!$B$4*(I190*F190-1)/(I190-1),0))","v":""}]
[null,null,null,null,null,null,null,null,null,{"$f":"IF(G191=\"\",\"\",IF((G191*D191-1)>=Coeff!$B$5,Coeff!$B$3/Coeff!$B$4*(G191*D191-1)/(G191-1),0))","v":""},{"$f":"IF(I191=\"\",\"\",IF((I191*F191-1)>=Coeff!$B$5,Coeff!$B$3/Coeff!$B$4*(I191*F191-1)/(I191-1),0))","v":""}]
[null,null,null,null,null,null,null,null,null,{"$f":"IF(G192=\"\",\"\",IF((G192*D192-1)>=Coeff!$B$5,Coeff!$B$3/Coeff!$B$4*(G192*D192-1)/(G192-1),0))","v":""},{"$f":"IF(I192=\"\",\"\",IF((I192*F192-1)>=Coeff!$B$5,Coeff!$B$3/Coeff!$B$4*(I192*F192-1)/(I192-1),0))","v":""}]
[null,null,null,null,null,null,null,null,null,{"$f":"IF(G193=\"\",\"\",IF((G193*D193-1)>=Coeff!$B$5,Coeff!$B$3/Coeff!$B$4*(G193*D193-1)/(G193-1),0))","v":""},{"$f":"IF(I193=\"\",\"\",IF((I193*F193-1)>=Coeff!$B$5,Coeff!$B$3/Coeff!$B$4*(I193*F193-1)/(I193-1),0))","v":""}]
[null,null,null,null,null,null,null,null,null,{"$f":"IF(G194=\"\",\"\",IF((G194*D194-1)>=Coeff!$B$5,Coeff!$B$3/Coeff!$B$4*(G194*D194-1)/(G194-1),0))","v":""},{"$f":"IF(I194=\"\",\"\",IF((I194*F194-1)>=Coeff!$B$5,Coeff!$B$3/Coeff!$B$4*(I194*F194-1)/(I194-1),0))","v":""}]
[null,null,null,null,null,null,null,null,null,{"$f":"IF(G195=\"\",\"\",IF((G195*D195-1)>=Coeff!$B$5,Coeff!$B$3/Coeff!$B$4*(G195*D195-1)/(G195-1),0))","v":""},{"$f":"IF(I195=\"\",\"\",IF((I195*F195-1)>=Coeff!$B$5,Coeff!$B$3/Coeff!$B$4*(I195*F195-1)/(I195-1),0))","v":""}]
[null,null,null,null,null,null,null,null,null,{"$f":"IF(G196=\"\",\"\",IF((G196*D196-1)>=Coeff!$B$5,Coeff!$B$3/Coeff!$B$4*(G196*D196-1)/(G196-1),0))","v":""},{"$f":"IF(I196=\"\",\"\",IF((I196*F196-1)>=Coeff!$B$5,Coeff!$B$3/Coeff!$B$4*(I196*F196-1)/(I196-1),0))","v":""}]
[null,null,null,null,null,null,null,null,null,{"$f":"IF(G197=\"\",\"\",IF((G197*D197-1)>=Coeff!$B$5,Coeff!$B$3/Coeff!$B$4*(G197*D197-1)/(G197-1),0))","v":""},{"$f":"IF(I197=\"\",\"\",IF((I197*F197-1)>=Coeff!$B$5,Coeff!$B$3/Coeff!$B$4*(I197*F197-1)/(I197-1),0))","v":""}]
[null,null,null,null,null,null,null,null,null,{"$f":"IF(G198=\"\",\"\",IF((G198*D198-1)>=Coeff!$B$5,Coeff!$B$3/Coeff!$B$4*(G198*D198-1)/(G198-1),0))","v":""},{"$f":"IF(I198=\"\",\"\",IF((I198*F198-1)>=Coeff!$B$5,Coeff!$B$3/Coeff!$B$4*(I198*F198-1)/(I198-1),0))","v":""}]
[null,null,null,null,null,null,null,null,null,{"$f":"IF(G199=\"\",\"\",IF((G199*D199-1)>=Coeff!$B$5,Coeff!$B$3/Coeff!$B$4*(G199*D199-1)/(G199-1),0))","v":""},{"$f":"IF(I199=\"\",\"\",IF((I199*F199-1)>=Coeff!$B$5,Coeff!$B$3/Coeff!$B$4*(I199*F199-1)/(I199-1),0))","v":""}]
[null,null,null,null,null,null,null,null,null,{"$f":"IF(G200=\"\",\"\",IF((G200*D200-1)>=Coeff!$B$5,Coeff!$B$3/Coeff!$B$4*(G200*D200-1)/(G200-1),0))","v":""},{"$f":"IF(I200=\"\",\"\",IF((I200*F200-1)>=Coeff!$B$5,Coeff!$B$3/Coeff!$B$4*(I200*F200-1)/(I200-1),0))","v":""}]
[null,null,null,null,null,null,null,null,null,{"$f":"IF(G201=\"\",\"\",IF((G201*D201-1)>=Coeff!$B$5,Coeff!$B$3/Coeff!$B$4*(G201*D201-1)/(G201-1),0))","v":""},{"$f":"IF(I201=\"\",\"\",IF((I201*F201-1)>=Coeff!$B$5,Coeff!$B$3/Coeff!$B$4*(I201*F201-1)/(I201-1),0))","v":""}]
[null,null,null,null,null,null,null,null,null,{"$f":"IF(G202=\"\",\"\",IF((G202*D202-1)>=Coeff!$B$5,Coeff!$B$3/Coeff!$B$4*(G202*D202-1)/(G202-1),0))","v":""},{"$f":"IF(I202=\"\",\"\",IF((I202*F202-1)>=Coeff!$B$5,Coeff!$B$3/Coeff!$B$4*(I202*F202-1)/(I202-1),0))","v":""}]
[null,null,null,null,null,null,null,null,null,{"$f":"IF(G203=\"\",\"\",IF((G203*D203-1)>=Coeff!$B$5,Coeff!$B$3/Coeff!$B$4*(G203*D203-1)/(G203-1),0))","v":""},{"$f":"IF(I203=\"\",\"\",IF((I203*F203-1)>=Coeff!$B$5,Coeff!$B$3/Coeff!$B$4*(I203*F203-1)/(I203-1),0))","v":""}]
[null,null,null,null,null,null,null,null,null,{"$f":"IF(G204=\"\",\"\",IF((G204*D204-1)>=Coeff!$B$5,Coeff!$B$3/Coeff!$B$4*(G204*D204-1)/(G204-1),0))","v":""},{"$f":"IF(I204=\"\",\"\",IF((I204*F204-1)>=Coeff!$B$5,Coeff!$B$3/Coeff!$B$4*(I204*F204-1)/(I204-1),0))","v":""}]
[null,null,null,null,null,null,null,null,null,{"$f":"IF(G205=\"\",\"\",IF((G205*D205-1)>=Coeff!$B$5,Coeff!$B$3/Coeff!$B$4*(G205*D205-1)/(G205-1),0))","v":""},{"$f":"IF(I205=\"\",\"\",IF((I205*F205-1)>=Coeff!$B$5,Coeff!$B$3/Coeff!$B$4*(I205*F205-1)/(I205-1),0))","v":""}]
[null,null,null,null,null,null,null,null,null,{"$f":"IF(G206=\"\",\"\",IF((G206*D206-1)>=Coeff!$B$5,Coeff!$B$3/Coeff!$B$4*(G206*D206-1)/(G206-1),0))","v":""},{"$f":"IF(I206=\"\",\"\",IF((I206*F206-1)>=Coeff!$B$5,Coeff!$B$3/Coeff!$B$4*(I206*F206-1)/(I206-1),0))","v":""}]
[null,null,null,null,null,null,null,null,null,{"$f":"IF(G207=\"\",\"\",IF((G207*D207-1)>=Coeff!$B$5,Coeff!$B$3/Coeff!$B$4*(G207*D207-1)/(G207-1),0))","v":""},{"$f":"IF(I207=\"\",\"\",IF((I207*F207-1)>=Coeff!$B$5,Coeff!$B$3/Coeff!$B$4*(I207*F207-1)/(I207-1),0))","v":""}]
[null,null,null,null,null,null,null,null,null,{"$f":"IF(G208=\"\",\"\",IF((G208*D208-1)>=Coeff!$B$5,Coeff!$B$3/Coeff!$B$4*(G208*D208-1)/(G208-1),0))","v":""},{"$f":"IF(I208=\"\",\"\",IF((I208*F208-1)>=Coeff!$B$5,Coeff!$B$3/Coeff!$B$4*(I208*F208-1)/(I208-1),0))","v":""}]
[null,null,null,null,null,null,null,null,null,{"$f":"IF(G209=\"\",\"\",IF((G209*D209-1)>=Coeff!$B$5,Coeff!$B$3/Coeff!$B$4*(G209*D209-1)/(G209-1),0))","v":""},{"$f":"IF(I209=\"\",\"\",IF((I209*F209-1)>=Coeff!$B$5,Coeff!$B$3/Coeff!$B$4*(I209*F209-1)/(I209-1),0))","v":""}]
[null,null,null,null,null,null,null,null,null,{"$f":"IF(G210=\"\",\"\",IF((G210*D210-1)>=Coeff!$B$5,Coeff!$B$3/Coeff!$B$4*(G210*D210-1)/(G210-1),0))","v":""},{"$f":"IF(I210=\"\",\"\",IF((I210*F210-1)>=Coeff!$B$5,Coeff!$B$3/Coeff!$B$4*(I210*F210-1)/(I210-1),0))","v":""}]
[null,null,null,null,null,null,null,null,null,{"$f":"IF(G211=\"\",\"\",IF((G211*D211-1)>=Coeff!$B$5,Coeff!$B$3/Coeff!$B$4*(G211*D211-1)/(G211-1),0))","v":""},{"$f":"IF(I211=\"\",\"\",IF((I211*F211-1)>=Coeff!$B$5,Coeff!$B$3/Coeff!$B$4*(I211*F211-1)/(I211-1),0))","v":""}]
[null,null,null,null,null,null,null,null,null,{"$f":"IF(G212=\"\",\"\",IF((G212*D212-1)>=Coeff!$B$5,Coeff!$B$3/Coeff!$B$4*(G212*D212-1)/(G212-1),0))","v":""},{"$f":"IF(I212=\"\",\"\",IF((I212*F212-1)>=Coeff!$B$5,Coeff!$B$3/Coeff!$B$4*(I212*F212-1)/(I212-1),0))","v":""}]
[null,null,null,null,null,null,null,null,null,{"$f":"IF(G213=\"\",\"\",IF((G213*D213-1)>=Coeff!$B$5,Coeff!$B$3/Coeff!$B$4*(G213*D213-1)/(G213-1),0))","v":""},{"$f":"IF(I213=\"\",\"\",IF((I213*F213-1)>=Coeff!$B$5,Coeff!$B$3/Coeff!$B$4*(I213*F213-1)/(I213-1),0))","v":""}]
[null,null,null,null,null,null,null,null,null,{"$f":"IF(G214=\"\",\"\",IF((G214*D214-1)>=Coeff!$B$5,Coeff!$B$3/Coeff!$B$4*(G214*D214-1)/(G214-1),0))","v":""},{"$f":"IF(I214=\"\",\"\",IF((I214*F214-1)>=Coeff!$B$5,Coeff!$B$3/Coeff!$B$4*(I214*F214-1)/(I214-1),0))","v":""}]
[null,null,null,null,null,null,null,null,null,{"$f":"IF(G215=\"\",\"\",IF((G215*D215-1)>=Coeff!$B$5,Coeff!$B$3/Coeff!$B$4*(G215*D215-1)/(G215-1),0))","v":""},{"$f":"IF(I215=\"\",\"\",IF((I215*F215-1)>=Coeff!$B$5,Coeff!$B$3/Coeff!$B$4*(I215*F215-1)/(I215-1),0))","v":""}]
[null,null,null,null,null,null,null,null,null,{"$f":"IF(G216=\"\",\"\",IF((G216*D216-1)>=Coeff!$B$5,Coeff!$B$3/Coeff!$B$4*(G216*D216-1)/(G216-1),0))","v":""},{"$f":"IF(I216=\"\",\"\",IF((I216*F216-1)>=Coeff!$B$5,Coeff!$B$3/Coeff!$B$4*(I216*F216-1)/(I216-1),0))","v":""}]
[null,null,null,null,null,null,null,null,null,{"$f":"IF(G217=\"\",\"\",IF((G217*D217-1)>=Coeff!$B$5,Coeff!$B$3/Coeff!$B$4*(G217*D217-1)/(G217-1),0))","v":""},{"$f":"IF(I217=\"\",\"\",IF((I217*F217-1)>=Coeff!$B$5,Coeff!$B$3/Coeff!$B$4*(I217*F217-1)/(I217-1),0))","v":""}]
[null,null,null,null,null,null,null,null,null,{"$f":"IF(G218=\"\",\"\",IF((G218*D218-1)>=Coeff!$B$5,Coeff!$B$3/Coeff!$B$4*(G218*D218-1)/(G218-1),0))","v":""},{"$f":"IF(I218=\"\",\"\",IF((I218*F218-1)>=Coeff!$B$5,Coeff!$B$3/Coeff!$B$4*(I218*F218-1)/(I218-1),0))","v":""}]
[null,null,null,null,null,null,null,null,null,{"$f":"IF(G219=\"\",\"\",IF((G219*D219-1)>=Coeff!$B$5,Coeff!$B$3/Coeff!$B$4*(G219*D219-1)/(G219-1),0))","v":""},{"$f":"IF(I219=\"\",\"\",IF((I219*F219-1)>=Coeff!$B$5,Coeff!$B$3/Coeff!$B$4*(I219*F219-1)/(I219-1),0))","v":""}]
[null,null,null,null,null,null,null,null,null,{"$f":"IF(G220=\"\",\"\",IF((G220*D220-1)>=Coeff!$B$5,Coeff!$B$3/Coeff!$B$4*(G220*D220-1)/(G220-1),0))","v":""},{"$f":"IF(I220=\"\",\"\",IF((I220*F220-1)>=Coeff!$B$5,Coeff!$B$3/Coeff!$B$4*(I220*F220-1)/(I220-1),0))","v":""}]
[null,null,null,null,null,null,null,null,null,{"$f":"IF(G221=\"\",\"\",IF((G221*D221-1)>=Coeff!$B$5,Coeff!$B$3/Coeff!$B$4*(G221*D221-1)/(G221-1),0))","v":""},{"$f":"IF(I221=\"\",\"\",IF((I221*F221-1)>=Coeff!$B$5,Coeff!$B$3/Coeff!$B$4*(I221*F221-1)/(I221-1),0))","v":""}]
[null,null,null,null,null,null,null,null,null,{"$f":"IF(G222=\"\",\"\",IF((G222*D222-1)>=Coeff!$B$5,Coeff!$B$3/Coeff!$B$4*(G222*D222-1)/(G222-1),0))","v":""},{"$f":"IF(I222=\"\",\"\",IF((I222*F222-1)>=Coeff!$B$5,Coeff!$B$3/Coeff!$B$4*(I222*F222-1)/(I222-1),0))","v":""}]
[null,null,null,null,null,null,null,null,null,{"$f":"IF(G223=\"\",\"\",IF((G223*D223-1)>=Coeff!$B$5,Coeff!$B$3/Coeff!$B$4*(G223*D223-1)/(G223-1),0))","v":""},{"$f":"IF(I223=\"\",\"\",IF((I223*F223-1)>=Coeff!$B$5,Coeff!$B$3/Coeff!$B$4*(I223*F223-1)/(I223-1),0))","v":""}]
[null,null,null,null,null,null,null,null,null,{"$f":"IF(G224=\"\",\"\",IF((G224*D224-1)>=Coeff!$B$5,Coeff!$B$3/Coeff!$B$4*(G224*D224-1)/(G224-1),0))","v":""},{"$f":"IF(I224=\"\",\"\",IF((I224*F224-1)>=Coeff!$B$5,Coeff!$B$3/Coeff!$B$4*(I224*F224-1)/(I224-1),0))","v":""}]
[null,null,null,null,null,null,null,null,null,{"$f":"IF(G225=\"\",\"\",IF((G225*D225-1)>=Coeff!$B$5,Coeff!$B$3/Coeff!$B$4*(G225*D225-1)/(G225-1),0))","v":""},{"$f":"IF(I225=\"\",\"\",IF((I225*F225-1)>=Coeff!$B$5,Coeff!$B$3/Coeff!$B$4*(I225*F225-1)/(I225-1),0))","v":""}]
[null,null,null,null,null,null,null,null,null,{"$f":"IF(G226=\"\",\"\",IF((G226*D226-1)>=Coeff!$B$5,Coeff!$B$3/Coeff!$B$4*(G226*D226-1)/(G226-1),0))","v":""},{"$f":"IF(I226=\"\",\"\",IF((I226*F226-1)>=Coeff!$B$5,Coeff!$B$3/Coeff!$B$4*(I226*F226-1)/(I226-1),0))","v":""}]
[null,null,null,null,null,null,null,null,null,{"$f":"IF(G227=\"\",\"\",IF((G227*D227-1)>=Coeff!$B$5,Coeff!$B$3/Coeff!$B$4*(G227*D227-1)/(G227-1),0))","v":""},{"$f":"IF(I227=\"\",\"\",IF((I227*F227-1)>=Coeff!$B$5,Coeff!$B$3/Coeff!$B$4*(I227*F227-1)/(I227-1),0))","v":""}]
[null,null,null,null,null,null,null,null,null,{"$f":"IF(G228=\"\",\"\",IF((G228*D228-1)>=Coeff!$B$5,Coeff!$B$3/Coeff!$B$4*(G228*D228-1)/(G228-1),0))","v":""},{"$f":"IF(I228=\"\",\"\",IF((I228*F228-1)>=Coeff!$B$5,Coeff!$B$3/Coeff!$B$4*(I228*F228-1)/(I228-1),0))","v":""}]
[null,null,null,null,null,null,null,null,null,{"$f":"IF(G229=\"\",\"\",IF((G229*D229-1)>=Coeff!$B$5,Coeff!$B$3/Coeff!$B$4*(G229*D229-1)/(G229-1),0))","v":""},{"$f":"IF(I229=\"\",\"\",IF((I229*F229-1)>=Coeff!$B$5,Coeff!$B$3/Coeff!$B$4*(I229*F229-1)/(I229-1),0))","v":""}]
[null,null,null,null,null,null,null,null,null,{"$f":"IF(G230=\"\",\"\",IF((G230*D230-1)>=Coeff!$B$5,Coeff!$B$3/Coeff!$B$4*(G230*D230-1)/(G230-1),0))","v":""},{"$f":"IF(I230=\"\",\"\",IF((I230*F230-1)>=Coeff!$B$5,Coeff!$B$3/Coeff!$B$4*(I230*F230-1)/(I230-1),0))","v":""}]
[null,null,null,null,null,null,null,null,null,{"$f":"IF(G231=\"\",\"\",IF((G231*D231-1)>=Coeff!$B$5,Coeff!$B$3/Coeff!$B$4*(G231*D231-1)/(G231-1),0))","v":""},{"$f":"IF(I231=\"\",\"\",IF((I231*F231-1)>=Coeff!$B$5,Coeff!$B$3/Coeff!$B$4*(I231*F231-1)/(I231-1),0))","v":""}]
[null,null,null,null,null,null,null,null,null,{"$f":"IF(G232=\"\",\"\",IF((G232*D232-1)>=Coeff!$B$5,Coeff!$B$3/Coeff!$B$4*(G232*D232-1)/(G232-1),0))","v":""},{"$f":"IF(I232=\"\",\"\",IF((I232*F232-1)>=Coeff!$B$5,Coeff!$B$3/Coeff!$B$4*(I232*F232-1)/(I232-1),0))","v":""}]
[null,null,null,null,null,null,null,null,null,{"$f":"IF(G233=\"\",\"\",IF((G233*D233-1)>=Coeff!$B$5,Coeff!$B$3/Coeff!$B$4*(G233*D233-1)/(G233-1),0))","v":""},{"$f":"IF(I233=\"\",\"\",IF((I233*F233-1)>=Coeff!$B$5,Coeff!$B$3/Coeff!$B$4*(I233*F233-1)/(I233-1),0))","v":""}]
[null,null,null,null,null,null,null,null,null,{"$f":"IF(G234=\"\",\"\",IF((G234*D234-1)>=Coeff!$B$5,Coeff!$B$3/Coeff!$B$4*(G234*D234-1)/(G234-1),0))","v":""},{"$f":"IF(I234=\"\",\"\",IF((I234*F234-1)>=Coeff!$B$5,Coeff!$B$3/Coeff!$B$4*(I234*F234-1)/(I234-1),0))","v":""}]
[null,null,null,null,null,null,null,null,null,{"$f":"IF(G235=\"\",\"\",IF((G235*D235-1)>=Coeff!$B$5,Coeff!$B$3/Coeff!$B$4*(G235*D235-1)/(G235-1),0))","v":""},{"$f":"IF(I235=\"\",\"\",IF((I235*F235-1)>=Coeff!$B$5,Coeff!$B$3/Coeff!$B$4*(I235*F235-1)/(I235-1),0))","v":""}]
[null,null,null,null,null,null,null,null,null,{"$f":"IF(G236=\"\",\"\",IF((G236*D236-1)>=Coeff!$B$5,Coeff!$B$3/Coeff!$B$4*(G236*D236-1)/(G236-1),0))","v":""},{"$f":"IF(I236=\"\",\"\",IF((I236*F236-1)>=Coeff!$B$5,Coeff!$B$3/Coeff!$B$4*(I236*F236-1)/(I236-1),0))","v":""}]
[null,null,null,null,null,null,null,null,null,{"$f":"IF(G237=\"\",\"\",IF((G237*D237-1)>=Coeff!$B$5,Coeff!$B$3/Coeff!$B$4*(G237*D237-1)/(G237-1),0))","v":""},{"$f":"IF(I237=\"\",\"\",IF((I237*F237-1)>=Coeff!$B$5,Coeff!$B$3/Coeff!$B$4*(I237*F237-1)/(I237-1),0))","v":""}]
[null,null,null,null,null,null,null,null,null,{"$f":"IF(G238=\"\",\"\",IF((G238*D238-1)>=Coeff!$B$5,Coeff!$B$3/Coeff!$B$4*(G238*D238-1)/(G238-1),0))","v":""},{"$f":"IF(I238=\"\",\"\",IF((I238*F238-1)>=Coeff!$B$5,Coeff!$B$3/Coeff!$B$4*(I238*F238-1)/(I238-1),0))","v":""}]
[null,null,null,null,null,null,null,null,null,{"$f":"IF(G239=\"\",\"\",IF((G239*D239-1)>=Coeff!$B$5,Coeff!$B$3/Coeff!$B$4*(G239*D239-1)/(G239-1),0))","v":""},{"$f":"IF(I239=\"\",\"\",IF((I239*F239-1)>=Coeff!$B$5,Coeff!$B$3/Coeff!$B$4*(I239*F239-1)/(I239-1),0))","v":""}]
[null,null,null,null,null,null,null,null,null,{"$f":"IF(G240=\"\",\"\",IF((G240*D240-1)>=Coeff!$B$5,Coeff!$B$3/Coeff!$B$4*(G240*D240-1)/(G240-1),0))","v":""},{"$f":"IF(I240=\"\",\"\",IF((I240*F240-1)>=Coeff!$B$5,Coeff!$B$3/Coeff!$B$4*(I240*F240-1)/(I240-1),0))","v":""}]
[null,null,null,null,null,null,null,null,null,{"$f":"IF(G241=\"\",\"\",IF((G241*D241-1)>=Coeff!$B$5,Coeff!$B$3/Coeff!$B$4*(G241*D241-1)/(G241-1),0))","v":""},{"$f":"IF(I241=\"\",\"\",IF((I241*F241-1)>=Coeff!$B$5,Coeff!$B$3/Coeff!$B$4*(I241*F241-1)/(I241-1),0))","v":""}]
[null,null,null,null,null,null,null,null,null,{"$f":"IF(G242=\"\",\"\",IF((G242*D242-1)>=Coeff!$B$5,Coeff!$B$3/Coeff!$B$4*(G242*D242-1)/(G242-1),0))","v":""},{"$f":"IF(I242=\"\",\"\",IF((I242*F242-1)>=Coeff!$B$5,Coeff!$B$3/Coeff!$B$4*(I242*F242-1)/(I242-1),0))","v":""}]
[null,null,null,null,null,null,null,null,null,{"$f":"IF(G243=\"\",\"\",IF((G243*D243-1)>=Coeff!$B$5,Coeff!$B$3/Coeff!$B$4*(G243*D243-1)/(G243-1),0))","v":""},{"$f":"IF(I243=\"\",\"\",IF((I243*F243-1)>=Coeff!$B$5,Coeff!$B$3/Coeff!$B$4*(I243*F243-1)/(I243-1),0))","v":""}]
[null,null,null,null,null,null,null,null,null,{"$f":"IF(G244=\"\",\"\",IF((G244*D244-1)>=Coeff!$B$5,Coeff!$B$3/Coeff!$B$4*(G244*D244-1)/(G244-1),0))","v":""},{"$f":"IF(I244=\"\",\"\",IF((I244*F244-1)>=Coeff!$B$5,Coeff!$B$3/Coeff!$B$4*(I244*F244-1)/(I244-1),0))","v":""}]
[null,null,null,null,null,null,null,null,null,{"$f":"IF(G245=\"\",\"\",IF((G245*D245-1)>=Coeff!$B$5,Coeff!$B$3/Coeff!$B$4*(G245*D245-1)/(G245-1),0))","v":""},{"$f":"IF(I245=\"\",\"\",IF((I245*F245-1)>=Coeff!$B$5,Coeff!$B$3/Coeff!$B$4*(I245*F245-1)/(I245-1),0))","v":""}]
[null,null,null,null,null,null,null,null,null,{"$f":"IF(G246=\"\",\"\",IF((G246*D246-1)>=Coeff!$B$5,Coeff!$B$3/Coeff!$B$4*(G246*D246-1)/(G246-1),0))","v":""},{"$f":"IF(I246=\"\",\"\",IF((I246*F246-1)>=Coeff!$B$5,Coeff!$B$3/Coeff!$B$4*(I246*F246-1)/(I246-1),0))","v":""}]
[null,null,null,null,null,null,null,null,null,{"$f":"IF(G247=\"\",\"\",IF((G247*D247-1)>=Coeff!$B$5,Coeff!$B$3/Coeff!$B$4*(G247*D247-1)/(G247-1),0))","v":""},{"$f":"IF(I247=\"\",\"\",IF((I247*F247-1)>=Coeff!$B$5,Coeff!$B$3/Coeff!$B$4*(I247*F247-1)/(I247-1),0))","v":""}]
[null,null,null,null,null,null,null,null,null,{"$f":"IF(G248=\"\",\"\",IF((G248*D248-1)>=Coeff!$B$5,Coeff!$B$3/Coeff!$B$4*(G248*D248-1)/(G248-1),0))","v":""},{"$f":"IF(I248=\"\",\"\",IF((I248*F248-1)>=Coeff!$B$5,Coeff!$B$3/Coeff!$B$4*(I248*F248-1)/(I248-1),0))","v":""}]
[null,null,null,null,null,null,null,null,null,{"$f":"IF(G249=\"\",\"\",IF((G249*D249-1)>=Coeff!$B$5,Coeff!$B$3/Coeff!$B$4*(G249*D249-1)/(G249-1),0))","v":""},{"$f":"IF(I249=\"\",\"\",IF((I249*F249-1)>=Coeff!$B$5,Coeff!$B$3/Coeff!$B$4*(I249*F249-1)/(I249-1),0))","v":""}]
[null,null,null,null,null,null,null,null,null,{"$f":"IF(G250=\"\",\"\",IF((G250*D250-1)>=Coeff!$B$5,Coeff!$B$3/Coeff!$B$4*(G250*D250-1)/(G250-1),0))","v":""},{"$f":"IF(I250=\"\",\"\",IF((I250*F250-1)>=Coeff!$B$5,Coeff!$B$3/Coeff!$B$4*(I250*F250-1)/(I250-1),0))","v":""}]
[null,null,null,null,null,null,null,null,null,{"$f":"IF(G251=\"\",\"\",IF((G251*D251-1)>=Coeff!$B$5,Coeff!$B$3/Coeff!$B$4*(G251*D251-1)/(G251-1),0))","v":""},{"$f":"IF(I251=\"\",\"\",IF((I251*F251-1)>=Coeff!$B$5,Coeff!$B$3/Coeff!$B$4*(I251*F251-1)/(I251-1),0))","v":""}]
[null,null,null,null,null,null,null,null,null,{"$f":"IF(G252=\"\",\"\",IF((G252*D252-1)>=Coeff!$B$5,Coeff!$B$3/Coeff!$B$4*(G252*D252-1)/(G252-1),0))","v":""},{"$f":"IF(I252=\"\",\"\",IF((I252*F252-1)>=Coeff!$B$5,Coeff!$B$3/Coeff!$B$4*(I252*F252-1)/(I252-1),0))","v":""}]
[null,null,null,null,null,null,null,null,null,{"$f":"IF(G253=\"\",\"\",IF((G253*D253-1)>=Coeff!$B$5,Coeff!$B$3/Coeff!$B$4*(G253*D253-1)/(G253-1),0))","v":""},{"$f":"IF(I253=\"\",\"\",IF((I253*F253-1)>=Coeff!$B$5,Coeff!$B$3/Coeff!$B$4*(I253*F253-1)/(I253-1),0))","v":""}]
[null,null,null,null,null,null,null,null,null,{"$f":"IF(G254=\"\",\"\",IF((G254*D254-1)>=Coeff!$B$5,Coeff!$B$3/Coeff!$B$4*(G254*D254-1)/(G254-1),0))","v":""},{"$f":"IF(I254=\"\",\"\",IF((I254*F254-1)>=Coeff!$B$5,Coeff!$B$3/Coeff!$B$4*(I254*F254-1)/(I254-1),0))","v":""}]
[null,null,null,null,null,null,null,null,null,{"$f":"IF(G255=\"\",\"\",IF((G255*D255-1)>=Coeff!$B$5,Coeff!$B$3/Coeff!$B$4*(G255*D255-1)/(G255-1),0))","v":""},{"$f":"IF(I255=\"\",\"\",IF((I255*F255-1)>=Coeff!$B$5,Coeff!$B$3/Coeff!$B$4*(I255*F255-1)/(I255-1),0))","v":""}]
[null,null,null,null,null,null,null,null,null,{"$f":"IF(G256=\"\",\"\",IF((G256*D256-1)>=Coeff!$B$5,Coeff!$B$3/Coeff!$B$4*(G256*D256-1)/(G256-1),0))","v":""},{"$f":"IF(I256=\"\",\"\",IF((I256*F256-1)>=Coeff!$B$5,Coeff!$B$3/Coeff!$B$4*(I256*F256-1)/(I256-1),0))","v":""}]
[null,null,null,null,null,null,null,null,null,{"$f":"IF(G257=\"\",\"\",IF((G257*D257-1)>=Coeff!$B$5,Coeff!$B$3/Coeff!$B$4*(G257*D257-1)/(G257-1),0))","v":""},{"$f":"IF(I257=\"\",\"\",IF((I257*F257-1)>=Coeff!$B$5,Coeff!$B$3/Coeff!$B$4*(I257*F257-1)/(I257-1),0))","v":""}]
[null,null,null,null,null,null,null,null,null,{"$f":"IF(G258=\"\",\"\",IF((G258*D258-1)>=Coeff!$B$5,Coeff!$B$3/Coeff!$B$4*(G258*D258-1)/(G258-1),0))","v":""},{"$f":"IF(I258=\"\",\"\",IF((I258*F258-1)>=Coeff!$B$5,Coeff!$B$3/Coeff!$B$4*(I258*F258-1)/(I258-1),0))","v":""}]
[null,null,null,null,null,null,null,null,null,{"$f":"IF(G259=\"\",\"\",IF((G259*D259-1)>=Coeff!$B$5,Coeff!$B$3/Coeff!$B$4*(G259*D259-1)/(G259-1),0))","v":""},{"$f":"IF(I259=\"\",\"\",IF((I259*F259-1)>=Coeff!$B$5,Coeff!$B$3/Coeff!$B$4*(I259*F259-1)/(I259-1),0))","v":""}]
[null,null,null,null,null,null,null,null,null,{"$f":"IF(G260=\"\",\"\",IF((G260*D260-1)>=Coeff!$B$5,Coeff!$B$3/Coeff!$B$4*(G260*D260-1)/(G260-1),0))","v":""},{"$f":"IF(I260=\"\",\"\",IF((I260*F260-1)>=Coeff!$B$5,Coeff!$B$3/Coeff!$B$4*(I260*F260-1)/(I260-1),0))","v":""}]
[null,null,null,null,null,null,null,null,null,{"$f":"IF(G261=\"\",\"\",IF((G261*D261-1)>=Coeff!$B$5,Coeff!$B$3/Coeff!$B$4*(G261*D261-1)/(G261-1),0))","v":""},{"$f":"IF(I261=\"\",\"\",IF((I261*F261-1)>=Coeff!$B$5,Coeff!$B$3/Coeff!$B$4*(I261*F261-1)/(I261-1),0))","v":""}]
[null,null,null,null,null,null,null,null,null,{"$f":"IF(G262=\"\",\"\",IF((G262*D262-1)>=Coeff!$B$5,Coeff!$B$3/Coeff!$B$4*(G262*D262-1)/(G262-1),0))","v":""},{"$f":"IF(I262=\"\",\"\",IF((I262*F262-1)>=Coeff!$B$5,Coeff!$B$3/Coeff!$B$4*(I262*F262-1)/(I262-1),0))","v":""}]
[null,null,null,null,null,null,null,null,null,{"$f":"IF(G263=\"\",\"\",IF((G263*D263-1)>=Coeff!$B$5,Coeff!$B$3/Coeff!$B$4*(G263*D263-1)/(G263-1),0))","v":""},{"$f":"IF(I263=\"\",\"\",IF((I263*F263-1)>=Coeff!$B$5,Coeff!$B$3/Coeff!$B$4*(I263*F263-1)/(I263-1),0))","v":""}]
[null,null,null,null,null,null,null,null,null,{"$f":"IF(G264=\"\",\"\",IF((G264*D264-1)>=Coeff!$B$5,Coeff!$B$3/Coeff!$B$4*(G264*D264-1)/(G264-1),0))","v":""},{"$f":"IF(I264=\"\",\"\",IF((I264*F264-1)>=Coeff!$B$5,Coeff!$B$3/Coeff!$B$4*(I264*F264-1)/(I264-1),0))","v":""}]
[null,null,null,null,null,null,null,null,null,{"$f":"IF(G265=\"\",\"\",IF((G265*D265-1)>=Coeff!$B$5,Coeff!$B$3/Coeff!$B$4*(G265*D265-1)/(G265-1),0))","v":""},{"$f":"IF(I265=\"\",\"\",IF((I265*F265-1)>=Coeff!$B$5,Coeff!$B$3/Coeff!$B$4*(I265*F265-1)/(I265-1),0))","v":""}]
[null,null,null,null,null,null,null,null,null,{"$f":"IF(G266=\"\",\"\",IF((G266*D266-1)>=Coeff!$B$5,Coeff!$B$3/Coeff!$B$4*(G266*D266-1)/(G266-1),0))","v":""},{"$f":"IF(I266=\"\",\"\",IF((I266*F266-1)>=Coeff!$B$5,Coeff!$B$3/Coeff!$B$4*(I266*F266-1)/(I266-1),0))","v":""}]
[null,null,null,null,null,null,null,null,null,{"$f":"IF(G267=\"\",\"\",IF((G267*D267-1)>=Coeff!$B$5,Coeff!$B$3/Coeff!$B$4*(G267*D267-1)/(G267-1),0))","v":""},{"$f":"IF(I267=\"\",\"\",IF((I267*F267-1)>=Coeff!$B$5,Coeff!$B$3/Coeff!$B$4*(I267*F267-1)/(I267-1),0))","v":""}]
[null,null,null,null,null,null,null,null,null,{"$f":"IF(G268=\"\",\"\",IF((G268*D268-1)>=Coeff!$B$5,Coeff!$B$3/Coeff!$B$4*(G268*D268-1)/(G268-1),0))","v":""},{"$f":"IF(I268=\"\",\"\",IF((I268*F268-1)>=Coeff!$B$5,Coeff!$B$3/Coeff!$B$4*(I268*F268-1)/(I268-1),0))","v":""}]
[null,null,null,null,null,null,null,null,null,{"$f":"IF(G269=\"\",\"\",IF((G269*D269-1)>=Coeff!$B$5,Coeff!$B$3/Coeff!$B$4*(G269*D269-1)/(G269-1),0))","v":""},{"$f":"IF(I269=\"\",\"\",IF((I269*F269-1)>=Coeff!$B$5,Coeff!$B$3/Coeff!$B$4*(I269*F269-1)/(I269-1),0))","v":""}]
[null,null,null,null,null,null,null,null,null,{"$f":"IF(G270=\"\",\"\",IF((G270*D270-1)>=Coeff!$B$5,Coeff!$B$3/Coeff!$B$4*(G270*D270-1)/(G270-1),0))","v":""},{"$f":"IF(I270=\"\",\"\",IF((I270*F270-1)>=Coeff!$B$5,Coeff!$B$3/Coeff!$B$4*(I270*F270-1)/(I270-1),0))","v":""}]
[null,null,null,null,null,null,null,null,null,{"$f":"IF(G271=\"\",\"\",IF((G271*D271-1)>=Coeff!$B$5,Coeff!$B$3/Coeff!$B$4*(G271*D271-1)/(G271-1),0))","v":""},{"$f":"IF(I271=\"\",\"\",IF((I271*F271-1)>=Coeff!$B$5,Coeff!$B$3/Coeff!$B$4*(I271*F271-1)/(I271-1),0))","v":""}]
[null,null,null,null,null,null,null,null,null,{"$f":"IF(G272=\"\",\"\",IF((G272*D272-1)>=Coeff!$B$5,Coeff!$B$3/Coeff!$B$4*(G272*D272-1)/(G272-1),0))","v":""},{"$f":"IF(I272=\"\",\"\",IF((I272*F272-1)>=Coeff!$B$5,Coeff!$B$3/Coeff!$B$4*(I272*F272-1)/(I272-1),0))","v":""}]
[null,null,null,null,null,null,null,null,null,{"$f":"IF(G273=\"\",\"\",IF((G273*D273-1)>=Coeff!$B$5,Coeff!$B$3/Coeff!$B$4*(G273*D273-1)/(G273-1),0))","v":""},{"$f":"IF(I273=\"\",\"\",IF((I273*F273-1)>=Coeff!$B$5,Coeff!$B$3/Coeff!$B$4*(I273*F273-1)/(I273-1),0))","v":""}]
[null,null,null,null,null,null,null,null,null,{"$f":"IF(G274=\"\",\"\",IF((G274*D274-1)>=Coeff!$B$5,Coeff!$B$3/Coeff!$B$4*(G274*D274-1)/(G274-1),0))","v":""},{"$f":"IF(I274=\"\",\"\",IF((I274*F274-1)>=Coeff!$B$5,Coeff!$B$3/Coeff!$B$4*(I274*F274-1)/(I274-1),0))","v":""}]
[null,null,null,null,null,null,null,null,null,{"$f":"IF(G275=\"\",\"\",IF((G275*D275-1)>=Coeff!$B$5,Coeff!$B$3/Coeff!$B$4*(G275*D275-1)/(G275-1),0))","v":""},{"$f":"IF(I275=\"\",\"\",IF((I275*F275-1)>=Coeff!$B$5,Coeff!$B$3/Coeff!$B$4*(I275*F275-1)/(I275-1),0))","v":""}]
[null,null,null,null,null,null,null,null,null,{"$f":"IF(G276=\"\",\"\",IF((G276*D276-1)>=Coeff!$B$5,Coeff!$B$3/Coeff!$B$4*(G276*D276-1)/(G276-1),0))","v":""},{"$f":"IF(I276=\"\",\"\",IF((I276*F276-1)>=Coeff!$B$5,Coeff!$B$3/Coeff!$B$4*(I276*F276-1)/(I276-1),0))","v":""}]
[null,null,null,null,null,null,null,null,null,{"$f":"IF(G277=\"\",\"\",IF((G277*D277-1)>=Coeff!$B$5,Coeff!$B$3/Coeff!$B$4*(G277*D277-1)/(G277-1),0))","v":""},{"$f":"IF(I277=\"\",\"\",IF((I277*F277-1)>=Coeff!$B$5,Coeff!$B$3/Coeff!$B$4*(I277*F277-1)/(I277-1),0))","v":""}]
[null,null,null,null,null,null,null,null,null,{"$f":"IF(G278=\"\",\"\",IF((G278*D278-1)>=Coeff!$B$5,Coeff!$B$3/Coeff!$B$4*(G278*D278-1)/(G278-1),0))","v":""},{"$f":"IF(I278=\"\",\"\",IF((I278*F278-1)>=Coeff!$B$5,Coeff!$B$3/Coeff!$B$4*(I278*F278-1)/(I278-1),0))","v":""}]
[null,null,null,null,null,null,null,null,null,{"$f":"IF(G279=\"\",\"\",IF((G279*D279-1)>=Coeff!$B$5,Coeff!$B$3/Coeff!$B$4*(G279*D279-1)/(G279-1),0))","v":""},{"$f":"IF(I279=\"\",\"\",IF((I279*F279-1)>=Coeff!$B$5,Coeff!$B$3/Coeff!$B$4*(I279*F279-1)/(I279-1),0))","v":""}]
[null,null,null,null,null,null,null,null,null,{"$f":"IF(G280=\"\",\"\",IF((G280*D280-1)>=Coeff!$B$5,Coeff!$B$3/Coeff!$B$4*(G280*D280-1)/(G280-1),0))","v":""},{"$f":"IF(I280=\"\",\"\",IF((I280*F280-1)>=Coeff!$B$5,Coeff!$B$3/Coeff!$B$4*(I280*F280-1)/(I280-1),0))","v":""}]
[null,null,null,null,null,null,null,null,null,{"$f":"IF(G281=\"\",\"\",IF((G281*D281-1)>=Coeff!$B$5,Coeff!$B$3/Coeff!$B$4*(G281*D281-1)/(G281-1),0))","v":""},{"$f":"IF(I281=\"\",\"\",IF((I281*F281-1)>=Coeff!$B$5,Coeff!$B$3/Coeff!$B$4*(I281*F281-1)/(I281-1),0))","v":""}]
[null,null,null,null,null,null,null,null,null,{"$f":"IF(G282=\"\",\"\",IF((G282*D282-1)>=Coeff!$B$5,Coeff!$B$3/Coeff!$B$4*(G282*D282-1)/(G282-1),0))","v":""},{"$f":"IF(I282=\"\",\"\",IF((I282*F282-1)>=Coeff!$B$5,Coeff!$B$3/Coeff!$B$4*(I282*F282-1)/(I282-1),0))","v":""}]
[null,null,null,null,null,null,null,null,null,{"$f":"IF(G283=\"\",\"\",IF((G283*D283-1)>=Coeff!$B$5,Coeff!$B$3/Coeff!$B$4*(G283*D283-1)/(G283-1),0))","v":""},{"$f":"IF(I283=\"\",\"\",IF((I283*F283-1)>=Coeff!$B$5,Coeff!$B$3/Coeff!$B$4*(I283*F283-1)/(I283-1),0))","v":""}]
[null,null,null,null,null,null,null,null,null,{"$f":"IF(G284=\"\",\"\",IF((G284*D284-1)>=Coeff!$B$5,Coeff!$B$3/Coeff!$B$4*(G284*D284-1)/(G284-1),0))","v":""},{"$f":"IF(I284=\"\",\"\",IF((I284*F284-1)>=Coeff!$B$5,Coeff!$B$3/Coeff!$B$4*(I284*F284-1)/(I284-1),0))","v":""}]
[null,null,null,null,null,null,null,null,null,{"$f":"IF(G285=\"\",\"\",IF((G285*D285-1)>=Coeff!$B$5,Coeff!$B$3/Coeff!$B$4*(G285*D285-1)/(G285-1),0))","v":""},{"$f":"IF(I285=\"\",\"\",IF((I285*F285-1)>=Coeff!$B$5,Coeff!$B$3/Coeff!$B$4*(I285*F285-1)/(I285-1),0))","v":""}]
[null,null,null,null,null,null,null,null,null,{"$f":"IF(G286=\"\",\"\",IF((G286*D286-1)>=Coeff!$B$5,Coeff!$B$3/Coeff!$B$4*(G286*D286-1)/(G286-1),0))","v":""},{"$f":"IF(I286=\"\",\"\",IF((I286*F286-1)>=Coeff!$B$5,Coeff!$B$3/Coeff!$B$4*(I286*F286-1)/(I286-1),0))","v":""}]
[null,null,null,null,null,null,null,null,null,{"$f":"IF(G287=\"\",\"\",IF((G287*D287-1)>=Coeff!$B$5,Coeff!$B$3/Coeff!$B$4*(G287*D287-1)/(G287-1),0))","v":""},{"$f":"IF(I287=\"\",\"\",IF((I287*F287-1)>=Coeff!$B$5,Coeff!$B$3/Coeff!$B$4*(I287*F287-1)/(I287-1),0))","v":""}]
[null,null,null,null,null,null,null,null,null,{"$f":"IF(G288=\"\",\"\",IF((G288*D288-1)>=Coeff!$B$5,Coeff!$B$3/Coeff!$B$4*(G288*D288-1)/(G288-1),0))","v":""},{"$f":"IF(I288=\"\",\"\",IF((I288*F288-1)>=Coeff!$B$5,Coeff!$B$3/Coeff!$B$4*(I288*F288-1)/(I288-1),0))","v":""}]
[null,null,null,null,null,null,null,null,null,{"$f":"IF(G289=\"\",\"\",IF((G289*D289-1)>=Coeff!$B$5,Coeff!$B$3/Coeff!$B$4*(G289*D289-1)/(G289-1),0))","v":""},{"$f":"IF(I289=\"\",\"\",IF((I289*F289-1)>=Coeff!$B$5,Coeff!$B$3/Coeff!$B$4*(I289*F289-1)/(I289-1),0))","v":""}]
[null,null,null,null,null,null,null,null,null,{"$f":"IF(G290=\"\",\"\",IF((G290*D290-1)>=Coeff!$B$5,Coeff!$B$3/Coeff!$B$4*(G290*D290-1)/(G290-1),0))","v":""},{"$f":"IF(I290=\"\",\"\",IF((I290*F290-1)>=Coeff!$B$5,Coeff!$B$3/Coeff!$B$4*(I290*F290-1)/(I290-1),0))","v":""}]
[null,null,null,null,null,null,null,null,null,{"$f":"IF(G291=\"\",\"\",IF((G291*D291-1)>=Coeff!$B$5,Coeff!$B$3/Coeff!$B$4*(G291*D291-1)/(G291-1),0))","v":""},{"$f":"IF(I291=\"\",\"\",IF((I291*F291-1)>=Coeff!$B$5,Coeff!$B$3/Coeff!$B$4*(I291*F291-1)/(I291-1),0))","v":""}]
[null,null,null,null,null,null,null,null,null,{"$f":"IF(G292=\"\",\"\",IF((G292*D292-1)>=Coeff!$B$5,Coeff!$B$3/Coeff!$B$4*(G292*D292-1)/(G292-1),0))","v":""},{"$f":"IF(I292=\"\",\"\",IF((I292*F292-1)>=Coeff!$B$5,Coeff!$B$3/Coeff!$B$4*(I292*F292-1)/(I292-1),0))","v":""}]
[null,null,null,null,null,null,null,null,null,{"$f":"IF(G293=\"\",\"\",IF((G293*D293-1)>=Coeff!$B$5,Coeff!$B$3/Coeff!$B$4*(G293*D293-1)/(G293-1),0))","v":""},{"$f":"IF(I293=\"\",\"\",IF((I293*F293-1)>=Coeff!$B$5,Coeff!$B$3/Coeff!$B$4*(I293*F293-1)/(I293-1),0))","v":""}]
[null,null,null,null,null,null,null,null,null,{"$f":"IF(G294=\"\",\"\",IF((G294*D294-1)>=Coeff!$B$5,Coeff!$B$3/Coeff!$B$4*(G294*D294-1)/(G294-1),0))","v":""},{"$f":"IF(I294=\"\",\"\",IF((I294*F294-1)>=Coeff!$B$5,Coeff!$B$3/Coeff!$B$4*(I294*F294-1)/(I294-1),0))","v":""}]
[null,null,null,null,null,null,null,null,null,{"$f":"IF(G295=\"\",\"\",IF((G295*D295-1)>=Coeff!$B$5,Coeff!$B$3/Coeff!$B$4*(G295*D295-1)/(G295-1),0))","v":""},{"$f":"IF(I295=\"\",\"\",IF((I295*F295-1)>=Coeff!$B$5,Coeff!$B$3/Coeff!$B$4*(I295*F295-1)/(I295-1),0))","v":""}]
[null,null,null,null,null,null,null,null,null,{"$f":"IF(G296=\"\",\"\",IF((G296*D296-1)>=Coeff!$B$5,Coeff!$B$3/Coeff!$B$4*(G296*D296-1)/(G296-1),0))","v":""},{"$f":"IF(I296=\"\",\"\",IF((I296*F296-1)>=Coeff!$B$5,Coeff!$B$3/Coeff!$B$4*(I296*F296-1)/(I296-1),0))","v":""}]
[null,null,null,null,null,null,null,null,null,{"$f":"IF(G297=\"\",\"\",IF((G297*D297-1)>=Coeff!$B$5,Coeff!$B$3/Coeff!$B$4*(G297*D297-1)/(G297-1),0))","v":""},{"$f":"IF(I297=\"\",\"\",IF((I297*F297-1)>=Coeff!$B$5,Coeff!$B$3/Coeff!$B$4*(I297*F297-1)/(I297-1),0))","v":""}]
[null,null,null,null,null,null,null,null,null,{"$f":"IF(G298=\"\",\"\",IF((G298*D298-1)>=Coeff!$B$5,Coeff!$B$3/Coeff!$B$4*(G298*D298-1)/(G298-1),0))","v":""},{"$f":"IF(I298=\"\",\"\",IF((I298*F298-1)>=Coeff!$B$5,Coeff!$B$3/Coeff!$B$4*(I298*F298-1)/(I298-1),0))","v":""}]
[null,null,null,null,null,null,null,null,null,{"$f":"IF(G299=\"\",\"\",IF((G299*D299-1)>=Coeff!$B$5,Coeff!$B$3/Coeff!$B$4*(G299*D299-1)/(G299-1),0))","v":""},{"$f":"IF(I299=\"\",\"\",IF((I299*F299-1)>=Coeff!$B$5,Coeff!$B$3/Coeff!$B$4*(I299*F299-1)/(I299-1),0))","v":""}]
[null,null,null,null,null,null,null,null,null,{"$f":"IF(G300=\"\",\"\",IF((G300*D300-1)>=Coeff!$B$5,Coeff!$B$3/Coeff!$B$4*(G300*D300-1)/(G300-1),0))","v":""},{"$f":"IF(I300=\"\",\"\",IF((I300*F300-1)>=Coeff!$B$5,Coeff!$B$3/Coeff!$B$4*(I300*F300-1)/(I300-1),0))","v":""}]
[null,null,null,null,null,null,null,null,null,{"$f":"IF(G301=\"\",\"\",IF((G301*D301-1)>=Coeff!$B$5,Coeff!$B$3/Coeff!$B$4*(G301*D301-1)/(G301-1),0))","v":""},{"$f":"IF(I301=\"\",\"\",IF((I301*F301-1)>=Coeff!$B$5,Coeff!$B$3/Coeff!$B$4*(I301*F301-1)/(I301-1),0))","v":""}]
[null,null,null,null,null,null,null,null,null,{"$f":"IF(G302=\"\",\"\",IF((G302*D302-1)>=Coeff!$B$5,Coeff!$B$3/Coeff!$B$4*(G302*D302-1)/(G302-1),0))","v":""},{"$f":"IF(I302=\"\",\"\",IF((I302*F302-1)>=Coeff!$B$5,Coeff!$B$3/Coeff!$B$4*(I302*F302-1)/(I302-1),0))","v":""}]
[null,null,null,null,null,null,null,null,null,{"$f":"IF(G303=\"\",\"\",IF((G303*D303-1)>=Coeff!$B$5,Coeff!$B$3/Coeff!$B$4*(G303*D303-1)/(G303-1),0))","v":""},{"$f":"IF(I303=\"\",\"\",IF((I303*F303-1)>=Coeff!$B$5,Coeff!$B$3/Coeff!$B$4*(I303*F303-1)/(I303-1),0))","v":""}]
[null,null,null,null,null,null,null,null,null,{"$f":"IF(G304=\"\",\"\",IF((G304*D304-1)>=Coeff!$B$5,Coeff!$B$3/Coeff!$B$4*(G304*D304-1)/(G304-1),0))","v":""},{"$f":"IF(I304=\"\",\"\",IF((I304*F304-1)>=Coeff!$B$5,Coeff!$B$3/Coeff!$B$4*(I304*F304-1)/(I304-1),0))","v":""}]
[null,null,null,null,null,null,null,null,null,{"$f":"IF(G305=\"\",\"\",IF((G305*D305-1)>=Coeff!$B$5,Coeff!$B$3/Coeff!$B$4*(G305*D305-1)/(G305-1),0))","v":""},{"$f":"IF(I305=\"\",\"\",IF((I305*F305-1)>=Coeff!$B$5,Coeff!$B$3/Coeff!$B$4*(I305*F305-1)/(I305-1),0))","v":""}]
[null,null,null,null,null,null,null,null,null,{"$f":"IF(G306=\"\",\"\",IF((G306*D306-1)>=Coeff!$B$5,Coeff!$B$3/Coeff!$B$4*(G306*D306-1)/(G306-1),0))","v":""},{"$f":"IF(I306=\"\",\"\",IF((I306*F306-1)>=Coeff!$B$5,Coeff!$B$3/Coeff!$B$4*(I306*F306-1)/(I306-1),0))","v":""}]
[null,null,null,null,null,null,null,null,null,{"$f":"IF(G307=\"\",\"\",IF((G307*D307-1)>=Coeff!$B$5,Coeff!$B$3/Coeff!$B$4*(G307*D307-1)/(G307-1),0))","v":""},{"$f":"IF(I307=\"\",\"\",IF((I307*F307-1)>=Coeff!$B$5,Coeff!$B$3/Coeff!$B$4*(I307*F307-1)/(I307-1),0))","v":""}]
[null,null,null,null,null,null,null,null,null,{"$f":"IF(G308=\"\",\"\",IF((G308*D308-1)>=Coeff!$B$5,Coeff!$B$3/Coeff!$B$4*(G308*D308-1)/(G308-1),0))","v":""},{"$f":"IF(I308=\"\",\"\",IF((I308*F308-1)>=Coeff!$B$5,Coeff!$B$3/Coeff!$B$4*(I308*F308-1)/(I308-1),0))","v":""}]
[null,null,null,null,null,null,null,null,null,{"$f":"IF(G309=\"\",\"\",IF((G309*D309-1)>=Coeff!$B$5,Coeff!$B$3/Coeff!$B$4*(G309*D309-1)/(G309-1),0))","v":""},{"$f":"IF(I309=\"\",\"\",IF((I309*F309-1)>=Coeff!$B$5,Coeff!$B$3/Coeff!$B$4*(I309*F309-1)/(I309-1),0))","v":""}]
[null,null,null,null,null,null,null,null,null,{"$f":"IF(G310=\"\",\"\",IF((G310*D310-1)>=Coeff!$B$5,Coeff!$B$3/Coeff!$B$4*(G310*D310-1)/(G310-1),0))","v":""},{"$f":"IF(I310=\"\",\"\",IF((I310*F310-1)>=Coeff!$B$5,Coeff!$B$3/Coeff!$B$4*(I310*F310-1)/(I310-1),0))","v":""}]
[null,null,null,null,null,null,null,null,null,{"$f":"IF(G311=\"\",\"\",IF((G311*D311-1)>=Coeff!$B$5,Coeff!$B$3/Coeff!$B$4*(G311*D311-1)/(G311-1),0))","v":""},{"$f":"IF(I311=\"\",\"\",IF((I311*F311-1)>=Coeff!$B$5,Coeff!$B$3/Coeff!$B$4*(I311*F311-1)/(I311-1),0))","v":""}]
[null,null,null,null,null,null,null,null,null,{"$f":"IF(G312=\"\",\"\",IF((G312*D312-1)>=Coeff!$B$5,Coeff!$B$3/Coeff!$B$4*(G312*D312-1)/(G312-1),0))","v":""},{"$f":"IF(I312=\"\",\"\",IF((I312*F312-1)>=Coeff!$B$5,Coeff!$B$3/Coeff!$B$4*(I312*F312-1)/(I312-1),0))","v":""}]
[null,null,null,null,null,null,null,null,null,{"$f":"IF(G313=\"\",\"\",IF((G313*D313-1)>=Coeff!$B$5,Coeff!$B$3/Coeff!$B$4*(G313*D313-1)/(G313-1),0))","v":""},{"$f":"IF(I313=\"\",\"\",IF((I313*F313-1)>=Coeff!$B$5,Coeff!$B$3/Coeff!$B$4*(I313*F313-1)/(I313-1),0))","v":""}]
[null,null,null,null,null,null,null,null,null,{"$f":"IF(G314=\"\",\"\",IF((G314*D314-1)>=Coeff!$B$5,Coeff!$B$3/Coeff!$B$4*(G314*D314-1)/(G314-1),0))","v":""},{"$f":"IF(I314=\"\",\"\",IF((I314*F314-1)>=Coeff!$B$5,Coeff!$B$3/Coeff!$B$4*(I314*F314-1)/(I314-1),0))","v":""}]
[null,null,null,null,null,null,null,null,null,{"$f":"IF(G315=\"\",\"\",IF((G315*D315-1)>=Coeff!$B$5,Coeff!$B$3/Coeff!$B$4*(G315*D315-1)/(G315-1),0))","v":""},{"$f":"IF(I315=\"\",\"\",IF((I315*F315-1)>=Coeff!$B$5,Coeff!$B$3/Coeff!$B$4*(I315*F315-1)/(I315-1),0))","v":""}]
[null,null,null,null,null,null,null,null,null,{"$f":"IF(G316=\"\",\"\",IF((G316*D316-1)>=Coeff!$B$5,Coeff!$B$3/Coeff!$B$4*(G316*D316-1)/(G316-1),0))","v":""},{"$f":"IF(I316=\"\",\"\",IF((I316*F316-1)>=Coeff!$B$5,Coeff!$B$3/Coeff!$B$4*(I316*F316-1)/(I316-1),0))","v":""}]
[null,null,null,null,null,null,null,null,null,{"$f":"IF(G317=\"\",\"\",IF((G317*D317-1)>=Coeff!$B$5,Coeff!$B$3/Coeff!$B$4*(G317*D317-1)/(G317-1),0))","v":""},{"$f":"IF(I317=\"\",\"\",IF((I317*F317-1)>=Coeff!$B$5,Coeff!$B$3/Coeff!$B$4*(I317*F317-1)/(I317-1),0))","v":""}]
[null,null,null,null,null,null,null,null,null,{"$f":"IF(G318=\"\",\"\",IF((G318*D318-1)>=Coeff!$B$5,Coeff!$B$3/Coeff!$B$4*(G318*D318-1)/(G318-1),0))","v":""},{"$f":"IF(I318=\"\",\"\",IF((I318*F318-1)>=Coeff!$B$5,Coeff!$B$3/Coeff!$B$4*(I318*F318-1)/(I318-1),0))","v":""}]
[null,null,null,null,null,null,null,null,null,{"$f":"IF(G319=\"\",\"\",IF((G319*D319-1)>=Coeff!$B$5,Coeff!$B$3/Coeff!$B$4*(G319*D319-1)/(G319-1),0))","v":""},{"$f":"IF(I319=\"\",\"\",IF((I319*F319-1)>=Coeff!$B$5,Coeff!$B$3/Coeff!$B$4*(I319*F319-1)/(I319-1),0))","v":""}]
[null,null,null,null,null,null,null,null,null,{"$f":"IF(G320=\"\",\"\",IF((G320*D320-1)>=Coeff!$B$5,Coeff!$B$3/Coeff!$B$4*(G320*D320-1)/(G320-1),0))","v":""},{"$f":"IF(I320=\"\",\"\",IF((I320*F320-1)>=Coeff!$B$5,Coeff!$B$3/Coeff!$B$4*(I320*F320-1)/(I320-1),0))","v":""}]
[null,null,null,null,null,null,null,null,null,{"$f":"IF(G321=\"\",\"\",IF((G321*D321-1)>=Coeff!$B$5,Coeff!$B$3/Coeff!$B$4*(G321*D321-1)/(G321-1),0))","v":""},{"$f":"IF(I321=\"\",\"\",IF((I321*F321-1)>=Coeff!$B$5,Coeff!$B$3/Coeff!$B$4*(I321*F321-1)/(I321-1),0))","v":""}]
[null,null,null,null,null,null,null,null,null,{"$f":"IF(G322=\"\",\"\",IF((G322*D322-1)>=Coeff!$B$5,Coeff!$B$3/Coeff!$B$4*(G322*D322-1)/(G322-1),0))","v":""},{"$f":"IF(I322=\"\",\"\",IF((I322*F322-1)>=Coeff!$B$5,Coeff!$B$3/Coeff!$B$4*(I322*F322-1)/(I322-1),0))","v":""}]
[null,null,null,null,null,null,null,null,null,{"$f":"IF(G323=\"\",\"\",IF((G323*D323-1)>=Coeff!$B$5,Coeff!$B$3/Coeff!$B$4*(G323*D323-1)/(G323-1),0))","v":""},{"$f":"IF(I323=\"\",\"\",IF((I323*F323-1)>=Coeff!$B$5,Coeff!$B$3/Coeff!$B$4*(I323*F323-1)/(I323-1),0))","v":""}]
[null,null,null,null,null,null,null,null,null,{"$f":"IF(G324=\"\",\"\",IF((G324*D324-1)>=Coeff!$B$5,Coeff!$B$3/Coeff!$B$4*(G324*D324-1)/(G324-1),0))","v":""},{"$f":"IF(I324=\"\",\"\",IF((I324*F324-1)>=Coeff!$B$5,Coeff!$B$3/Coeff!$B$4*(I324*F324-1)/(I324-1),0))","v":""}]
[null,null,null,null,null,null,null,null,null,{"$f":"IF(G325=\"\",\"\",IF((G325*D325-1)>=Coeff!$B$5,Coeff!$B$3/Coeff!$B$4*(G325*D325-1)/(G325-1),0))","v":""},{"$f":"IF(I325=\"\",\"\",IF((I325*F325-1)>=Coeff!$B$5,Coeff!$B$3/Coeff!$B$4*(I325*F325-1)/(I325-1),0))","v":""}]
[null,null,null,null,null,null,null,null,null,{"$f":"IF(G326=\"\",\"\",IF((G326*D326-1)>=Coeff!$B$5,Coeff!$B$3/Coeff!$B$4*(G326*D326-1)/(G326-1),0))","v":""},{"$f":"IF(I326=\"\",\"\",IF((I326*F326-1)>=Coeff!$B$5,Coeff!$B$3/Coeff!$B$4*(I326*F326-1)/(I326-1),0))","v":""}]
[null,null,null,null,null,null,null,null,null,{"$f":"IF(G327=\"\",\"\",IF((G327*D327-1)>=Coeff!$B$5,Coeff!$B$3/Coeff!$B$4*(G327*D327-1)/(G327-1),0))","v":""},{"$f":"IF(I327=\"\",\"\",IF((I327*F327-1)>=Coeff!$B$5,Coeff!$B$3/Coeff!$B$4*(I327*F327-1)/(I327-1),0))","v":""}]
[null,null,null,null,null,null,null,null,null,{"$f":"IF(G328=\"\",\"\",IF((G328*D328-1)>=Coeff!$B$5,Coeff!$B$3/Coeff!$B$4*(G328*D328-1)/(G328-1),0))","v":""},{"$f":"IF(I328=\"\",\"\",IF((I328*F328-1)>=Coeff!$B$5,Coeff!$B$3/Coeff!$B$4*(I328*F328-1)/(I328-1),0))","v":""}]
[null,null,null,null,null,null,null,null,null,{"$f":"IF(G329=\"\",\"\",IF((G329*D329-1)>=Coeff!$B$5,Coeff!$B$3/Coeff!$B$4*(G329*D329-1)/(G329-1),0))","v":""},{"$f":"IF(I329=\"\",\"\",IF((I329*F329-1)>=Coeff!$B$5,Coeff!$B$3/Coeff!$B$4*(I329*F329-1)/(I329-1),0))","v":""}]
[null,null,null,null,null,null,null,null,null,{"$f":"IF(G330=\"\",\"\",IF((G330*D330-1)>=Coeff!$B$5,Coeff!$B$3/Coeff!$B$4*(G330*D330-1)/(G330-1),0))","v":""},{"$f":"IF(I330=\"\",\"\",IF((I330*F330-1)>=Coeff!$B$5,Coeff!$B$3/Coeff!$B$4*(I330*F330-1)/(I330-1),0))","v":""}]
[null,null,null,null,null,null,null,null,null,{"$f":"IF(G331=\"\",\"\",IF((G331*D331-1)>=Coeff!$B$5,Coeff!$B$3/Coeff!$B$4*(G331*D331-1)/(G331-1),0))","v":""},{"$f":"IF(I331=\"\",\"\",IF((I331*F331-1)>=Coeff!$B$5,Coeff!$B$3/Coeff!$B$4*(I331*F331-1)/(I331-1),0))","v":""}]
[null,null,null,null,null,null,null,null,null,{"$f":"IF(G332=\"\",\"\",IF((G332*D332-1)>=Coeff!$B$5,Coeff!$B$3/Coeff!$B$4*(G332*D332-1)/(G332-1),0))","v":""},{"$f":"IF(I332=\"\",\"\",IF((I332*F332-1)>=Coeff!$B$5,Coeff!$B$3/Coeff!$B$4*(I332*F332-1)/(I332-1),0))","v":""}]
[null,null,null,null,null,null,null,null,null,{"$f":"IF(G333=\"\",\"\",IF((G333*D333-1)>=Coeff!$B$5,Coeff!$B$3/Coeff!$B$4*(G333*D333-1)/(G333-1),0))","v":""},{"$f":"IF(I333=\"\",\"\",IF((I333*F333-1)>=Coeff!$B$5,Coeff!$B$3/Coeff!$B$4*(I333*F333-1)/(I333-1),0))","v":""}]
[null,null,null,null,null,null,null,null,null,{"$f":"IF(G334=\"\",\"\",IF((G334*D334-1)>=Coeff!$B$5,Coeff!$B$3/Coeff!$B$4*(G334*D334-1)/(G334-1),0))","v":""},{"$f":"IF(I334=\"\",\"\",IF((I334*F334-1)>=Coeff!$B$5,Coeff!$B$3/Coeff!$B$4*(I334*F334-1)/(I334-1),0))","v":""}]
[null,null,null,null,null,null,null,null,null,{"$f":"IF(G335=\"\",\"\",IF((G335*D335-1)>=Coeff!$B$5,Coeff!$B$3/Coeff!$B$4*(G335*D335-1)/(G335-1),0))","v":""},{"$f":"IF(I335=\"\",\"\",IF((I335*F335-1)>=Coeff!$B$5,Coeff!$B$3/Coeff!$B$4*(I335*F335-1)/(I335-1),0))","v":""}]
[null,null,null,null,null,null,null,null,null,{"$f":"IF(G336=\"\",\"\",IF((G336*D336-1)>=Coeff!$B$5,Coeff!$B$3/Coeff!$B$4*(G336*D336-1)/(G336-1),0))","v":""},{"$f":"IF(I336=\"\",\"\",IF((I336*F336-1)>=Coeff!$B$5,Coeff!$B$3/Coeff!$B$4*(I336*F336-1)/(I336-1),0))","v":""}]
[null,null,null,null,null,null,null,null,null,{"$f":"IF(G337=\"\",\"\",IF((G337*D337-1)>=Coeff!$B$5,Coeff!$B$3/Coeff!$B$4*(G337*D337-1)/(G337-1),0))","v":""},{"$f":"IF(I337=\"\",\"\",IF((I337*F337-1)>=Coeff!$B$5,Coeff!$B$3/Coeff!$B$4*(I337*F337-1)/(I337-1),0))","v":""}]
[null,null,null,null,null,null,null,null,null,{"$f":"IF(G338=\"\",\"\",IF((G338*D338-1)>=Coeff!$B$5,Coeff!$B$3/Coeff!$B$4*(G338*D338-1)/(G338-1),0))","v":""},{"$f":"IF(I338=\"\",\"\",IF((I338*F338-1)>=Coeff!$B$5,Coeff!$B$3/Coeff!$B$4*(I338*F338-1)/(I338-1),0))","v":""}]
[null,null,null,null,null,null,null,null,null,{"$f":"IF(G339=\"\",\"\",IF((G339*D339-1)>=Coeff!$B$5,Coeff!$B$3/Coeff!$B$4*(G339*D339-1)/(G339-1),0))","v":""},{"$f":"IF(I339=\"\",\"\",IF((I339*F339-1)>=Coeff!$B$5,Coeff!$B$3/Coeff!$B$4*(I339*F339-1)/(I339-1),0))","v":""}]
[null,null,null,null,null,null,null,null,null,{"$f":"IF(G340=\"\",\"\",IF((G340*D340-1)>=Coeff!$B$5,Coeff!$B$3/Coeff!$B$4*(G340*D340-1)/(G340-1),0))","v":""},{"$f":"IF(I340=\"\",\"\",IF((I340*F340-1)>=Coeff!$B$5,Coeff!$B$3/Coeff!$B$4*(I340*F340-1)/(I340-1),0))","v":""}]
[null,null,null,null,null,null,null,null,null,{"$f":"IF(G341=\"\",\"\",IF((G341*D341-1)>=Coeff!$B$5,Coeff!$B$3/Coeff!$B$4*(G341*D341-1)/(G341-1),0))","v":""},{"$f":"IF(I341=\"\",\"\",IF((I341*F341-1)>=Coeff!$B$5,Coeff!$B$3/Coeff!$B$4*(I341*F341-1)/(I341-1),0))","v":""}]
[null,null,null,null,null,null,null,null,null,{"$f":"IF(G342=\"\",\"\",IF((G342*D342-1)>=Coeff!$B$5,Coeff!$B$3/Coeff!$B$4*(G342*D342-1)/(G342-1),0))","v":""},{"$f":"IF(I342=\"\",\"\",IF((I342*F342-1)>=Coeff!$B$5,Coeff!$B$3/Coeff!$B$4*(I342*F342-1)/(I342-1),0))","v":""}]
[null,null,null,null,null,null,null,null,null,{"$f":"IF(G343=\"\",\"\",IF((G343*D343-1)>=Coeff!$B$5,Coeff!$B$3/Coeff!$B$4*(G343*D343-1)/(G343-1),0))","v":""},{"$f":"IF(I343=\"\",\"\",IF((I343*F343-1)>=Coeff!$B$5,Coeff!$B$3/Coeff!$B$4*(I343*F343-1)/(I343-1),0))","v":""}]
[null,null,null,null,null,null,null,null,null,{"$f":"IF(G344=\"\",\"\",IF((G344*D344-1)>=Coeff!$B$5,Coeff!$B$3/Coeff!$B$4*(G344*D344-1)/(G344-1),0))","v":""},{"$f":"IF(I344=\"\",\"\",IF((I344*F344-1)>=Coeff!$B$5,Coeff!$B$3/Coeff!$B$4*(I344*F344-1)/(I344-1),0))","v":""}]
[null,null,null,null,null,null,null,null,null,{"$f":"IF(G345=\"\",\"\",IF((G345*D345-1)>=Coeff!$B$5,Coeff!$B$3/Coeff!$B$4*(G345*D345-1)/(G345-1),0))","v":""},{"$f":"IF(I345=\"\",\"\",IF((I345*F345-1)>=Coeff!$B$5,Coeff!$B$3/Coeff!$B$4*(I345*F345-1)/(I345-1),0))","v":""}]
[null,null,null,null,null,null,null,null,null,{"$f":"IF(G346=\"\",\"\",IF((G346*D346-1)>=Coeff!$B$5,Coeff!$B$3/Coeff!$B$4*(G346*D346-1)/(G346-1),0))","v":""},{"$f":"IF(I346=\"\",\"\",IF((I346*F346-1)>=Coeff!$B$5,Coeff!$B$3/Coeff!$B$4*(I346*F346-1)/(I346-1),0))","v":""}]
[null,null,null,null,null,null,null,null,null,{"$f":"IF(G347=\"\",\"\",IF((G347*D347-1)>=Coeff!$B$5,Coeff!$B$3/Coeff!$B$4*(G347*D347-1)/(G347-1),0))","v":""},{"$f":"IF(I347=\"\",\"\",IF((I347*F347-1)>=Coeff!$B$5,Coeff!$B$3/Coeff!$B$4*(I347*F347-1)/(I347-1),0))","v":""}]
[null,null,null,null,null,null,null,null,null,{"$f":"IF(G348=\"\",\"\",IF((G348*D348-1)>=Coeff!$B$5,Coeff!$B$3/Coeff!$B$4*(G348*D348-1)/(G348-1),0))","v":""},{"$f":"IF(I348=\"\",\"\",IF((I348*F348-1)>=Coeff!$B$5,Coeff!$B$3/Coeff!$B$4*(I348*F348-1)/(I348-1),0))","v":""}]
[null,null,null,null,null,null,null,null,null,{"$f":"IF(G349=\"\",\"\",IF((G349*D349-1)>=Coeff!$B$5,Coeff!$B$3/Coeff!$B$4*(G349*D349-1)/(G349-1),0))","v":""},{"$f":"IF(I349=\"\",\"\",IF((I349*F349-1)>=Coeff!$B$5,Coeff!$B$3/Coeff!$B$4*(I349*F349-1)/(I349-1),0))","v":""}]
[null,null,null,null,null,null,null,null,null,{"$f":"IF(G350=\"\",\"\",IF((G350*D350-1)>=Coeff!$B$5,Coeff!$B$3/Coeff!$B$4*(G350*D350-1)/(G350-1),0))","v":""},{"$f":"IF(I350=\"\",\"\",IF((I350*F350-1)>=Coeff!$B$5,Coeff!$B$3/Coeff!$B$4*(I350*F350-1)/(I350-1),0))","v":""}]
[null,null,null,null,null,null,null,null,null,{"$f":"IF(G351=\"\",\"\",IF((G351*D351-1)>=Coeff!$B$5,Coeff!$B$3/Coeff!$B$4*(G351*D351-1)/(G351-1),0))","v":""},{"$f":"IF(I351=\"\",\"\",IF((I351*F351-1)>=Coeff!$B$5,Coeff!$B$3/Coeff!$B$4*(I351*F351-1)/(I351-1),0))","v":""}]
[null,null,null,null,null,null,null,null,null,{"$f":"IF(G352=\"\",\"\",IF((G352*D352-1)>=Coeff!$B$5,Coeff!$B$3/Coeff!$B$4*(G352*D352-1)/(G352-1),0))","v":""},{"$f":"IF(I352=\"\",\"\",IF((I352*F352-1)>=Coeff!$B$5,Coeff!$B$3/Coeff!$B$4*(I352*F352-1)/(I352-1),0))","v":""}]
[null,null,null,null,null,null,null,null,null,{"$f":"IF(G353=\"\",\"\",IF((G353*D353-1)>=Coeff!$B$5,Coeff!$B$3/Coeff!$B$4*(G353*D353-1)/(G353-1),0))","v":""},{"$f":"IF(I353=\"\",\"\",IF((I353*F353-1)>=Coeff!$B$5,Coeff!$B$3/Coeff!$B$4*(I353*F353-1)/(I353-1),0))","v":""}]
[null,null,null,null,null,null,null,null,null,{"$f":"IF(G354=\"\",\"\",IF((G354*D354-1)>=Coeff!$B$5,Coeff!$B$3/Coeff!$B$4*(G354*D354-1)/(G354-1),0))","v":""},{"$f":"IF(I354=\"\",\"\",IF((I354*F354-1)>=Coeff!$B$5,Coeff!$B$3/Coeff!$B$4*(I354*F354-1)/(I354-1),0))","v":""}]
[null,null,null,null,null,null,null,null,null,{"$f":"IF(G355=\"\",\"\",IF((G355*D355-1)>=Coeff!$B$5,Coeff!$B$3/Coeff!$B$4*(G355*D355-1)/(G355-1),0))","v":""},{"$f":"IF(I355=\"\",\"\",IF((I355*F355-1)>=Coeff!$B$5,Coeff!$B$3/Coeff!$B$4*(I355*F355-1)/(I355-1),0))","v":""}]
[null,null,null,null,null,null,null,null,null,{"$f":"IF(G356=\"\",\"\",IF((G356*D356-1)>=Coeff!$B$5,Coeff!$B$3/Coeff!$B$4*(G356*D356-1)/(G356-1),0))","v":""},{"$f":"IF(I356=\"\",\"\",IF((I356*F356-1)>=Coeff!$B$5,Coeff!$B$3/Coeff!$B$4*(I356*F356-1)/(I356-1),0))","v":""}]
[null,null,null,null,null,null,null,null,null,{"$f":"IF(G357=\"\",\"\",IF((G357*D357-1)>=Coeff!$B$5,Coeff!$B$3/Coeff!$B$4*(G357*D357-1)/(G357-1),0))","v":""},{"$f":"IF(I357=\"\",\"\",IF((I357*F357-1)>=Coeff!$B$5,Coeff!$B$3/Coeff!$B$4*(I357*F357-1)/(I357-1),0))","v":""}]
[null,null,null,null,null,null,null,null,null,{"$f":"IF(G358=\"\",\"\",IF((G358*D358-1)>=Coeff!$B$5,Coeff!$B$3/Coeff!$B$4*(G358*D358-1)/(G358-1),0))","v":""},{"$f":"IF(I358=\"\",\"\",IF((I358*F358-1)>=Coeff!$B$5,Coeff!$B$3/Coeff!$B$4*(I358*F358-1)/(I358-1),0))","v":""}]
[null,null,null,null,null,null,null,null,null,{"$f":"IF(G359=\"\",\"\",IF((G359*D359-1)>=Coeff!$B$5,Coeff!$B$3/Coeff!$B$4*(G359*D359-1)/(G359-1),0))","v":""},{"$f":"IF(I359=\"\",\"\",IF((I359*F359-1)>=Coeff!$B$5,Coeff!$B$3/Coeff!$B$4*(I359*F359-1)/(I359-1),0))","v":""}]
[null,null,null,null,null,null,null,null,null,{"$f":"IF(G360=\"\",\"\",IF((G360*D360-1)>=Coeff!$B$5,Coeff!$B$3/Coeff!$B$4*(G360*D360-1)/(G360-1),0))","v":""},{"$f":"IF(I360=\"\",\"\",IF((I360*F360-1)>=Coeff!$B$5,Coeff!$B$3/Coeff!$B$4*(I360*F360-1)/(I360-1),0))","v":""}]
[null,null,null,null,null,null,null,null,null,{"$f":"IF(G361=\"\",\"\",IF((G361*D361-1)>=Coeff!$B$5,Coeff!$B$3/Coeff!$B$4*(G361*D361-1)/(G361-1),0))","v":""},{"$f":"IF(I361=\"\",\"\",IF((I361*F361-1)>=Coeff!$B$5,Coeff!$B$3/Coeff!$B$4*(I361*F361-1)/(I361-1),0))","v":""}]
[null,null,null,null,null,null,null,null,null,{"$f":"IF(G362=\"\",\"\",IF((G362*D362-1)>=Coeff!$B$5,Coeff!$B$3/Coeff!$B$4*(G362*D362-1)/(G362-1),0))","v":""},{"$f":"IF(I362=\"\",\"\",IF((I362*F362-1)>=Coeff!$B$5,Coeff!$B$3/Coeff!$B$4*(I362*F362-1)/(I362-1),0))","v":""}]
[null,null,null,null,null,null,null,null,null,{"$f":"IF(G363=\"\",\"\",IF((G363*D363-1)>=Coeff!$B$5,Coeff!$B$3/Coeff!$B$4*(G363*D363-1)/(G363-1),0))","v":""},{"$f":"IF(I363=\"\",\"\",IF((I363*F363-1)>=Coeff!$B$5,Coeff!$B$3/Coeff!$B$4*(I363*F363-1)/(I363-1),0))","v":""}]
[null,null,null,null,null,null,null,null,null,{"$f":"IF(G364=\"\",\"\",IF((G364*D364-1)>=Coeff!$B$5,Coeff!$B$3/Coeff!$B$4*(G364*D364-1)/(G364-1),0))","v":""},{"$f":"IF(I364=\"\",\"\",IF((I364*F364-1)>=Coeff!$B$5,Coeff!$B$3/Coeff!$B$4*(I364*F364-1)/(I364-1),0))","v":""}]
[null,null,null,null,null,null,null,null,null,{"$f":"IF(G365=\"\",\"\",IF((G365*D365-1)>=Coeff!$B$5,Coeff!$B$3/Coeff!$B$4*(G365*D365-1)/(G365-1),0))","v":""},{"$f":"IF(I365=\"\",\"\",IF((I365*F365-1)>=Coeff!$B$5,Coeff!$B$3/Coeff!$B$4*(I365*F365-1)/(I365-1),0))","v":""}]
[null,null,null,null,null,null,null,null,null,{"$f":"IF(G366=\"\",\"\",IF((G366*D366-1)>=Coeff!$B$5,Coeff!$B$3/Coeff!$B$4*(G366*D366-1)/(G366-1),0))","v":""},{"$f":"IF(I366=\"\",\"\",IF((I366*F366-1)>=Coeff!$B$5,Coeff!$B$3/Coeff!$B$4*(I366*F366-1)/(I366-1),0))","v":""}]
[null,null,null,null,null,null,null,null,null,{"$f":"IF(G367=\"\",\"\",IF((G367*D367-1)>=Coeff!$B$5,Coeff!$B$3/Coeff!$B$4*(G367*D367-1)/(G367-1),0))","v":""},{"$f":"IF(I367=\"\",\"\",IF((I367*F367-1)>=Coeff!$B$5,Coeff!$B$3/Coeff!$B$4*(I367*F367-1)/(I367-1),0))","v":""}]
[null,null,null,null,null,null,null,null,null,{"$f":"IF(G368=\"\",\"\",IF((G368*D368-1)>=Coeff!$B$5,Coeff!$B$3/Coeff!$B$4*(G368*D368-1)/(G368-1),0))","v":""},{"$f":"IF(I368=\"\",\"\",IF((I368*F368-1)>=Coeff!$B$5,Coeff!$B$3/Coeff!$B$4*(I368*F368-1)/(I368-1),0))","v":""}]
[null,null,null,null,null,null,null,null,null,{"$f":"IF(G369=\"\",\"\",IF((G369*D369-1)>=Coeff!$B$5,Coeff!$B$3/Coeff!$B$4*(G369*D369-1)/(G369-1),0))","v":""},{"$f":"IF(I369=\"\",\"\",IF((I369*F369-1)>=Coeff!$B$5,Coeff!$B$3/Coeff!$B$4*(I369*F369-1)/(I369-1),0))","v":""}]
[null,null,null,null,null,null,null,null,null,{"$f":"IF(G370=\"\",\"\",IF((G370*D370-1)>=Coeff!$B$5,Coeff!$B$3/Coeff!$B$4*(G370*D370-1)/(G370-1),0))","v":""},{"$f":"IF(I370=\"\",\"\",IF((I370*F370-1)>=Coeff!$B$5,Coeff!$B$3/Coeff!$B$4*(I370*F370-1)/(I370-1),0))","v":""}]
[null,null,null,null,null,null,null,null,null,{"$f":"IF(G371=\"\",\"\",IF((G371*D371-1)>=Coeff!$B$5,Coeff!$B$3/Coeff!$B$4*(G371*D371-1)/(G371-1),0))","v":""},{"$f":"IF(I371=\"\",\"\",IF((I371*F371-1)>=Coeff!$B$5,Coeff!$B$3/Coeff!$B$4*(I371*F371-1)/(I371-1),0))","v":""}]
[null,null,null,null,null,null,null,null,null,{"$f":"IF(G372=\"\",\"\",IF((G372*D372-1)>=Coeff!$B$5,Coeff!$B$3/Coeff!$B$4*(G372*D372-1)/(G372-1),0))","v":""},{"$f":"IF(I372=\"\",\"\",IF((I372*F372-1)>=Coeff!$B$5,Coeff!$B$3/Coeff!$B$4*(I372*F372-1)/(I372-1),0))","v":""}]
[null,null,null,null,null,null,null,null,null,{"$f":"IF(G373=\"\",\"\",IF((G373*D373-1)>=Coeff!$B$5,Coeff!$B$3/Coeff!$B$4*(G373*D373-1)/(G373-1),0))","v":""},{"$f":"IF(I373=\"\",\"\",IF((I373*F373-1)>=Coeff!$B$5,Coeff!$B$3/Coeff!$B$4*(I373*F373-1)/(I373-1),0))","v":""}]
[null,null,null,null,null,null,null,null,null,{"$f":"IF(G374=\"\",\"\",IF((G374*D374-1)>=Coeff!$B$5,Coeff!$B$3/Coeff!$B$4*(G374*D374-1)/(G374-1),0))","v":""},{"$f":"IF(I374=\"\",\"\",IF((I374*F374-1)>=Coeff!$B$5,Coeff!$B$3/Coeff!$B$4*(I374*F374-1)/(I374-1),0))","v":""}]
[null,null,null,null,null,null,null,null,null,{"$f":"IF(G375=\"\",\"\",IF((G375*D375-1)>=Coeff!$B$5,Coeff!$B$3/Coeff!$B$4*(G375*D375-1)/(G375-1),0))","v":""},{"$f":"IF(I375=\"\",\"\",IF((I375*F375-1)>=Coeff!$B$5,Coeff!$B$3/Coeff!$B$4*(I375*F375-1)/(I375-1),0))","v":""}]
[null,null,null,null,null,null,null,null,null,{"$f":"IF(G376=\"\",\"\",IF((G376*D376-1)>=Coeff!$B$5,Coeff!$B$3/Coeff!$B$4*(G376*D376-1)/(G376-1),0))","v":""},{"$f":"IF(I376=\"\",\"\",IF((I376*F376-1)>=Coeff!$B$5,Coeff!$B$3/Coeff!$B$4*(I376*F376-1)/(I376-1),0))","v":""}]
[null,null,null,null,null,null,null,null,null,{"$f":"IF(G377=\"\",\"\",IF((G377*D377-1)>=Coeff!$B$5,Coeff!$B$3/Coeff!$B$4*(G377*D377-1)/(G377-1),0))","v":""},{"$f":"IF(I377=\"\",\"\",IF((I377*F377-1)>=Coeff!$B$5,Coeff!$B$3/Coeff!$B$4*(I377*F377-1)/(I377-1),0))","v":""}]
[null,null,null,null,null,null,null,null,null,{"$f":"IF(G378=\"\",\"\",IF((G378*D378-1)>=Coeff!$B$5,Coeff!$B$3/Coeff!$B$4*(G378*D378-1)/(G378-1),0))","v":""},{"$f":"IF(I378=\"\",\"\",IF((I378*F378-1)>=Coeff!$B$5,Coeff!$B$3/Coeff!$B$4*(I378*F378-1)/(I378-1),0))","v":""}]
[null,null,null,null,null,null,null,null,null,{"$f":"IF(G379=\"\",\"\",IF((G379*D379-1)>=Coeff!$B$5,Coeff!$B$3/Coeff!$B$4*(G379*D379-1)/(G379-1),0))","v":""},{"$f":"IF(I379=\"\",\"\",IF((I379*F379-1)>=Coeff!$B$5,Coeff!$B$3/Coeff!$B$4*(I379*F379-1)/(I379-1),0))","v":""}]
[null,null,null,null,null,null,null,null,null,{"$f":"IF(G380=\"\",\"\",IF((G380*D380-1)>=Coeff!$B$5,Coeff!$B$3/Coeff!$B$4*(G380*D380-1)/(G380-1),0))","v":""},{"$f":"IF(I380=\"\",\"\",IF((I380*F380-1)>=Coeff!$B$5,Coeff!$B$3/Coeff!$B$4*(I380*F380-1)/(I380-1),0))","v":""}]
[null,null,null,null,null,null,null,null,null,{"$f":"IF(G381=\"\",\"\",IF((G381*D381-1)>=Coeff!$B$5,Coeff!$B$3/Coeff!$B$4*(G381*D381-1)/(G381-1),0))","v":""},{"$f":"IF(I381=\"\",\"\",IF((I381*F381-1)>=Coeff!$B$5,Coeff!$B$3/Coeff!$B$4*(I381*F381-1)/(I381-1),0))","v":""}]
[null,null,null,null,null,null,null,null,null,{"$f":"IF(G382=\"\",\"\",IF((G382*D382-1)>=Coeff!$B$5,Coeff!$B$3/Coeff!$B$4*(G382*D382-1)/(G382-1),0))","v":""},{"$f":"IF(I382=\"\",\"\",IF((I382*F382-1)>=Coeff!$B$5,Coeff!$B$3/Coeff!$B$4*(I382*F382-1)/(I382-1),0))","v":""}]
[null,null,null,null,null,null,null,null,null,{"$f":"IF(G383=\"\",\"\",IF((G383*D383-1)>=Coeff!$B$5,Coeff!$B$3/Coeff!$B$4*(G383*D383-1)/(G383-1),0))","v":""},{"$f":"IF(I383=\"\",\"\",IF((I383*F383-1)>=Coeff!$B$5,Coeff!$B$3/Coeff!$B$4*(I383*F383-1)/(I383-1),0))","v":""}]
[null,null,null,null,null,null,null,null,null,{"$f":"IF(G384=\"\",\"\",IF((G384*D384-1)>=Coeff!$B$5,Coeff!$B$3/Coeff!$B$4*(G384*D384-1)/(G384-1),0))","v":""},{"$f":"IF(I384=\"\",\"\",IF((I384*F384-1)>=Coeff!$B$5,Coeff!$B$3/Coeff!$B$4*(I384*F384-1)/(I384-1),0))","v":""}]
[null,null,null,null,null,null,null,null,null,{"$f":"IF(G385=\"\",\"\",IF((G385*D385-1)>=Coeff!$B$5,Coeff!$B$3/Coeff!$B$4*(G385*D385-1)/(G385-1),0))","v":""},{"$f":"IF(I385=\"\",\"\",IF((I385*F385-1)>=Coeff!$B$5,Coeff!$B$3/Coeff!$B$4*(I385*F385-1)/(I385-1),0))","v":""}]
[null,null,null,null,null,null,null,null,null,{"$f":"IF(G386=\"\",\"\",IF((G386*D386-1)>=Coeff!$B$5,Coeff!$B$3/Coeff!$B$4*(G386*D386-1)/(G386-1),0))","v":""},{"$f":"IF(I386=\"\",\"\",IF((I386*F386-1)>=Coeff!$B$5,Coeff!$B$3/Coeff!$B$4*(I386*F386-1)/(I386-1),0))","v":""}]
[null,null,null,null,null,null,null,null,null,{"$f":"IF(G387=\"\",\"\",IF((G387*D387-1)>=Coeff!$B$5,Coeff!$B$3/Coeff!$B$4*(G387*D387-1)/(G387-1),0))","v":""},{"$f":"IF(I387=\"\",\"\",IF((I387*F387-1)>=Coeff!$B$5,Coeff!$B$3/Coeff!$B$4*(I387*F387-1)/(I387-1),0))","v":""}]
[null,null,null,null,null,null,null,null,null,{"$f":"IF(G388=\"\",\"\",IF((G388*D388-1)>=Coeff!$B$5,Coeff!$B$3/Coeff!$B$4*(G388*D388-1)/(G388-1),0))","v":""},{"$f":"IF(I388=\"\",\"\",IF((I388*F388-1)>=Coeff!$B$5,Coeff!$B$3/Coeff!$B$4*(I388*F388-1)/(I388-1),0))","v":""}]
[null,null,null,null,null,null,null,null,null,{"$f":"IF(G389=\"\",\"\",IF((G389*D389-1)>=Coeff!$B$5,Coeff!$B$3/Coeff!$B$4*(G389*D389-1)/(G389-1),0))","v":""},{"$f":"IF(I389=\"\",\"\",IF((I389*F389-1)>=Coeff!$B$5,Coeff!$B$3/Coeff!$B$4*(I389*F389-1)/(I389-1),0))","v":""}]
[null,null,null,null,null,null,null,null,null,{"$f":"IF(G390=\"\",\"\",IF((G390*D390-1)>=Coeff!$B$5,Coeff!$B$3/Coeff!$B$4*(G390*D390-1)/(G390-1),0))","v":""},{"$f":"IF(I390=\"\",\"\",IF((I390*F390-1)>=Coeff!$B$5,Coeff!$B$3/Coeff!$B$4*(I390*F390-1)/(I390-1),0))","v":""}]
[null,null,null,null,null,null,null,null,null,{"$f":"IF(G391=\"\",\"\",IF((G391*D391-1)>=Coeff!$B$5,Coeff!$B$3/Coeff!$B$4*(G391*D391-1)/(G391-1),0))","v":""},{"$f":"IF(I391=\"\",\"\",IF((I391*F391-1)>=Coeff!$B$5,Coeff!$B$3/Coeff!$B$4*(I391*F391-1)/(I391-1),0))","v":""}]
[null,null,null,null,null,null,null,null,null,{"$f":"IF(G392=\"\",\"\",IF((G392*D392-1)>=Coeff!$B$5,Coeff!$B$3/Coeff!$B$4*(G392*D392-1)/(G392-1),0))","v":""},{"$f":"IF(I392=\"\",\"\",IF((I392*F392-1)>=Coeff!$B$5,Coeff!$B$3/Coeff!$B$4*(I392*F392-1)/(I392-1),0))","v":""}]
[null,null,null,null,null,null,null,null,null,{"$f":"IF(G393=\"\",\"\",IF((G393*D393-1)>=Coeff!$B$5,Coeff!$B$3/Coeff!$B$4*(G393*D393-1)/(G393-1),0))","v":""},{"$f":"IF(I393=\"\",\"\",IF((I393*F393-1)>=Coeff!$B$5,Coeff!$B$3/Coeff!$B$4*(I393*F393-1)/(I393-1),0))","v":""}]
[null,null,null,null,null,null,null,null,null,{"$f":"IF(G394=\"\",\"\",IF((G394*D394-1)>=Coeff!$B$5,Coeff!$B$3/Coeff!$B$4*(G394*D394-1)/(G394-1),0))","v":""},{"$f":"IF(I394=\"\",\"\",IF((I394*F394-1)>=Coeff!$B$5,Coeff!$B$3/Coeff!$B$4*(I394*F394-1)/(I394-1),0))","v":""}]
[null,null,null,null,null,null,null,null,null,{"$f":"IF(G395=\"\",\"\",IF((G395*D395-1)>=Coeff!$B$5,Coeff!$B$3/Coeff!$B$4*(G395*D395-1)/(G395-1),0))","v":""},{"$f":"IF(I395=\"\",\"\",IF((I395*F395-1)>=Coeff!$B$5,Coeff!$B$3/Coeff!$B$4*(I395*F395-1)/(I395-1),0))","v":""}]
[null,null,null,null,null,null,null,null,null,{"$f":"IF(G396=\"\",\"\",IF((G396*D396-1)>=Coeff!$B$5,Coeff!$B$3/Coeff!$B$4*(G396*D396-1)/(G396-1),0))","v":""},{"$f":"IF(I396=\"\",\"\",IF((I396*F396-1)>=Coeff!$B$5,Coeff!$B$3/Coeff!$B$4*(I396*F396-1)/(I396-1),0))","v":""}]
[null,null,null,null,null,null,null,null,null,{"$f":"IF(G397=\"\",\"\",IF((G397*D397-1)>=Coeff!$B$5,Coeff!$B$3/Coeff!$B$4*(G397*D397-1)/(G397-1),0))","v":""},{"$f":"IF(I397=\"\",\"\",IF((I397*F397-1)>=Coeff!$B$5,Coeff!$B$3/Coeff!$B$4*(I397*F397-1)/(I397-1),0))","v":""}]
[null,null,null,null,null,null,null,null,null,{"$f":"IF(G398=\"\",\"\",IF((G398*D398-1)>=Coeff!$B$5,Coeff!$B$3/Coeff!$B$4*(G398*D398-1)/(G398-1),0))","v":""},{"$f":"IF(I398=\"\",\"\",IF((I398*F398-1)>=Coeff!$B$5,Coeff!$B$3/Coeff!$B$4*(I398*F398-1)/(I398-1),0))","v":""}]
[null,null,null,null,null,null,null,null,null,{"$f":"IF(G399=\"\",\"\",IF((G399*D399-1)>=Coeff!$B$5,Coeff!$B$3/Coeff!$B$4*(G399*D399-1)/(G399-1),0))","v":""},{"$f":"IF(I399=\"\",\"\",IF((I399*F399-1)>=Coeff!$B$5,Coeff!$B$3/Coeff!$B$4*(I399*F399-1)/(I399-1),0))","v":""}]
[null,null,null,null,null,null,null,null,null,{"$f":"IF(G400=\"\",\"\",IF((G400*D400-1)>=Coeff!$B$5,Coeff!$B$3/Coeff!$B$4*(G400*D400-1)/(G400-1),0))","v":""},{"$f":"IF(I400=\"\",\"\",IF((I400*F400-1)>=Coeff!$B$5,Coeff!$B$3/Coeff!$B$4*(I400*F400-1)/(I400-1),0))","v":""}]
[null,null,null,null,null,null,null,null,null,{"$f":"IF(G401=\"\",\"\",IF((G401*D401-1)>=Coeff!$B$5,Coeff!$B$3/Coeff!$B$4*(G401*D401-1)/(G401-1),0))","v":""},{"$f":"IF(I401=\"\",\"\",IF((I401*F401-1)>=Coeff!$B$5,Coeff!$B$3/Coeff!$B$4*(I401*F401-1)/(I401-1),0))","v":""}]
[null,null,null,null,null,null,null,null,null,{"$f":"IF(G402=\"\",\"\",IF((G402*D402-1)>=Coeff!$B$5,Coeff!$B$3/Coeff!$B$4*(G402*D402-1)/(G402-1),0))","v":""},{"$f":"IF(I402=\"\",\"\",IF((I402*F402-1)>=Coeff!$B$5,Coeff!$B$3/Coeff!$B$4*(I402*F402-1)/(I402-1),0))","v":""}]
[null,null,null,null,null,null,null,null,null,{"$f":"IF(G403=\"\",\"\",IF((G403*D403-1)>=Coeff!$B$5,Coeff!$B$3/Coeff!$B$4*(G403*D403-1)/(G403-1),0))","v":""},{"$f":"IF(I403=\"\",\"\",IF((I403*F403-1)>=Coeff!$B$5,Coeff!$B$3/Coeff!$B$4*(I403*F403-1)/(I403-1),0))","v":""}]
[null,null,null,null,null,null,null,null,null,{"$f":"IF(G404=\"\",\"\",IF((G404*D404-1)>=Coeff!$B$5,Coeff!$B$3/Coeff!$B$4*(G404*D404-1)/(G404-1),0))","v":""},{"$f":"IF(I404=\"\",\"\",IF((I404*F404-1)>=Coeff!$B$5,Coeff!$B$3/Coeff!$B$4*(I404*F404-1)/(I404-1),0))","v":""}]
[null,null,null,null,null,null,null,null,null,{"$f":"IF(G405=\"\",\"\",IF((G405*D405-1)>=Coeff!$B$5,Coeff!$B$3/Coeff!$B$4*(G405*D405-1)/(G405-1),0))","v":""},{"$f":"IF(I405=\"\",\"\",IF((I405*F405-1)>=Coeff!$B$5,Coeff!$B$3/Coeff!$B$4*(I405*F405-1)/(I405-1),0))","v":""}]
[null,null,null,null,null,null,null,null,null,{"$f":"IF(G406=\"\",\"\",IF((G406*D406-1)>=Coeff!$B$5,Coeff!$B$3/Coeff!$B$4*(G406*D406-1)/(G406-1),0))","v":""},{"$f":"IF(I406=\"\",\"\",IF((I406*F406-1)>=Coeff!$B$5,Coeff!$B$3/Coeff!$B$4*(I406*F406-1)/(I406-1),0))","v":""}]
[null,null,null,null,null,null,null,null,null,{"$f":"IF(G407=\"\",\"\",IF((G407*D407-1)>=Coeff!$B$5,Coeff!$B$3/Coeff!$B$4*(G407*D407-1)/(G407-1),0))","v":""},{"$f":"IF(I407=\"\",\"\",IF((I407*F407-1)>=Coeff!$B$5,Coeff!$B$3/Coeff!$B$4*(I407*F407-1)/(I407-1),0))","v":""}]
[null,null,null,null,null,null,null,null,null,{"$f":"IF(G408=\"\",\"\",IF((G408*D408-1)>=Coeff!$B$5,Coeff!$B$3/Coeff!$B$4*(G408*D408-1)/(G408-1),0))","v":""},{"$f":"IF(I408=\"\",\"\",IF((I408*F408-1)>=Coeff!$B$5,Coeff!$B$3/Coeff!$B$4*(I408*F408-1)/(I408-1),0))","v":""}]
[null,null,null,null,null,null,null,null,null,{"$f":"IF(G409=\"\",\"\",IF((G409*D409-1)>=Coeff!$B$5,Coeff!$B$3/Coeff!$B$4*(G409*D409-1)/(G409-1),0))","v":""},{"$f":"IF(I409=\"\",\"\",IF((I409*F409-1)>=Coeff!$B$5,Coeff!$B$3/Coeff!$B$4*(I409*F409-1)/(I409-1),0))","v":""}]
[null,null,null,null,null,null,null,null,null,{"$f":"IF(G410=\"\",\"\",IF((G410*D410-1)>=Coeff!$B$5,Coeff!$B$3/Coeff!$B$4*(G410*D410-1)/(G410-1),0))","v":""},{"$f":"IF(I410=\"\",\"\",IF((I410*F410-1)>=Coeff!$B$5,Coeff!$B$3/Coeff!$B$4*(I410*F410-1)/(I410-1),0))","v":""}]
[null,null,null,null,null,null,null,null,null,{"$f":"IF(G411=\"\",\"\",IF((G411*D411-1)>=Coeff!$B$5,Coeff!$B$3/Coeff!$B$4*(G411*D411-1)/(G411-1),0))","v":""},{"$f":"IF(I411=\"\",\"\",IF((I411*F411-1)>=Coeff!$B$5,Coeff!$B$3/Coeff!$B$4*(I411*F411-1)/(I411-1),0))","v":""}]
[null,null,null,null,null,null,null,null,null,{"$f":"IF(G412=\"\",\"\",IF((G412*D412-1)>=Coeff!$B$5,Coeff!$B$3/Coeff!$B$4*(G412*D412-1)/(G412-1),0))","v":""},{"$f":"IF(I412=\"\",\"\",IF((I412*F412-1)>=Coeff!$B$5,Coeff!$B$3/Coeff!$B$4*(I412*F412-1)/(I412-1),0))","v":""}]
[null,null,null,null,null,null,null,null,null,{"$f":"IF(G413=\"\",\"\",IF((G413*D413-1)>=Coeff!$B$5,Coeff!$B$3/Coeff!$B$4*(G413*D413-1)/(G413-1),0))","v":""},{"$f":"IF(I413=\"\",\"\",IF((I413*F413-1)>=Coeff!$B$5,Coeff!$B$3/Coeff!$B$4*(I413*F413-1)/(I413-1),0))","v":""}]
[null,null,null,null,null,null,null,null,null,{"$f":"IF(G414=\"\",\"\",IF((G414*D414-1)>=Coeff!$B$5,Coeff!$B$3/Coeff!$B$4*(G414*D414-1)/(G414-1),0))","v":""},{"$f":"IF(I414=\"\",\"\",IF((I414*F414-1)>=Coeff!$B$5,Coeff!$B$3/Coeff!$B$4*(I414*F414-1)/(I414-1),0))","v":""}]
[null,null,null,null,null,null,null,null,null,{"$f":"IF(G415=\"\",\"\",IF((G415*D415-1)>=Coeff!$B$5,Coeff!$B$3/Coeff!$B$4*(G415*D415-1)/(G415-1),0))","v":""},{"$f":"IF(I415=\"\",\"\",IF((I415*F415-1)>=Coeff!$B$5,Coeff!$B$3/Coeff!$B$4*(I415*F415-1)/(I415-1),0))","v":""}]
[null,null,null,null,null,null,null,null,null,{"$f":"IF(G416=\"\",\"\",IF((G416*D416-1)>=Coeff!$B$5,Coeff!$B$3/Coeff!$B$4*(G416*D416-1)/(G416-1),0))","v":""},{"$f":"IF(I416=\"\",\"\",IF((I416*F416-1)>=Coeff!$B$5,Coeff!$B$3/Coeff!$B$4*(I416*F416-1)/(I416-1),0))","v":""}]
[null,null,null,null,null,null,null,null,null,{"$f":"IF(G417=\"\",\"\",IF((G417*D417-1)>=Coeff!$B$5,Coeff!$B$3/Coeff!$B$4*(G417*D417-1)/(G417-1),0))","v":""},{"$f":"IF(I417=\"\",\"\",IF((I417*F417-1)>=Coeff!$B$5,Coeff!$B$3/Coeff!$B$4*(I417*F417-1)/(I417-1),0))","v":""}]
[null,null,null,null,null,null,null,null,null,{"$f":"IF(G418=\"\",\"\",IF((G418*D418-1)>=Coeff!$B$5,Coeff!$B$3/Coeff!$B$4*(G418*D418-1)/(G418-1),0))","v":""},{"$f":"IF(I418=\"\",\"\",IF((I418*F418-1)>=Coeff!$B$5,Coeff!$B$3/Coeff!$B$4*(I418*F418-1)/(I418-1),0))","v":""}]
[null,null,null,null,null,null,null,null,null,{"$f":"IF(G419=\"\",\"\",IF((G419*D419-1)>=Coeff!$B$5,Coeff!$B$3/Coeff!$B$4*(G419*D419-1)/(G419-1),0))","v":""},{"$f":"IF(I419=\"\",\"\",IF((I419*F419-1)>=Coeff!$B$5,Coeff!$B$3/Coeff!$B$4*(I419*F419-1)/(I419-1),0))","v":""}]
[null,null,null,null,null,null,null,null,null,{"$f":"IF(G420=\"\",\"\",IF((G420*D420-1)>=Coeff!$B$5,Coeff!$B$3/Coeff!$B$4*(G420*D420-1)/(G420-1),0))","v":""},{"$f":"IF(I420=\"\",\"\",IF((I420*F420-1)>=Coeff!$B$5,Coeff!$B$3/Coeff!$B$4*(I420*F420-1)/(I420-1),0))","v":""}]
[null,null,null,null,null,null,null,null,null,{"$f":"IF(G421=\"\",\"\",IF((G421*D421-1)>=Coeff!$B$5,Coeff!$B$3/Coeff!$B$4*(G421*D421-1)/(G421-1),0))","v":""},{"$f":"IF(I421=\"\",\"\",IF((I421*F421-1)>=Coeff!$B$5,Coeff!$B$3/Coeff!$B$4*(I421*F421-1)/(I421-1),0))","v":""}]
[null,null,null,null,null,null,null,null,null,{"$f":"IF(G422=\"\",\"\",IF((G422*D422-1)>=Coeff!$B$5,Coeff!$B$3/Coeff!$B$4*(G422*D422-1)/(G422-1),0))","v":""},{"$f":"IF(I422=\"\",\"\",IF((I422*F422-1)>=Coeff!$B$5,Coeff!$B$3/Coeff!$B$4*(I422*F422-1)/(I422-1),0))","v":""}]
[null,null,null,null,null,null,null,null,null,{"$f":"IF(G423=\"\",\"\",IF((G423*D423-1)>=Coeff!$B$5,Coeff!$B$3/Coeff!$B$4*(G423*D423-1)/(G423-1),0))","v":""},{"$f":"IF(I423=\"\",\"\",IF((I423*F423-1)>=Coeff!$B$5,Coeff!$B$3/Coeff!$B$4*(I423*F423-1)/(I423-1),0))","v":""}]
[null,null,null,null,null,null,null,null,null,{"$f":"IF(G424=\"\",\"\",IF((G424*D424-1)>=Coeff!$B$5,Coeff!$B$3/Coeff!$B$4*(G424*D424-1)/(G424-1),0))","v":""},{"$f":"IF(I424=\"\",\"\",IF((I424*F424-1)>=Coeff!$B$5,Coeff!$B$3/Coeff!$B$4*(I424*F424-1)/(I424-1),0))","v":""}]
[null,null,null,null,null,null,null,null,null,{"$f":"IF(G425=\"\",\"\",IF((G425*D425-1)>=Coeff!$B$5,Coeff!$B$3/Coeff!$B$4*(G425*D425-1)/(G425-1),0))","v":""},{"$f":"IF(I425=\"\",\"\",IF((I425*F425-1)>=Coeff!$B$5,Coeff!$B$3/Coeff!$B$4*(I425*F425-1)/(I425-1),0))","v":""}]
[null,null,null,null,null,null,null,null,null,{"$f":"IF(G426=\"\",\"\",IF((G426*D426-1)>=Coeff!$B$5,Coeff!$B$3/Coeff!$B$4*(G426*D426-1)/(G426-1),0))","v":""},{"$f":"IF(I426=\"\",\"\",IF((I426*F426-1)>=Coeff!$B$5,Coeff!$B$3/Coeff!$B$4*(I426*F426-1)/(I426-1),0))","v":""}]
[null,null,null,null,null,null,null,null,null,{"$f":"IF(G427=\"\",\"\",IF((G427*D427-1)>=Coeff!$B$5,Coeff!$B$3/Coeff!$B$4*(G427*D427-1)/(G427-1),0))","v":""},{"$f":"IF(I427=\"\",\"\",IF((I427*F427-1)>=Coeff!$B$5,Coeff!$B$3/Coeff!$B$4*(I427*F427-1)/(I427-1),0))","v":""}]
[null,null,null,null,null,null,null,null,null,{"$f":"IF(G428=\"\",\"\",IF((G428*D428-1)>=Coeff!$B$5,Coeff!$B$3/Coeff!$B$4*(G428*D428-1)/(G428-1),0))","v":""},{"$f":"IF(I428=\"\",\"\",IF((I428*F428-1)>=Coeff!$B$5,Coeff!$B$3/Coeff!$B$4*(I428*F428-1)/(I428-1),0))","v":""}]
[null,null,null,null,null,null,null,null,null,{"$f":"IF(G429=\"\",\"\",IF((G429*D429-1)>=Coeff!$B$5,Coeff!$B$3/Coeff!$B$4*(G429*D429-1)/(G429-1),0))","v":""},{"$f":"IF(I429=\"\",\"\",IF((I429*F429-1)>=Coeff!$B$5,Coeff!$B$3/Coeff!$B$4*(I429*F429-1)/(I429-1),0))","v":""}]
[null,null,null,null,null,null,null,null,null,{"$f":"IF(G430=\"\",\"\",IF((G430*D430-1)>=Coeff!$B$5,Coeff!$B$3/Coeff!$B$4*(G430*D430-1)/(G430-1),0))","v":""},{"$f":"IF(I430=\"\",\"\",IF((I430*F430-1)>=Coeff!$B$5,Coeff!$B$3/Coeff!$B$4*(I430*F430-1)/(I430-1),0))","v":""}]
[null,null,null,null,null,null,null,null,null,{"$f":"IF(G431=\"\",\"\",IF((G431*D431-1)>=Coeff!$B$5,Coeff!$B$3/Coeff!$B$4*(G431*D431-1)/(G431-1),0))","v":""},{"$f":"IF(I431=\"\",\"\",IF((I431*F431-1)>=Coeff!$B$5,Coeff!$B$3/Coeff!$B$4*(I431*F431-1)/(I431-1),0))","v":""}]
[null,null,null,null,null,null,null,null,null,{"$f":"IF(G432=\"\",\"\",IF((G432*D432-1)>=Coeff!$B$5,Coeff!$B$3/Coeff!$B$4*(G432*D432-1)/(G432-1),0))","v":""},{"$f":"IF(I432=\"\",\"\",IF((I432*F432-1)>=Coeff!$B$5,Coeff!$B$3/Coeff!$B$4*(I432*F432-1)/(I432-1),0))","v":""}]
[null,null,null,null,null,null,null,null,null,{"$f":"IF(G433=\"\",\"\",IF((G433*D433-1)>=Coeff!$B$5,Coeff!$B$3/Coeff!$B$4*(G433*D433-1)/(G433-1),0))","v":""},{"$f":"IF(I433=\"\",\"\",IF((I433*F433-1)>=Coeff!$B$5,Coeff!$B$3/Coeff!$B$4*(I433*F433-1)/(I433-1),0))","v":""}]
[null,null,null,null,null,null,null,null,null,{"$f":"IF(G434=\"\",\"\",IF((G434*D434-1)>=Coeff!$B$5,Coeff!$B$3/Coeff!$B$4*(G434*D434-1)/(G434-1),0))","v":""},{"$f":"IF(I434=\"\",\"\",IF((I434*F434-1)>=Coeff!$B$5,Coeff!$B$3/Coeff!$B$4*(I434*F434-1)/(I434-1),0))","v":""}]
[null,null,null,null,null,null,null,null,null,{"$f":"IF(G435=\"\",\"\",IF((G435*D435-1)>=Coeff!$B$5,Coeff!$B$3/Coeff!$B$4*(G435*D435-1)/(G435-1),0))","v":""},{"$f":"IF(I435=\"\",\"\",IF((I435*F435-1)>=Coeff!$B$5,Coeff!$B$3/Coeff!$B$4*(I435*F435-1)/(I435-1),0))","v":""}]
[null,null,null,null,null,null,null,null,null,{"$f":"IF(G436=\"\",\"\",IF((G436*D436-1)>=Coeff!$B$5,Coeff!$B$3/Coeff!$B$4*(G436*D436-1)/(G436-1),0))","v":""},{"$f":"IF(I436=\"\",\"\",IF((I436*F436-1)>=Coeff!$B$5,Coeff!$B$3/Coeff!$B$4*(I436*F436-1)/(I436-1),0))","v":""}]
[null,null,null,null,null,null,null,null,null,{"$f":"IF(G437=\"\",\"\",IF((G437*D437-1)>=Coeff!$B$5,Coeff!$B$3/Coeff!$B$4*(G437*D437-1)/(G437-1),0))","v":""},{"$f":"IF(I437=\"\",\"\",IF((I437*F437-1)>=Coeff!$B$5,Coeff!$B$3/Coeff!$B$4*(I437*F437-1)/(I437-1),0))","v":""}]
[null,null,null,null,null,null,null,null,null,{"$f":"IF(G438=\"\",\"\",IF((G438*D438-1)>=Coeff!$B$5,Coeff!$B$3/Coeff!$B$4*(G438*D438-1)/(G438-1),0))","v":""},{"$f":"IF(I438=\"\",\"\",IF((I438*F438-1)>=Coeff!$B$5,Coeff!$B$3/Coeff!$B$4*(I438*F438-1)/(I438-1),0))","v":""}]
[null,null,null,null,null,null,null,null,null,{"$f":"IF(G439=\"\",\"\",IF((G439*D439-1)>=Coeff!$B$5,Coeff!$B$3/Coeff!$B$4*(G439*D439-1)/(G439-1),0))","v":""},{"$f":"IF(I439=\"\",\"\",IF((I439*F439-1)>=Coeff!$B$5,Coeff!$B$3/Coeff!$B$4*(I439*F439-1)/(I439-1),0))","v":""}]
[null,null,null,null,null,null,null,null,null,{"$f":"IF(G440=\"\",\"\",IF((G440*D440-1)>=Coeff!$B$5,Coeff!$B$3/Coeff!$B$4*(G440*D440-1)/(G440-1),0))","v":""},{"$f":"IF(I440=\"\",\"\",IF((I440*F440-1)>=Coeff!$B$5,Coeff!$B$3/Coeff!$B$4*(I440*F440-1)/(I440-1),0))","v":""}]
[null,null,null,null,null,null,null,null,null,{"$f":"IF(G441=\"\",\"\",IF((G441*D441-1)>=Coeff!$B$5,Coeff!$B$3/Coeff!$B$4*(G441*D441-1)/(G441-1),0))","v":""},{"$f":"IF(I441=\"\",\"\",IF((I441*F441-1)>=Coeff!$B$5,Coeff!$B$3/Coeff!$B$4*(I441*F441-1)/(I441-1),0))","v":""}]
[null,null,null,null,null,null,null,null,null,{"$f":"IF(G442=\"\",\"\",IF((G442*D442-1)>=Coeff!$B$5,Coeff!$B$3/Coeff!$B$4*(G442*D442-1)/(G442-1),0))","v":""},{"$f":"IF(I442=\"\",\"\",IF((I442*F442-1)>=Coeff!$B$5,Coeff!$B$3/Coeff!$B$4*(I442*F442-1)/(I442-1),0))","v":""}]
[null,null,null,null,null,null,null,null,null,{"$f":"IF(G443=\"\",\"\",IF((G443*D443-1)>=Coeff!$B$5,Coeff!$B$3/Coeff!$B$4*(G443*D443-1)/(G443-1),0))","v":""},{"$f":"IF(I443=\"\",\"\",IF((I443*F443-1)>=Coeff!$B$5,Coeff!$B$3/Coeff!$B$4*(I443*F443-1)/(I443-1),0))","v":""}]
[null,null,null,null,null,null,null,null,null,{"$f":"IF(G444=\"\",\"\",IF((G444*D444-1)>=Coeff!$B$5,Coeff!$B$3/Coeff!$B$4*(G444*D444-1)/(G444-1),0))","v":""},{"$f":"IF(I444=\"\",\"\",IF((I444*F444-1)>=Coeff!$B$5,Coeff!$B$3/Coeff!$B$4*(I444*F444-1)/(I444-1),0))","v":""}]
[null,null,null,null,null,null,null,null,null,{"$f":"IF(G445=\"\",\"\",IF((G445*D445-1)>=Coeff!$B$5,Coeff!$B$3/Coeff!$B$4*(G445*D445-1)/(G445-1),0))","v":""},{"$f":"IF(I445=\"\",\"\",IF((I445*F445-1)>=Coeff!$B$5,Coeff!$B$3/Coeff!$B$4*(I445*F445-1)/(I445-1),0))","v":""}]
[null,null,null,null,null,null,null,null,null,{"$f":"IF(G446=\"\",\"\",IF((G446*D446-1)>=Coeff!$B$5,Coeff!$B$3/Coeff!$B$4*(G446*D446-1)/(G446-1),0))","v":""},{"$f":"IF(I446=\"\",\"\",IF((I446*F446-1)>=Coeff!$B$5,Coeff!$B$3/Coeff!$B$4*(I446*F446-1)/(I446-1),0))","v":""}]
[null,null,null,null,null,null,null,null,null,{"$f":"IF(G447=\"\",\"\",IF((G447*D447-1)>=Coeff!$B$5,Coeff!$B$3/Coeff!$B$4*(G447*D447-1)/(G447-1),0))","v":""},{"$f":"IF(I447=\"\",\"\",IF((I447*F447-1)>=Coeff!$B$5,Coeff!$B$3/Coeff!$B$4*(I447*F447-1)/(I447-1),0))","v":""}]
[null,null,null,null,null,null,null,null,null,{"$f":"IF(G448=\"\",\"\",IF((G448*D448-1)>=Coeff!$B$5,Coeff!$B$3/Coeff!$B$4*(G448*D448-1)/(G448-1),0))","v":""},{"$f":"IF(I448=\"\",\"\",IF((I448*F448-1)>=Coeff!$B$5,Coeff!$B$3/Coeff!$B$4*(I448*F448-1)/(I448-1),0))","v":""}]
[null,null,null,null,null,null,null,null,null,{"$f":"IF(G449=\"\",\"\",IF((G449*D449-1)>=Coeff!$B$5,Coeff!$B$3/Coeff!$B$4*(G449*D449-1)/(G449-1),0))","v":""},{"$f":"IF(I449=\"\",\"\",IF((I449*F449-1)>=Coeff!$B$5,Coeff!$B$3/Coeff!$B$4*(I449*F449-1)/(I449-1),0))","v":""}]
[null,null,null,null,null,null,null,null,null,{"$f":"IF(G450=\"\",\"\",IF((G450*D450-1)>=Coeff!$B$5,Coeff!$B$3/Coeff!$B$4*(G450*D450-1)/(G450-1),0))","v":""},{"$f":"IF(I450=\"\",\"\",IF((I450*F450-1)>=Coeff!$B$5,Coeff!$B$3/Coeff!$B$4*(I450*F450-1)/(I450-1),0))","v":""}]
[null,null,null,null,null,null,null,null,null,{"$f":"IF(G451=\"\",\"\",IF((G451*D451-1)>=Coeff!$B$5,Coeff!$B$3/Coeff!$B$4*(G451*D451-1)/(G451-1),0))","v":""},{"$f":"IF(I451=\"\",\"\",IF((I451*F451-1)>=Coeff!$B$5,Coeff!$B$3/Coeff!$B$4*(I451*F451-1)/(I451-1),0))","v":""}]
[null,null,null,null,null,null,null,null,null,{"$f":"IF(G452=\"\",\"\",IF((G452*D452-1)>=Coeff!$B$5,Coeff!$B$3/Coeff!$B$4*(G452*D452-1)/(G452-1),0))","v":""},{"$f":"IF(I452=\"\",\"\",IF((I452*F452-1)>=Coeff!$B$5,Coeff!$B$3/Coeff!$B$4*(I452*F452-1)/(I452-1),0))","v":""}]
[null,null,null,null,null,null,null,null,null,{"$f":"IF(G453=\"\",\"\",IF((G453*D453-1)>=Coeff!$B$5,Coeff!$B$3/Coeff!$B$4*(G453*D453-1)/(G453-1),0))","v":""},{"$f":"IF(I453=\"\",\"\",IF((I453*F453-1)>=Coeff!$B$5,Coeff!$B$3/Coeff!$B$4*(I453*F453-1)/(I453-1),0))","v":""}]
[null,null,null,null,null,null,null,null,null,{"$f":"IF(G454=\"\",\"\",IF((G454*D454-1)>=Coeff!$B$5,Coeff!$B$3/Coeff!$B$4*(G454*D454-1)/(G454-1),0))","v":""},{"$f":"IF(I454=\"\",\"\",IF((I454*F454-1)>=Coeff!$B$5,Coeff!$B$3/Coeff!$B$4*(I454*F454-1)/(I454-1),0))","v":""}]
[null,null,null,null,null,null,null,null,null,{"$f":"IF(G455=\"\",\"\",IF((G455*D455-1)>=Coeff!$B$5,Coeff!$B$3/Coeff!$B$4*(G455*D455-1)/(G455-1),0))","v":""},{"$f":"IF(I455=\"\",\"\",IF((I455*F455-1)>=Coeff!$B$5,Coeff!$B$3/Coeff!$B$4*(I455*F455-1)/(I455-1),0))","v":""}]
[null,null,null,null,null,null,null,null,null,{"$f":"IF(G456=\"\",\"\",IF((G456*D456-1)>=Coeff!$B$5,Coeff!$B$3/Coeff!$B$4*(G456*D456-1)/(G456-1),0))","v":""},{"$f":"IF(I456=\"\",\"\",IF((I456*F456-1)>=Coeff!$B$5,Coeff!$B$3/Coeff!$B$4*(I456*F456-1)/(I456-1),0))","v":""}]
[null,null,null,null,null,null,null,null,null,{"$f":"IF(G457=\"\",\"\",IF((G457*D457-1)>=Coeff!$B$5,Coeff!$B$3/Coeff!$B$4*(G457*D457-1)/(G457-1),0))","v":""},{"$f":"IF(I457=\"\",\"\",IF((I457*F457-1)>=Coeff!$B$5,Coeff!$B$3/Coeff!$B$4*(I457*F457-1)/(I457-1),0))","v":""}]
[null,null,null,null,null,null,null,null,null,{"$f":"IF(G458=\"\",\"\",IF((G458*D458-1)>=Coeff!$B$5,Coeff!$B$3/Coeff!$B$4*(G458*D458-1)/(G458-1),0))","v":""},{"$f":"IF(I458=\"\",\"\",IF((I458*F458-1)>=Coeff!$B$5,Coeff!$B$3/Coeff!$B$4*(I458*F458-1)/(I458-1),0))","v":""}]
[null,null,null,null,null,null,null,null,null,{"$f":"IF(G459=\"\",\"\",IF((G459*D459-1)>=Coeff!$B$5,Coeff!$B$3/Coeff!$B$4*(G459*D459-1)/(G459-1),0))","v":""},{"$f":"IF(I459=\"\",\"\",IF((I459*F459-1)>=Coeff!$B$5,Coeff!$B$3/Coeff!$B$4*(I459*F459-1)/(I459-1),0))","v":""}]
[null,null,null,null,null,null,null,null,null,{"$f":"IF(G460=\"\",\"\",IF((G460*D460-1)>=Coeff!$B$5,Coeff!$B$3/Coeff!$B$4*(G460*D460-1)/(G460-1),0))","v":""},{"$f":"IF(I460=\"\",\"\",IF((I460*F460-1)>=Coeff!$B$5,Coeff!$B$3/Coeff!$B$4*(I460*F460-1)/(I460-1),0))","v":""}]
[null,null,null,null,null,null,null,null,null,{"$f":"IF(G461=\"\",\"\",IF((G461*D461-1)>=Coeff!$B$5,Coeff!$B$3/Coeff!$B$4*(G461*D461-1)/(G461-1),0))","v":""},{"$f":"IF(I461=\"\",\"\",IF((I461*F461-1)>=Coeff!$B$5,Coeff!$B$3/Coeff!$B$4*(I461*F461-1)/(I461-1),0))","v":""}]
[null,null,null,null,null,null,null,null,null,{"$f":"IF(G462=\"\",\"\",IF((G462*D462-1)>=Coeff!$B$5,Coeff!$B$3/Coeff!$B$4*(G462*D462-1)/(G462-1),0))","v":""},{"$f":"IF(I462=\"\",\"\",IF((I462*F462-1)>=Coeff!$B$5,Coeff!$B$3/Coeff!$B$4*(I462*F462-1)/(I462-1),0))","v":""}]
[null,null,null,null,null,null,null,null,null,{"$f":"IF(G463=\"\",\"\",IF((G463*D463-1)>=Coeff!$B$5,Coeff!$B$3/Coeff!$B$4*(G463*D463-1)/(G463-1),0))","v":""},{"$f":"IF(I463=\"\",\"\",IF((I463*F463-1)>=Coeff!$B$5,Coeff!$B$3/Coeff!$B$4*(I463*F463-1)/(I463-1),0))","v":""}]
[null,null,null,null,null,null,null,null,null,{"$f":"IF(G464=\"\",\"\",IF((G464*D464-1)>=Coeff!$B$5,Coeff!$B$3/Coeff!$B$4*(G464*D464-1)/(G464-1),0))","v":""},{"$f":"IF(I464=\"\",\"\",IF((I464*F464-1)>=Coeff!$B$5,Coeff!$B$3/Coeff!$B$4*(I464*F464-1)/(I464-1),0))","v":""}]
[null,null,null,null,null,null,null,null,null,{"$f":"IF(G465=\"\",\"\",IF((G465*D465-1)>=Coeff!$B$5,Coeff!$B$3/Coeff!$B$4*(G465*D465-1)/(G465-1),0))","v":""},{"$f":"IF(I465=\"\",\"\",IF((I465*F465-1)>=Coeff!$B$5,Coeff!$B$3/Coeff!$B$4*(I465*F465-1)/(I465-1),0))","v":""}]
[null,null,null,null,null,null,null,null,null,{"$f":"IF(G466=\"\",\"\",IF((G466*D466-1)>=Coeff!$B$5,Coeff!$B$3/Coeff!$B$4*(G466*D466-1)/(G466-1),0))","v":""},{"$f":"IF(I466=\"\",\"\",IF((I466*F466-1)>=Coeff!$B$5,Coeff!$B$3/Coeff!$B$4*(I466*F466-1)/(I466-1),0))","v":""}]
[null,null,null,null,null,null,null,null,null,{"$f":"IF(G467=\"\",\"\",IF((G467*D467-1)>=Coeff!$B$5,Coeff!$B$3/Coeff!$B$4*(G467*D467-1)/(G467-1),0))","v":""},{"$f":"IF(I467=\"\",\"\",IF((I467*F467-1)>=Coeff!$B$5,Coeff!$B$3/Coeff!$B$4*(I467*F467-1)/(I467-1),0))","v":""}]
[null,null,null,null,null,null,null,null,null,{"$f":"IF(G468=\"\",\"\",IF((G468*D468-1)>=Coeff!$B$5,Coeff!$B$3/Coeff!$B$4*(G468*D468-1)/(G468-1),0))","v":""},{"$f":"IF(I468=\"\",\"\",IF((I468*F468-1)>=Coeff!$B$5,Coeff!$B$3/Coeff!$B$4*(I468*F468-1)/(I468-1),0))","v":""}]
[null,null,null,null,null,null,null,null,null,{"$f":"IF(G469=\"\",\"\",IF((G469*D469-1)>=Coeff!$B$5,Coeff!$B$3/Coeff!$B$4*(G469*D469-1)/(G469-1),0))","v":""},{"$f":"IF(I469=\"\",\"\",IF((I469*F469-1)>=Coeff!$B$5,Coeff!$B$3/Coeff!$B$4*(I469*F469-1)/(I469-1),0))","v":""}]
[null,null,null,null,null,null,null,null,null,{"$f":"IF(G470=\"\",\"\",IF((G470*D470-1)>=Coeff!$B$5,Coeff!$B$3/Coeff!$B$4*(G470*D470-1)/(G470-1),0))","v":""},{"$f":"IF(I470=\"\",\"\",IF((I470*F470-1)>=Coeff!$B$5,Coeff!$B$3/Coeff!$B$4*(I470*F470-1)/(I470-1),0))","v":""}]
[null,null,null,null,null,null,null,null,null,{"$f":"IF(G471=\"\",\"\",IF((G471*D471-1)>=Coeff!$B$5,Coeff!$B$3/Coeff!$B$4*(G471*D471-1)/(G471-1),0))","v":""},{"$f":"IF(I471=\"\",\"\",IF((I471*F471-1)>=Coeff!$B$5,Coeff!$B$3/Coeff!$B$4*(I471*F471-1)/(I471-1),0))","v":""}]
[null,null,null,null,null,null,null,null,null,{"$f":"IF(G472=\"\",\"\",IF((G472*D472-1)>=Coeff!$B$5,Coeff!$B$3/Coeff!$B$4*(G472*D472-1)/(G472-1),0))","v":""},{"$f":"IF(I472=\"\",\"\",IF((I472*F472-1)>=Coeff!$B$5,Coeff!$B$3/Coeff!$B$4*(I472*F472-1)/(I472-1),0))","v":""}]
[null,null,null,null,null,null,null,null,null,{"$f":"IF(G473=\"\",\"\",IF((G473*D473-1)>=Coeff!$B$5,Coeff!$B$3/Coeff!$B$4*(G473*D473-1)/(G473-1),0))","v":""},{"$f":"IF(I473=\"\",\"\",IF((I473*F473-1)>=Coeff!$B$5,Coeff!$B$3/Coeff!$B$4*(I473*F473-1)/(I473-1),0))","v":""}]
[null,null,null,null,null,null,null,null,null,{"$f":"IF(G474=\"\",\"\",IF((G474*D474-1)>=Coeff!$B$5,Coeff!$B$3/Coeff!$B$4*(G474*D474-1)/(G474-1),0))","v":""},{"$f":"IF(I474=\"\",\"\",IF((I474*F474-1)>=Coeff!$B$5,Coeff!$B$3/Coeff!$B$4*(I474*F474-1)/(I474-1),0))","v":""}]
[null,null,null,null,null,null,null,null,null,{"$f":"IF(G475=\"\",\"\",IF((G475*D475-1)>=Coeff!$B$5,Coeff!$B$3/Coeff!$B$4*(G475*D475-1)/(G475-1),0))","v":""},{"$f":"IF(I475=\"\",\"\",IF((I475*F475-1)>=Coeff!$B$5,Coeff!$B$3/Coeff!$B$4*(I475*F475-1)/(I475-1),0))","v":""}]
[null,null,null,null,null,null,null,null,null,{"$f":"IF(G476=\"\",\"\",IF((G476*D476-1)>=Coeff!$B$5,Coeff!$B$3/Coeff!$B$4*(G476*D476-1)/(G476-1),0))","v":""},{"$f":"IF(I476=\"\",\"\",IF((I476*F476-1)>=Coeff!$B$5,Coeff!$B$3/Coeff!$B$4*(I476*F476-1)/(I476-1),0))","v":""}]
[null,null,null,null,null,null,null,null,null,{"$f":"IF(G477=\"\",\"\",IF((G477*D477-1)>=Coeff!$B$5,Coeff!$B$3/Coeff!$B$4*(G477*D477-1)/(G477-1),0))","v":""},{"$f":"IF(I477=\"\",\"\",IF((I477*F477-1)>=Coeff!$B$5,Coeff!$B$3/Coeff!$B$4*(I477*F477-1)/(I477-1),0))","v":""}]
[null,null,null,null,null,null,null,null,null,{"$f":"IF(G478=\"\",\"\",IF((G478*D478-1)>=Coeff!$B$5,Coeff!$B$3/Coeff!$B$4*(G478*D478-1)/(G478-1),0))","v":""},{"$f":"IF(I478=\"\",\"\",IF((I478*F478-1)>=Coeff!$B$5,Coeff!$B$3/Coeff!$B$4*(I478*F478-1)/(I478-1),0))","v":""}]
[null,null,null,null,null,null,null,null,null,{"$f":"IF(G479=\"\",\"\",IF((G479*D479-1)>=Coeff!$B$5,Coeff!$B$3/Coeff!$B$4*(G479*D479-1)/(G479-1),0))","v":""},{"$f":"IF(I479=\"\",\"\",IF((I479*F479-1)>=Coeff!$B$5,Coeff!$B$3/Coeff!$B$4*(I479*F479-1)/(I479-1),0))","v":""}]
[null,null,null,null,null,null,null,null,null,{"$f":"IF(G480=\"\",\"\",IF((G480*D480-1)>=Coeff!$B$5,Coeff!$B$3/Coeff!$B$4*(G480*D480-1)/(G480-1),0))","v":""},{"$f":"IF(I480=\"\",\"\",IF((I480*F480-1)>=Coeff!$B$5,Coeff!$B$3/Coeff!$B$4*(I480*F480-1)/(I480-1),0))","v":""}]
[null,null,null,null,null,null,null,null,null,{"$f":"IF(G481=\"\",\"\",IF((G481*D481-1)>=Coeff!$B$5,Coeff!$B$3/Coeff!$B$4*(G481*D481-1)/(G481-1),0))","v":""},{"$f":"IF(I481=\"\",\"\",IF((I481*F481-1)>=Coeff!$B$5,Coeff!$B$3/Coeff!$B$4*(I481*F481-1)/(I481-1),0))","v":""}]
[null,null,null,null,null,null,null,null,null,{"$f":"IF(G482=\"\",\"\",IF((G482*D482-1)>=Coeff!$B$5,Coeff!$B$3/Coeff!$B$4*(G482*D482-1)/(G482-1),0))","v":""},{"$f":"IF(I482=\"\",\"\",IF((I482*F482-1)>=Coeff!$B$5,Coeff!$B$3/Coeff!$B$4*(I482*F482-1)/(I482-1),0))","v":""}]
[null,null,null,null,null,null,null,null,null,{"$f":"IF(G483=\"\",\"\",IF((G483*D483-1)>=Coeff!$B$5,Coeff!$B$3/Coeff!$B$4*(G483*D483-1)/(G483-1),0))","v":""},{"$f":"IF(I483=\"\",\"\",IF((I483*F483-1)>=Coeff!$B$5,Coeff!$B$3/Coeff!$B$4*(I483*F483-1)/(I483-1),0))","v":""}]
[null,null,null,null,null,null,null,null,null,{"$f":"IF(G484=\"\",\"\",IF((G484*D484-1)>=Coeff!$B$5,Coeff!$B$3/Coeff!$B$4*(G484*D484-1)/(G484-1),0))","v":""},{"$f":"IF(I484=\"\",\"\",IF((I484*F484-1)>=Coeff!$B$5,Coeff!$B$3/Coeff!$B$4*(I484*F484-1)/(I484-1),0))","v":""}]
[null,null,null,null,null,null,null,null,null,{"$f":"IF(G485=\"\",\"\",IF((G485*D485-1)>=Coeff!$B$5,Coeff!$B$3/Coeff!$B$4*(G485*D485-1)/(G485-1),0))","v":""},{"$f":"IF(I485=\"\",\"\",IF((I485*F485-1)>=Coeff!$B$5,Coeff!$B$3/Coeff!$B$4*(I485*F485-1)/(I485-1),0))","v":""}]
[null,null,null,null,null,null,null,null,null,{"$f":"IF(G486=\"\",\"\",IF((G486*D486-1)>=Coeff!$B$5,Coeff!$B$3/Coeff!$B$4*(G486*D486-1)/(G486-1),0))","v":""},{"$f":"IF(I486=\"\",\"\",IF((I486*F486-1)>=Coeff!$B$5,Coeff!$B$3/Coeff!$B$4*(I486*F486-1)/(I486-1),0))","v":""}]
[null,null,null,null,null,null,null,null,null,{"$f":"IF(G487=\"\",\"\",IF((G487*D487-1)>=Coeff!$B$5,Coeff!$B$3/Coeff!$B$4*(G487*D487-1)/(G487-1),0))","v":""},{"$f":"IF(I487=\"\",\"\",IF((I487*F487-1)>=Coeff!$B$5,Coeff!$B$3/Coeff!$B$4*(I487*F487-1)/(I487-1),0))","v":""}]
[null,null,null,null,null,null,null,null,null,{"$f":"IF(G488=\"\",\"\",IF((G488*D488-1)>=Coeff!$B$5,Coeff!$B$3/Coeff!$B$4*(G488*D488-1)/(G488-1),0))","v":""},{"$f":"IF(I488=\"\",\"\",IF((I488*F488-1)>=Coeff!$B$5,Coeff!$B$3/Coeff!$B$4*(I488*F488-1)/(I488-1),0))","v":""}]
[null,null,null,null,null,null,null,null,null,{"$f":"IF(G489=\"\",\"\",IF((G489*D489-1)>=Coeff!$B$5,Coeff!$B$3/Coeff!$B$4*(G489*D489-1)/(G489-1),0))","v":""},{"$f":"IF(I489=\"\",\"\",IF((I489*F489-1)>=Coeff!$B$5,Coeff!$B$3/Coeff!$B$4*(I489*F489-1)/(I489-1),0))","v":""}]
[null,null,null,null,null,null,null,null,null,{"$f":"IF(G490=\"\",\"\",IF((G490*D490-1)>=Coeff!$B$5,Coeff!$B$3/Coeff!$B$4*(G490*D490-1)/(G490-1),0))","v":""},{"$f":"IF(I490=\"\",\"\",IF((I490*F490-1)>=Coeff!$B$5,Coeff!$B$3/Coeff!$B$4*(I490*F490-1)/(I490-1),0))","v":""}]
[null,null,null,null,null,null,null,null,null,{"$f":"IF(G491=\"\",\"\",IF((G491*D491-1)>=Coeff!$B$5,Coeff!$B$3/Coeff!$B$4*(G491*D491-1)/(G491-1),0))","v":""},{"$f":"IF(I491=\"\",\"\",IF((I491*F491-1)>=Coeff!$B$5,Coeff!$B$3/Coeff!$B$4*(I491*F491-1)/(I491-1),0))","v":""}]
[null,null,null,null,null,null,null,null,null,{"$f":"IF(G492=\"\",\"\",IF((G492*D492-1)>=Coeff!$B$5,Coeff!$B$3/Coeff!$B$4*(G492*D492-1)/(G492-1),0))","v":""},{"$f":"IF(I492=\"\",\"\",IF((I492*F492-1)>=Coeff!$B$5,Coeff!$B$3/Coeff!$B$4*(I492*F492-1)/(I492-1),0))","v":""}]
[null,null,null,null,null,null,null,null,null,{"$f":"IF(G493=\"\",\"\",IF((G493*D493-1)>=Coeff!$B$5,Coeff!$B$3/Coeff!$B$4*(G493*D493-1)/(G493-1),0))","v":""},{"$f":"IF(I493=\"\",\"\",IF((I493*F493-1)>=Coeff!$B$5,Coeff!$B$3/Coeff!$B$4*(I493*F493-1)/(I493-1),0))","v":""}]
[null,null,null,null,null,null,null,null,null,{"$f":"IF(G494=\"\",\"\",IF((G494*D494-1)>=Coeff!$B$5,Coeff!$B$3/Coeff!$B$4*(G494*D494-1)/(G494-1),0))","v":""},{"$f":"IF(I494=\"\",\"\",IF((I494*F494-1)>=Coeff!$B$5,Coeff!$B$3/Coeff!$B$4*(I494*F494-1)/(I494-1),0))","v":""}]
[null,null,null,null,null,null,null,null,null,{"$f":"IF(G495=\"\",\"\",IF((G495*D495-1)>=Coeff!$B$5,Coeff!$B$3/Coeff!$B$4*(G495*D495-1)/(G495-1),0))","v":""},{"$f":"IF(I495=\"\",\"\",IF((I495*F495-1)>=Coeff!$B$5,Coeff!$B$3/Coeff!$B$4*(I495*F495-1)/(I495-1),0))","v":""}]
[null,null,null,null,null,null,null,null,null,{"$f":"IF(G496=\"\",\"\",IF((G496*D496-1)>=Coeff!$B$5,Coeff!$B$3/Coeff!$B$4*(G496*D496-1)/(G496-1),0))","v":""},{"$f":"IF(I496=\"\",\"\",IF((I496*F496-1)>=Coeff!$B$5,Coeff!$B$3/Coeff!$B$4*(I496*F496-1)/(I496-1),0))","v":""}]
[null,null,null,null,null,null,null,null,null,{"$f":"IF(G497=\"\",\"\",IF((G497*D497-1)>=Coeff!$B$5,Coeff!$B$3/Coeff!$B$4*(G497*D497-1)/(G497-1),0))","v":""},{"$f":"IF(I497=\"\",\"\",IF((I497*F497-1)>=Coeff!$B$5,Coeff!$B$3/Coeff!$B$4*(I497*F497-1)/(I497-1),0))","v":""}]
[null,null,null,null,null,null,null,null,null,{"$f":"IF(G498=\"\",\"\",IF((G498*D498-1)>=Coeff!$B$5,Coeff!$B$3/Coeff!$B$4*(G498*D498-1)/(G498-1),0))","v":""},{"$f":"IF(I498=\"\",\"\",IF((I498*F498-1)>=Coeff!$B$5,Coeff!$B$3/Coeff!$B$4*(I498*F498-1)/(I498-1),0))","v":""}]
[null,null,null,null,null,null,null,null,null,{"$f":"IF(G499=\"\",\"\",IF((G499*D499-1)>=Coeff!$B$5,Coeff!$B$3/Coeff!$B$4*(G499*D499-1)/(G499-1),0))","v":""},{"$f":"IF(I499=\"\",\"\",IF((I499*F499-1)>=Coeff!$B$5,Coeff!$B$3/Coeff!$B$4*(I499*F499-1)/(I499-1),0))","v":""}]
[null,null,null,null,null,null,null,null,null,{"$f":"IF(G500=\"\",\"\",IF((G500*D500-1)>=Coeff!$B$5,Coeff!$B$3/Coeff!$B$4*(G500*D500-1)/(G500-1),0))","v":""},{"$f":"IF(I500=\"\",\"\",IF((I500*F500-1)>=Coeff!$B$5,Coeff!$B$3/Coeff!$B$4*(I500*F500-1)/(I500-1),0))","v":""}]

{"sheet":"handicap","index":2,"n_rows":500,"n_cols":9,"rows_kept":500,"cut":false,"hidden":false,"merged":[]}
[]
[]
["League","Team1","Team2","Line","ProbLine","Odds1","Odds2"," $Bet1 "," $Bet2 "]
["Austria tipp3-Bundesliga","Wiener Neustadt","RZ Pellets WAC",0,0.54600000000000004,1.74,2.2000000000000002,{"$f":"IF(F4=\"\",\"\",IF((F4*E4-1)>=Coeff!$B$10,Coeff!$B$8/Coeff!$B$9*(F4*E4-1)/(F4-1),0))","v":0},{"$f":"IF(G4=\"\",\"\",IF((G4*(1-E4)-1)>=Coeff!$B$10,Coeff!$B$8/Coeff!$B$9*(G4*(1-E4)-1)/(G4-1),0))","v":0}]
["Austria tipp3-Bundesliga","Austria Wien","Mattersburg",-1.5,0.57999999999999996,1.95,2,{"$f":"IF(F5=\"\",\"\",IF((F5*E5-1)>=Coeff!$B$10,Coeff!$B$8/Coeff!$B$9*(F5*E5-1)/(F5-1),0))","v":13.789473684210529},{"$f":"IF(G5=\"\",\"\",IF((G5*(1-E5)-1)>=Coeff!$B$10,Coeff!$B$8/Coeff!$B$9*(G5*(1-E5)-1)/(G5-1),0))","v":0}]
["Austria tipp3-Bundesliga","Adm/Modling","Rapid Wien",0.25,0.55900000000000005,1.84,2.09,{"$f":"IF(F6=\"\",\"\",IF((F6*E6-1)>=Coeff!$B$10,Coeff!$B$8/Coeff!$B$9*(F6*E6-1)/(F6-1),0))","v":0},{"$f":"IF(G6=\"\",\"\",IF((G6*(1-E6)-1)>=Coeff!$B$10,Coeff!$B$8/Coeff!$B$9*(G6*(1-E6)-1)/(G6-1),0))","v":0}]
["Austria tipp3-Bundesliga","FC Wacker Innsbruck","Sturm Graz",0,0.48399999999999999,1.82,2.13,{"$f":"IF(F7=\"\",\"\",IF((F7*E7-1)>=Coeff!$B$10,Coeff!$B$8/Coeff!$B$9*(F7*E7-1)/(F7-1),0))","v":0},{"$f":"IF(G7=\"\",\"\",IF((G7*(1-E7)-1)>=Coeff!$B$10,Coeff!$B$8/Coeff!$B$9*(G7*(1-E7)-1)/(G7-1),0))","v":8.7681415929203599}]
["Austria tipp3-Bundesliga","Ried","Salzburg",0.5,0.52300000000000002,2.06,1.86,{"$f":"IF(F8=\"\",\"\",IF((F8*E8-1)>=Coeff!$B$10,Coeff!$B$8/Coeff!$B$9*(F8*E8-1)/(F8-1),0))","v":7.3},{"$f":"IF(G8=\"\",\"\",IF((G8*(1-E8)-1)>=Coeff!$B$10,Coeff!$B$8/Coeff!$B$9*(G8*(1-E8)-1)/(G8-1),0))","v":0}]
["Austria ADEG Erste Liga","Vienna FC","SV Horn",null,null,null,null,{"$f":"IF(F9=\"\",\"\",IF((F9*E9-1)>=Coeff!$B$10,Coeff!$B$8/Coeff!$B$9*(F9*E9-1)/(F9-1),0))","v":""},{"$f":"IF(G9=\"\",\"\",IF((G9*(1-E9)-1)>=Coeff!$B$10,Coeff!$B$8/Coeff!$B$9*(G9*(1-E9)-1)/(G9-1),0))","v":""}]
["Belarus Premier Division","FC Minsk","Shakhtyor Soligorsk",0.5,0.41,1.88,1.93,{"$f":"IF(F10=\"\",\"\",IF((F10*E10-1)>=Coeff!$B$10,Coeff!$B$8/Coeff!$B$9*(F10*E10-1)/(F10-1),0))","v":0},{"$f":"IF(G10=\"\",\"\",IF((G10*(1-E10)-1)>=Coeff!$B$10,Coeff!$B$8/Coeff!$B$9*(G10*(1-E10)-1)/(G10-1),0))","v":14.913978494623661}]
["Belarus Premier Division","Belshina Bobruisk","Dinamo Minsk",0.5,0.51700000000000002,1.89,1.98,{"$f":"IF(F11=\"\",\"\",IF((F11*E11-1)>=Coeff!$B$10,Coeff!$B$8/Coeff!$B$9*(F11*E11-1)/(F11-1),0))","v":0},{"$f":"IF(G11=\"\",\"\",IF((G11*(1-E11)-1)>=Coeff!$B$10,Coeff!$B$8/Coeff!$B$9*(G11*(1-E11)-1)/(G11-1),0))","v":0}]
["Bulgaria A Grupa","Botev Vratsa","Montana",null,null,null,null,{"$f":"IF(F12=\"\",\"\",IF((F12*E12-1)>=Coeff!$B$10,Coeff!$B$8/Coeff!$B$9*(F12*E12-1)/(F12-1),0))","v":""},{"$f":"IF(G12=\"\",\"\",IF((G12*(1-E12)-1)>=Coeff!$B$10,Coeff!$B$8/Coeff!$B$9*(G12*(1-E12)-1)/(G12-1),0))","v":""}]
["Bulgaria A Grupa","Slavia Sofia","Chernomorets Burgas",null,null,null,null,{"$f":"IF(F13=\"\",\"\",IF((F13*E13-1)>=Coeff!$B$10,Coeff!$B$8/Coeff!$B$9*(F13*E13-1)/(F13-1),0))","v":""},{"$f":"IF(G13=\"\",\"\",IF((G13*(1-E13)-1)>=Coeff!$B$10,Coeff!$B$8/Coeff!$B$9*(G13*(1-E13)-1)/(G13-1),0))","v":""}]
["Bulgaria A Grupa","Litex Lovech","Lokomotiv Sofia",null,null,null,null,{"$f":"IF(F14=\"\",\"\",IF((F14*E14-1)>=Coeff!$B$10,Coeff!$B$8/Coeff!$B$9*(F14*E14-1)/(F14-1),0))","v":""},{"$f":"IF(G14=\"\",\"\",IF((G14*(1-E14)-1)>=Coeff!$B$10,Coeff!$B$8/Coeff!$B$9*(G14*(1-E14)-1)/(G14-1),0))","v":""}]
["Bulgaria A Grupa","Lokomotiv Plovdiv","Beroe",null,null,null,null,{"$f":"IF(F15=\"\",\"\",IF((F15*E15-1)>=Coeff!$B$10,Coeff!$B$8/Coeff!$B$9*(F15*E15-1)/(F15-1),0))","v":""},{"$f":"IF(G15=\"\",\"\",IF((G15*(1-E15)-1)>=Coeff!$B$10,Coeff!$B$8/Coeff!$B$9*(G15*(1-E15)-1)/(G15-1),0))","v":""}]
["Bulgaria A Grupa","Minyor","Cherno More Varna",null,null,null,null,{"$f":"IF(F16=\"\",\"\",IF((F16*E16-1)>=Coeff!$B$10,Coeff!$B$8/Coeff!$B$9*(F16*E16-1)/(F16-1),0))","v":""},{"$f":"IF(G16=\"\",\"\",IF((G16*(1-E16)-1)>=Coeff!$B$10,Coeff!$B$8/Coeff!$B$9*(G16*(1-E16)-1)/(G16-1),0))","v":""}]
["Bulgaria A Grupa","PFC Ludogorets Razgrad","Botev Plovdiv",null,null,null,null,{"$f":"IF(F17=\"\",\"\",IF((F17*E17-1)>=Coeff!$B$10,Coeff!$B$8/Coeff!$B$9*(F17*E17-1)/(F17-1),0))","v":""},{"$f":"IF(G17=\"\",\"\",IF((G17*(1-E17)-1)>=Coeff!$B$10,Coeff!$B$8/Coeff!$B$9*(G17*(1-E17)-1)/(G17-1),0))","v":""}]
["Bulgaria A Grupa","CSKA Sofia","Pirin Gotse Delchev",null,null,null,null,{"$f":"IF(F18=\"\",\"\",IF((F18*E18-1)>=Coeff!$B$10,Coeff!$B$8/Coeff!$B$9*(F18*E18-1)/(F18-1),0))","v":""},{"$f":"IF(G18=\"\",\"\",IF((G18*(1-E18)-1)>=Coeff!$B$10,Coeff!$B$8/Coeff!$B$9*(G18*(1-E18)-1)/(G18-1),0))","v":""}]
["Czech Republic Gambrinus League","Jihlava","Slovacko",-0.25,0.48899999999999999,2.14,1.81,{"$f":"IF(F19=\"\",\"\",IF((F19*E19-1)>=Coeff!$B$10,Coeff!$B$8/Coeff!$B$9*(F19*E19-1)/(F19-1),0))","v":0},{"$f":"IF(G19=\"\",\"\",IF((G19*(1-E19)-1)>=Coeff!$B$10,Coeff!$B$8/Coeff!$B$9*(G19*(1-E19)-1)/(G19-1),0))","v":0}]
["Czech Republic Gambrinus League","Slavia Prague","Budejovice",-0.75,0.61199999999999999,1.93,1.99,{"$f":"IF(F20=\"\",\"\",IF((F20*E20-1)>=Coeff!$B$10,Coeff!$B$8/Coeff!$B$9*(F20*E20-1)/(F20-1),0))","v":19.479569892473119},{"$f":"IF(G20=\"\",\"\",IF((G20*(1-E20)-1)>=Coeff!$B$10,Coeff!$B$8/Coeff!$B$9*(G20*(1-E20)-1)/(G20-1),0))","v":0}]
["Czech Republic Gambrinus League","Banik Ostrava","Dukla Praha",-0.25,0.38,2.11,1.83,{"$f":"IF(F21=\"\",\"\",IF((F21*E21-1)>=Coeff!$B$10,Coeff!$B$8/Coeff!$B$9*(F21*E21-1)/(F21-1),0))","v":0},{"$f":"IF(G21=\"\",\"\",IF((G21*(1-E21)-1)>=Coeff!$B$10,Coeff!$B$8/Coeff!$B$9*(G21*(1-E21)-1)/(G21-1),0))","v":16.216867469879521}]
["Czech Republic Gambrinus League","M Boleslav","Jablonec",0,0.56899999999999995,1.71,2.31,{"$f":"IF(F22=\"\",\"\",IF((F22*E22-1)>=Coeff!$B$10,Coeff!$B$8/Coeff!$B$9*(F22*E22-1)/(F22-1),0))","v":0},{"$f":"IF(G22=\"\",\"\",IF((G22*(1-E22)-1)>=Coeff!$B$10,Coeff!$B$8/Coeff!$B$9*(G22*(1-E22)-1)/(G22-1),0))","v":0}]
["Czech Republic Gambrinus League","Sigma Olomouc","Viktoria Plzen",0.5,0.61199999999999999,2.13,1.81,{"$f":"IF(F23=\"\",\"\",IF((F23*E23-1)>=Coeff!$B$10,Coeff!$B$8/Coeff!$B$9*(F23*E23-1)/(F23-1),0))","v":26.863716814159279},{"$f":"IF(G23=\"\",\"\",IF((G23*(1-E23)-1)>=Coeff!$B$10,Coeff!$B$8/Coeff!$B$9*(G23*(1-E23)-1)/(G23-1),0))","v":0}]
["Czech Republic Gambrinus League","Brno","Sparta Prague",1,0.55000000000000004,2.23,1.77,{"$f":"IF(F24=\"\",\"\",IF((F24*E24-1)>=Coeff!$B$10,Coeff!$B$8/Coeff!$B$9*(F24*E24-1)/(F24-1),0))","v":18.414634146341474},{"$f":"IF(G24=\"\",\"\",IF((G24*(1-E24)-1)>=Coeff!$B$10,Coeff!$B$8/Coeff!$B$9*(G24*(1-E24)-1)/(G24-1),0))","v":0}]
["Czech Republic Druha League","Most","Karvina",null,null,null,null,{"$f":"IF(F25=\"\",\"\",IF((F25*E25-1)>=Coeff!$B$10,Coeff!$B$8/Coeff!$B$9*(F25*E25-1)/(F25-1),0))","v":""},{"$f":"IF(G25=\"\",\"\",IF((G25*(1-E25)-1)>=Coeff!$B$10,Coeff!$B$8/Coeff!$B$9*(G25*(1-E25)-1)/(G25-1),0))","v":""}]
["Czech Republic Druha League","FK MAS Taborsko","Slovan Varnsdorf",null,null,null,null,{"$f":"IF(F26=\"\",\"\",IF((F26*E26-1)>=Coeff!$B$10,Coeff!$B$8/Coeff!$B$9*(F26*E26-1)/(F26-1),0))","v":""},{"$f":"IF(G26=\"\",\"\",IF((G26*(1-E26)-1)>=Coeff!$B$10,Coeff!$B$8/Coeff!$B$9*(G26*(1-E26)-1)/(G26-1),0))","v":""}]
["Czech Republic Druha League","Sokolov","Opava",null,null,null,null,{"$f":"IF(F27=\"\",\"\",IF((F27*E27-1)>=Coeff!$B$10,Coeff!$B$8/Coeff!$B$9*(F27*E27-1)/(F27-1),0))","v":""},{"$f":"IF(G27=\"\",\"\",IF((G27*(1-E27)-1)>=Coeff!$B$10,Coeff!$B$8/Coeff!$B$9*(G27*(1-E27)-1)/(G27-1),0))","v":""}]
["Czech Republic Druha League","Caslav","Znojmo",null,null,null,null,{"$f":"IF(F28=\"\",\"\",IF((F28*E28-1)>=Coeff!$B$10,Coeff!$B$8/Coeff!$B$9*(F28*E28-1)/(F28-1),0))","v":""},{"$f":"IF(G28=\"\",\"\",IF((G28*(1-E28)-1)>=Coeff!$B$10,Coeff!$B$8/Coeff!$B$9*(G28*(1-E28)-1)/(G28-1),0))","v":""}]
["Czech Republic Druha League","Usti nad Labem","FC Vlasim",null,null,null,null,{"$f":"IF(F29=\"\",\"\",IF((F29*E29-1)>=Coeff!$B$10,Coeff!$B$8/Coeff!$B$9*(F29*E29-1)/(F29-1),0))","v":""},{"$f":"IF(G29=\"\",\"\",IF((G29*(1-E29)-1)>=Coeff!$B$10,Coeff!$B$8/Coeff!$B$9*(G29*(1-E29)-1)/(G29-1),0))","v":""}]
["Denmark 2. Division","Herlev","Frem",null,null,null,null,{"$f":"IF(F30=\"\",\"\",IF((F30*E30-1)>=Coeff!$B$10,Coeff!$B$8/Coeff!$B$9*(F30*E30-1)/(F30-1),0))","v":""},{"$f":"IF(G30=\"\",\"\",IF((G30*(1-E30)-1)>=Coeff!$B$10,Coeff!$B$8/Coeff!$B$9*(G30*(1-E30)-1)/(G30-1),0))","v":""}]
["Greece Super League","Pas Giannina","Atromitos",-0.25,0.58699999999999997,2.11,1.84,{"$f":"IF(F31=\"\",\"\",IF((F31*E31-1)>=Coeff!$B$10,Coeff!$B$8/Coeff!$B$9*(F31*E31-1)/(F31-1),0))","v":21.492792792792791},{"$f":"IF(G31=\"\",\"\",IF((G31*(1-E31)-1)>=Coeff!$B$10,Coeff!$B$8/Coeff!$B$9*(G31*(1-E31)-1)/(G31-1),0))","v":0}]
["Greece Super League","Asteras Tripolis","PAOK Thessaloniki FC",-0.25,0.43099999999999999,2.17,1.78,{"$f":"IF(F32=\"\",\"\",IF((F32*E32-1)>=Coeff!$B$10,Coeff!$B$8/Coeff!$B$9*(F32*E32-1)/(F32-1),0))","v":0},{"$f":"IF(G32=\"\",\"\",IF((G32*(1-E32)-1)>=Coeff!$B$10,Coeff!$B$8/Coeff!$B$9*(G32*(1-E32)-1)/(G32-1),0))","v":0}]
["Greece Football League","Olymp. Volou","Iraklis",null,null,null,null,{"$f":"IF(F33=\"\",\"\",IF((F33*E33-1)>=Coeff!$B$10,Coeff!$B$8/Coeff!$B$9*(F33*E33-1)/(F33-1),0))","v":""},{"$f":"IF(G33=\"\",\"\",IF((G33*(1-E33)-1)>=Coeff!$B$10,Coeff!$B$8/Coeff!$B$9*(G33*(1-E33)-1)/(G33-1),0))","v":""}]
["Greece Football League","Pierikos FC","Panaitolikos",null,null,null,null,{"$f":"IF(F34=\"\",\"\",IF((F34*E34-1)>=Coeff!$B$10,Coeff!$B$8/Coeff!$B$9*(F34*E34-1)/(F34-1),0))","v":""},{"$f":"IF(G34=\"\",\"\",IF((G34*(1-E34)-1)>=Coeff!$B$10,Coeff!$B$8/Coeff!$B$9*(G34*(1-E34)-1)/(G34-1),0))","v":""}]
["Greece Football League","Apollon Smirnis","Ethnikos Gazoros F.C.",null,null,null,null,{"$f":"IF(F35=\"\",\"\",IF((F35*E35-1)>=Coeff!$B$10,Coeff!$B$8/Coeff!$B$9*(F35*E35-1)/(F35-1),0))","v":""},{"$f":"IF(G35=\"\",\"\",IF((G35*(1-E35)-1)>=Coeff!$B$10,Coeff!$B$8/Coeff!$B$9*(G35*(1-E35)-1)/(G35-1),0))","v":""}]
["Greece Football League","Anagennisi Giannitsa","Kalloni Lekanopedio",null,null,null,null,{"$f":"IF(F36=\"\",\"\",IF((F36*E36-1)>=Coeff!$B$10,Coeff!$B$8/Coeff!$B$9*(F36*E36-1)/(F36-1),0))","v":""},{"$f":"IF(G36=\"\",\"\",IF((G36*(1-E36)-1)>=Coeff!$B$10,Coeff!$B$8/Coeff!$B$9*(G36*(1-E36)-1)/(G36-1),0))","v":""}]
["Greece Football League","Anagennisi Epanomi","Kavala",null,null,null,null,{"$f":"IF(F37=\"\",\"\",IF((F37*E37-1)>=Coeff!$B$10,Coeff!$B$8/Coeff!$B$9*(F37*E37-1)/(F37-1),0))","v":""},{"$f":"IF(G37=\"\",\"\",IF((G37*(1-E37)-1)>=Coeff!$B$10,Coeff!$B$8/Coeff!$B$9*(G37*(1-E37)-1)/(G37-1),0))","v":""}]
["Greece Football League","Kalithea","Fokikos",null,null,null,null,{"$f":"IF(F38=\"\",\"\",IF((F38*E38-1)>=Coeff!$B$10,Coeff!$B$8/Coeff!$B$9*(F38*E38-1)/(F38-1),0))","v":""},{"$f":"IF(G38=\"\",\"\",IF((G38*(1-E38)-1)>=Coeff!$B$10,Coeff!$B$8/Coeff!$B$9*(G38*(1-E38)-1)/(G38-1),0))","v":""}]
["Greece Football League","Iraklis Psachna FC","Panachaiki",null,null,null,null,{"$f":"IF(F39=\"\",\"\",IF((F39*E39-1)>=Coeff!$B$10,Coeff!$B$8/Coeff!$B$9*(F39*E39-1)/(F39-1),0))","v":""},{"$f":"IF(G39=\"\",\"\",IF((G39*(1-E39)-1)>=Coeff!$B$10,Coeff!$B$8/Coeff!$B$9*(G39*(1-E39)-1)/(G39-1),0))","v":""}]
["Greece Football League","Panserraikos FC","Vyzas",null,null,null,null,{"$f":"IF(F40=\"\",\"\",IF((F40*E40-1)>=Coeff!$B$10,Coeff!$B$8/Coeff!$B$9*(F40*E40-1)/(F40-1),0))","v":""},{"$f":"IF(G40=\"\",\"\",IF((G40*(1-E40)-1)>=Coeff!$B$10,Coeff!$B$8/Coeff!$B$9*(G40*(1-E40)-1)/(G40-1),0))","v":""}]
["Greece Football League","Doxa Dramas","Larisa",null,null,null,null,{"$f":"IF(F41=\"\",\"\",IF((F41*E41-1)>=Coeff!$B$10,Coeff!$B$8/Coeff!$B$9*(F41*E41-1)/(F41-1),0))","v":""},{"$f":"IF(G41=\"\",\"\",IF((G41*(1-E41)-1)>=Coeff!$B$10,Coeff!$B$8/Coeff!$B$9*(G41*(1-E41)-1)/(G41-1),0))","v":""}]
["Greece Football League","Ergotelis","Thrasyvoulos",null,null,null,null,{"$f":"IF(F42=\"\",\"\",IF((F42*E42-1)>=Coeff!$B$10,Coeff!$B$8/Coeff!$B$9*(F42*E42-1)/(F42-1),0))","v":""},{"$f":"IF(G42=\"\",\"\",IF((G42*(1-E42)-1)>=Coeff!$B$10,Coeff!$B$8/Coeff!$B$9*(G42*(1-E42)-1)/(G42-1),0))","v":""}]
["Lithuania A Lyga","FK Tauras Taurage","Zalgiris Vilnius",null,null,null,null,{"$f":"IF(F43=\"\",\"\",IF((F43*E43-1)>=Coeff!$B$10,Coeff!$B$8/Coeff!$B$9*(F43*E43-1)/(F43-1),0))","v":""},{"$f":"IF(G43=\"\",\"\",IF((G43*(1-E43)-1)>=Coeff!$B$10,Coeff!$B$8/Coeff!$B$9*(G43*(1-E43)-1)/(G43-1),0))","v":""}]
["Lithuania A Lyga","Ekranas","Banga Gargzdai",null,null,null,null,{"$f":"IF(F44=\"\",\"\",IF((F44*E44-1)>=Coeff!$B$10,Coeff!$B$8/Coeff!$B$9*(F44*E44-1)/(F44-1),0))","v":""},{"$f":"IF(G44=\"\",\"\",IF((G44*(1-E44)-1)>=Coeff!$B$10,Coeff!$B$8/Coeff!$B$9*(G44*(1-E44)-1)/(G44-1),0))","v":""}]
["Norway 1. Division","Kristiansund BK","Hødd",-0.5,0.48899999999999999,2.13,1.8,{"$f":"IF(F45=\"\",\"\",IF((F45*E45-1)>=Coeff!$B$10,Coeff!$B$8/Coeff!$B$9*(F45*E45-1)/(F45-1),0))","v":0},{"$f":"IF(G45=\"\",\"\",IF((G45*(1-E45)-1)>=Coeff!$B$10,Coeff!$B$8/Coeff!$B$9*(G45*(1-E45)-1)/(G45-1),0))","v":0}]
["Paraguay Apertura","Sol de America","General Diaz",-0.25,0.434,2.02,1.82,{"$f":"IF(F46=\"\",\"\",IF((F46*E46-1)>=Coeff!$B$10,Coeff!$B$8/Coeff!$B$9*(F46*E46-1)/(F46-1),0))","v":0},{"$f":"IF(G46=\"\",\"\",IF((G46*(1-E46)-1)>=Coeff!$B$10,Coeff!$B$8/Coeff!$B$9*(G46*(1-E46)-1)/(G46-1),0))","v":0}]
["Paraguay Apertura","Nacional","Deportivo Capiata",-1.25,0.41499999999999998,1.99,1.85,{"$f":"IF(F47=\"\",\"\",IF((F47*E47-1)>=Coeff!$B$10,Coeff!$B$8/Coeff!$B$9*(F47*E47-1)/(F47-1),0))","v":0},{"$f":"IF(G47=\"\",\"\",IF((G47*(1-E47)-1)>=Coeff!$B$10,Coeff!$B$8/Coeff!$B$9*(G47*(1-E47)-1)/(G47-1),0))","v":9.6764705882352864}]
["Paraguay Apertura","Club Deportivo Carapegua","Cerro Porteno PF",null,null,null,null,{"$f":"IF(F48=\"\",\"\",IF((F48*E48-1)>=Coeff!$B$10,Coeff!$B$8/Coeff!$B$9*(F48*E48-1)/(F48-1),0))","v":""},{"$f":"IF(G48=\"\",\"\",IF((G48*(1-E48)-1)>=Coeff!$B$10,Coeff!$B$8/Coeff!$B$9*(G48*(1-E48)-1)/(G48-1),0))","v":""}]
["Poland 1. Division","Kolejarz Stroze","Okocimski KS Brzesko",-0.25,0.67,1.85,2.0499999999999998,{"$f":"IF(F49=\"\",\"\",IF((F49*E49-1)>=Coeff!$B$10,Coeff!$B$8/Coeff!$B$9*(F49*E49-1)/(F49-1),0))","v":28.176470588235293},{"$f":"IF(G49=\"\",\"\",IF((G49*(1-E49)-1)>=Coeff!$B$10,Coeff!$B$8/Coeff!$B$9*(G49*(1-E49)-1)/(G49-1),0))","v":0}]
["Poland 1. Division","Warta Poznan","Stomil Olsztyn",0.5,0.60199999999999998,1.9,2.0099999999999998,{"$f":"IF(F50=\"\",\"\",IF((F50*E50-1)>=Coeff!$B$10,Coeff!$B$8/Coeff!$B$9*(F50*E50-1)/(F50-1),0))","v":15.977777777777771},{"$f":"IF(G50=\"\",\"\",IF((G50*(1-E50)-1)>=Coeff!$B$10,Coeff!$B$8/Coeff!$B$9*(G50*(1-E50)-1)/(G50-1),0))","v":0}]
["Poland 1. Division","Olimpia Grudziadz","Polonia Bytom",-1,0.505,2.0699999999999998,1.83,{"$f":"IF(F51=\"\",\"\",IF((F51*E51-1)>=Coeff!$B$10,Coeff!$B$8/Coeff!$B$9*(F51*E51-1)/(F51-1),0))","v":0},{"$f":"IF(G51=\"\",\"\",IF((G51*(1-E51)-1)>=Coeff!$B$10,Coeff!$B$8/Coeff!$B$9*(G51*(1-E51)-1)/(G51-1),0))","v":0}]
["Poland 1. Division","Flota Swinoujscie","Sandecja Nowy Sacz",-0.75,0.47699999999999998,2.02,1.88,{"$f":"IF(F52=\"\",\"\",IF((F52*E52-1)>=Coeff!$B$10,Coeff!$B$8/Coeff!$B$9*(F52*E52-1)/(F52-1),0))","v":0},{"$f":"IF(G52=\"\",\"\",IF((G52*(1-E52)-1)>=Coeff!$B$10,Coeff!$B$8/Coeff!$B$9*(G52*(1-E52)-1)/(G52-1),0))","v":0}]
["Serbia Super Liga","FK Donji Srem","Hajduk K.",null,null,null,null,{"$f":"IF(F53=\"\",\"\",IF((F53*E53-1)>=Coeff!$B$10,Coeff!$B$8/Coeff!$B$9*(F53*E53-1)/(F53-1),0))","v":""},{"$f":"IF(G53=\"\",\"\",IF((G53*(1-E53)-1)>=Coeff!$B$10,Coeff!$B$8/Coeff!$B$9*(G53*(1-E53)-1)/(G53-1),0))","v":""}]
["Serbia Super Liga","BSK Borca","Jagodina",null,null,null,null,{"$f":"IF(F54=\"\",\"\",IF((F54*E54-1)>=Coeff!$B$10,Coeff!$B$8/Coeff!$B$9*(F54*E54-1)/(F54-1),0))","v":""},{"$f":"IF(G54=\"\",\"\",IF((G54*(1-E54)-1)>=Coeff!$B$10,Coeff!$B$8/Coeff!$B$9*(G54*(1-E54)-1)/(G54-1),0))","v":""}]
["Serbia Super Liga","FK Spartak Zlatibor Voda","OFK Beograd",null,null,null,null,{"$f":"IF(F55=\"\",\"\",IF((F55*E55-1)>=Coeff!$B$10,Coeff!$B$8/Coeff!$B$9*(F55*E55-1)/(F55-1),0))","v":""},{"$f":"IF(G55=\"\",\"\",IF((G55*(1-E55)-1)>=Coeff!$B$10,Coeff!$B$8/Coeff!$B$9*(G55*(1-E55)-1)/(G55-1),0))","v":""}]
["Serbia Super Liga","FC Smederevo","Partizan Belgrad",null,null,null,null,{"$f":"IF(F56=\"\",\"\",IF((F56*E56-1)>=Coeff!$B$10,Coeff!$B$8/Coeff!$B$9*(F56*E56-1)/(F56-1),0))","v":""},{"$f":"IF(G56=\"\",\"\",IF((G56*(1-E56)-1)>=Coeff!$B$10,Coeff!$B$8/Coeff!$B$9*(G56*(1-E56)-1)/(G56-1),0))","v":""}]
["Serbia Super Liga","Novi Pazar","Rad",null,null,null,null,{"$f":"IF(F57=\"\",\"\",IF((F57*E57-1)>=Coeff!$B$10,Coeff!$B$8/Coeff!$B$9*(F57*E57-1)/(F57-1),0))","v":""},{"$f":"IF(G57=\"\",\"\",IF((G57*(1-E57)-1)>=Coeff!$B$10,Coeff!$B$8/Coeff!$B$9*(G57*(1-E57)-1)/(G57-1),0))","v":""}]
["Serbia Super Liga","FK Radnicki 1923","Vojvodina",null,null,null,null,{"$f":"IF(F58=\"\",\"\",IF((F58*E58-1)>=Coeff!$B$10,Coeff!$B$8/Coeff!$B$9*(F58*E58-1)/(F58-1),0))","v":""},{"$f":"IF(G58=\"\",\"\",IF((G58*(1-E58)-1)>=Coeff!$B$10,Coeff!$B$8/Coeff!$B$9*(G58*(1-E58)-1)/(G58-1),0))","v":""}]
["Serbia Super Liga","Radnicki N.","Javor",null,null,null,null,{"$f":"IF(F59=\"\",\"\",IF((F59*E59-1)>=Coeff!$B$10,Coeff!$B$8/Coeff!$B$9*(F59*E59-1)/(F59-1),0))","v":""},{"$f":"IF(G59=\"\",\"\",IF((G59*(1-E59)-1)>=Coeff!$B$10,Coeff!$B$8/Coeff!$B$9*(G59*(1-E59)-1)/(G59-1),0))","v":""}]
["Serbia Super Liga","Red Star Belgrad","FK Sloboda Point Sevojno",null,null,null,null,{"$f":"IF(F60=\"\",\"\",IF((F60*E60-1)>=Coeff!$B$10,Coeff!$B$8/Coeff!$B$9*(F60*E60-1)/(F60-1),0))","v":""},{"$f":"IF(G60=\"\",\"\",IF((G60*(1-E60)-1)>=Coeff!$B$10,Coeff!$B$8/Coeff!$B$9*(G60*(1-E60)-1)/(G60-1),0))","v":""}]
["Slovakia Corgon Liga","Trencin","Ruzomberok",0.5,0.752,1.18,1.96,{"$f":"IF(F61=\"\",\"\",IF((F61*E61-1)>=Coeff!$B$10,Coeff!$B$8/Coeff!$B$9*(F61*E61-1)/(F61-1),0))","v":0},{"$f":"IF(G61=\"\",\"\",IF((G61*(1-E61)-1)>=Coeff!$B$10,Coeff!$B$8/Coeff!$B$9*(G61*(1-E61)-1)/(G61-1),0))","v":0}]
["Slovakia Corgon Liga","Myjava","Kosice",0.5,0.58599999999999997,1.33,1.6,{"$f":"IF(F62=\"\",\"\",IF((F62*E62-1)>=Coeff!$B$10,Coeff!$B$8/Coeff!$B$9*(F62*E62-1)/(F62-1),0))","v":0},{"$f":"IF(G62=\"\",\"\",IF((G62*(1-E62)-1)>=Coeff!$B$10,Coeff!$B$8/Coeff!$B$9*(G62*(1-E62)-1)/(G62-1),0))","v":0}]
["Slovakia Corgon Liga","FK Senica","Zlate Moravce",null,null,null,null,{"$f":"IF(F63=\"\",\"\",IF((F63*E63-1)>=Coeff!$B$10,Coeff!$B$8/Coeff!$B$9*(F63*E63-1)/(F63-1),0))","v":""},{"$f":"IF(G63=\"\",\"\",IF((G63*(1-E63)-1)>=Coeff!$B$10,Coeff!$B$8/Coeff!$B$9*(G63*(1-E63)-1)/(G63-1),0))","v":""}]
["Slovakia Corgon Liga","Zilina","Presov",0.5,0.86399999999999999,1.24,1.8,{"$f":"IF(F64=\"\",\"\",IF((F64*E64-1)>=Coeff!$B$10,Coeff!$B$8/Coeff!$B$9*(F64*E64-1)/(F64-1),0))","v":29.733333333333373},{"$f":"IF(G64=\"\",\"\",IF((G64*(1-E64)-1)>=Coeff!$B$10,Coeff!$B$8/Coeff!$B$9*(G64*(1-E64)-1)/(G64-1),0))","v":0}]
["Slovakia Corgon Liga","Trnava","Banska Bystrica",0.5,0.86299999999999999,1.18,1.97,{"$f":"IF(F65=\"\",\"\",IF((F65*E65-1)>=Coeff!$B$10,Coeff!$B$8/Coeff!$B$9*(F65*E65-1)/(F65-1),0))","v":0},{"$f":"IF(G65=\"\",\"\",IF((G65*(1-E65)-1)>=Coeff!$B$10,Coeff!$B$8/Coeff!$B$9*(G65*(1-E65)-1)/(G65-1),0))","v":0}]
["Slovakia Corgon Liga","Slovan Bratislava","Nitra",null,null,null,null,{"$f":"IF(F66=\"\",\"\",IF((F66*E66-1)>=Coeff!$B$10,Coeff!$B$8/Coeff!$B$9*(F66*E66-1)/(F66-1),0))","v":""},{"$f":"IF(G66=\"\",\"\",IF((G66*(1-E66)-1)>=Coeff!$B$10,Coeff!$B$8/Coeff!$B$9*(G66*(1-E66)-1)/(G66-1),0))","v":""}]
["Slovenia PrvaLiga","Rudar Velenje","Maribor",null,null,null,null,{"$f":"IF(F67=\"\",\"\",IF((F67*E67-1)>=Coeff!$B$10,Coeff!$B$8/Coeff!$B$9*(F67*E67-1)/(F67-1),0))","v":""},{"$f":"IF(G67=\"\",\"\",IF((G67*(1-E67)-1)>=Coeff!$B$10,Coeff!$B$8/Coeff!$B$9*(G67*(1-E67)-1)/(G67-1),0))","v":""}]
["Slovenia PrvaLiga","Koper","Ol Ljubljana",null,null,null,null,{"$f":"IF(F68=\"\",\"\",IF((F68*E68-1)>=Coeff!$B$10,Coeff!$B$8/Coeff!$B$9*(F68*E68-1)/(F68-1),0))","v":""},{"$f":"IF(G68=\"\",\"\",IF((G68*(1-E68)-1)>=Coeff!$B$10,Coeff!$B$8/Coeff!$B$9*(G68*(1-E68)-1)/(G68-1),0))","v":""}]
["Slovenia PrvaLiga","Domzale","Gorica",null,null,null,null,{"$f":"IF(F69=\"\",\"\",IF((F69*E69-1)>=Coeff!$B$10,Coeff!$B$8/Coeff!$B$9*(F69*E69-1)/(F69-1),0))","v":""},{"$f":"IF(G69=\"\",\"\",IF((G69*(1-E69)-1)>=Coeff!$B$10,Coeff!$B$8/Coeff!$B$9*(G69*(1-E69)-1)/(G69-1),0))","v":""}]
["Slovenia PrvaLiga","ND Triglav","Mura",null,null,null,null,{"$f":"IF(F70=\"\",\"\",IF((F70*E70-1)>=Coeff!$B$10,Coeff!$B$8/Coeff!$B$9*(F70*E70-1)/(F70-1),0))","v":""},{"$f":"IF(G70=\"\",\"\",IF((G70*(1-E70)-1)>=Coeff!$B$10,Coeff!$B$8/Coeff!$B$9*(G70*(1-E70)-1)/(G70-1),0))","v":""}]
["Slovenia PrvaLiga","Aluminij","MIK CM Celje",null,null,null,null,{"$f":"IF(F71=\"\",\"\",IF((F71*E71-1)>=Coeff!$B$10,Coeff!$B$8/Coeff!$B$9*(F71*E71-1)/(F71-1),0))","v":""},{"$f":"IF(G71=\"\",\"\",IF((G71*(1-E71)-1)>=Coeff!$B$10,Coeff!$B$8/Coeff!$B$9*(G71*(1-E71)-1)/(G71-1),0))","v":""}]
["Sweden Allsvenskan","Gefle","IFK Gothenburg",0.25,0.42,2,1.93,{"$f":"IF(F72=\"\",\"\",IF((F72*E72-1)>=Coeff!$B$10,Coeff!$B$8/Coeff!$B$9*(F72*E72-1)/(F72-1),0))","v":0},{"$f":"IF(G72=\"\",\"\",IF((G72*(1-E72)-1)>=Coeff!$B$10,Coeff!$B$8/Coeff!$B$9*(G72*(1-E72)-1)/(G72-1),0))","v":12.838709677419374}]
["Sweden Allsvenskan","AIK","Djurgaarden",-0.75,0.60699999999999998,1.89,2.06,{"$f":"IF(F73=\"\",\"\",IF((F73*E73-1)>=Coeff!$B$10,Coeff!$B$8/Coeff!$B$9*(F73*E73-1)/(F73-1),0))","v":16.542696629213481},{"$f":"IF(G73=\"\",\"\",IF((G73*(1-E73)-1)>=Coeff!$B$10,Coeff!$B$8/Coeff!$B$9*(G73*(1-E73)-1)/(G73-1),0))","v":0}]
["Sweden Superettan","Degerfors","Ostersund",null,null,null,null,{"$f":"IF(F74=\"\",\"\",IF((F74*E74-1)>=Coeff!$B$10,Coeff!$B$8/Coeff!$B$9*(F74*E74-1)/(F74-1),0))","v":""},{"$f":"IF(G74=\"\",\"\",IF((G74*(1-E74)-1)>=Coeff!$B$10,Coeff!$B$8/Coeff!$B$9*(G74*(1-E74)-1)/(G74-1),0))","v":""}]
["Sweden Superettan","Orebro","Angelholm",-1.5,0.36799999999999999,1.96,1.99,{"$f":"IF(F75=\"\",\"\",IF((F75*E75-1)>=Coeff!$B$10,Coeff!$B$8/Coeff!$B$9*(F75*E75-1)/(F75-1),0))","v":0},{"$f":"IF(G75=\"\",\"\",IF((G75*(1-E75)-1)>=Coeff!$B$10,Coeff!$B$8/Coeff!$B$9*(G75*(1-E75)-1)/(G75-1),0))","v":26.028282828282819}]
["Sweden Superettan","Jonkoping S.","IFK Varnamo",-0.5,0.48799999999999999,1.7,2.33,{"$f":"IF(F76=\"\",\"\",IF((F76*E76-1)>=Coeff!$B$10,Coeff!$B$8/Coeff!$B$9*(F76*E76-1)/(F76-1),0))","v":0},{"$f":"IF(G76=\"\",\"\",IF((G76*(1-E76)-1)>=Coeff!$B$10,Coeff!$B$8/Coeff!$B$9*(G76*(1-E76)-1)/(G76-1),0))","v":14.508270676691732}]
["Switzerland Super League","Servette","Sion",-0.25,0.61899999999999999,2.0299999999999998,1.94,{"$f":"IF(F77=\"\",\"\",IF((F77*E77-1)>=Coeff!$B$10,Coeff!$B$8/Coeff!$B$9*(F77*E77-1)/(F77-1),0))","v":24.909708737864079},{"$f":"IF(G77=\"\",\"\",IF((G77*(1-E77)-1)>=Coeff!$B$10,Coeff!$B$8/Coeff!$B$9*(G77*(1-E77)-1)/(G77-1),0))","v":0}]
["Bolivia Apertura","La Paz FC","Nacional Potosi",null,null,null,null,{"$f":"IF(F78=\"\",\"\",IF((F78*E78-1)>=Coeff!$B$10,Coeff!$B$8/Coeff!$B$9*(F78*E78-1)/(F78-1),0))","v":""},{"$f":"IF(G78=\"\",\"\",IF((G78*(1-E78)-1)>=Coeff!$B$10,Coeff!$B$8/Coeff!$B$9*(G78*(1-E78)-1)/(G78-1),0))","v":""}]
["Bolivia Apertura","The Strongest","Jorge Wilstermann",null,null,null,null,{"$f":"IF(F79=\"\",\"\",IF((F79*E79-1)>=Coeff!$B$10,Coeff!$B$8/Coeff!$B$9*(F79*E79-1)/(F79-1),0))","v":""},{"$f":"IF(G79=\"\",\"\",IF((G79*(1-E79)-1)>=Coeff!$B$10,Coeff!$B$8/Coeff!$B$9*(G79*(1-E79)-1)/(G79-1),0))","v":""}]
["Paraguay Apertura","Guarani","Luqueno",-1,0.39300000000000002,1.9,1.94,{"$f":"IF(F80=\"\",\"\",IF((F80*E80-1)>=Coeff!$B$10,Coeff!$B$8/Coeff!$B$9*(F80*E80-1)/(F80-1),0))","v":0},{"$f":"IF(G80=\"\",\"\",IF((G80*(1-E80)-1)>=Coeff!$B$10,Coeff!$B$8/Coeff!$B$9*(G80*(1-E80)-1)/(G80-1),0))","v":18.891489361702114}]
["Paraguay Apertura","Cerro Porteno","Libertad",0,0.42099999999999999,1.71,2.14,{"$f":"IF(F81=\"\",\"\",IF((F81*E81-1)>=Coeff!$B$10,Coeff!$B$8/Coeff!$B$9*(F81*E81-1)/(F81-1),0))","v":0},{"$f":"IF(G81=\"\",\"\",IF((G81*(1-E81)-1)>=Coeff!$B$10,Coeff!$B$8/Coeff!$B$9*(G81*(1-E81)-1)/(G81-1),0))","v":20.970175438596495}]
["Peru Primera División","Juan Aurich","Sport Huancayo",null,null,null,null,{"$f":"IF(F82=\"\",\"\",IF((F82*E82-1)>=Coeff!$B$10,Coeff!$B$8/Coeff!$B$9*(F82*E82-1)/(F82-1),0))","v":""},{"$f":"IF(G82=\"\",\"\",IF((G82*(1-E82)-1)>=Coeff!$B$10,Coeff!$B$8/Coeff!$B$9*(G82*(1-E82)-1)/(G82-1),0))","v":""}]
[null,null,null,null,null,null,null,{"$f":"IF(F83=\"\",\"\",IF((F83*E83-1)>=Coeff!$B$10,Coeff!$B$8/Coeff!$B$9*(F83*E83-1)/(F83-1),0))","v":""},{"$f":"IF(G83=\"\",\"\",IF((G83*(1-E83)-1)>=Coeff!$B$10,Coeff!$B$8/Coeff!$B$9*(G83*(1-E83)-1)/(G83-1),0))","v":""}]
[null,null,null,null,null,null,null,{"$f":"IF(F84=\"\",\"\",IF((F84*E84-1)>=Coeff!$B$10,Coeff!$B$8/Coeff!$B$9*(F84*E84-1)/(F84-1),0))","v":""},{"$f":"IF(G84=\"\",\"\",IF((G84*(1-E84)-1)>=Coeff!$B$10,Coeff!$B$8/Coeff!$B$9*(G84*(1-E84)-1)/(G84-1),0))","v":""}]
[null,null,null,null,null,null,null,{"$f":"IF(F85=\"\",\"\",IF((F85*E85-1)>=Coeff!$B$10,Coeff!$B$8/Coeff!$B$9*(F85*E85-1)/(F85-1),0))","v":""},{"$f":"IF(G85=\"\",\"\",IF((G85*(1-E85)-1)>=Coeff!$B$10,Coeff!$B$8/Coeff!$B$9*(G85*(1-E85)-1)/(G85-1),0))","v":""}]
[null,null,null,null,null,null,null,{"$f":"IF(F86=\"\",\"\",IF((F86*E86-1)>=Coeff!$B$10,Coeff!$B$8/Coeff!$B$9*(F86*E86-1)/(F86-1),0))","v":""},{"$f":"IF(G86=\"\",\"\",IF((G86*(1-E86)-1)>=Coeff!$B$10,Coeff!$B$8/Coeff!$B$9*(G86*(1-E86)-1)/(G86-1),0))","v":""}]
[null,null,null,null,null,null,null,{"$f":"IF(F87=\"\",\"\",IF((F87*E87-1)>=Coeff!$B$10,Coeff!$B$8/Coeff!$B$9*(F87*E87-1)/(F87-1),0))","v":""},{"$f":"IF(G87=\"\",\"\",IF((G87*(1-E87)-1)>=Coeff!$B$10,Coeff!$B$8/Coeff!$B$9*(G87*(1-E87)-1)/(G87-1),0))","v":""}]
[null,null,null,null,null,null,null,{"$f":"IF(F88=\"\",\"\",IF((F88*E88-1)>=Coeff!$B$10,Coeff!$B$8/Coeff!$B$9*(F88*E88-1)/(F88-1),0))","v":""},{"$f":"IF(G88=\"\",\"\",IF((G88*(1-E88)-1)>=Coeff!$B$10,Coeff!$B$8/Coeff!$B$9*(G88*(1-E88)-1)/(G88-1),0))","v":""}]
[null,null,null,null,null,null,null,{"$f":"IF(F89=\"\",\"\",IF((F89*E89-1)>=Coeff!$B$10,Coeff!$B$8/Coeff!$B$9*(F89*E89-1)/(F89-1),0))","v":""},{"$f":"IF(G89=\"\",\"\",IF((G89*(1-E89)-1)>=Coeff!$B$10,Coeff!$B$8/Coeff!$B$9*(G89*(1-E89)-1)/(G89-1),0))","v":""}]
[null,null,null,null,null,null,null,{"$f":"IF(F90=\"\",\"\",IF((F90*E90-1)>=Coeff!$B$10,Coeff!$B$8/Coeff!$B$9*(F90*E90-1)/(F90-1),0))","v":""},{"$f":"IF(G90=\"\",\"\",IF((G90*(1-E90)-1)>=Coeff!$B$10,Coeff!$B$8/Coeff!$B$9*(G90*(1-E90)-1)/(G90-1),0))","v":""}]
[null,null,null,null,null,null,null,{"$f":"IF(F91=\"\",\"\",IF((F91*E91-1)>=Coeff!$B$10,Coeff!$B$8/Coeff!$B$9*(F91*E91-1)/(F91-1),0))","v":""},{"$f":"IF(G91=\"\",\"\",IF((G91*(1-E91)-1)>=Coeff!$B$10,Coeff!$B$8/Coeff!$B$9*(G91*(1-E91)-1)/(G91-1),0))","v":""}]
[null,null,null,null,null,null,null,{"$f":"IF(F92=\"\",\"\",IF((F92*E92-1)>=Coeff!$B$10,Coeff!$B$8/Coeff!$B$9*(F92*E92-1)/(F92-1),0))","v":""},{"$f":"IF(G92=\"\",\"\",IF((G92*(1-E92)-1)>=Coeff!$B$10,Coeff!$B$8/Coeff!$B$9*(G92*(1-E92)-1)/(G92-1),0))","v":""}]
[null,null,null,null,null,null,null,{"$f":"IF(F93=\"\",\"\",IF((F93*E93-1)>=Coeff!$B$10,Coeff!$B$8/Coeff!$B$9*(F93*E93-1)/(F93-1),0))","v":""},{"$f":"IF(G93=\"\",\"\",IF((G93*(1-E93)-1)>=Coeff!$B$10,Coeff!$B$8/Coeff!$B$9*(G93*(1-E93)-1)/(G93-1),0))","v":""}]
[null,null,null,null,null,null,null,{"$f":"IF(F94=\"\",\"\",IF((F94*E94-1)>=Coeff!$B$10,Coeff!$B$8/Coeff!$B$9*(F94*E94-1)/(F94-1),0))","v":""},{"$f":"IF(G94=\"\",\"\",IF((G94*(1-E94)-1)>=Coeff!$B$10,Coeff!$B$8/Coeff!$B$9*(G94*(1-E94)-1)/(G94-1),0))","v":""}]
[null,null,null,null,null,null,null,{"$f":"IF(F95=\"\",\"\",IF((F95*E95-1)>=Coeff!$B$10,Coeff!$B$8/Coeff!$B$9*(F95*E95-1)/(F95-1),0))","v":""},{"$f":"IF(G95=\"\",\"\",IF((G95*(1-E95)-1)>=Coeff!$B$10,Coeff!$B$8/Coeff!$B$9*(G95*(1-E95)-1)/(G95-1),0))","v":""}]
[null,null,null,null,null,null,null,{"$f":"IF(F96=\"\",\"\",IF((F96*E96-1)>=Coeff!$B$10,Coeff!$B$8/Coeff!$B$9*(F96*E96-1)/(F96-1),0))","v":""},{"$f":"IF(G96=\"\",\"\",IF((G96*(1-E96)-1)>=Coeff!$B$10,Coeff!$B$8/Coeff!$B$9*(G96*(1-E96)-1)/(G96-1),0))","v":""}]
[null,null,null,null,null,null,null,{"$f":"IF(F97=\"\",\"\",IF((F97*E97-1)>=Coeff!$B$10,Coeff!$B$8/Coeff!$B$9*(F97*E97-1)/(F97-1),0))","v":""},{"$f":"IF(G97=\"\",\"\",IF((G97*(1-E97)-1)>=Coeff!$B$10,Coeff!$B$8/Coeff!$B$9*(G97*(1-E97)-1)/(G97-1),0))","v":""}]
[null,null,null,null,null,null,null,{"$f":"IF(F98=\"\",\"\",IF((F98*E98-1)>=Coeff!$B$10,Coeff!$B$8/Coeff!$B$9*(F98*E98-1)/(F98-1),0))","v":""},{"$f":"IF(G98=\"\",\"\",IF((G98*(1-E98)-1)>=Coeff!$B$10,Coeff!$B$8/Coeff!$B$9*(G98*(1-E98)-1)/(G98-1),0))","v":""}]
[null,null,null,null,null,null,null,{"$f":"IF(F99=\"\",\"\",IF((F99*E99-1)>=Coeff!$B$10,Coeff!$B$8/Coeff!$B$9*(F99*E99-1)/(F99-1),0))","v":""},{"$f":"IF(G99=\"\",\"\",IF((G99*(1-E99)-1)>=Coeff!$B$10,Coeff!$B$8/Coeff!$B$9*(G99*(1-E99)-1)/(G99-1),0))","v":""}]
[null,null,null,null,null,null,null,{"$f":"IF(F100=\"\",\"\",IF((F100*E100-1)>=Coeff!$B$10,Coeff!$B$8/Coeff!$B$9*(F100*E100-1)/(F100-1),0))","v":""},{"$f":"IF(G100=\"\",\"\",IF((G100*(1-E100)-1)>=Coeff!$B$10,Coeff!$B$8/Coeff!$B$9*(G100*(1-E100)-1)/(G100-1),0))","v":""}]
[null,null,null,null,null,null,null,{"$f":"IF(F101=\"\",\"\",IF((F101*E101-1)>=Coeff!$B$10,Coeff!$B$8/Coeff!$B$9*(F101*E101-1)/(F101-1),0))","v":""},{"$f":"IF(G101=\"\",\"\",IF((G101*(1-E101)-1)>=Coeff!$B$10,Coeff!$B$8/Coeff!$B$9*(G101*(1-E101)-1)/(G101-1),0))","v":""}]
[null,null,null,null,null,null,null,{"$f":"IF(F102=\"\",\"\",IF((F102*E102-1)>=Coeff!$B$10,Coeff!$B$8/Coeff!$B$9*(F102*E102-1)/(F102-1),0))","v":""},{"$f":"IF(G102=\"\",\"\",IF((G102*(1-E102)-1)>=Coeff!$B$10,Coeff!$B$8/Coeff!$B$9*(G102*(1-E102)-1)/(G102-1),0))","v":""}]
[null,null,null,null,null,null,null,{"$f":"IF(F103=\"\",\"\",IF((F103*E103-1)>=Coeff!$B$10,Coeff!$B$8/Coeff!$B$9*(F103*E103-1)/(F103-1),0))","v":""},{"$f":"IF(G103=\"\",\"\",IF((G103*(1-E103)-1)>=Coeff!$B$10,Coeff!$B$8/Coeff!$B$9*(G103*(1-E103)-1)/(G103-1),0))","v":""}]
[null,null,null,null,null,null,null,{"$f":"IF(F104=\"\",\"\",IF((F104*E104-1)>=Coeff!$B$10,Coeff!$B$8/Coeff!$B$9*(F104*E104-1)/(F104-1),0))","v":""},{"$f":"IF(G104=\"\",\"\",IF((G104*(1-E104)-1)>=Coeff!$B$10,Coeff!$B$8/Coeff!$B$9*(G104*(1-E104)-1)/(G104-1),0))","v":""}]
[null,null,null,null,null,null,null,{"$f":"IF(F105=\"\",\"\",IF((F105*E105-1)>=Coeff!$B$10,Coeff!$B$8/Coeff!$B$9*(F105*E105-1)/(F105-1),0))","v":""},{"$f":"IF(G105=\"\",\"\",IF((G105*(1-E105)-1)>=Coeff!$B$10,Coeff!$B$8/Coeff!$B$9*(G105*(1-E105)-1)/(G105-1),0))","v":""}]
[null,null,null,null,null,null,null,{"$f":"IF(F106=\"\",\"\",IF((F106*E106-1)>=Coeff!$B$10,Coeff!$B$8/Coeff!$B$9*(F106*E106-1)/(F106-1),0))","v":""},{"$f":"IF(G106=\"\",\"\",IF((G106*(1-E106)-1)>=Coeff!$B$10,Coeff!$B$8/Coeff!$B$9*(G106*(1-E106)-1)/(G106-1),0))","v":""}]
[null,null,null,null,null,null,null,{"$f":"IF(F107=\"\",\"\",IF((F107*E107-1)>=Coeff!$B$10,Coeff!$B$8/Coeff!$B$9*(F107*E107-1)/(F107-1),0))","v":""},{"$f":"IF(G107=\"\",\"\",IF((G107*(1-E107)-1)>=Coeff!$B$10,Coeff!$B$8/Coeff!$B$9*(G107*(1-E107)-1)/(G107-1),0))","v":""}]
[null,null,null,null,null,null,null,{"$f":"IF(F108=\"\",\"\",IF((F108*E108-1)>=Coeff!$B$10,Coeff!$B$8/Coeff!$B$9*(F108*E108-1)/(F108-1),0))","v":""},{"$f":"IF(G108=\"\",\"\",IF((G108*(1-E108)-1)>=Coeff!$B$10,Coeff!$B$8/Coeff!$B$9*(G108*(1-E108)-1)/(G108-1),0))","v":""}]
[null,null,null,null,null,null,null,{"$f":"IF(F109=\"\",\"\",IF((F109*E109-1)>=Coeff!$B$10,Coeff!$B$8/Coeff!$B$9*(F109*E109-1)/(F109-1),0))","v":""},{"$f":"IF(G109=\"\",\"\",IF((G109*(1-E109)-1)>=Coeff!$B$10,Coeff!$B$8/Coeff!$B$9*(G109*(1-E109)-1)/(G109-1),0))","v":""}]
[null,null,null,null,null,null,null,{"$f":"IF(F110=\"\",\"\",IF((F110*E110-1)>=Coeff!$B$10,Coeff!$B$8/Coeff!$B$9*(F110*E110-1)/(F110-1),0))","v":""},{"$f":"IF(G110=\"\",\"\",IF((G110*(1-E110)-1)>=Coeff!$B$10,Coeff!$B$8/Coeff!$B$9*(G110*(1-E110)-1)/(G110-1),0))","v":""}]
[null,null,null,null,null,null,null,{"$f":"IF(F111=\"\",\"\",IF((F111*E111-1)>=Coeff!$B$10,Coeff!$B$8/Coeff!$B$9*(F111*E111-1)/(F111-1),0))","v":""},{"$f":"IF(G111=\"\",\"\",IF((G111*(1-E111)-1)>=Coeff!$B$10,Coeff!$B$8/Coeff!$B$9*(G111*(1-E111)-1)/(G111-1),0))","v":""}]
[null,null,null,null,null,null,null,{"$f":"IF(F112=\"\",\"\",IF((F112*E112-1)>=Coeff!$B$10,Coeff!$B$8/Coeff!$B$9*(F112*E112-1)/(F112-1),0))","v":""},{"$f":"IF(G112=\"\",\"\",IF((G112*(1-E112)-1)>=Coeff!$B$10,Coeff!$B$8/Coeff!$B$9*(G112*(1-E112)-1)/(G112-1),0))","v":""}]
[null,null,null,null,null,null,null,{"$f":"IF(F113=\"\",\"\",IF((F113*E113-1)>=Coeff!$B$10,Coeff!$B$8/Coeff!$B$9*(F113*E113-1)/(F113-1),0))","v":""},{"$f":"IF(G113=\"\",\"\",IF((G113*(1-E113)-1)>=Coeff!$B$10,Coeff!$B$8/Coeff!$B$9*(G113*(1-E113)-1)/(G113-1),0))","v":""}]
[null,null,null,null,null,null,null,{"$f":"IF(F114=\"\",\"\",IF((F114*E114-1)>=Coeff!$B$10,Coeff!$B$8/Coeff!$B$9*(F114*E114-1)/(F114-1),0))","v":""},{"$f":"IF(G114=\"\",\"\",IF((G114*(1-E114)-1)>=Coeff!$B$10,Coeff!$B$8/Coeff!$B$9*(G114*(1-E114)-1)/(G114-1),0))","v":""}]
[null,null,null,null,null,null,null,{"$f":"IF(F115=\"\",\"\",IF((F115*E115-1)>=Coeff!$B$10,Coeff!$B$8/Coeff!$B$9*(F115*E115-1)/(F115-1),0))","v":""},{"$f":"IF(G115=\"\",\"\",IF((G115*(1-E115)-1)>=Coeff!$B$10,Coeff!$B$8/Coeff!$B$9*(G115*(1-E115)-1)/(G115-1),0))","v":""}]
[null,null,null,null,null,null,null,{"$f":"IF(F116=\"\",\"\",IF((F116*E116-1)>=Coeff!$B$10,Coeff!$B$8/Coeff!$B$9*(F116*E116-1)/(F116-1),0))","v":""},{"$f":"IF(G116=\"\",\"\",IF((G116*(1-E116)-1)>=Coeff!$B$10,Coeff!$B$8/Coeff!$B$9*(G116*(1-E116)-1)/(G116-1),0))","v":""}]
[null,null,null,null,null,null,null,{"$f":"IF(F117=\"\",\"\",IF((F117*E117-1)>=Coeff!$B$10,Coeff!$B$8/Coeff!$B$9*(F117*E117-1)/(F117-1),0))","v":""},{"$f":"IF(G117=\"\",\"\",IF((G117*(1-E117)-1)>=Coeff!$B$10,Coeff!$B$8/Coeff!$B$9*(G117*(1-E117)-1)/(G117-1),0))","v":""}]
[null,null,null,null,null,null,null,{"$f":"IF(F118=\"\",\"\",IF((F118*E118-1)>=Coeff!$B$10,Coeff!$B$8/Coeff!$B$9*(F118*E118-1)/(F118-1),0))","v":""},{"$f":"IF(G118=\"\",\"\",IF((G118*(1-E118)-1)>=Coeff!$B$10,Coeff!$B$8/Coeff!$B$9*(G118*(1-E118)-1)/(G118-1),0))","v":""}]
[null,null,null,null,null,null,null,{"$f":"IF(F119=\"\",\"\",IF((F119*E119-1)>=Coeff!$B$10,Coeff!$B$8/Coeff!$B$9*(F119*E119-1)/(F119-1),0))","v":""},{"$f":"IF(G119=\"\",\"\",IF((G119*(1-E119)-1)>=Coeff!$B$10,Coeff!$B$8/Coeff!$B$9*(G119*(1-E119)-1)/(G119-1),0))","v":""}]
[null,null,null,null,null,null,null,{"$f":"IF(F120=\"\",\"\",IF((F120*E120-1)>=Coeff!$B$10,Coeff!$B$8/Coeff!$B$9*(F120*E120-1)/(F120-1),0))","v":""},{"$f":"IF(G120=\"\",\"\",IF((G120*(1-E120)-1)>=Coeff!$B$10,Coeff!$B$8/Coeff!$B$9*(G120*(1-E120)-1)/(G120-1),0))","v":""}]
[null,null,null,null,null,null,null,{"$f":"IF(F121=\"\",\"\",IF((F121*E121-1)>=Coeff!$B$10,Coeff!$B$8/Coeff!$B$9*(F121*E121-1)/(F121-1),0))","v":""},{"$f":"IF(G121=\"\",\"\",IF((G121*(1-E121)-1)>=Coeff!$B$10,Coeff!$B$8/Coeff!$B$9*(G121*(1-E121)-1)/(G121-1),0))","v":""}]
[null,null,null,null,null,null,null,{"$f":"IF(F122=\"\",\"\",IF((F122*E122-1)>=Coeff!$B$10,Coeff!$B$8/Coeff!$B$9*(F122*E122-1)/(F122-1),0))","v":""},{"$f":"IF(G122=\"\",\"\",IF((G122*(1-E122)-1)>=Coeff!$B$10,Coeff!$B$8/Coeff!$B$9*(G122*(1-E122)-1)/(G122-1),0))","v":""}]
[null,null,null,null,null,null,null,{"$f":"IF(F123=\"\",\"\",IF((F123*E123-1)>=Coeff!$B$10,Coeff!$B$8/Coeff!$B$9*(F123*E123-1)/(F123-1),0))","v":""},{"$f":"IF(G123=\"\",\"\",IF((G123*(1-E123)-1)>=Coeff!$B$10,Coeff!$B$8/Coeff!$B$9*(G123*(1-E123)-1)/(G123-1),0))","v":""}]
[null,null,null,null,null,null,null,{"$f":"IF(F124=\"\",\"\",IF((F124*E124-1)>=Coeff!$B$10,Coeff!$B$8/Coeff!$B$9*(F124*E124-1)/(F124-1),0))","v":""},{"$f":"IF(G124=\"\",\"\",IF((G124*(1-E124)-1)>=Coeff!$B$10,Coeff!$B$8/Coeff!$B$9*(G124*(1-E124)-1)/(G124-1),0))","v":""}]
[null,null,null,null,null,null,null,{"$f":"IF(F125=\"\",\"\",IF((F125*E125-1)>=Coeff!$B$10,Coeff!$B$8/Coeff!$B$9*(F125*E125-1)/(F125-1),0))","v":""},{"$f":"IF(G125=\"\",\"\",IF((G125*(1-E125)-1)>=Coeff!$B$10,Coeff!$B$8/Coeff!$B$9*(G125*(1-E125)-1)/(G125-1),0))","v":""}]
[null,null,null,null,null,null,null,{"$f":"IF(F126=\"\",\"\",IF((F126*E126-1)>=Coeff!$B$10,Coeff!$B$8/Coeff!$B$9*(F126*E126-1)/(F126-1),0))","v":""},{"$f":"IF(G126=\"\",\"\",IF((G126*(1-E126)-1)>=Coeff!$B$10,Coeff!$B$8/Coeff!$B$9*(G126*(1-E126)-1)/(G126-1),0))","v":""}]
[null,null,null,null,null,null,null,{"$f":"IF(F127=\"\",\"\",IF((F127*E127-1)>=Coeff!$B$10,Coeff!$B$8/Coeff!$B$9*(F127*E127-1)/(F127-1),0))","v":""},{"$f":"IF(G127=\"\",\"\",IF((G127*(1-E127)-1)>=Coeff!$B$10,Coeff!$B$8/Coeff!$B$9*(G127*(1-E127)-1)/(G127-1),0))","v":""}]
[null,null,null,null,null,null,null,{"$f":"IF(F128=\"\",\"\",IF((F128*E128-1)>=Coeff!$B$10,Coeff!$B$8/Coeff!$B$9*(F128*E128-1)/(F128-1),0))","v":""},{"$f":"IF(G128=\"\",\"\",IF((G128*(1-E128)-1)>=Coeff!$B$10,Coeff!$B$8/Coeff!$B$9*(G128*(1-E128)-1)/(G128-1),0))","v":""}]
[null,null,null,null,null,null,null,{"$f":"IF(F129=\"\",\"\",IF((F129*E129-1)>=Coeff!$B$10,Coeff!$B$8/Coeff!$B$9*(F129*E129-1)/(F129-1),0))","v":""},{"$f":"IF(G129=\"\",\"\",IF((G129*(1-E129)-1)>=Coeff!$B$10,Coeff!$B$8/Coeff!$B$9*(G129*(1-E129)-1)/(G129-1),0))","v":""}]
[null,null,null,null,null,null,null,{"$f":"IF(F130=\"\",\"\",IF((F130*E130-1)>=Coeff!$B$10,Coeff!$B$8/Coeff!$B$9*(F130*E130-1)/(F130-1),0))","v":""},{"$f":"IF(G130=\"\",\"\",IF((G130*(1-E130)-1)>=Coeff!$B$10,Coeff!$B$8/Coeff!$B$9*(G130*(1-E130)-1)/(G130-1),0))","v":""}]
[null,null,null,null,null,null,null,{"$f":"IF(F131=\"\",\"\",IF((F131*E131-1)>=Coeff!$B$10,Coeff!$B$8/Coeff!$B$9*(F131*E131-1)/(F131-1),0))","v":""},{"$f":"IF(G131=\"\",\"\",IF((G131*(1-E131)-1)>=Coeff!$B$10,Coeff!$B$8/Coeff!$B$9*(G131*(1-E131)-1)/(G131-1),0))","v":""}]
[null,null,null,null,null,null,null,{"$f":"IF(F132=\"\",\"\",IF((F132*E132-1)>=Coeff!$B$10,Coeff!$B$8/Coeff!$B$9*(F132*E132-1)/(F132-1),0))","v":""},{"$f":"IF(G132=\"\",\"\",IF((G132*(1-E132)-1)>=Coeff!$B$10,Coeff!$B$8/Coeff!$B$9*(G132*(1-E132)-1)/(G132-1),0))","v":""}]
[null,null,null,null,null,null,null,{"$f":"IF(F133=\"\",\"\",IF((F133*E133-1)>=Coeff!$B$10,Coeff!$B$8/Coeff!$B$9*(F133*E133-1)/(F133-1),0))","v":""},{"$f":"IF(G133=\"\",\"\",IF((G133*(1-E133)-1)>=Coeff!$B$10,Coeff!$B$8/Coeff!$B$9*(G133*(1-E133)-1)/(G133-1),0))","v":""}]
[null,null,null,null,null,null,null,{"$f":"IF(F134=\"\",\"\",IF((F134*E134-1)>=Coeff!$B$10,Coeff!$B$8/Coeff!$B$9*(F134*E134-1)/(F134-1),0))","v":""},{"$f":"IF(G134=\"\",\"\",IF((G134*(1-E134)-1)>=Coeff!$B$10,Coeff!$B$8/Coeff!$B$9*(G134*(1-E134)-1)/(G134-1),0))","v":""}]
[null,null,null,null,null,null,null,{"$f":"IF(F135=\"\",\"\",IF((F135*E135-1)>=Coeff!$B$10,Coeff!$B$8/Coeff!$B$9*(F135*E135-1)/(F135-1),0))","v":""},{"$f":"IF(G135=\"\",\"\",IF((G135*(1-E135)-1)>=Coeff!$B$10,Coeff!$B$8/Coeff!$B$9*(G135*(1-E135)-1)/(G135-1),0))","v":""}]
[null,null,null,null,null,null,null,{"$f":"IF(F136=\"\",\"\",IF((F136*E136-1)>=Coeff!$B$10,Coeff!$B$8/Coeff!$B$9*(F136*E136-1)/(F136-1),0))","v":""},{"$f":"IF(G136=\"\",\"\",IF((G136*(1-E136)-1)>=Coeff!$B$10,Coeff!$B$8/Coeff!$B$9*(G136*(1-E136)-1)/(G136-1),0))","v":""}]
[null,null,null,null,null,null,null,{"$f":"IF(F137=\"\",\"\",IF((F137*E137-1)>=Coeff!$B$10,Coeff!$B$8/Coeff!$B$9*(F137*E137-1)/(F137-1),0))","v":""},{"$f":"IF(G137=\"\",\"\",IF((G137*(1-E137)-1)>=Coeff!$B$10,Coeff!$B$8/Coeff!$B$9*(G137*(1-E137)-1)/(G137-1),0))","v":""}]
[null,null,null,null,null,null,null,{"$f":"IF(F138=\"\",\"\",IF((F138*E138-1)>=Coeff!$B$10,Coeff!$B$8/Coeff!$B$9*(F138*E138-1)/(F138-1),0))","v":""},{"$f":"IF(G138=\"\",\"\",IF((G138*(1-E138)-1)>=Coeff!$B$10,Coeff!$B$8/Coeff!$B$9*(G138*(1-E138)-1)/(G138-1),0))","v":""}]
[null,null,null,null,null,null,null,{"$f":"IF(F139=\"\",\"\",IF((F139*E139-1)>=Coeff!$B$10,Coeff!$B$8/Coeff!$B$9*(F139*E139-1)/(F139-1),0))","v":""},{"$f":"IF(G139=\"\",\"\",IF((G139*(1-E139)-1)>=Coeff!$B$10,Coeff!$B$8/Coeff!$B$9*(G139*(1-E139)-1)/(G139-1),0))","v":""}]
[null,null,null,null,null,null,null,{"$f":"IF(F140=\"\",\"\",IF((F140*E140-1)>=Coeff!$B$10,Coeff!$B$8/Coeff!$B$9*(F140*E140-1)/(F140-1),0))","v":""},{"$f":"IF(G140=\"\",\"\",IF((G140*(1-E140)-1)>=Coeff!$B$10,Coeff!$B$8/Coeff!$B$9*(G140*(1-E140)-1)/(G140-1),0))","v":""}]
[null,null,null,null,null,null,null,{"$f":"IF(F141=\"\",\"\",IF((F141*E141-1)>=Coeff!$B$10,Coeff!$B$8/Coeff!$B$9*(F141*E141-1)/(F141-1),0))","v":""},{"$f":"IF(G141=\"\",\"\",IF((G141*(1-E141)-1)>=Coeff!$B$10,Coeff!$B$8/Coeff!$B$9*(G141*(1-E141)-1)/(G141-1),0))","v":""}]
[null,null,null,null,null,null,null,{"$f":"IF(F142=\"\",\"\",IF((F142*E142-1)>=Coeff!$B$10,Coeff!$B$8/Coeff!$B$9*(F142*E142-1)/(F142-1),0))","v":""},{"$f":"IF(G142=\"\",\"\",IF((G142*(1-E142)-1)>=Coeff!$B$10,Coeff!$B$8/Coeff!$B$9*(G142*(1-E142)-1)/(G142-1),0))","v":""}]
[null,null,null,null,null,null,null,{"$f":"IF(F143=\"\",\"\",IF((F143*E143-1)>=Coeff!$B$10,Coeff!$B$8/Coeff!$B$9*(F143*E143-1)/(F143-1),0))","v":""},{"$f":"IF(G143=\"\",\"\",IF((G143*(1-E143)-1)>=Coeff!$B$10,Coeff!$B$8/Coeff!$B$9*(G143*(1-E143)-1)/(G143-1),0))","v":""}]
[null,null,null,null,null,null,null,{"$f":"IF(F144=\"\",\"\",IF((F144*E144-1)>=Coeff!$B$10,Coeff!$B$8/Coeff!$B$9*(F144*E144-1)/(F144-1),0))","v":""},{"$f":"IF(G144=\"\",\"\",IF((G144*(1-E144)-1)>=Coeff!$B$10,Coeff!$B$8/Coeff!$B$9*(G144*(1-E144)-1)/(G144-1),0))","v":""}]
[null,null,null,null,null,null,null,{"$f":"IF(F145=\"\",\"\",IF((F145*E145-1)>=Coeff!$B$10,Coeff!$B$8/Coeff!$B$9*(F145*E145-1)/(F145-1),0))","v":""},{"$f":"IF(G145=\"\",\"\",IF((G145*(1-E145)-1)>=Coeff!$B$10,Coeff!$B$8/Coeff!$B$9*(G145*(1-E145)-1)/(G145-1),0))","v":""}]
[null,null,null,null,null,null,null,{"$f":"IF(F146=\"\",\"\",IF((F146*E146-1)>=Coeff!$B$10,Coeff!$B$8/Coeff!$B$9*(F146*E146-1)/(F146-1),0))","v":""},{"$f":"IF(G146=\"\",\"\",IF((G146*(1-E146)-1)>=Coeff!$B$10,Coeff!$B$8/Coeff!$B$9*(G146*(1-E146)-1)/(G146-1),0))","v":""}]
[null,null,null,null,null,null,null,{"$f":"IF(F147=\"\",\"\",IF((F147*E147-1)>=Coeff!$B$10,Coeff!$B$8/Coeff!$B$9*(F147*E147-1)/(F147-1),0))","v":""},{"$f":"IF(G147=\"\",\"\",IF((G147*(1-E147)-1)>=Coeff!$B$10,Coeff!$B$8/Coeff!$B$9*(G147*(1-E147)-1)/(G147-1),0))","v":""}]
[null,null,null,null,null,null,null,{"$f":"IF(F148=\"\",\"\",IF((F148*E148-1)>=Coeff!$B$10,Coeff!$B$8/Coeff!$B$9*(F148*E148-1)/(F148-1),0))","v":""},{"$f":"IF(G148=\"\",\"\",IF((G148*(1-E148)-1)>=Coeff!$B$10,Coeff!$B$8/Coeff!$B$9*(G148*(1-E148)-1)/(G148-1),0))","v":""}]
[null,null,null,null,null,null,null,{"$f":"IF(F149=\"\",\"\",IF((F149*E149-1)>=Coeff!$B$10,Coeff!$B$8/Coeff!$B$9*(F149*E149-1)/(F149-1),0))","v":""},{"$f":"IF(G149=\"\",\"\",IF((G149*(1-E149)-1)>=Coeff!$B$10,Coeff!$B$8/Coeff!$B$9*(G149*(1-E149)-1)/(G149-1),0))","v":""}]
[null,null,null,null,null,null,null,{"$f":"IF(F150=\"\",\"\",IF((F150*E150-1)>=Coeff!$B$10,Coeff!$B$8/Coeff!$B$9*(F150*E150-1)/(F150-1),0))","v":""},{"$f":"IF(G150=\"\",\"\",IF((G150*(1-E150)-1)>=Coeff!$B$10,Coeff!$B$8/Coeff!$B$9*(G150*(1-E150)-1)/(G150-1),0))","v":""}]
[null,null,null,null,null,null,null,{"$f":"IF(F151=\"\",\"\",IF((F151*E151-1)>=Coeff!$B$10,Coeff!$B$8/Coeff!$B$9*(F151*E151-1)/(F151-1),0))","v":""},{"$f":"IF(G151=\"\",\"\",IF((G151*(1-E151)-1)>=Coeff!$B$10,Coeff!$B$8/Coeff!$B$9*(G151*(1-E151)-1)/(G151-1),0))","v":""}]
[null,null,null,null,null,null,null,{"$f":"IF(F152=\"\",\"\",IF((F152*E152-1)>=Coeff!$B$10,Coeff!$B$8/Coeff!$B$9*(F152*E152-1)/(F152-1),0))","v":""},{"$f":"IF(G152=\"\",\"\",IF((G152*(1-E152)-1)>=Coeff!$B$10,Coeff!$B$8/Coeff!$B$9*(G152*(1-E152)-1)/(G152-1),0))","v":""}]
[null,null,null,null,null,null,null,{"$f":"IF(F153=\"\",\"\",IF((F153*E153-1)>=Coeff!$B$10,Coeff!$B$8/Coeff!$B$9*(F153*E153-1)/(F153-1),0))","v":""},{"$f":"IF(G153=\"\",\"\",IF((G153*(1-E153)-1)>=Coeff!$B$10,Coeff!$B$8/Coeff!$B$9*(G153*(1-E153)-1)/(G153-1),0))","v":""}]
[null,null,null,null,null,null,null,{"$f":"IF(F154=\"\",\"\",IF((F154*E154-1)>=Coeff!$B$10,Coeff!$B$8/Coeff!$B$9*(F154*E154-1)/(F154-1),0))","v":""},{"$f":"IF(G154=\"\",\"\",IF((G154*(1-E154)-1)>=Coeff!$B$10,Coeff!$B$8/Coeff!$B$9*(G154*(1-E154)-1)/(G154-1),0))","v":""}]
[null,null,null,null,null,null,null,{"$f":"IF(F155=\"\",\"\",IF((F155*E155-1)>=Coeff!$B$10,Coeff!$B$8/Coeff!$B$9*(F155*E155-1)/(F155-1),0))","v":""},{"$f":"IF(G155=\"\",\"\",IF((G155*(1-E155)-1)>=Coeff!$B$10,Coeff!$B$8/Coeff!$B$9*(G155*(1-E155)-1)/(G155-1),0))","v":""}]
[null,null,null,null,null,null,null,{"$f":"IF(F156=\"\",\"\",IF((F156*E156-1)>=Coeff!$B$10,Coeff!$B$8/Coeff!$B$9*(F156*E156-1)/(F156-1),0))","v":""},{"$f":"IF(G156=\"\",\"\",IF((G156*(1-E156)-1)>=Coeff!$B$10,Coeff!$B$8/Coeff!$B$9*(G156*(1-E156)-1)/(G156-1),0))","v":""}]
[null,null,null,null,null,null,null,{"$f":"IF(F157=\"\",\"\",IF((F157*E157-1)>=Coeff!$B$10,Coeff!$B$8/Coeff!$B$9*(F157*E157-1)/(F157-1),0))","v":""},{"$f":"IF(G157=\"\",\"\",IF((G157*(1-E157)-1)>=Coeff!$B$10,Coeff!$B$8/Coeff!$B$9*(G157*(1-E157)-1)/(G157-1),0))","v":""}]
[null,null,null,null,null,null,null,{"$f":"IF(F158=\"\",\"\",IF((F158*E158-1)>=Coeff!$B$10,Coeff!$B$8/Coeff!$B$9*(F158*E158-1)/(F158-1),0))","v":""},{"$f":"IF(G158=\"\",\"\",IF((G158*(1-E158)-1)>=Coeff!$B$10,Coeff!$B$8/Coeff!$B$9*(G158*(1-E158)-1)/(G158-1),0))","v":""}]
[null,null,null,null,null,null,null,{"$f":"IF(F159=\"\",\"\",IF((F159*E159-1)>=Coeff!$B$10,Coeff!$B$8/Coeff!$B$9*(F159*E159-1)/(F159-1),0))","v":""},{"$f":"IF(G159=\"\",\"\",IF((G159*(1-E159)-1)>=Coeff!$B$10,Coeff!$B$8/Coeff!$B$9*(G159*(1-E159)-1)/(G159-1),0))","v":""}]
[null,null,null,null,null,null,null,{"$f":"IF(F160=\"\",\"\",IF((F160*E160-1)>=Coeff!$B$10,Coeff!$B$8/Coeff!$B$9*(F160*E160-1)/(F160-1),0))","v":""},{"$f":"IF(G160=\"\",\"\",IF((G160*(1-E160)-1)>=Coeff!$B$10,Coeff!$B$8/Coeff!$B$9*(G160*(1-E160)-1)/(G160-1),0))","v":""}]
[null,null,null,null,null,null,null,{"$f":"IF(F161=\"\",\"\",IF((F161*E161-1)>=Coeff!$B$10,Coeff!$B$8/Coeff!$B$9*(F161*E161-1)/(F161-1),0))","v":""},{"$f":"IF(G161=\"\",\"\",IF((G161*(1-E161)-1)>=Coeff!$B$10,Coeff!$B$8/Coeff!$B$9*(G161*(1-E161)-1)/(G161-1),0))","v":""}]
[null,null,null,null,null,null,null,{"$f":"IF(F162=\"\",\"\",IF((F162*E162-1)>=Coeff!$B$10,Coeff!$B$8/Coeff!$B$9*(F162*E162-1)/(F162-1),0))","v":""},{"$f":"IF(G162=\"\",\"\",IF((G162*(1-E162)-1)>=Coeff!$B$10,Coeff!$B$8/Coeff!$B$9*(G162*(1-E162)-1)/(G162-1),0))","v":""}]
[null,null,null,null,null,null,null,{"$f":"IF(F163=\"\",\"\",IF((F163*E163-1)>=Coeff!$B$10,Coeff!$B$8/Coeff!$B$9*(F163*E163-1)/(F163-1),0))","v":""},{"$f":"IF(G163=\"\",\"\",IF((G163*(1-E163)-1)>=Coeff!$B$10,Coeff!$B$8/Coeff!$B$9*(G163*(1-E163)-1)/(G163-1),0))","v":""}]
[null,null,null,null,null,null,null,{"$f":"IF(F164=\"\",\"\",IF((F164*E164-1)>=Coeff!$B$10,Coeff!$B$8/Coeff!$B$9*(F164*E164-1)/(F164-1),0))","v":""},{"$f":"IF(G164=\"\",\"\",IF((G164*(1-E164)-1)>=Coeff!$B$10,Coeff!$B$8/Coeff!$B$9*(G164*(1-E164)-1)/(G164-1),0))","v":""}]
[null,null,null,null,null,null,null,{"$f":"IF(F165=\"\",\"\",IF((F165*E165-1)>=Coeff!$B$10,Coeff!$B$8/Coeff!$B$9*(F165*E165-1)/(F165-1),0))","v":""},{"$f":"IF(G165=\"\",\"\",IF((G165*(1-E165)-1)>=Coeff!$B$10,Coeff!$B$8/Coeff!$B$9*(G165*(1-E165)-1)/(G165-1),0))","v":""}]
[null,null,null,null,null,null,null,{"$f":"IF(F166=\"\",\"\",IF((F166*E166-1)>=Coeff!$B$10,Coeff!$B$8/Coeff!$B$9*(F166*E166-1)/(F166-1),0))","v":""},{"$f":"IF(G166=\"\",\"\",IF((G166*(1-E166)-1)>=Coeff!$B$10,Coeff!$B$8/Coeff!$B$9*(G166*(1-E166)-1)/(G166-1),0))","v":""}]
[null,null,null,null,null,null,null,{"$f":"IF(F167=\"\",\"\",IF((F167*E167-1)>=Coeff!$B$10,Coeff!$B$8/Coeff!$B$9*(F167*E167-1)/(F167-1),0))","v":""},{"$f":"IF(G167=\"\",\"\",IF((G167*(1-E167)-1)>=Coeff!$B$10,Coeff!$B$8/Coeff!$B$9*(G167*(1-E167)-1)/(G167-1),0))","v":""}]
[null,null,null,null,null,null,null,{"$f":"IF(F168=\"\",\"\",IF((F168*E168-1)>=Coeff!$B$10,Coeff!$B$8/Coeff!$B$9*(F168*E168-1)/(F168-1),0))","v":""},{"$f":"IF(G168=\"\",\"\",IF((G168*(1-E168)-1)>=Coeff!$B$10,Coeff!$B$8/Coeff!$B$9*(G168*(1-E168)-1)/(G168-1),0))","v":""}]
[null,null,null,null,null,null,null,{"$f":"IF(F169=\"\",\"\",IF((F169*E169-1)>=Coeff!$B$10,Coeff!$B$8/Coeff!$B$9*(F169*E169-1)/(F169-1),0))","v":""},{"$f":"IF(G169=\"\",\"\",IF((G169*(1-E169)-1)>=Coeff!$B$10,Coeff!$B$8/Coeff!$B$9*(G169*(1-E169)-1)/(G169-1),0))","v":""}]
[null,null,null,null,null,null,null,{"$f":"IF(F170=\"\",\"\",IF((F170*E170-1)>=Coeff!$B$10,Coeff!$B$8/Coeff!$B$9*(F170*E170-1)/(F170-1),0))","v":""},{"$f":"IF(G170=\"\",\"\",IF((G170*(1-E170)-1)>=Coeff!$B$10,Coeff!$B$8/Coeff!$B$9*(G170*(1-E170)-1)/(G170-1),0))","v":""}]
[null,null,null,null,null,null,null,{"$f":"IF(F171=\"\",\"\",IF((F171*E171-1)>=Coeff!$B$10,Coeff!$B$8/Coeff!$B$9*(F171*E171-1)/(F171-1),0))","v":""},{"$f":"IF(G171=\"\",\"\",IF((G171*(1-E171)-1)>=Coeff!$B$10,Coeff!$B$8/Coeff!$B$9*(G171*(1-E171)-1)/(G171-1),0))","v":""}]
[null,null,null,null,null,null,null,{"$f":"IF(F172=\"\",\"\",IF((F172*E172-1)>=Coeff!$B$10,Coeff!$B$8/Coeff!$B$9*(F172*E172-1)/(F172-1),0))","v":""},{"$f":"IF(G172=\"\",\"\",IF((G172*(1-E172)-1)>=Coeff!$B$10,Coeff!$B$8/Coeff!$B$9*(G172*(1-E172)-1)/(G172-1),0))","v":""}]
[null,null,null,null,null,null,null,{"$f":"IF(F173=\"\",\"\",IF((F173*E173-1)>=Coeff!$B$10,Coeff!$B$8/Coeff!$B$9*(F173*E173-1)/(F173-1),0))","v":""},{"$f":"IF(G173=\"\",\"\",IF((G173*(1-E173)-1)>=Coeff!$B$10,Coeff!$B$8/Coeff!$B$9*(G173*(1-E173)-1)/(G173-1),0))","v":""}]
[null,null,null,null,null,null,null,{"$f":"IF(F174=\"\",\"\",IF((F174*E174-1)>=Coeff!$B$10,Coeff!$B$8/Coeff!$B$9*(F174*E174-1)/(F174-1),0))","v":""},{"$f":"IF(G174=\"\",\"\",IF((G174*(1-E174)-1)>=Coeff!$B$10,Coeff!$B$8/Coeff!$B$9*(G174*(1-E174)-1)/(G174-1),0))","v":""}]
[null,null,null,null,null,null,null,{"$f":"IF(F175=\"\",\"\",IF((F175*E175-1)>=Coeff!$B$10,Coeff!$B$8/Coeff!$B$9*(F175*E175-1)/(F175-1),0))","v":""},{"$f":"IF(G175=\"\",\"\",IF((G175*(1-E175)-1)>=Coeff!$B$10,Coeff!$B$8/Coeff!$B$9*(G175*(1-E175)-1)/(G175-1),0))","v":""}]
[null,null,null,null,null,null,null,{"$f":"IF(F176=\"\",\"\",IF((F176*E176-1)>=Coeff!$B$10,Coeff!$B$8/Coeff!$B$9*(F176*E176-1)/(F176-1),0))","v":""},{"$f":"IF(G176=\"\",\"\",IF((G176*(1-E176)-1)>=Coeff!$B$10,Coeff!$B$8/Coeff!$B$9*(G176*(1-E176)-1)/(G176-1),0))","v":""}]
[null,null,null,null,null,null,null,{"$f":"IF(F177=\"\",\"\",IF((F177*E177-1)>=Coeff!$B$10,Coeff!$B$8/Coeff!$B$9*(F177*E177-1)/(F177-1),0))","v":""},{"$f":"IF(G177=\"\",\"\",IF((G177*(1-E177)-1)>=Coeff!$B$10,Coeff!$B$8/Coeff!$B$9*(G177*(1-E177)-1)/(G177-1),0))","v":""}]
[null,null,null,null,null,null,null,{"$f":"IF(F178=\"\",\"\",IF((F178*E178-1)>=Coeff!$B$10,Coeff!$B$8/Coeff!$B$9*(F178*E178-1)/(F178-1),0))","v":""},{"$f":"IF(G178=\"\",\"\",IF((G178*(1-E178)-1)>=Coeff!$B$10,Coeff!$B$8/Coeff!$B$9*(G178*(1-E178)-1)/(G178-1),0))","v":""}]
[null,null,null,null,null,null,null,{"$f":"IF(F179=\"\",\"\",IF((F179*E179-1)>=Coeff!$B$10,Coeff!$B$8/Coeff!$B$9*(F179*E179-1)/(F179-1),0))","v":""},{"$f":"IF(G179=\"\",\"\",IF((G179*(1-E179)-1)>=Coeff!$B$10,Coeff!$B$8/Coeff!$B$9*(G179*(1-E179)-1)/(G179-1),0))","v":""}]
[null,null,null,null,null,null,null,{"$f":"IF(F180=\"\",\"\",IF((F180*E180-1)>=Coeff!$B$10,Coeff!$B$8/Coeff!$B$9*(F180*E180-1)/(F180-1),0))","v":""},{"$f":"IF(G180=\"\",\"\",IF((G180*(1-E180)-1)>=Coeff!$B$10,Coeff!$B$8/Coeff!$B$9*(G180*(1-E180)-1)/(G180-1),0))","v":""}]
[null,null,null,null,null,null,null,{"$f":"IF(F181=\"\",\"\",IF((F181*E181-1)>=Coeff!$B$10,Coeff!$B$8/Coeff!$B$9*(F181*E181-1)/(F181-1),0))","v":""},{"$f":"IF(G181=\"\",\"\",IF((G181*(1-E181)-1)>=Coeff!$B$10,Coeff!$B$8/Coeff!$B$9*(G181*(1-E181)-1)/(G181-1),0))","v":""}]
[null,null,null,null,null,null,null,{"$f":"IF(F182=\"\",\"\",IF((F182*E182-1)>=Coeff!$B$10,Coeff!$B$8/Coeff!$B$9*(F182*E182-1)/(F182-1),0))","v":""},{"$f":"IF(G182=\"\",\"\",IF((G182*(1-E182)-1)>=Coeff!$B$10,Coeff!$B$8/Coeff!$B$9*(G182*(1-E182)-1)/(G182-1),0))","v":""}]
[null,null,null,null,null,null,null,{"$f":"IF(F183=\"\",\"\",IF((F183*E183-1)>=Coeff!$B$10,Coeff!$B$8/Coeff!$B$9*(F183*E183-1)/(F183-1),0))","v":""},{"$f":"IF(G183=\"\",\"\",IF((G183*(1-E183)-1)>=Coeff!$B$10,Coeff!$B$8/Coeff!$B$9*(G183*(1-E183)-1)/(G183-1),0))","v":""}]
[null,null,null,null,null,null,null,{"$f":"IF(F184=\"\",\"\",IF((F184*E184-1)>=Coeff!$B$10,Coeff!$B$8/Coeff!$B$9*(F184*E184-1)/(F184-1),0))","v":""},{"$f":"IF(G184=\"\",\"\",IF((G184*(1-E184)-1)>=Coeff!$B$10,Coeff!$B$8/Coeff!$B$9*(G184*(1-E184)-1)/(G184-1),0))","v":""}]
[null,null,null,null,null,null,null,{"$f":"IF(F185=\"\",\"\",IF((F185*E185-1)>=Coeff!$B$10,Coeff!$B$8/Coeff!$B$9*(F185*E185-1)/(F185-1),0))","v":""},{"$f":"IF(G185=\"\",\"\",IF((G185*(1-E185)-1)>=Coeff!$B$10,Coeff!$B$8/Coeff!$B$9*(G185*(1-E185)-1)/(G185-1),0))","v":""}]
[null,null,null,null,null,null,null,{"$f":"IF(F186=\"\",\"\",IF((F186*E186-1)>=Coeff!$B$10,Coeff!$B$8/Coeff!$B$9*(F186*E186-1)/(F186-1),0))","v":""},{"$f":"IF(G186=\"\",\"\",IF((G186*(1-E186)-1)>=Coeff!$B$10,Coeff!$B$8/Coeff!$B$9*(G186*(1-E186)-1)/(G186-1),0))","v":""}]
[null,null,null,null,null,null,null,{"$f":"IF(F187=\"\",\"\",IF((F187*E187-1)>=Coeff!$B$10,Coeff!$B$8/Coeff!$B$9*(F187*E187-1)/(F187-1),0))","v":""},{"$f":"IF(G187=\"\",\"\",IF((G187*(1-E187)-1)>=Coeff!$B$10,Coeff!$B$8/Coeff!$B$9*(G187*(1-E187)-1)/(G187-1),0))","v":""}]
[null,null,null,null,null,null,null,{"$f":"IF(F188=\"\",\"\",IF((F188*E188-1)>=Coeff!$B$10,Coeff!$B$8/Coeff!$B$9*(F188*E188-1)/(F188-1),0))","v":""},{"$f":"IF(G188=\"\",\"\",IF((G188*(1-E188)-1)>=Coeff!$B$10,Coeff!$B$8/Coeff!$B$9*(G188*(1-E188)-1)/(G188-1),0))","v":""}]
[null,null,null,null,null,null,null,{"$f":"IF(F189=\"\",\"\",IF((F189*E189-1)>=Coeff!$B$10,Coeff!$B$8/Coeff!$B$9*(F189*E189-1)/(F189-1),0))","v":""},{"$f":"IF(G189=\"\",\"\",IF((G189*(1-E189)-1)>=Coeff!$B$10,Coeff!$B$8/Coeff!$B$9*(G189*(1-E189)-1)/(G189-1),0))","v":""}]
[null,null,null,null,null,null,null,{"$f":"IF(F190=\"\",\"\",IF((F190*E190-1)>=Coeff!$B$10,Coeff!$B$8/Coeff!$B$9*(F190*E190-1)/(F190-1),0))","v":""},{"$f":"IF(G190=\"\",\"\",IF((G190*(1-E190)-1)>=Coeff!$B$10,Coeff!$B$8/Coeff!$B$9*(G190*(1-E190)-1)/(G190-1),0))","v":""}]
[null,null,null,null,null,null,null,{"$f":"IF(F191=\"\",\"\",IF((F191*E191-1)>=Coeff!$B$10,Coeff!$B$8/Coeff!$B$9*(F191*E191-1)/(F191-1),0))","v":""},{"$f":"IF(G191=\"\",\"\",IF((G191*(1-E191)-1)>=Coeff!$B$10,Coeff!$B$8/Coeff!$B$9*(G191*(1-E191)-1)/(G191-1),0))","v":""}]
[null,null,null,null,null,null,null,{"$f":"IF(F192=\"\",\"\",IF((F192*E192-1)>=Coeff!$B$10,Coeff!$B$8/Coeff!$B$9*(F192*E192-1)/(F192-1),0))","v":""},{"$f":"IF(G192=\"\",\"\",IF((G192*(1-E192)-1)>=Coeff!$B$10,Coeff!$B$8/Coeff!$B$9*(G192*(1-E192)-1)/(G192-1),0))","v":""}]
[null,null,null,null,null,null,null,{"$f":"IF(F193=\"\",\"\",IF((F193*E193-1)>=Coeff!$B$10,Coeff!$B$8/Coeff!$B$9*(F193*E193-1)/(F193-1),0))","v":""},{"$f":"IF(G193=\"\",\"\",IF((G193*(1-E193)-1)>=Coeff!$B$10,Coeff!$B$8/Coeff!$B$9*(G193*(1-E193)-1)/(G193-1),0))","v":""}]
[null,null,null,null,null,null,null,{"$f":"IF(F194=\"\",\"\",IF((F194*E194-1)>=Coeff!$B$10,Coeff!$B$8/Coeff!$B$9*(F194*E194-1)/(F194-1),0))","v":""},{"$f":"IF(G194=\"\",\"\",IF((G194*(1-E194)-1)>=Coeff!$B$10,Coeff!$B$8/Coeff!$B$9*(G194*(1-E194)-1)/(G194-1),0))","v":""}]
[null,null,null,null,null,null,null,{"$f":"IF(F195=\"\",\"\",IF((F195*E195-1)>=Coeff!$B$10,Coeff!$B$8/Coeff!$B$9*(F195*E195-1)/(F195-1),0))","v":""},{"$f":"IF(G195=\"\",\"\",IF((G195*(1-E195)-1)>=Coeff!$B$10,Coeff!$B$8/Coeff!$B$9*(G195*(1-E195)-1)/(G195-1),0))","v":""}]
[null,null,null,null,null,null,null,{"$f":"IF(F196=\"\",\"\",IF((F196*E196-1)>=Coeff!$B$10,Coeff!$B$8/Coeff!$B$9*(F196*E196-1)/(F196-1),0))","v":""},{"$f":"IF(G196=\"\",\"\",IF((G196*(1-E196)-1)>=Coeff!$B$10,Coeff!$B$8/Coeff!$B$9*(G196*(1-E196)-1)/(G196-1),0))","v":""}]
[null,null,null,null,null,null,null,{"$f":"IF(F197=\"\",\"\",IF((F197*E197-1)>=Coeff!$B$10,Coeff!$B$8/Coeff!$B$9*(F197*E197-1)/(F197-1),0))","v":""},{"$f":"IF(G197=\"\",\"\",IF((G197*(1-E197)-1)>=Coeff!$B$10,Coeff!$B$8/Coeff!$B$9*(G197*(1-E197)-1)/(G197-1),0))","v":""}]
[null,null,null,null,null,null,null,{"$f":"IF(F198=\"\",\"\",IF((F198*E198-1)>=Coeff!$B$10,Coeff!$B$8/Coeff!$B$9*(F198*E198-1)/(F198-1),0))","v":""},{"$f":"IF(G198=\"\",\"\",IF((G198*(1-E198)-1)>=Coeff!$B$10,Coeff!$B$8/Coeff!$B$9*(G198*(1-E198)-1)/(G198-1),0))","v":""}]
[null,null,null,null,null,null,null,{"$f":"IF(F199=\"\",\"\",IF((F199*E199-1)>=Coeff!$B$10,Coeff!$B$8/Coeff!$B$9*(F199*E199-1)/(F199-1),0))","v":""},{"$f":"IF(G199=\"\",\"\",IF((G199*(1-E199)-1)>=Coeff!$B$10,Coeff!$B$8/Coeff!$B$9*(G199*(1-E199)-1)/(G199-1),0))","v":""}]
[null,null,null,null,null,null,null,{"$f":"IF(F200=\"\",\"\",IF((F200*E200-1)>=Coeff!$B$10,Coeff!$B$8/Coeff!$B$9*(F200*E200-1)/(F200-1),0))","v":""},{"$f":"IF(G200=\"\",\"\",IF((G200*(1-E200)-1)>=Coeff!$B$10,Coeff!$B$8/Coeff!$B$9*(G200*(1-E200)-1)/(G200-1),0))","v":""}]
[null,null,null,null,null,null,null,{"$f":"IF(F201=\"\",\"\",IF((F201*E201-1)>=Coeff!$B$10,Coeff!$B$8/Coeff!$B$9*(F201*E201-1)/(F201-1),0))","v":""},{"$f":"IF(G201=\"\",\"\",IF((G201*(1-E201)-1)>=Coeff!$B$10,Coeff!$B$8/Coeff!$B$9*(G201*(1-E201)-1)/(G201-1),0))","v":""}]
[null,null,null,null,null,null,null,{"$f":"IF(F202=\"\",\"\",IF((F202*E202-1)>=Coeff!$B$10,Coeff!$B$8/Coeff!$B$9*(F202*E202-1)/(F202-1),0))","v":""},{"$f":"IF(G202=\"\",\"\",IF((G202*(1-E202)-1)>=Coeff!$B$10,Coeff!$B$8/Coeff!$B$9*(G202*(1-E202)-1)/(G202-1),0))","v":""}]
[null,null,null,null,null,null,null,{"$f":"IF(F203=\"\",\"\",IF((F203*E203-1)>=Coeff!$B$10,Coeff!$B$8/Coeff!$B$9*(F203*E203-1)/(F203-1),0))","v":""},{"$f":"IF(G203=\"\",\"\",IF((G203*(1-E203)-1)>=Coeff!$B$10,Coeff!$B$8/Coeff!$B$9*(G203*(1-E203)-1)/(G203-1),0))","v":""}]
[null,null,null,null,null,null,null,{"$f":"IF(F204=\"\",\"\",IF((F204*E204-1)>=Coeff!$B$10,Coeff!$B$8/Coeff!$B$9*(F204*E204-1)/(F204-1),0))","v":""},{"$f":"IF(G204=\"\",\"\",IF((G204*(1-E204)-1)>=Coeff!$B$10,Coeff!$B$8/Coeff!$B$9*(G204*(1-E204)-1)/(G204-1),0))","v":""}]
[null,null,null,null,null,null,null,{"$f":"IF(F205=\"\",\"\",IF((F205*E205-1)>=Coeff!$B$10,Coeff!$B$8/Coeff!$B$9*(F205*E205-1)/(F205-1),0))","v":""},{"$f":"IF(G205=\"\",\"\",IF((G205*(1-E205)-1)>=Coeff!$B$10,Coeff!$B$8/Coeff!$B$9*(G205*(1-E205)-1)/(G205-1),0))","v":""}]
[null,null,null,null,null,null,null,{"$f":"IF(F206=\"\",\"\",IF((F206*E206-1)>=Coeff!$B$10,Coeff!$B$8/Coeff!$B$9*(F206*E206-1)/(F206-1),0))","v":""},{"$f":"IF(G206=\"\",\"\",IF((G206*(1-E206)-1)>=Coeff!$B$10,Coeff!$B$8/Coeff!$B$9*(G206*(1-E206)-1)/(G206-1),0))","v":""}]
[null,null,null,null,null,null,null,{"$f":"IF(F207=\"\",\"\",IF((F207*E207-1)>=Coeff!$B$10,Coeff!$B$8/Coeff!$B$9*(F207*E207-1)/(F207-1),0))","v":""},{"$f":"IF(G207=\"\",\"\",IF((G207*(1-E207)-1)>=Coeff!$B$10,Coeff!$B$8/Coeff!$B$9*(G207*(1-E207)-1)/(G207-1),0))","v":""}]
[null,null,null,null,null,null,null,{"$f":"IF(F208=\"\",\"\",IF((F208*E208-1)>=Coeff!$B$10,Coeff!$B$8/Coeff!$B$9*(F208*E208-1)/(F208-1),0))","v":""},{"$f":"IF(G208=\"\",\"\",IF((G208*(1-E208)-1)>=Coeff!$B$10,Coeff!$B$8/Coeff!$B$9*(G208*(1-E208)-1)/(G208-1),0))","v":""}]
[null,null,null,null,null,null,null,{"$f":"IF(F209=\"\",\"\",IF((F209*E209-1)>=Coeff!$B$10,Coeff!$B$8/Coeff!$B$9*(F209*E209-1)/(F209-1),0))","v":""},{"$f":"IF(G209=\"\",\"\",IF((G209*(1-E209)-1)>=Coeff!$B$10,Coeff!$B$8/Coeff!$B$9*(G209*(1-E209)-1)/(G209-1),0))","v":""}]
[null,null,null,null,null,null,null,{"$f":"IF(F210=\"\",\"\",IF((F210*E210-1)>=Coeff!$B$10,Coeff!$B$8/Coeff!$B$9*(F210*E210-1)/(F210-1),0))","v":""},{"$f":"IF(G210=\"\",\"\",IF((G210*(1-E210)-1)>=Coeff!$B$10,Coeff!$B$8/Coeff!$B$9*(G210*(1-E210)-1)/(G210-1),0))","v":""}]
[null,null,null,null,null,null,null,{"$f":"IF(F211=\"\",\"\",IF((F211*E211-1)>=Coeff!$B$10,Coeff!$B$8/Coeff!$B$9*(F211*E211-1)/(F211-1),0))","v":""},{"$f":"IF(G211=\"\",\"\",IF((G211*(1-E211)-1)>=Coeff!$B$10,Coeff!$B$8/Coeff!$B$9*(G211*(1-E211)-1)/(G211-1),0))","v":""}]
[null,null,null,null,null,null,null,{"$f":"IF(F212=\"\",\"\",IF((F212*E212-1)>=Coeff!$B$10,Coeff!$B$8/Coeff!$B$9*(F212*E212-1)/(F212-1),0))","v":""},{"$f":"IF(G212=\"\",\"\",IF((G212*(1-E212)-1)>=Coeff!$B$10,Coeff!$B$8/Coeff!$B$9*(G212*(1-E212)-1)/(G212-1),0))","v":""}]
[null,null,null,null,null,null,null,{"$f":"IF(F213=\"\",\"\",IF((F213*E213-1)>=Coeff!$B$10,Coeff!$B$8/Coeff!$B$9*(F213*E213-1)/(F213-1),0))","v":""},{"$f":"IF(G213=\"\",\"\",IF((G213*(1-E213)-1)>=Coeff!$B$10,Coeff!$B$8/Coeff!$B$9*(G213*(1-E213)-1)/(G213-1),0))","v":""}]
[null,null,null,null,null,null,null,{"$f":"IF(F214=\"\",\"\",IF((F214*E214-1)>=Coeff!$B$10,Coeff!$B$8/Coeff!$B$9*(F214*E214-1)/(F214-1),0))","v":""},{"$f":"IF(G214=\"\",\"\",IF((G214*(1-E214)-1)>=Coeff!$B$10,Coeff!$B$8/Coeff!$B$9*(G214*(1-E214)-1)/(G214-1),0))","v":""}]
[null,null,null,null,null,null,null,{"$f":"IF(F215=\"\",\"\",IF((F215*E215-1)>=Coeff!$B$10,Coeff!$B$8/Coeff!$B$9*(F215*E215-1)/(F215-1),0))","v":""},{"$f":"IF(G215=\"\",\"\",IF((G215*(1-E215)-1)>=Coeff!$B$10,Coeff!$B$8/Coeff!$B$9*(G215*(1-E215)-1)/(G215-1),0))","v":""}]
[null,null,null,null,null,null,null,{"$f":"IF(F216=\"\",\"\",IF((F216*E216-1)>=Coeff!$B$10,Coeff!$B$8/Coeff!$B$9*(F216*E216-1)/(F216-1),0))","v":""},{"$f":"IF(G216=\"\",\"\",IF((G216*(1-E216)-1)>=Coeff!$B$10,Coeff!$B$8/Coeff!$B$9*(G216*(1-E216)-1)/(G216-1),0))","v":""}]
[null,null,null,null,null,null,null,{"$f":"IF(F217=\"\",\"\",IF((F217*E217-1)>=Coeff!$B$10,Coeff!$B$8/Coeff!$B$9*(F217*E217-1)/(F217-1),0))","v":""},{"$f":"IF(G217=\"\",\"\",IF((G217*(1-E217)-1)>=Coeff!$B$10,Coeff!$B$8/Coeff!$B$9*(G217*(1-E217)-1)/(G217-1),0))","v":""}]
[null,null,null,null,null,null,null,{"$f":"IF(F218=\"\",\"\",IF((F218*E218-1)>=Coeff!$B$10,Coeff!$B$8/Coeff!$B$9*(F218*E218-1)/(F218-1),0))","v":""},{"$f":"IF(G218=\"\",\"\",IF((G218*(1-E218)-1)>=Coeff!$B$10,Coeff!$B$8/Coeff!$B$9*(G218*(1-E218)-1)/(G218-1),0))","v":""}]
[null,null,null,null,null,null,null,{"$f":"IF(F219=\"\",\"\",IF((F219*E219-1)>=Coeff!$B$10,Coeff!$B$8/Coeff!$B$9*(F219*E219-1)/(F219-1),0))","v":""},{"$f":"IF(G219=\"\",\"\",IF((G219*(1-E219)-1)>=Coeff!$B$10,Coeff!$B$8/Coeff!$B$9*(G219*(1-E219)-1)/(G219-1),0))","v":""}]
[null,null,null,null,null,null,null,{"$f":"IF(F220=\"\",\"\",IF((F220*E220-1)>=Coeff!$B$10,Coeff!$B$8/Coeff!$B$9*(F220*E220-1)/(F220-1),0))","v":""},{"$f":"IF(G220=\"\",\"\",IF((G220*(1-E220)-1)>=Coeff!$B$10,Coeff!$B$8/Coeff!$B$9*(G220*(1-E220)-1)/(G220-1),0))","v":""}]
[null,null,null,null,null,null,null,{"$f":"IF(F221=\"\",\"\",IF((F221*E221-1)>=Coeff!$B$10,Coeff!$B$8/Coeff!$B$9*(F221*E221-1)/(F221-1),0))","v":""},{"$f":"IF(G221=\"\",\"\",IF((G221*(1-E221)-1)>=Coeff!$B$10,Coeff!$B$8/Coeff!$B$9*(G221*(1-E221)-1)/(G221-1),0))","v":""}]
[null,null,null,null,null,null,null,{"$f":"IF(F222=\"\",\"\",IF((F222*E222-1)>=Coeff!$B$10,Coeff!$B$8/Coeff!$B$9*(F222*E222-1)/(F222-1),0))","v":""},{"$f":"IF(G222=\"\",\"\",IF((G222*(1-E222)-1)>=Coeff!$B$10,Coeff!$B$8/Coeff!$B$9*(G222*(1-E222)-1)/(G222-1),0))","v":""}]
[null,null,null,null,null,null,null,{"$f":"IF(F223=\"\",\"\",IF((F223*E223-1)>=Coeff!$B$10,Coeff!$B$8/Coeff!$B$9*(F223*E223-1)/(F223-1),0))","v":""},{"$f":"IF(G223=\"\",\"\",IF((G223*(1-E223)-1)>=Coeff!$B$10,Coeff!$B$8/Coeff!$B$9*(G223*(1-E223)-1)/(G223-1),0))","v":""}]
[null,null,null,null,null,null,null,{"$f":"IF(F224=\"\",\"\",IF((F224*E224-1)>=Coeff!$B$10,Coeff!$B$8/Coeff!$B$9*(F224*E224-1)/(F224-1),0))","v":""},{"$f":"IF(G224=\"\",\"\",IF((G224*(1-E224)-1)>=Coeff!$B$10,Coeff!$B$8/Coeff!$B$9*(G224*(1-E224)-1)/(G224-1),0))","v":""}]
[null,null,null,null,null,null,null,{"$f":"IF(F225=\"\",\"\",IF((F225*E225-1)>=Coeff!$B$10,Coeff!$B$8/Coeff!$B$9*(F225*E225-1)/(F225-1),0))","v":""},{"$f":"IF(G225=\"\",\"\",IF((G225*(1-E225)-1)>=Coeff!$B$10,Coeff!$B$8/Coeff!$B$9*(G225*(1-E225)-1)/(G225-1),0))","v":""}]
[null,null,null,null,null,null,null,{"$f":"IF(F226=\"\",\"\",IF((F226*E226-1)>=Coeff!$B$10,Coeff!$B$8/Coeff!$B$9*(F226*E226-1)/(F226-1),0))","v":""},{"$f":"IF(G226=\"\",\"\",IF((G226*(1-E226)-1)>=Coeff!$B$10,Coeff!$B$8/Coeff!$B$9*(G226*(1-E226)-1)/(G226-1),0))","v":""}]
[null,null,null,null,null,null,null,{"$f":"IF(F227=\"\",\"\",IF((F227*E227-1)>=Coeff!$B$10,Coeff!$B$8/Coeff!$B$9*(F227*E227-1)/(F227-1),0))","v":""},{"$f":"IF(G227=\"\",\"\",IF((G227*(1-E227)-1)>=Coeff!$B$10,Coeff!$B$8/Coeff!$B$9*(G227*(1-E227)-1)/(G227-1),0))","v":""}]
[null,null,null,null,null,null,null,{"$f":"IF(F228=\"\",\"\",IF((F228*E228-1)>=Coeff!$B$10,Coeff!$B$8/Coeff!$B$9*(F228*E228-1)/(F228-1),0))","v":""},{"$f":"IF(G228=\"\",\"\",IF((G228*(1-E228)-1)>=Coeff!$B$10,Coeff!$B$8/Coeff!$B$9*(G228*(1-E228)-1)/(G228-1),0))","v":""}]
[null,null,null,null,null,null,null,{"$f":"IF(F229=\"\",\"\",IF((F229*E229-1)>=Coeff!$B$10,Coeff!$B$8/Coeff!$B$9*(F229*E229-1)/(F229-1),0))","v":""},{"$f":"IF(G229=\"\",\"\",IF((G229*(1-E229)-1)>=Coeff!$B$10,Coeff!$B$8/Coeff!$B$9*(G229*(1-E229)-1)/(G229-1),0))","v":""}]
[null,null,null,null,null,null,null,{"$f":"IF(F230=\"\",\"\",IF((F230*E230-1)>=Coeff!$B$10,Coeff!$B$8/Coeff!$B$9*(F230*E230-1)/(F230-1),0))","v":""},{"$f":"IF(G230=\"\",\"\",IF((G230*(1-E230)-1)>=Coeff!$B$10,Coeff!$B$8/Coeff!$B$9*(G230*(1-E230)-1)/(G230-1),0))","v":""}]
[null,null,null,null,null,null,null,{"$f":"IF(F231=\"\",\"\",IF((F231*E231-1)>=Coeff!$B$10,Coeff!$B$8/Coeff!$B$9*(F231*E231-1)/(F231-1),0))","v":""},{"$f":"IF(G231=\"\",\"\",IF((G231*(1-E231)-1)>=Coeff!$B$10,Coeff!$B$8/Coeff!$B$9*(G231*(1-E231)-1)/(G231-1),0))","v":""}]
[null,null,null,null,null,null,null,{"$f":"IF(F232=\"\",\"\",IF((F232*E232-1)>=Coeff!$B$10,Coeff!$B$8/Coeff!$B$9*(F232*E232-1)/(F232-1),0))","v":""},{"$f":"IF(G232=\"\",\"\",IF((G232*(1-E232)-1)>=Coeff!$B$10,Coeff!$B$8/Coeff!$B$9*(G232*(1-E232)-1)/(G232-1),0))","v":""}]
[null,null,null,null,null,null,null,{"$f":"IF(F233=\"\",\"\",IF((F233*E233-1)>=Coeff!$B$10,Coeff!$B$8/Coeff!$B$9*(F233*E233-1)/(F233-1),0))","v":""},{"$f":"IF(G233=\"\",\"\",IF((G233*(1-E233)-1)>=Coeff!$B$10,Coeff!$B$8/Coeff!$B$9*(G233*(1-E233)-1)/(G233-1),0))","v":""}]
[null,null,null,null,null,null,null,{"$f":"IF(F234=\"\",\"\",IF((F234*E234-1)>=Coeff!$B$10,Coeff!$B$8/Coeff!$B$9*(F234*E234-1)/(F234-1),0))","v":""},{"$f":"IF(G234=\"\",\"\",IF((G234*(1-E234)-1)>=Coeff!$B$10,Coeff!$B$8/Coeff!$B$9*(G234*(1-E234)-1)/(G234-1),0))","v":""}]
[null,null,null,null,null,null,null,{"$f":"IF(F235=\"\",\"\",IF((F235*E235-1)>=Coeff!$B$10,Coeff!$B$8/Coeff!$B$9*(F235*E235-1)/(F235-1),0))","v":""},{"$f":"IF(G235=\"\",\"\",IF((G235*(1-E235)-1)>=Coeff!$B$10,Coeff!$B$8/Coeff!$B$9*(G235*(1-E235)-1)/(G235-1),0))","v":""}]
[null,null,null,null,null,null,null,{"$f":"IF(F236=\"\",\"\",IF((F236*E236-1)>=Coeff!$B$10,Coeff!$B$8/Coeff!$B$9*(F236*E236-1)/(F236-1),0))","v":""},{"$f":"IF(G236=\"\",\"\",IF((G236*(1-E236)-1)>=Coeff!$B$10,Coeff!$B$8/Coeff!$B$9*(G236*(1-E236)-1)/(G236-1),0))","v":""}]
[null,null,null,null,null,null,null,{"$f":"IF(F237=\"\",\"\",IF((F237*E237-1)>=Coeff!$B$10,Coeff!$B$8/Coeff!$B$9*(F237*E237-1)/(F237-1),0))","v":""},{"$f":"IF(G237=\"\",\"\",IF((G237*(1-E237)-1)>=Coeff!$B$10,Coeff!$B$8/Coeff!$B$9*(G237*(1-E237)-1)/(G237-1),0))","v":""}]
[null,null,null,null,null,null,null,{"$f":"IF(F238=\"\",\"\",IF((F238*E238-1)>=Coeff!$B$10,Coeff!$B$8/Coeff!$B$9*(F238*E238-1)/(F238-1),0))","v":""},{"$f":"IF(G238=\"\",\"\",IF((G238*(1-E238)-1)>=Coeff!$B$10,Coeff!$B$8/Coeff!$B$9*(G238*(1-E238)-1)/(G238-1),0))","v":""}]
[null,null,null,null,null,null,null,{"$f":"IF(F239=\"\",\"\",IF((F239*E239-1)>=Coeff!$B$10,Coeff!$B$8/Coeff!$B$9*(F239*E239-1)/(F239-1),0))","v":""},{"$f":"IF(G239=\"\",\"\",IF((G239*(1-E239)-1)>=Coeff!$B$10,Coeff!$B$8/Coeff!$B$9*(G239*(1-E239)-1)/(G239-1),0))","v":""}]
[null,null,null,null,null,null,null,{"$f":"IF(F240=\"\",\"\",IF((F240*E240-1)>=Coeff!$B$10,Coeff!$B$8/Coeff!$B$9*(F240*E240-1)/(F240-1),0))","v":""},{"$f":"IF(G240=\"\",\"\",IF((G240*(1-E240)-1)>=Coeff!$B$10,Coeff!$B$8/Coeff!$B$9*(G240*(1-E240)-1)/(G240-1),0))","v":""}]
[null,null,null,null,null,null,null,{"$f":"IF(F241=\"\",\"\",IF((F241*E241-1)>=Coeff!$B$10,Coeff!$B$8/Coeff!$B$9*(F241*E241-1)/(F241-1),0))","v":""},{"$f":"IF(G241=\"\",\"\",IF((G241*(1-E241)-1)>=Coeff!$B$10,Coeff!$B$8/Coeff!$B$9*(G241*(1-E241)-1)/(G241-1),0))","v":""}]
[null,null,null,null,null,null,null,{"$f":"IF(F242=\"\",\"\",IF((F242*E242-1)>=Coeff!$B$10,Coeff!$B$8/Coeff!$B$9*(F242*E242-1)/(F242-1),0))","v":""},{"$f":"IF(G242=\"\",\"\",IF((G242*(1-E242)-1)>=Coeff!$B$10,Coeff!$B$8/Coeff!$B$9*(G242*(1-E242)-1)/(G242-1),0))","v":""}]
[null,null,null,null,null,null,null,{"$f":"IF(F243=\"\",\"\",IF((F243*E243-1)>=Coeff!$B$10,Coeff!$B$8/Coeff!$B$9*(F243*E243-1)/(F243-1),0))","v":""},{"$f":"IF(G243=\"\",\"\",IF((G243*(1-E243)-1)>=Coeff!$B$10,Coeff!$B$8/Coeff!$B$9*(G243*(1-E243)-1)/(G243-1),0))","v":""}]
[null,null,null,null,null,null,null,{"$f":"IF(F244=\"\",\"\",IF((F244*E244-1)>=Coeff!$B$10,Coeff!$B$8/Coeff!$B$9*(F244*E244-1)/(F244-1),0))","v":""},{"$f":"IF(G244=\"\",\"\",IF((G244*(1-E244)-1)>=Coeff!$B$10,Coeff!$B$8/Coeff!$B$9*(G244*(1-E244)-1)/(G244-1),0))","v":""}]
[null,null,null,null,null,null,null,{"$f":"IF(F245=\"\",\"\",IF((F245*E245-1)>=Coeff!$B$10,Coeff!$B$8/Coeff!$B$9*(F245*E245-1)/(F245-1),0))","v":""},{"$f":"IF(G245=\"\",\"\",IF((G245*(1-E245)-1)>=Coeff!$B$10,Coeff!$B$8/Coeff!$B$9*(G245*(1-E245)-1)/(G245-1),0))","v":""}]
[null,null,null,null,null,null,null,{"$f":"IF(F246=\"\",\"\",IF((F246*E246-1)>=Coeff!$B$10,Coeff!$B$8/Coeff!$B$9*(F246*E246-1)/(F246-1),0))","v":""},{"$f":"IF(G246=\"\",\"\",IF((G246*(1-E246)-1)>=Coeff!$B$10,Coeff!$B$8/Coeff!$B$9*(G246*(1-E246)-1)/(G246-1),0))","v":""}]
[null,null,null,null,null,null,null,{"$f":"IF(F247=\"\",\"\",IF((F247*E247-1)>=Coeff!$B$10,Coeff!$B$8/Coeff!$B$9*(F247*E247-1)/(F247-1),0))","v":""},{"$f":"IF(G247=\"\",\"\",IF((G247*(1-E247)-1)>=Coeff!$B$10,Coeff!$B$8/Coeff!$B$9*(G247*(1-E247)-1)/(G247-1),0))","v":""}]
[null,null,null,null,null,null,null,{"$f":"IF(F248=\"\",\"\",IF((F248*E248-1)>=Coeff!$B$10,Coeff!$B$8/Coeff!$B$9*(F248*E248-1)/(F248-1),0))","v":""},{"$f":"IF(G248=\"\",\"\",IF((G248*(1-E248)-1)>=Coeff!$B$10,Coeff!$B$8/Coeff!$B$9*(G248*(1-E248)-1)/(G248-1),0))","v":""}]
[null,null,null,null,null,null,null,{"$f":"IF(F249=\"\",\"\",IF((F249*E249-1)>=Coeff!$B$10,Coeff!$B$8/Coeff!$B$9*(F249*E249-1)/(F249-1),0))","v":""},{"$f":"IF(G249=\"\",\"\",IF((G249*(1-E249)-1)>=Coeff!$B$10,Coeff!$B$8/Coeff!$B$9*(G249*(1-E249)-1)/(G249-1),0))","v":""}]
[null,null,null,null,null,null,null,{"$f":"IF(F250=\"\",\"\",IF((F250*E250-1)>=Coeff!$B$10,Coeff!$B$8/Coeff!$B$9*(F250*E250-1)/(F250-1),0))","v":""},{"$f":"IF(G250=\"\",\"\",IF((G250*(1-E250)-1)>=Coeff!$B$10,Coeff!$B$8/Coeff!$B$9*(G250*(1-E250)-1)/(G250-1),0))","v":""}]
[null,null,null,null,null,null,null,{"$f":"IF(F251=\"\",\"\",IF((F251*E251-1)>=Coeff!$B$10,Coeff!$B$8/Coeff!$B$9*(F251*E251-1)/(F251-1),0))","v":""},{"$f":"IF(G251=\"\",\"\",IF((G251*(1-E251)-1)>=Coeff!$B$10,Coeff!$B$8/Coeff!$B$9*(G251*(1-E251)-1)/(G251-1),0))","v":""}]
[null,null,null,null,null,null,null,{"$f":"IF(F252=\"\",\"\",IF((F252*E252-1)>=Coeff!$B$10,Coeff!$B$8/Coeff!$B$9*(F252*E252-1)/(F252-1),0))","v":""},{"$f":"IF(G252=\"\",\"\",IF((G252*(1-E252)-1)>=Coeff!$B$10,Coeff!$B$8/Coeff!$B$9*(G252*(1-E252)-1)/(G252-1),0))","v":""}]
[null,null,null,null,null,null,null,{"$f":"IF(F253=\"\",\"\",IF((F253*E253-1)>=Coeff!$B$10,Coeff!$B$8/Coeff!$B$9*(F253*E253-1)/(F253-1),0))","v":""},{"$f":"IF(G253=\"\",\"\",IF((G253*(1-E253)-1)>=Coeff!$B$10,Coeff!$B$8/Coeff!$B$9*(G253*(1-E253)-1)/(G253-1),0))","v":""}]
[null,null,null,null,null,null,null,{"$f":"IF(F254=\"\",\"\",IF((F254*E254-1)>=Coeff!$B$10,Coeff!$B$8/Coeff!$B$9*(F254*E254-1)/(F254-1),0))","v":""},{"$f":"IF(G254=\"\",\"\",IF((G254*(1-E254)-1)>=Coeff!$B$10,Coeff!$B$8/Coeff!$B$9*(G254*(1-E254)-1)/(G254-1),0))","v":""}]
[null,null,null,null,null,null,null,{"$f":"IF(F255=\"\",\"\",IF((F255*E255-1)>=Coeff!$B$10,Coeff!$B$8/Coeff!$B$9*(F255*E255-1)/(F255-1),0))","v":""},{"$f":"IF(G255=\"\",\"\",IF((G255*(1-E255)-1)>=Coeff!$B$10,Coeff!$B$8/Coeff!$B$9*(G255*(1-E255)-1)/(G255-1),0))","v":""}]
[null,null,null,null,null,null,null,{"$f":"IF(F256=\"\",\"\",IF((F256*E256-1)>=Coeff!$B$10,Coeff!$B$8/Coeff!$B$9*(F256*E256-1)/(F256-1),0))","v":""},{"$f":"IF(G256=\"\",\"\",IF((G256*(1-E256)-1)>=Coeff!$B$10,Coeff!$B$8/Coeff!$B$9*(G256*(1-E256)-1)/(G256-1),0))","v":""}]
[null,null,null,null,null,null,null,{"$f":"IF(F257=\"\",\"\",IF((F257*E257-1)>=Coeff!$B$10,Coeff!$B$8/Coeff!$B$9*(F257*E257-1)/(F257-1),0))","v":""},{"$f":"IF(G257=\"\",\"\",IF((G257*(1-E257)-1)>=Coeff!$B$10,Coeff!$B$8/Coeff!$B$9*(G257*(1-E257)-1)/(G257-1),0))","v":""}]
[null,null,null,null,null,null,null,{"$f":"IF(F258=\"\",\"\",IF((F258*E258-1)>=Coeff!$B$10,Coeff!$B$8/Coeff!$B$9*(F258*E258-1)/(F258-1),0))","v":""},{"$f":"IF(G258=\"\",\"\",IF((G258*(1-E258)-1)>=Coeff!$B$10,Coeff!$B$8/Coeff!$B$9*(G258*(1-E258)-1)/(G258-1),0))","v":""}]
[null,null,null,null,null,null,null,{"$f":"IF(F259=\"\",\"\",IF((F259*E259-1)>=Coeff!$B$10,Coeff!$B$8/Coeff!$B$9*(F259*E259-1)/(F259-1),0))","v":""},{"$f":"IF(G259=\"\",\"\",IF((G259*(1-E259)-1)>=Coeff!$B$10,Coeff!$B$8/Coeff!$B$9*(G259*(1-E259)-1)/(G259-1),0))","v":""}]
[null,null,null,null,null,null,null,{"$f":"IF(F260=\"\",\"\",IF((F260*E260-1)>=Coeff!$B$10,Coeff!$B$8/Coeff!$B$9*(F260*E260-1)/(F260-1),0))","v":""},{"$f":"IF(G260=\"\",\"\",IF((G260*(1-E260)-1)>=Coeff!$B$10,Coeff!$B$8/Coeff!$B$9*(G260*(1-E260)-1)/(G260-1),0))","v":""}]
[null,null,null,null,null,null,null,{"$f":"IF(F261=\"\",\"\",IF((F261*E261-1)>=Coeff!$B$10,Coeff!$B$8/Coeff!$B$9*(F261*E261-1)/(F261-1),0))","v":""},{"$f":"IF(G261=\"\",\"\",IF((G261*(1-E261)-1)>=Coeff!$B$10,Coeff!$B$8/Coeff!$B$9*(G261*(1-E261)-1)/(G261-1),0))","v":""}]
[null,null,null,null,null,null,null,{"$f":"IF(F262=\"\",\"\",IF((F262*E262-1)>=Coeff!$B$10,Coeff!$B$8/Coeff!$B$9*(F262*E262-1)/(F262-1),0))","v":""},{"$f":"IF(G262=\"\",\"\",IF((G262*(1-E262)-1)>=Coeff!$B$10,Coeff!$B$8/Coeff!$B$9*(G262*(1-E262)-1)/(G262-1),0))","v":""}]
[null,null,null,null,null,null,null,{"$f":"IF(F263=\"\",\"\",IF((F263*E263-1)>=Coeff!$B$10,Coeff!$B$8/Coeff!$B$9*(F263*E263-1)/(F263-1),0))","v":""},{"$f":"IF(G263=\"\",\"\",IF((G263*(1-E263)-1)>=Coeff!$B$10,Coeff!$B$8/Coeff!$B$9*(G263*(1-E263)-1)/(G263-1),0))","v":""}]
[null,null,null,null,null,null,null,{"$f":"IF(F264=\"\",\"\",IF((F264*E264-1)>=Coeff!$B$10,Coeff!$B$8/Coeff!$B$9*(F264*E264-1)/(F264-1),0))","v":""},{"$f":"IF(G264=\"\",\"\",IF((G264*(1-E264)-1)>=Coeff!$B$10,Coeff!$B$8/Coeff!$B$9*(G264*(1-E264)-1)/(G264-1),0))","v":""}]
[null,null,null,null,null,null,null,{"$f":"IF(F265=\"\",\"\",IF((F265*E265-1)>=Coeff!$B$10,Coeff!$B$8/Coeff!$B$9*(F265*E265-1)/(F265-1),0))","v":""},{"$f":"IF(G265=\"\",\"\",IF((G265*(1-E265)-1)>=Coeff!$B$10,Coeff!$B$8/Coeff!$B$9*(G265*(1-E265)-1)/(G265-1),0))","v":""}]
[null,null,null,null,null,null,null,{"$f":"IF(F266=\"\",\"\",IF((F266*E266-1)>=Coeff!$B$10,Coeff!$B$8/Coeff!$B$9*(F266*E266-1)/(F266-1),0))","v":""},{"$f":"IF(G266=\"\",\"\",IF((G266*(1-E266)-1)>=Coeff!$B$10,Coeff!$B$8/Coeff!$B$9*(G266*(1-E266)-1)/(G266-1),0))","v":""}]
[null,null,null,null,null,null,null,{"$f":"IF(F267=\"\",\"\",IF((F267*E267-1)>=Coeff!$B$10,Coeff!$B$8/Coeff!$B$9*(F267*E267-1)/(F267-1),0))","v":""},{"$f":"IF(G267=\"\",\"\",IF((G267*(1-E267)-1)>=Coeff!$B$10,Coeff!$B$8/Coeff!$B$9*(G267*(1-E267)-1)/(G267-1),0))","v":""}]
[null,null,null,null,null,null,null,{"$f":"IF(F268=\"\",\"\",IF((F268*E268-1)>=Coeff!$B$10,Coeff!$B$8/Coeff!$B$9*(F268*E268-1)/(F268-1),0))","v":""},{"$f":"IF(G268=\"\",\"\",IF((G268*(1-E268)-1)>=Coeff!$B$10,Coeff!$B$8/Coeff!$B$9*(G268*(1-E268)-1)/(G268-1),0))","v":""}]
[null,null,null,null,null,null,null,{"$f":"IF(F269=\"\",\"\",IF((F269*E269-1)>=Coeff!$B$10,Coeff!$B$8/Coeff!$B$9*(F269*E269-1)/(F269-1),0))","v":""},{"$f":"IF(G269=\"\",\"\",IF((G269*(1-E269)-1)>=Coeff!$B$10,Coeff!$B$8/Coeff!$B$9*(G269*(1-E269)-1)/(G269-1),0))","v":""}]
[null,null,null,null,null,null,null,{"$f":"IF(F270=\"\",\"\",IF((F270*E270-1)>=Coeff!$B$10,Coeff!$B$8/Coeff!$B$9*(F270*E270-1)/(F270-1),0))","v":""},{"$f":"IF(G270=\"\",\"\",IF((G270*(1-E270)-1)>=Coeff!$B$10,Coeff!$B$8/Coeff!$B$9*(G270*(1-E270)-1)/(G270-1),0))","v":""}]
[null,null,null,null,null,null,null,{"$f":"IF(F271=\"\",\"\",IF((F271*E271-1)>=Coeff!$B$10,Coeff!$B$8/Coeff!$B$9*(F271*E271-1)/(F271-1),0))","v":""},{"$f":"IF(G271=\"\",\"\",IF((G271*(1-E271)-1)>=Coeff!$B$10,Coeff!$B$8/Coeff!$B$9*(G271*(1-E271)-1)/(G271-1),0))","v":""}]
[null,null,null,null,null,null,null,{"$f":"IF(F272=\"\",\"\",IF((F272*E272-1)>=Coeff!$B$10,Coeff!$B$8/Coeff!$B$9*(F272*E272-1)/(F272-1),0))","v":""},{"$f":"IF(G272=\"\",\"\",IF((G272*(1-E272)-1)>=Coeff!$B$10,Coeff!$B$8/Coeff!$B$9*(G272*(1-E272)-1)/(G272-1),0))","v":""}]
[null,null,null,null,null,null,null,{"$f":"IF(F273=\"\",\"\",IF((F273*E273-1)>=Coeff!$B$10,Coeff!$B$8/Coeff!$B$9*(F273*E273-1)/(F273-1),0))","v":""},{"$f":"IF(G273=\"\",\"\",IF((G273*(1-E273)-1)>=Coeff!$B$10,Coeff!$B$8/Coeff!$B$9*(G273*(1-E273)-1)/(G273-1),0))","v":""}]
[null,null,null,null,null,null,null,{"$f":"IF(F274=\"\",\"\",IF((F274*E274-1)>=Coeff!$B$10,Coeff!$B$8/Coeff!$B$9*(F274*E274-1)/(F274-1),0))","v":""},{"$f":"IF(G274=\"\",\"\",IF((G274*(1-E274)-1)>=Coeff!$B$10,Coeff!$B$8/Coeff!$B$9*(G274*(1-E274)-1)/(G274-1),0))","v":""}]
[null,null,null,null,null,null,null,{"$f":"IF(F275=\"\",\"\",IF((F275*E275-1)>=Coeff!$B$10,Coeff!$B$8/Coeff!$B$9*(F275*E275-1)/(F275-1),0))","v":""},{"$f":"IF(G275=\"\",\"\",IF((G275*(1-E275)-1)>=Coeff!$B$10,Coeff!$B$8/Coeff!$B$9*(G275*(1-E275)-1)/(G275-1),0))","v":""}]
[null,null,null,null,null,null,null,{"$f":"IF(F276=\"\",\"\",IF((F276*E276-1)>=Coeff!$B$10,Coeff!$B$8/Coeff!$B$9*(F276*E276-1)/(F276-1),0))","v":""},{"$f":"IF(G276=\"\",\"\",IF((G276*(1-E276)-1)>=Coeff!$B$10,Coeff!$B$8/Coeff!$B$9*(G276*(1-E276)-1)/(G276-1),0))","v":""}]
[null,null,null,null,null,null,null,{"$f":"IF(F277=\"\",\"\",IF((F277*E277-1)>=Coeff!$B$10,Coeff!$B$8/Coeff!$B$9*(F277*E277-1)/(F277-1),0))","v":""},{"$f":"IF(G277=\"\",\"\",IF((G277*(1-E277)-1)>=Coeff!$B$10,Coeff!$B$8/Coeff!$B$9*(G277*(1-E277)-1)/(G277-1),0))","v":""}]
[null,null,null,null,null,null,null,{"$f":"IF(F278=\"\",\"\",IF((F278*E278-1)>=Coeff!$B$10,Coeff!$B$8/Coeff!$B$9*(F278*E278-1)/(F278-1),0))","v":""},{"$f":"IF(G278=\"\",\"\",IF((G278*(1-E278)-1)>=Coeff!$B$10,Coeff!$B$8/Coeff!$B$9*(G278*(1-E278)-1)/(G278-1),0))","v":""}]
[null,null,null,null,null,null,null,{"$f":"IF(F279=\"\",\"\",IF((F279*E279-1)>=Coeff!$B$10,Coeff!$B$8/Coeff!$B$9*(F279*E279-1)/(F279-1),0))","v":""},{"$f":"IF(G279=\"\",\"\",IF((G279*(1-E279)-1)>=Coeff!$B$10,Coeff!$B$8/Coeff!$B$9*(G279*(1-E279)-1)/(G279-1),0))","v":""}]
[null,null,null,null,null,null,null,{"$f":"IF(F280=\"\",\"\",IF((F280*E280-1)>=Coeff!$B$10,Coeff!$B$8/Coeff!$B$9*(F280*E280-1)/(F280-1),0))","v":""},{"$f":"IF(G280=\"\",\"\",IF((G280*(1-E280)-1)>=Coeff!$B$10,Coeff!$B$8/Coeff!$B$9*(G280*(1-E280)-1)/(G280-1),0))","v":""}]
[null,null,null,null,null,null,null,{"$f":"IF(F281=\"\",\"\",IF((F281*E281-1)>=Coeff!$B$10,Coeff!$B$8/Coeff!$B$9*(F281*E281-1)/(F281-1),0))","v":""},{"$f":"IF(G281=\"\",\"\",IF((G281*(1-E281)-1)>=Coeff!$B$10,Coeff!$B$8/Coeff!$B$9*(G281*(1-E281)-1)/(G281-1),0))","v":""}]
[null,null,null,null,null,null,null,{"$f":"IF(F282=\"\",\"\",IF((F282*E282-1)>=Coeff!$B$10,Coeff!$B$8/Coeff!$B$9*(F282*E282-1)/(F282-1),0))","v":""},{"$f":"IF(G282=\"\",\"\",IF((G282*(1-E282)-1)>=Coeff!$B$10,Coeff!$B$8/Coeff!$B$9*(G282*(1-E282)-1)/(G282-1),0))","v":""}]
[null,null,null,null,null,null,null,{"$f":"IF(F283=\"\",\"\",IF((F283*E283-1)>=Coeff!$B$10,Coeff!$B$8/Coeff!$B$9*(F283*E283-1)/(F283-1),0))","v":""},{"$f":"IF(G283=\"\",\"\",IF((G283*(1-E283)-1)>=Coeff!$B$10,Coeff!$B$8/Coeff!$B$9*(G283*(1-E283)-1)/(G283-1),0))","v":""}]
[null,null,null,null,null,null,null,{"$f":"IF(F284=\"\",\"\",IF((F284*E284-1)>=Coeff!$B$10,Coeff!$B$8/Coeff!$B$9*(F284*E284-1)/(F284-1),0))","v":""},{"$f":"IF(G284=\"\",\"\",IF((G284*(1-E284)-1)>=Coeff!$B$10,Coeff!$B$8/Coeff!$B$9*(G284*(1-E284)-1)/(G284-1),0))","v":""}]
[null,null,null,null,null,null,null,{"$f":"IF(F285=\"\",\"\",IF((F285*E285-1)>=Coeff!$B$10,Coeff!$B$8/Coeff!$B$9*(F285*E285-1)/(F285-1),0))","v":""},{"$f":"IF(G285=\"\",\"\",IF((G285*(1-E285)-1)>=Coeff!$B$10,Coeff!$B$8/Coeff!$B$9*(G285*(1-E285)-1)/(G285-1),0))","v":""}]
[null,null,null,null,null,null,null,{"$f":"IF(F286=\"\",\"\",IF((F286*E286-1)>=Coeff!$B$10,Coeff!$B$8/Coeff!$B$9*(F286*E286-1)/(F286-1),0))","v":""},{"$f":"IF(G286=\"\",\"\",IF((G286*(1-E286)-1)>=Coeff!$B$10,Coeff!$B$8/Coeff!$B$9*(G286*(1-E286)-1)/(G286-1),0))","v":""}]
[null,null,null,null,null,null,null,{"$f":"IF(F287=\"\",\"\",IF((F287*E287-1)>=Coeff!$B$10,Coeff!$B$8/Coeff!$B$9*(F287*E287-1)/(F287-1),0))","v":""},{"$f":"IF(G287=\"\",\"\",IF((G287*(1-E287)-1)>=Coeff!$B$10,Coeff!$B$8/Coeff!$B$9*(G287*(1-E287)-1)/(G287-1),0))","v":""}]
[null,null,null,null,null,null,null,{"$f":"IF(F288=\"\",\"\",IF((F288*E288-1)>=Coeff!$B$10,Coeff!$B$8/Coeff!$B$9*(F288*E288-1)/(F288-1),0))","v":""},{"$f":"IF(G288=\"\",\"\",IF((G288*(1-E288)-1)>=Coeff!$B$10,Coeff!$B$8/Coeff!$B$9*(G288*(1-E288)-1)/(G288-1),0))","v":""}]
[null,null,null,null,null,null,null,{"$f":"IF(F289=\"\",\"\",IF((F289*E289-1)>=Coeff!$B$10,Coeff!$B$8/Coeff!$B$9*(F289*E289-1)/(F289-1),0))","v":""},{"$f":"IF(G289=\"\",\"\",IF((G289*(1-E289)-1)>=Coeff!$B$10,Coeff!$B$8/Coeff!$B$9*(G289*(1-E289)-1)/(G289-1),0))","v":""}]
[null,null,null,null,null,null,null,{"$f":"IF(F290=\"\",\"\",IF((F290*E290-1)>=Coeff!$B$10,Coeff!$B$8/Coeff!$B$9*(F290*E290-1)/(F290-1),0))","v":""},{"$f":"IF(G290=\"\",\"\",IF((G290*(1-E290)-1)>=Coeff!$B$10,Coeff!$B$8/Coeff!$B$9*(G290*(1-E290)-1)/(G290-1),0))","v":""}]
[null,null,null,null,null,null,null,{"$f":"IF(F291=\"\",\"\",IF((F291*E291-1)>=Coeff!$B$10,Coeff!$B$8/Coeff!$B$9*(F291*E291-1)/(F291-1),0))","v":""},{"$f":"IF(G291=\"\",\"\",IF((G291*(1-E291)-1)>=Coeff!$B$10,Coeff!$B$8/Coeff!$B$9*(G291*(1-E291)-1)/(G291-1),0))","v":""}]
[null,null,null,null,null,null,null,{"$f":"IF(F292=\"\",\"\",IF((F292*E292-1)>=Coeff!$B$10,Coeff!$B$8/Coeff!$B$9*(F292*E292-1)/(F292-1),0))","v":""},{"$f":"IF(G292=\"\",\"\",IF((G292*(1-E292)-1)>=Coeff!$B$10,Coeff!$B$8/Coeff!$B$9*(G292*(1-E292)-1)/(G292-1),0))","v":""}]
[null,null,null,null,null,null,null,{"$f":"IF(F293=\"\",\"\",IF((F293*E293-1)>=Coeff!$B$10,Coeff!$B$8/Coeff!$B$9*(F293*E293-1)/(F293-1),0))","v":""},{"$f":"IF(G293=\"\",\"\",IF((G293*(1-E293)-1)>=Coeff!$B$10,Coeff!$B$8/Coeff!$B$9*(G293*(1-E293)-1)/(G293-1),0))","v":""}]
[null,null,null,null,null,null,null,{"$f":"IF(F294=\"\",\"\",IF((F294*E294-1)>=Coeff!$B$10,Coeff!$B$8/Coeff!$B$9*(F294*E294-1)/(F294-1),0))","v":""},{"$f":"IF(G294=\"\",\"\",IF((G294*(1-E294)-1)>=Coeff!$B$10,Coeff!$B$8/Coeff!$B$9*(G294*(1-E294)-1)/(G294-1),0))","v":""}]
[null,null,null,null,null,null,null,{"$f":"IF(F295=\"\",\"\",IF((F295*E295-1)>=Coeff!$B$10,Coeff!$B$8/Coeff!$B$9*(F295*E295-1)/(F295-1),0))","v":""},{"$f":"IF(G295=\"\",\"\",IF((G295*(1-E295)-1)>=Coeff!$B$10,Coeff!$B$8/Coeff!$B$9*(G295*(1-E295)-1)/(G295-1),0))","v":""}]
[null,null,null,null,null,null,null,{"$f":"IF(F296=\"\",\"\",IF((F296*E296-1)>=Coeff!$B$10,Coeff!$B$8/Coeff!$B$9*(F296*E296-1)/(F296-1),0))","v":""},{"$f":"IF(G296=\"\",\"\",IF((G296*(1-E296)-1)>=Coeff!$B$10,Coeff!$B$8/Coeff!$B$9*(G296*(1-E296)-1)/(G296-1),0))","v":""}]
[null,null,null,null,null,null,null,{"$f":"IF(F297=\"\",\"\",IF((F297*E297-1)>=Coeff!$B$10,Coeff!$B$8/Coeff!$B$9*(F297*E297-1)/(F297-1),0))","v":""},{"$f":"IF(G297=\"\",\"\",IF((G297*(1-E297)-1)>=Coeff!$B$10,Coeff!$B$8/Coeff!$B$9*(G297*(1-E297)-1)/(G297-1),0))","v":""}]
[null,null,null,null,null,null,null,{"$f":"IF(F298=\"\",\"\",IF((F298*E298-1)>=Coeff!$B$10,Coeff!$B$8/Coeff!$B$9*(F298*E298-1)/(F298-1),0))","v":""},{"$f":"IF(G298=\"\",\"\",IF((G298*(1-E298)-1)>=Coeff!$B$10,Coeff!$B$8/Coeff!$B$9*(G298*(1-E298)-1)/(G298-1),0))","v":""}]
[null,null,null,null,null,null,null,{"$f":"IF(F299=\"\",\"\",IF((F299*E299-1)>=Coeff!$B$10,Coeff!$B$8/Coeff!$B$9*(F299*E299-1)/(F299-1),0))","v":""},{"$f":"IF(G299=\"\",\"\",IF((G299*(1-E299)-1)>=Coeff!$B$10,Coeff!$B$8/Coeff!$B$9*(G299*(1-E299)-1)/(G299-1),0))","v":""}]
[null,null,null,null,null,null,null,{"$f":"IF(F300=\"\",\"\",IF((F300*E300-1)>=Coeff!$B$10,Coeff!$B$8/Coeff!$B$9*(F300*E300-1)/(F300-1),0))","v":""},{"$f":"IF(G300=\"\",\"\",IF((G300*(1-E300)-1)>=Coeff!$B$10,Coeff!$B$8/Coeff!$B$9*(G300*(1-E300)-1)/(G300-1),0))","v":""}]
[null,null,null,null,null,null,null,{"$f":"IF(F301=\"\",\"\",IF((F301*E301-1)>=Coeff!$B$10,Coeff!$B$8/Coeff!$B$9*(F301*E301-1)/(F301-1),0))","v":""},{"$f":"IF(G301=\"\",\"\",IF((G301*(1-E301)-1)>=Coeff!$B$10,Coeff!$B$8/Coeff!$B$9*(G301*(1-E301)-1)/(G301-1),0))","v":""}]
[null,null,null,null,null,null,null,{"$f":"IF(F302=\"\",\"\",IF((F302*E302-1)>=Coeff!$B$10,Coeff!$B$8/Coeff!$B$9*(F302*E302-1)/(F302-1),0))","v":""},{"$f":"IF(G302=\"\",\"\",IF((G302*(1-E302)-1)>=Coeff!$B$10,Coeff!$B$8/Coeff!$B$9*(G302*(1-E302)-1)/(G302-1),0))","v":""}]
[null,null,null,null,null,null,null,{"$f":"IF(F303=\"\",\"\",IF((F303*E303-1)>=Coeff!$B$10,Coeff!$B$8/Coeff!$B$9*(F303*E303-1)/(F303-1),0))","v":""},{"$f":"IF(G303=\"\",\"\",IF((G303*(1-E303)-1)>=Coeff!$B$10,Coeff!$B$8/Coeff!$B$9*(G303*(1-E303)-1)/(G303-1),0))","v":""}]
[null,null,null,null,null,null,null,{"$f":"IF(F304=\"\",\"\",IF((F304*E304-1)>=Coeff!$B$10,Coeff!$B$8/Coeff!$B$9*(F304*E304-1)/(F304-1),0))","v":""},{"$f":"IF(G304=\"\",\"\",IF((G304*(1-E304)-1)>=Coeff!$B$10,Coeff!$B$8/Coeff!$B$9*(G304*(1-E304)-1)/(G304-1),0))","v":""}]
[null,null,null,null,null,null,null,{"$f":"IF(F305=\"\",\"\",IF((F305*E305-1)>=Coeff!$B$10,Coeff!$B$8/Coeff!$B$9*(F305*E305-1)/(F305-1),0))","v":""},{"$f":"IF(G305=\"\",\"\",IF((G305*(1-E305)-1)>=Coeff!$B$10,Coeff!$B$8/Coeff!$B$9*(G305*(1-E305)-1)/(G305-1),0))","v":""}]
[null,null,null,null,null,null,null,{"$f":"IF(F306=\"\",\"\",IF((F306*E306-1)>=Coeff!$B$10,Coeff!$B$8/Coeff!$B$9*(F306*E306-1)/(F306-1),0))","v":""},{"$f":"IF(G306=\"\",\"\",IF((G306*(1-E306)-1)>=Coeff!$B$10,Coeff!$B$8/Coeff!$B$9*(G306*(1-E306)-1)/(G306-1),0))","v":""}]
[null,null,null,null,null,null,null,{"$f":"IF(F307=\"\",\"\",IF((F307*E307-1)>=Coeff!$B$10,Coeff!$B$8/Coeff!$B$9*(F307*E307-1)/(F307-1),0))","v":""},{"$f":"IF(G307=\"\",\"\",IF((G307*(1-E307)-1)>=Coeff!$B$10,Coeff!$B$8/Coeff!$B$9*(G307*(1-E307)-1)/(G307-1),0))","v":""}]
[null,null,null,null,null,null,null,{"$f":"IF(F308=\"\",\"\",IF((F308*E308-1)>=Coeff!$B$10,Coeff!$B$8/Coeff!$B$9*(F308*E308-1)/(F308-1),0))","v":""},{"$f":"IF(G308=\"\",\"\",IF((G308*(1-E308)-1)>=Coeff!$B$10,Coeff!$B$8/Coeff!$B$9*(G308*(1-E308)-1)/(G308-1),0))","v":""}]
[null,null,null,null,null,null,null,{"$f":"IF(F309=\"\",\"\",IF((F309*E309-1)>=Coeff!$B$10,Coeff!$B$8/Coeff!$B$9*(F309*E309-1)/(F309-1),0))","v":""},{"$f":"IF(G309=\"\",\"\",IF((G309*(1-E309)-1)>=Coeff!$B$10,Coeff!$B$8/Coeff!$B$9*(G309*(1-E309)-1)/(G309-1),0))","v":""}]
[null,null,null,null,null,null,null,{"$f":"IF(F310=\"\",\"\",IF((F310*E310-1)>=Coeff!$B$10,Coeff!$B$8/Coeff!$B$9*(F310*E310-1)/(F310-1),0))","v":""},{"$f":"IF(G310=\"\",\"\",IF((G310*(1-E310)-1)>=Coeff!$B$10,Coeff!$B$8/Coeff!$B$9*(G310*(1-E310)-1)/(G310-1),0))","v":""}]
[null,null,null,null,null,null,null,{"$f":"IF(F311=\"\",\"\",IF((F311*E311-1)>=Coeff!$B$10,Coeff!$B$8/Coeff!$B$9*(F311*E311-1)/(F311-1),0))","v":""},{"$f":"IF(G311=\"\",\"\",IF((G311*(1-E311)-1)>=Coeff!$B$10,Coeff!$B$8/Coeff!$B$9*(G311*(1-E311)-1)/(G311-1),0))","v":""}]
[null,null,null,null,null,null,null,{"$f":"IF(F312=\"\",\"\",IF((F312*E312-1)>=Coeff!$B$10,Coeff!$B$8/Coeff!$B$9*(F312*E312-1)/(F312-1),0))","v":""},{"$f":"IF(G312=\"\",\"\",IF((G312*(1-E312)-1)>=Coeff!$B$10,Coeff!$B$8/Coeff!$B$9*(G312*(1-E312)-1)/(G312-1),0))","v":""}]
[null,null,null,null,null,null,null,{"$f":"IF(F313=\"\",\"\",IF((F313*E313-1)>=Coeff!$B$10,Coeff!$B$8/Coeff!$B$9*(F313*E313-1)/(F313-1),0))","v":""},{"$f":"IF(G313=\"\",\"\",IF((G313*(1-E313)-1)>=Coeff!$B$10,Coeff!$B$8/Coeff!$B$9*(G313*(1-E313)-1)/(G313-1),0))","v":""}]
[null,null,null,null,null,null,null,{"$f":"IF(F314=\"\",\"\",IF((F314*E314-1)>=Coeff!$B$10,Coeff!$B$8/Coeff!$B$9*(F314*E314-1)/(F314-1),0))","v":""},{"$f":"IF(G314=\"\",\"\",IF((G314*(1-E314)-1)>=Coeff!$B$10,Coeff!$B$8/Coeff!$B$9*(G314*(1-E314)-1)/(G314-1),0))","v":""}]
[null,null,null,null,null,null,null,{"$f":"IF(F315=\"\",\"\",IF((F315*E315-1)>=Coeff!$B$10,Coeff!$B$8/Coeff!$B$9*(F315*E315-1)/(F315-1),0))","v":""},{"$f":"IF(G315=\"\",\"\",IF((G315*(1-E315)-1)>=Coeff!$B$10,Coeff!$B$8/Coeff!$B$9*(G315*(1-E315)-1)/(G315-1),0))","v":""}]
[null,null,null,null,null,null,null,{"$f":"IF(F316=\"\",\"\",IF((F316*E316-1)>=Coeff!$B$10,Coeff!$B$8/Coeff!$B$9*(F316*E316-1)/(F316-1),0))","v":""},{"$f":"IF(G316=\"\",\"\",IF((G316*(1-E316)-1)>=Coeff!$B$10,Coeff!$B$8/Coeff!$B$9*(G316*(1-E316)-1)/(G316-1),0))","v":""}]
[null,null,null,null,null,null,null,{"$f":"IF(F317=\"\",\"\",IF((F317*E317-1)>=Coeff!$B$10,Coeff!$B$8/Coeff!$B$9*(F317*E317-1)/(F317-1),0))","v":""},{"$f":"IF(G317=\"\",\"\",IF((G317*(1-E317)-1)>=Coeff!$B$10,Coeff!$B$8/Coeff!$B$9*(G317*(1-E317)-1)/(G317-1),0))","v":""}]
[null,null,null,null,null,null,null,{"$f":"IF(F318=\"\",\"\",IF((F318*E318-1)>=Coeff!$B$10,Coeff!$B$8/Coeff!$B$9*(F318*E318-1)/(F318-1),0))","v":""},{"$f":"IF(G318=\"\",\"\",IF((G318*(1-E318)-1)>=Coeff!$B$10,Coeff!$B$8/Coeff!$B$9*(G318*(1-E318)-1)/(G318-1),0))","v":""}]
[null,null,null,null,null,null,null,{"$f":"IF(F319=\"\",\"\",IF((F319*E319-1)>=Coeff!$B$10,Coeff!$B$8/Coeff!$B$9*(F319*E319-1)/(F319-1),0))","v":""},{"$f":"IF(G319=\"\",\"\",IF((G319*(1-E319)-1)>=Coeff!$B$10,Coeff!$B$8/Coeff!$B$9*(G319*(1-E319)-1)/(G319-1),0))","v":""}]
[null,null,null,null,null,null,null,{"$f":"IF(F320=\"\",\"\",IF((F320*E320-1)>=Coeff!$B$10,Coeff!$B$8/Coeff!$B$9*(F320*E320-1)/(F320-1),0))","v":""},{"$f":"IF(G320=\"\",\"\",IF((G320*(1-E320)-1)>=Coeff!$B$10,Coeff!$B$8/Coeff!$B$9*(G320*(1-E320)-1)/(G320-1),0))","v":""}]
[null,null,null,null,null,null,null,{"$f":"IF(F321=\"\",\"\",IF((F321*E321-1)>=Coeff!$B$10,Coeff!$B$8/Coeff!$B$9*(F321*E321-1)/(F321-1),0))","v":""},{"$f":"IF(G321=\"\",\"\",IF((G321*(1-E321)-1)>=Coeff!$B$10,Coeff!$B$8/Coeff!$B$9*(G321*(1-E321)-1)/(G321-1),0))","v":""}]
[null,null,null,null,null,null,null,{"$f":"IF(F322=\"\",\"\",IF((F322*E322-1)>=Coeff!$B$10,Coeff!$B$8/Coeff!$B$9*(F322*E322-1)/(F322-1),0))","v":""},{"$f":"IF(G322=\"\",\"\",IF((G322*(1-E322)-1)>=Coeff!$B$10,Coeff!$B$8/Coeff!$B$9*(G322*(1-E322)-1)/(G322-1),0))","v":""}]
[null,null,null,null,null,null,null,{"$f":"IF(F323=\"\",\"\",IF((F323*E323-1)>=Coeff!$B$10,Coeff!$B$8/Coeff!$B$9*(F323*E323-1)/(F323-1),0))","v":""},{"$f":"IF(G323=\"\",\"\",IF((G323*(1-E323)-1)>=Coeff!$B$10,Coeff!$B$8/Coeff!$B$9*(G323*(1-E323)-1)/(G323-1),0))","v":""}]
[null,null,null,null,null,null,null,{"$f":"IF(F324=\"\",\"\",IF((F324*E324-1)>=Coeff!$B$10,Coeff!$B$8/Coeff!$B$9*(F324*E324-1)/(F324-1),0))","v":""},{"$f":"IF(G324=\"\",\"\",IF((G324*(1-E324)-1)>=Coeff!$B$10,Coeff!$B$8/Coeff!$B$9*(G324*(1-E324)-1)/(G324-1),0))","v":""}]
[null,null,null,null,null,null,null,{"$f":"IF(F325=\"\",\"\",IF((F325*E325-1)>=Coeff!$B$10,Coeff!$B$8/Coeff!$B$9*(F325*E325-1)/(F325-1),0))","v":""},{"$f":"IF(G325=\"\",\"\",IF((G325*(1-E325)-1)>=Coeff!$B$10,Coeff!$B$8/Coeff!$B$9*(G325*(1-E325)-1)/(G325-1),0))","v":""}]
[null,null,null,null,null,null,null,{"$f":"IF(F326=\"\",\"\",IF((F326*E326-1)>=Coeff!$B$10,Coeff!$B$8/Coeff!$B$9*(F326*E326-1)/(F326-1),0))","v":""},{"$f":"IF(G326=\"\",\"\",IF((G326*(1-E326)-1)>=Coeff!$B$10,Coeff!$B$8/Coeff!$B$9*(G326*(1-E326)-1)/(G326-1),0))","v":""}]
[null,null,null,null,null,null,null,{"$f":"IF(F327=\"\",\"\",IF((F327*E327-1)>=Coeff!$B$10,Coeff!$B$8/Coeff!$B$9*(F327*E327-1)/(F327-1),0))","v":""},{"$f":"IF(G327=\"\",\"\",IF((G327*(1-E327)-1)>=Coeff!$B$10,Coeff!$B$8/Coeff!$B$9*(G327*(1-E327)-1)/(G327-1),0))","v":""}]
[null,null,null,null,null,null,null,{"$f":"IF(F328=\"\",\"\",IF((F328*E328-1)>=Coeff!$B$10,Coeff!$B$8/Coeff!$B$9*(F328*E328-1)/(F328-1),0))","v":""},{"$f":"IF(G328=\"\",\"\",IF((G328*(1-E328)-1)>=Coeff!$B$10,Coeff!$B$8/Coeff!$B$9*(G328*(1-E328)-1)/(G328-1),0))","v":""}]
[null,null,null,null,null,null,null,{"$f":"IF(F329=\"\",\"\",IF((F329*E329-1)>=Coeff!$B$10,Coeff!$B$8/Coeff!$B$9*(F329*E329-1)/(F329-1),0))","v":""},{"$f":"IF(G329=\"\",\"\",IF((G329*(1-E329)-1)>=Coeff!$B$10,Coeff!$B$8/Coeff!$B$9*(G329*(1-E329)-1)/(G329-1),0))","v":""}]
[null,null,null,null,null,null,null,{"$f":"IF(F330=\"\",\"\",IF((F330*E330-1)>=Coeff!$B$10,Coeff!$B$8/Coeff!$B$9*(F330*E330-1)/(F330-1),0))","v":""},{"$f":"IF(G330=\"\",\"\",IF((G330*(1-E330)-1)>=Coeff!$B$10,Coeff!$B$8/Coeff!$B$9*(G330*(1-E330)-1)/(G330-1),0))","v":""}]
[null,null,null,null,null,null,null,{"$f":"IF(F331=\"\",\"\",IF((F331*E331-1)>=Coeff!$B$10,Coeff!$B$8/Coeff!$B$9*(F331*E331-1)/(F331-1),0))","v":""},{"$f":"IF(G331=\"\",\"\",IF((G331*(1-E331)-1)>=Coeff!$B$10,Coeff!$B$8/Coeff!$B$9*(G331*(1-E331)-1)/(G331-1),0))","v":""}]
[null,null,null,null,null,null,null,{"$f":"IF(F332=\"\",\"\",IF((F332*E332-1)>=Coeff!$B$10,Coeff!$B$8/Coeff!$B$9*(F332*E332-1)/(F332-1),0))","v":""},{"$f":"IF(G332=\"\",\"\",IF((G332*(1-E332)-1)>=Coeff!$B$10,Coeff!$B$8/Coeff!$B$9*(G332*(1-E332)-1)/(G332-1),0))","v":""}]
[null,null,null,null,null,null,null,{"$f":"IF(F333=\"\",\"\",IF((F333*E333-1)>=Coeff!$B$10,Coeff!$B$8/Coeff!$B$9*(F333*E333-1)/(F333-1),0))","v":""},{"$f":"IF(G333=\"\",\"\",IF((G333*(1-E333)-1)>=Coeff!$B$10,Coeff!$B$8/Coeff!$B$9*(G333*(1-E333)-1)/(G333-1),0))","v":""}]
[null,null,null,null,null,null,null,{"$f":"IF(F334=\"\",\"\",IF((F334*E334-1)>=Coeff!$B$10,Coeff!$B$8/Coeff!$B$9*(F334*E334-1)/(F334-1),0))","v":""},{"$f":"IF(G334=\"\",\"\",IF((G334*(1-E334)-1)>=Coeff!$B$10,Coeff!$B$8/Coeff!$B$9*(G334*(1-E334)-1)/(G334-1),0))","v":""}]
[null,null,null,null,null,null,null,{"$f":"IF(F335=\"\",\"\",IF((F335*E335-1)>=Coeff!$B$10,Coeff!$B$8/Coeff!$B$9*(F335*E335-1)/(F335-1),0))","v":""},{"$f":"IF(G335=\"\",\"\",IF((G335*(1-E335)-1)>=Coeff!$B$10,Coeff!$B$8/Coeff!$B$9*(G335*(1-E335)-1)/(G335-1),0))","v":""}]
[null,null,null,null,null,null,null,{"$f":"IF(F336=\"\",\"\",IF((F336*E336-1)>=Coeff!$B$10,Coeff!$B$8/Coeff!$B$9*(F336*E336-1)/(F336-1),0))","v":""},{"$f":"IF(G336=\"\",\"\",IF((G336*(1-E336)-1)>=Coeff!$B$10,Coeff!$B$8/Coeff!$B$9*(G336*(1-E336)-1)/(G336-1),0))","v":""}]
[null,null,null,null,null,null,null,{"$f":"IF(F337=\"\",\"\",IF((F337*E337-1)>=Coeff!$B$10,Coeff!$B$8/Coeff!$B$9*(F337*E337-1)/(F337-1),0))","v":""},{"$f":"IF(G337=\"\",\"\",IF((G337*(1-E337)-1)>=Coeff!$B$10,Coeff!$B$8/Coeff!$B$9*(G337*(1-E337)-1)/(G337-1),0))","v":""}]
[null,null,null,null,null,null,null,{"$f":"IF(F338=\"\",\"\",IF((F338*E338-1)>=Coeff!$B$10,Coeff!$B$8/Coeff!$B$9*(F338*E338-1)/(F338-1),0))","v":""},{"$f":"IF(G338=\"\",\"\",IF((G338*(1-E338)-1)>=Coeff!$B$10,Coeff!$B$8/Coeff!$B$9*(G338*(1-E338)-1)/(G338-1),0))","v":""}]
[null,null,null,null,null,null,null,{"$f":"IF(F339=\"\",\"\",IF((F339*E339-1)>=Coeff!$B$10,Coeff!$B$8/Coeff!$B$9*(F339*E339-1)/(F339-1),0))","v":""},{"$f":"IF(G339=\"\",\"\",IF((G339*(1-E339)-1)>=Coeff!$B$10,Coeff!$B$8/Coeff!$B$9*(G339*(1-E339)-1)/(G339-1),0))","v":""}]
[null,null,null,null,null,null,null,{"$f":"IF(F340=\"\",\"\",IF((F340*E340-1)>=Coeff!$B$10,Coeff!$B$8/Coeff!$B$9*(F340*E340-1)/(F340-1),0))","v":""},{"$f":"IF(G340=\"\",\"\",IF((G340*(1-E340)-1)>=Coeff!$B$10,Coeff!$B$8/Coeff!$B$9*(G340*(1-E340)-1)/(G340-1),0))","v":""}]
[null,null,null,null,null,null,null,{"$f":"IF(F341=\"\",\"\",IF((F341*E341-1)>=Coeff!$B$10,Coeff!$B$8/Coeff!$B$9*(F341*E341-1)/(F341-1),0))","v":""},{"$f":"IF(G341=\"\",\"\",IF((G341*(1-E341)-1)>=Coeff!$B$10,Coeff!$B$8/Coeff!$B$9*(G341*(1-E341)-1)/(G341-1),0))","v":""}]
[null,null,null,null,null,null,null,{"$f":"IF(F342=\"\",\"\",IF((F342*E342-1)>=Coeff!$B$10,Coeff!$B$8/Coeff!$B$9*(F342*E342-1)/(F342-1),0))","v":""},{"$f":"IF(G342=\"\",\"\",IF((G342*(1-E342)-1)>=Coeff!$B$10,Coeff!$B$8/Coeff!$B$9*(G342*(1-E342)-1)/(G342-1),0))","v":""}]
[null,null,null,null,null,null,null,{"$f":"IF(F343=\"\",\"\",IF((F343*E343-1)>=Coeff!$B$10,Coeff!$B$8/Coeff!$B$9*(F343*E343-1)/(F343-1),0))","v":""},{"$f":"IF(G343=\"\",\"\",IF((G343*(1-E343)-1)>=Coeff!$B$10,Coeff!$B$8/Coeff!$B$9*(G343*(1-E343)-1)/(G343-1),0))","v":""}]
[null,null,null,null,null,null,null,{"$f":"IF(F344=\"\",\"\",IF((F344*E344-1)>=Coeff!$B$10,Coeff!$B$8/Coeff!$B$9*(F344*E344-1)/(F344-1),0))","v":""},{"$f":"IF(G344=\"\",\"\",IF((G344*(1-E344)-1)>=Coeff!$B$10,Coeff!$B$8/Coeff!$B$9*(G344*(1-E344)-1)/(G344-1),0))","v":""}]
[null,null,null,null,null,null,null,{"$f":"IF(F345=\"\",\"\",IF((F345*E345-1)>=Coeff!$B$10,Coeff!$B$8/Coeff!$B$9*(F345*E345-1)/(F345-1),0))","v":""},{"$f":"IF(G345=\"\",\"\",IF((G345*(1-E345)-1)>=Coeff!$B$10,Coeff!$B$8/Coeff!$B$9*(G345*(1-E345)-1)/(G345-1),0))","v":""}]
[null,null,null,null,null,null,null,{"$f":"IF(F346=\"\",\"\",IF((F346*E346-1)>=Coeff!$B$10,Coeff!$B$8/Coeff!$B$9*(F346*E346-1)/(F346-1),0))","v":""},{"$f":"IF(G346=\"\",\"\",IF((G346*(1-E346)-1)>=Coeff!$B$10,Coeff!$B$8/Coeff!$B$9*(G346*(1-E346)-1)/(G346-1),0))","v":""}]
[null,null,null,null,null,null,null,{"$f":"IF(F347=\"\",\"\",IF((F347*E347-1)>=Coeff!$B$10,Coeff!$B$8/Coeff!$B$9*(F347*E347-1)/(F347-1),0))","v":""},{"$f":"IF(G347=\"\",\"\",IF((G347*(1-E347)-1)>=Coeff!$B$10,Coeff!$B$8/Coeff!$B$9*(G347*(1-E347)-1)/(G347-1),0))","v":""}]
[null,null,null,null,null,null,null,{"$f":"IF(F348=\"\",\"\",IF((F348*E348-1)>=Coeff!$B$10,Coeff!$B$8/Coeff!$B$9*(F348*E348-1)/(F348-1),0))","v":""},{"$f":"IF(G348=\"\",\"\",IF((G348*(1-E348)-1)>=Coeff!$B$10,Coeff!$B$8/Coeff!$B$9*(G348*(1-E348)-1)/(G348-1),0))","v":""}]
[null,null,null,null,null,null,null,{"$f":"IF(F349=\"\",\"\",IF((F349*E349-1)>=Coeff!$B$10,Coeff!$B$8/Coeff!$B$9*(F349*E349-1)/(F349-1),0))","v":""},{"$f":"IF(G349=\"\",\"\",IF((G349*(1-E349)-1)>=Coeff!$B$10,Coeff!$B$8/Coeff!$B$9*(G349*(1-E349)-1)/(G349-1),0))","v":""}]
[null,null,null,null,null,null,null,{"$f":"IF(F350=\"\",\"\",IF((F350*E350-1)>=Coeff!$B$10,Coeff!$B$8/Coeff!$B$9*(F350*E350-1)/(F350-1),0))","v":""},{"$f":"IF(G350=\"\",\"\",IF((G350*(1-E350)-1)>=Coeff!$B$10,Coeff!$B$8/Coeff!$B$9*(G350*(1-E350)-1)/(G350-1),0))","v":""}]
[null,null,null,null,null,null,null,{"$f":"IF(F351=\"\",\"\",IF((F351*E351-1)>=Coeff!$B$10,Coeff!$B$8/Coeff!$B$9*(F351*E351-1)/(F351-1),0))","v":""},{"$f":"IF(G351=\"\",\"\",IF((G351*(1-E351)-1)>=Coeff!$B$10,Coeff!$B$8/Coeff!$B$9*(G351*(1-E351)-1)/(G351-1),0))","v":""}]
[null,null,null,null,null,null,null,{"$f":"IF(F352=\"\",\"\",IF((F352*E352-1)>=Coeff!$B$10,Coeff!$B$8/Coeff!$B$9*(F352*E352-1)/(F352-1),0))","v":""},{"$f":"IF(G352=\"\",\"\",IF((G352*(1-E352)-1)>=Coeff!$B$10,Coeff!$B$8/Coeff!$B$9*(G352*(1-E352)-1)/(G352-1),0))","v":""}]
[null,null,null,null,null,null,null,{"$f":"IF(F353=\"\",\"\",IF((F353*E353-1)>=Coeff!$B$10,Coeff!$B$8/Coeff!$B$9*(F353*E353-1)/(F353-1),0))","v":""},{"$f":"IF(G353=\"\",\"\",IF((G353*(1-E353)-1)>=Coeff!$B$10,Coeff!$B$8/Coeff!$B$9*(G353*(1-E353)-1)/(G353-1),0))","v":""}]
[null,null,null,null,null,null,null,{"$f":"IF(F354=\"\",\"\",IF((F354*E354-1)>=Coeff!$B$10,Coeff!$B$8/Coeff!$B$9*(F354*E354-1)/(F354-1),0))","v":""},{"$f":"IF(G354=\"\",\"\",IF((G354*(1-E354)-1)>=Coeff!$B$10,Coeff!$B$8/Coeff!$B$9*(G354*(1-E354)-1)/(G354-1),0))","v":""}]
[null,null,null,null,null,null,null,{"$f":"IF(F355=\"\",\"\",IF((F355*E355-1)>=Coeff!$B$10,Coeff!$B$8/Coeff!$B$9*(F355*E355-1)/(F355-1),0))","v":""},{"$f":"IF(G355=\"\",\"\",IF((G355*(1-E355)-1)>=Coeff!$B$10,Coeff!$B$8/Coeff!$B$9*(G355*(1-E355)-1)/(G355-1),0))","v":""}]
[null,null,null,null,null,null,null,{"$f":"IF(F356=\"\",\"\",IF((F356*E356-1)>=Coeff!$B$10,Coeff!$B$8/Coeff!$B$9*(F356*E356-1)/(F356-1),0))","v":""},{"$f":"IF(G356=\"\",\"\",IF((G356*(1-E356)-1)>=Coeff!$B$10,Coeff!$B$8/Coeff!$B$9*(G356*(1-E356)-1)/(G356-1),0))","v":""}]
[null,null,null,null,null,null,null,{"$f":"IF(F357=\"\",\"\",IF((F357*E357-1)>=Coeff!$B$10,Coeff!$B$8/Coeff!$B$9*(F357*E357-1)/(F357-1),0))","v":""},{"$f":"IF(G357=\"\",\"\",IF((G357*(1-E357)-1)>=Coeff!$B$10,Coeff!$B$8/Coeff!$B$9*(G357*(1-E357)-1)/(G357-1),0))","v":""}]
[null,null,null,null,null,null,null,{"$f":"IF(F358=\"\",\"\",IF((F358*E358-1)>=Coeff!$B$10,Coeff!$B$8/Coeff!$B$9*(F358*E358-1)/(F358-1),0))","v":""},{"$f":"IF(G358=\"\",\"\",IF((G358*(1-E358)-1)>=Coeff!$B$10,Coeff!$B$8/Coeff!$B$9*(G358*(1-E358)-1)/(G358-1),0))","v":""}]
[null,null,null,null,null,null,null,{"$f":"IF(F359=\"\",\"\",IF((F359*E359-1)>=Coeff!$B$10,Coeff!$B$8/Coeff!$B$9*(F359*E359-1)/(F359-1),0))","v":""},{"$f":"IF(G359=\"\",\"\",IF((G359*(1-E359)-1)>=Coeff!$B$10,Coeff!$B$8/Coeff!$B$9*(G359*(1-E359)-1)/(G359-1),0))","v":""}]
[null,null,null,null,null,null,null,{"$f":"IF(F360=\"\",\"\",IF((F360*E360-1)>=Coeff!$B$10,Coeff!$B$8/Coeff!$B$9*(F360*E360-1)/(F360-1),0))","v":""},{"$f":"IF(G360=\"\",\"\",IF((G360*(1-E360)-1)>=Coeff!$B$10,Coeff!$B$8/Coeff!$B$9*(G360*(1-E360)-1)/(G360-1),0))","v":""}]
[null,null,null,null,null,null,null,{"$f":"IF(F361=\"\",\"\",IF((F361*E361-1)>=Coeff!$B$10,Coeff!$B$8/Coeff!$B$9*(F361*E361-1)/(F361-1),0))","v":""},{"$f":"IF(G361=\"\",\"\",IF((G361*(1-E361)-1)>=Coeff!$B$10,Coeff!$B$8/Coeff!$B$9*(G361*(1-E361)-1)/(G361-1),0))","v":""}]
[null,null,null,null,null,null,null,{"$f":"IF(F362=\"\",\"\",IF((F362*E362-1)>=Coeff!$B$10,Coeff!$B$8/Coeff!$B$9*(F362*E362-1)/(F362-1),0))","v":""},{"$f":"IF(G362=\"\",\"\",IF((G362*(1-E362)-1)>=Coeff!$B$10,Coeff!$B$8/Coeff!$B$9*(G362*(1-E362)-1)/(G362-1),0))","v":""}]
[null,null,null,null,null,null,null,{"$f":"IF(F363=\"\",\"\",IF((F363*E363-1)>=Coeff!$B$10,Coeff!$B$8/Coeff!$B$9*(F363*E363-1)/(F363-1),0))","v":""},{"$f":"IF(G363=\"\",\"\",IF((G363*(1-E363)-1)>=Coeff!$B$10,Coeff!$B$8/Coeff!$B$9*(G363*(1-E363)-1)/(G363-1),0))","v":""}]
[null,null,null,null,null,null,null,{"$f":"IF(F364=\"\",\"\",IF((F364*E364-1)>=Coeff!$B$10,Coeff!$B$8/Coeff!$B$9*(F364*E364-1)/(F364-1),0))","v":""},{"$f":"IF(G364=\"\",\"\",IF((G364*(1-E364)-1)>=Coeff!$B$10,Coeff!$B$8/Coeff!$B$9*(G364*(1-E364)-1)/(G364-1),0))","v":""}]
[null,null,null,null,null,null,null,{"$f":"IF(F365=\"\",\"\",IF((F365*E365-1)>=Coeff!$B$10,Coeff!$B$8/Coeff!$B$9*(F365*E365-1)/(F365-1),0))","v":""},{"$f":"IF(G365=\"\",\"\",IF((G365*(1-E365)-1)>=Coeff!$B$10,Coeff!$B$8/Coeff!$B$9*(G365*(1-E365)-1)/(G365-1),0))","v":""}]
[null,null,null,null,null,null,null,{"$f":"IF(F366=\"\",\"\",IF((F366*E366-1)>=Coeff!$B$10,Coeff!$B$8/Coeff!$B$9*(F366*E366-1)/(F366-1),0))","v":""},{"$f":"IF(G366=\"\",\"\",IF((G366*(1-E366)-1)>=Coeff!$B$10,Coeff!$B$8/Coeff!$B$9*(G366*(1-E366)-1)/(G366-1),0))","v":""}]
[null,null,null,null,null,null,null,{"$f":"IF(F367=\"\",\"\",IF((F367*E367-1)>=Coeff!$B$10,Coeff!$B$8/Coeff!$B$9*(F367*E367-1)/(F367-1),0))","v":""},{"$f":"IF(G367=\"\",\"\",IF((G367*(1-E367)-1)>=Coeff!$B$10,Coeff!$B$8/Coeff!$B$9*(G367*(1-E367)-1)/(G367-1),0))","v":""}]
[null,null,null,null,null,null,null,{"$f":"IF(F368=\"\",\"\",IF((F368*E368-1)>=Coeff!$B$10,Coeff!$B$8/Coeff!$B$9*(F368*E368-1)/(F368-1),0))","v":""},{"$f":"IF(G368=\"\",\"\",IF((G368*(1-E368)-1)>=Coeff!$B$10,Coeff!$B$8/Coeff!$B$9*(G368*(1-E368)-1)/(G368-1),0))","v":""}]
[null,null,null,null,null,null,null,{"$f":"IF(F369=\"\",\"\",IF((F369*E369-1)>=Coeff!$B$10,Coeff!$B$8/Coeff!$B$9*(F369*E369-1)/(F369-1),0))","v":""},{"$f":"IF(G369=\"\",\"\",IF((G369*(1-E369)-1)>=Coeff!$B$10,Coeff!$B$8/Coeff!$B$9*(G369*(1-E369)-1)/(G369-1),0))","v":""}]
[null,null,null,null,null,null,null,{"$f":"IF(F370=\"\",\"\",IF((F370*E370-1)>=Coeff!$B$10,Coeff!$B$8/Coeff!$B$9*(F370*E370-1)/(F370-1),0))","v":""},{"$f":"IF(G370=\"\",\"\",IF((G370*(1-E370)-1)>=Coeff!$B$10,Coeff!$B$8/Coeff!$B$9*(G370*(1-E370)-1)/(G370-1),0))","v":""}]
[null,null,null,null,null,null,null,{"$f":"IF(F371=\"\",\"\",IF((F371*E371-1)>=Coeff!$B$10,Coeff!$B$8/Coeff!$B$9*(F371*E371-1)/(F371-1),0))","v":""},{"$f":"IF(G371=\"\",\"\",IF((G371*(1-E371)-1)>=Coeff!$B$10,Coeff!$B$8/Coeff!$B$9*(G371*(1-E371)-1)/(G371-1),0))","v":""}]
[null,null,null,null,null,null,null,{"$f":"IF(F372=\"\",\"\",IF((F372*E372-1)>=Coeff!$B$10,Coeff!$B$8/Coeff!$B$9*(F372*E372-1)/(F372-1),0))","v":""},{"$f":"IF(G372=\"\",\"\",IF((G372*(1-E372)-1)>=Coeff!$B$10,Coeff!$B$8/Coeff!$B$9*(G372*(1-E372)-1)/(G372-1),0))","v":""}]
[null,null,null,null,null,null,null,{"$f":"IF(F373=\"\",\"\",IF((F373*E373-1)>=Coeff!$B$10,Coeff!$B$8/Coeff!$B$9*(F373*E373-1)/(F373-1),0))","v":""},{"$f":"IF(G373=\"\",\"\",IF((G373*(1-E373)-1)>=Coeff!$B$10,Coeff!$B$8/Coeff!$B$9*(G373*(1-E373)-1)/(G373-1),0))","v":""}]
[null,null,null,null,null,null,null,{"$f":"IF(F374=\"\",\"\",IF((F374*E374-1)>=Coeff!$B$10,Coeff!$B$8/Coeff!$B$9*(F374*E374-1)/(F374-1),0))","v":""},{"$f":"IF(G374=\"\",\"\",IF((G374*(1-E374)-1)>=Coeff!$B$10,Coeff!$B$8/Coeff!$B$9*(G374*(1-E374)-1)/(G374-1),0))","v":""}]
[null,null,null,null,null,null,null,{"$f":"IF(F375=\"\",\"\",IF((F375*E375-1)>=Coeff!$B$10,Coeff!$B$8/Coeff!$B$9*(F375*E375-1)/(F375-1),0))","v":""},{"$f":"IF(G375=\"\",\"\",IF((G375*(1-E375)-1)>=Coeff!$B$10,Coeff!$B$8/Coeff!$B$9*(G375*(1-E375)-1)/(G375-1),0))","v":""}]
[null,null,null,null,null,null,null,{"$f":"IF(F376=\"\",\"\",IF((F376*E376-1)>=Coeff!$B$10,Coeff!$B$8/Coeff!$B$9*(F376*E376-1)/(F376-1),0))","v":""},{"$f":"IF(G376=\"\",\"\",IF((G376*(1-E376)-1)>=Coeff!$B$10,Coeff!$B$8/Coeff!$B$9*(G376*(1-E376)-1)/(G376-1),0))","v":""}]
[null,null,null,null,null,null,null,{"$f":"IF(F377=\"\",\"\",IF((F377*E377-1)>=Coeff!$B$10,Coeff!$B$8/Coeff!$B$9*(F377*E377-1)/(F377-1),0))","v":""},{"$f":"IF(G377=\"\",\"\",IF((G377*(1-E377)-1)>=Coeff!$B$10,Coeff!$B$8/Coeff!$B$9*(G377*(1-E377)-1)/(G377-1),0))","v":""}]
[null,null,null,null,null,null,null,{"$f":"IF(F378=\"\",\"\",IF((F378*E378-1)>=Coeff!$B$10,Coeff!$B$8/Coeff!$B$9*(F378*E378-1)/(F378-1),0))","v":""},{"$f":"IF(G378=\"\",\"\",IF((G378*(1-E378)-1)>=Coeff!$B$10,Coeff!$B$8/Coeff!$B$9*(G378*(1-E378)-1)/(G378-1),0))","v":""}]
[null,null,null,null,null,null,null,{"$f":"IF(F379=\"\",\"\",IF((F379*E379-1)>=Coeff!$B$10,Coeff!$B$8/Coeff!$B$9*(F379*E379-1)/(F379-1),0))","v":""},{"$f":"IF(G379=\"\",\"\",IF((G379*(1-E379)-1)>=Coeff!$B$10,Coeff!$B$8/Coeff!$B$9*(G379*(1-E379)-1)/(G379-1),0))","v":""}]
[null,null,null,null,null,null,null,{"$f":"IF(F380=\"\",\"\",IF((F380*E380-1)>=Coeff!$B$10,Coeff!$B$8/Coeff!$B$9*(F380*E380-1)/(F380-1),0))","v":""},{"$f":"IF(G380=\"\",\"\",IF((G380*(1-E380)-1)>=Coeff!$B$10,Coeff!$B$8/Coeff!$B$9*(G380*(1-E380)-1)/(G380-1),0))","v":""}]
[null,null,null,null,null,null,null,{"$f":"IF(F381=\"\",\"\",IF((F381*E381-1)>=Coeff!$B$10,Coeff!$B$8/Coeff!$B$9*(F381*E381-1)/(F381-1),0))","v":""},{"$f":"IF(G381=\"\",\"\",IF((G381*(1-E381)-1)>=Coeff!$B$10,Coeff!$B$8/Coeff!$B$9*(G381*(1-E381)-1)/(G381-1),0))","v":""}]
[null,null,null,null,null,null,null,{"$f":"IF(F382=\"\",\"\",IF((F382*E382-1)>=Coeff!$B$10,Coeff!$B$8/Coeff!$B$9*(F382*E382-1)/(F382-1),0))","v":""},{"$f":"IF(G382=\"\",\"\",IF((G382*(1-E382)-1)>=Coeff!$B$10,Coeff!$B$8/Coeff!$B$9*(G382*(1-E382)-1)/(G382-1),0))","v":""}]
[null,null,null,null,null,null,null,{"$f":"IF(F383=\"\",\"\",IF((F383*E383-1)>=Coeff!$B$10,Coeff!$B$8/Coeff!$B$9*(F383*E383-1)/(F383-1),0))","v":""},{"$f":"IF(G383=\"\",\"\",IF((G383*(1-E383)-1)>=Coeff!$B$10,Coeff!$B$8/Coeff!$B$9*(G383*(1-E383)-1)/(G383-1),0))","v":""}]
[null,null,null,null,null,null,null,{"$f":"IF(F384=\"\",\"\",IF((F384*E384-1)>=Coeff!$B$10,Coeff!$B$8/Coeff!$B$9*(F384*E384-1)/(F384-1),0))","v":""},{"$f":"IF(G384=\"\",\"\",IF((G384*(1-E384)-1)>=Coeff!$B$10,Coeff!$B$8/Coeff!$B$9*(G384*(1-E384)-1)/(G384-1),0))","v":""}]
[null,null,null,null,null,null,null,{"$f":"IF(F385=\"\",\"\",IF((F385*E385-1)>=Coeff!$B$10,Coeff!$B$8/Coeff!$B$9*(F385*E385-1)/(F385-1),0))","v":""},{"$f":"IF(G385=\"\",\"\",IF((G385*(1-E385)-1)>=Coeff!$B$10,Coeff!$B$8/Coeff!$B$9*(G385*(1-E385)-1)/(G385-1),0))","v":""}]
[null,null,null,null,null,null,null,{"$f":"IF(F386=\"\",\"\",IF((F386*E386-1)>=Coeff!$B$10,Coeff!$B$8/Coeff!$B$9*(F386*E386-1)/(F386-1),0))","v":""},{"$f":"IF(G386=\"\",\"\",IF((G386*(1-E386)-1)>=Coeff!$B$10,Coeff!$B$8/Coeff!$B$9*(G386*(1-E386)-1)/(G386-1),0))","v":""}]
[null,null,null,null,null,null,null,{"$f":"IF(F387=\"\",\"\",IF((F387*E387-1)>=Coeff!$B$10,Coeff!$B$8/Coeff!$B$9*(F387*E387-1)/(F387-1),0))","v":""},{"$f":"IF(G387=\"\",\"\",IF((G387*(1-E387)-1)>=Coeff!$B$10,Coeff!$B$8/Coeff!$B$9*(G387*(1-E387)-1)/(G387-1),0))","v":""}]
[null,null,null,null,null,null,null,{"$f":"IF(F388=\"\",\"\",IF((F388*E388-1)>=Coeff!$B$10,Coeff!$B$8/Coeff!$B$9*(F388*E388-1)/(F388-1),0))","v":""},{"$f":"IF(G388=\"\",\"\",IF((G388*(1-E388)-1)>=Coeff!$B$10,Coeff!$B$8/Coeff!$B$9*(G388*(1-E388)-1)/(G388-1),0))","v":""}]
[null,null,null,null,null,null,null,{"$f":"IF(F389=\"\",\"\",IF((F389*E389-1)>=Coeff!$B$10,Coeff!$B$8/Coeff!$B$9*(F389*E389-1)/(F389-1),0))","v":""},{"$f":"IF(G389=\"\",\"\",IF((G389*(1-E389)-1)>=Coeff!$B$10,Coeff!$B$8/Coeff!$B$9*(G389*(1-E389)-1)/(G389-1),0))","v":""}]
[null,null,null,null,null,null,null,{"$f":"IF(F390=\"\",\"\",IF((F390*E390-1)>=Coeff!$B$10,Coeff!$B$8/Coeff!$B$9*(F390*E390-1)/(F390-1),0))","v":""},{"$f":"IF(G390=\"\",\"\",IF((G390*(1-E390)-1)>=Coeff!$B$10,Coeff!$B$8/Coeff!$B$9*(G390*(1-E390)-1)/(G390-1),0))","v":""}]
[null,null,null,null,null,null,null,{"$f":"IF(F391=\"\",\"\",IF((F391*E391-1)>=Coeff!$B$10,Coeff!$B$8/Coeff!$B$9*(F391*E391-1)/(F391-1),0))","v":""},{"$f":"IF(G391=\"\",\"\",IF((G391*(1-E391)-1)>=Coeff!$B$10,Coeff!$B$8/Coeff!$B$9*(G391*(1-E391)-1)/(G391-1),0))","v":""}]
[null,null,null,null,null,null,null,{"$f":"IF(F392=\"\",\"\",IF((F392*E392-1)>=Coeff!$B$10,Coeff!$B$8/Coeff!$B$9*(F392*E392-1)/(F392-1),0))","v":""},{"$f":"IF(G392=\"\",\"\",IF((G392*(1-E392)-1)>=Coeff!$B$10,Coeff!$B$8/Coeff!$B$9*(G392*(1-E392)-1)/(G392-1),0))","v":""}]
[null,null,null,null,null,null,null,{"$f":"IF(F393=\"\",\"\",IF((F393*E393-1)>=Coeff!$B$10,Coeff!$B$8/Coeff!$B$9*(F393*E393-1)/(F393-1),0))","v":""},{"$f":"IF(G393=\"\",\"\",IF((G393*(1-E393)-1)>=Coeff!$B$10,Coeff!$B$8/Coeff!$B$9*(G393*(1-E393)-1)/(G393-1),0))","v":""}]
[null,null,null,null,null,null,null,{"$f":"IF(F394=\"\",\"\",IF((F394*E394-1)>=Coeff!$B$10,Coeff!$B$8/Coeff!$B$9*(F394*E394-1)/(F394-1),0))","v":""},{"$f":"IF(G394=\"\",\"\",IF((G394*(1-E394)-1)>=Coeff!$B$10,Coeff!$B$8/Coeff!$B$9*(G394*(1-E394)-1)/(G394-1),0))","v":""}]
[null,null,null,null,null,null,null,{"$f":"IF(F395=\"\",\"\",IF((F395*E395-1)>=Coeff!$B$10,Coeff!$B$8/Coeff!$B$9*(F395*E395-1)/(F395-1),0))","v":""},{"$f":"IF(G395=\"\",\"\",IF((G395*(1-E395)-1)>=Coeff!$B$10,Coeff!$B$8/Coeff!$B$9*(G395*(1-E395)-1)/(G395-1),0))","v":""}]
[null,null,null,null,null,null,null,{"$f":"IF(F396=\"\",\"\",IF((F396*E396-1)>=Coeff!$B$10,Coeff!$B$8/Coeff!$B$9*(F396*E396-1)/(F396-1),0))","v":""},{"$f":"IF(G396=\"\",\"\",IF((G396*(1-E396)-1)>=Coeff!$B$10,Coeff!$B$8/Coeff!$B$9*(G396*(1-E396)-1)/(G396-1),0))","v":""}]
[null,null,null,null,null,null,null,{"$f":"IF(F397=\"\",\"\",IF((F397*E397-1)>=Coeff!$B$10,Coeff!$B$8/Coeff!$B$9*(F397*E397-1)/(F397-1),0))","v":""},{"$f":"IF(G397=\"\",\"\",IF((G397*(1-E397)-1)>=Coeff!$B$10,Coeff!$B$8/Coeff!$B$9*(G397*(1-E397)-1)/(G397-1),0))","v":""}]
[null,null,null,null,null,null,null,{"$f":"IF(F398=\"\",\"\",IF((F398*E398-1)>=Coeff!$B$10,Coeff!$B$8/Coeff!$B$9*(F398*E398-1)/(F398-1),0))","v":""},{"$f":"IF(G398=\"\",\"\",IF((G398*(1-E398)-1)>=Coeff!$B$10,Coeff!$B$8/Coeff!$B$9*(G398*(1-E398)-1)/(G398-1),0))","v":""}]
[null,null,null,null,null,null,null,{"$f":"IF(F399=\"\",\"\",IF((F399*E399-1)>=Coeff!$B$10,Coeff!$B$8/Coeff!$B$9*(F399*E399-1)/(F399-1),0))","v":""},{"$f":"IF(G399=\"\",\"\",IF((G399*(1-E399)-1)>=Coeff!$B$10,Coeff!$B$8/Coeff!$B$9*(G399*(1-E399)-1)/(G399-1),0))","v":""}]
[null,null,null,null,null,null,null,{"$f":"IF(F400=\"\",\"\",IF((F400*E400-1)>=Coeff!$B$10,Coeff!$B$8/Coeff!$B$9*(F400*E400-1)/(F400-1),0))","v":""},{"$f":"IF(G400=\"\",\"\",IF((G400*(1-E400)-1)>=Coeff!$B$10,Coeff!$B$8/Coeff!$B$9*(G400*(1-E400)-1)/(G400-1),0))","v":""}]
[null,null,null,null,null,null,null,{"$f":"IF(F401=\"\",\"\",IF((F401*E401-1)>=Coeff!$B$10,Coeff!$B$8/Coeff!$B$9*(F401*E401-1)/(F401-1),0))","v":""},{"$f":"IF(G401=\"\",\"\",IF((G401*(1-E401)-1)>=Coeff!$B$10,Coeff!$B$8/Coeff!$B$9*(G401*(1-E401)-1)/(G401-1),0))","v":""}]
[null,null,null,null,null,null,null,{"$f":"IF(F402=\"\",\"\",IF((F402*E402-1)>=Coeff!$B$10,Coeff!$B$8/Coeff!$B$9*(F402*E402-1)/(F402-1),0))","v":""},{"$f":"IF(G402=\"\",\"\",IF((G402*(1-E402)-1)>=Coeff!$B$10,Coeff!$B$8/Coeff!$B$9*(G402*(1-E402)-1)/(G402-1),0))","v":""}]
[null,null,null,null,null,null,null,{"$f":"IF(F403=\"\",\"\",IF((F403*E403-1)>=Coeff!$B$10,Coeff!$B$8/Coeff!$B$9*(F403*E403-1)/(F403-1),0))","v":""},{"$f":"IF(G403=\"\",\"\",IF((G403*(1-E403)-1)>=Coeff!$B$10,Coeff!$B$8/Coeff!$B$9*(G403*(1-E403)-1)/(G403-1),0))","v":""}]
[null,null,null,null,null,null,null,{"$f":"IF(F404=\"\",\"\",IF((F404*E404-1)>=Coeff!$B$10,Coeff!$B$8/Coeff!$B$9*(F404*E404-1)/(F404-1),0))","v":""},{"$f":"IF(G404=\"\",\"\",IF((G404*(1-E404)-1)>=Coeff!$B$10,Coeff!$B$8/Coeff!$B$9*(G404*(1-E404)-1)/(G404-1),0))","v":""}]
[null,null,null,null,null,null,null,{"$f":"IF(F405=\"\",\"\",IF((F405*E405-1)>=Coeff!$B$10,Coeff!$B$8/Coeff!$B$9*(F405*E405-1)/(F405-1),0))","v":""},{"$f":"IF(G405=\"\",\"\",IF((G405*(1-E405)-1)>=Coeff!$B$10,Coeff!$B$8/Coeff!$B$9*(G405*(1-E405)-1)/(G405-1),0))","v":""}]
[null,null,null,null,null,null,null,{"$f":"IF(F406=\"\",\"\",IF((F406*E406-1)>=Coeff!$B$10,Coeff!$B$8/Coeff!$B$9*(F406*E406-1)/(F406-1),0))","v":""},{"$f":"IF(G406=\"\",\"\",IF((G406*(1-E406)-1)>=Coeff!$B$10,Coeff!$B$8/Coeff!$B$9*(G406*(1-E406)-1)/(G406-1),0))","v":""}]
[null,null,null,null,null,null,null,{"$f":"IF(F407=\"\",\"\",IF((F407*E407-1)>=Coeff!$B$10,Coeff!$B$8/Coeff!$B$9*(F407*E407-1)/(F407-1),0))","v":""},{"$f":"IF(G407=\"\",\"\",IF((G407*(1-E407)-1)>=Coeff!$B$10,Coeff!$B$8/Coeff!$B$9*(G407*(1-E407)-1)/(G407-1),0))","v":""}]
[null,null,null,null,null,null,null,{"$f":"IF(F408=\"\",\"\",IF((F408*E408-1)>=Coeff!$B$10,Coeff!$B$8/Coeff!$B$9*(F408*E408-1)/(F408-1),0))","v":""},{"$f":"IF(G408=\"\",\"\",IF((G408*(1-E408)-1)>=Coeff!$B$10,Coeff!$B$8/Coeff!$B$9*(G408*(1-E408)-1)/(G408-1),0))","v":""}]
[null,null,null,null,null,null,null,{"$f":"IF(F409=\"\",\"\",IF((F409*E409-1)>=Coeff!$B$10,Coeff!$B$8/Coeff!$B$9*(F409*E409-1)/(F409-1),0))","v":""},{"$f":"IF(G409=\"\",\"\",IF((G409*(1-E409)-1)>=Coeff!$B$10,Coeff!$B$8/Coeff!$B$9*(G409*(1-E409)-1)/(G409-1),0))","v":""}]
[null,null,null,null,null,null,null,{"$f":"IF(F410=\"\",\"\",IF((F410*E410-1)>=Coeff!$B$10,Coeff!$B$8/Coeff!$B$9*(F410*E410-1)/(F410-1),0))","v":""},{"$f":"IF(G410=\"\",\"\",IF((G410*(1-E410)-1)>=Coeff!$B$10,Coeff!$B$8/Coeff!$B$9*(G410*(1-E410)-1)/(G410-1),0))","v":""}]
[null,null,null,null,null,null,null,{"$f":"IF(F411=\"\",\"\",IF((F411*E411-1)>=Coeff!$B$10,Coeff!$B$8/Coeff!$B$9*(F411*E411-1)/(F411-1),0))","v":""},{"$f":"IF(G411=\"\",\"\",IF((G411*(1-E411)-1)>=Coeff!$B$10,Coeff!$B$8/Coeff!$B$9*(G411*(1-E411)-1)/(G411-1),0))","v":""}]
[null,null,null,null,null,null,null,{"$f":"IF(F412=\"\",\"\",IF((F412*E412-1)>=Coeff!$B$10,Coeff!$B$8/Coeff!$B$9*(F412*E412-1)/(F412-1),0))","v":""},{"$f":"IF(G412=\"\",\"\",IF((G412*(1-E412)-1)>=Coeff!$B$10,Coeff!$B$8/Coeff!$B$9*(G412*(1-E412)-1)/(G412-1),0))","v":""}]
[null,null,null,null,null,null,null,{"$f":"IF(F413=\"\",\"\",IF((F413*E413-1)>=Coeff!$B$10,Coeff!$B$8/Coeff!$B$9*(F413*E413-1)/(F413-1),0))","v":""},{"$f":"IF(G413=\"\",\"\",IF((G413*(1-E413)-1)>=Coeff!$B$10,Coeff!$B$8/Coeff!$B$9*(G413*(1-E413)-1)/(G413-1),0))","v":""}]
[null,null,null,null,null,null,null,{"$f":"IF(F414=\"\",\"\",IF((F414*E414-1)>=Coeff!$B$10,Coeff!$B$8/Coeff!$B$9*(F414*E414-1)/(F414-1),0))","v":""},{"$f":"IF(G414=\"\",\"\",IF((G414*(1-E414)-1)>=Coeff!$B$10,Coeff!$B$8/Coeff!$B$9*(G414*(1-E414)-1)/(G414-1),0))","v":""}]
[null,null,null,null,null,null,null,{"$f":"IF(F415=\"\",\"\",IF((F415*E415-1)>=Coeff!$B$10,Coeff!$B$8/Coeff!$B$9*(F415*E415-1)/(F415-1),0))","v":""},{"$f":"IF(G415=\"\",\"\",IF((G415*(1-E415)-1)>=Coeff!$B$10,Coeff!$B$8/Coeff!$B$9*(G415*(1-E415)-1)/(G415-1),0))","v":""}]
[null,null,null,null,null,null,null,{"$f":"IF(F416=\"\",\"\",IF((F416*E416-1)>=Coeff!$B$10,Coeff!$B$8/Coeff!$B$9*(F416*E416-1)/(F416-1),0))","v":""},{"$f":"IF(G416=\"\",\"\",IF((G416*(1-E416)-1)>=Coeff!$B$10,Coeff!$B$8/Coeff!$B$9*(G416*(1-E416)-1)/(G416-1),0))","v":""}]
[null,null,null,null,null,null,null,{"$f":"IF(F417=\"\",\"\",IF((F417*E417-1)>=Coeff!$B$10,Coeff!$B$8/Coeff!$B$9*(F417*E417-1)/(F417-1),0))","v":""},{"$f":"IF(G417=\"\",\"\",IF((G417*(1-E417)-1)>=Coeff!$B$10,Coeff!$B$8/Coeff!$B$9*(G417*(1-E417)-1)/(G417-1),0))","v":""}]
[null,null,null,null,null,null,null,{"$f":"IF(F418=\"\",\"\",IF((F418*E418-1)>=Coeff!$B$10,Coeff!$B$8/Coeff!$B$9*(F418*E418-1)/(F418-1),0))","v":""},{"$f":"IF(G418=\"\",\"\",IF((G418*(1-E418)-1)>=Coeff!$B$10,Coeff!$B$8/Coeff!$B$9*(G418*(1-E418)-1)/(G418-1),0))","v":""}]
[null,null,null,null,null,null,null,{"$f":"IF(F419=\"\",\"\",IF((F419*E419-1)>=Coeff!$B$10,Coeff!$B$8/Coeff!$B$9*(F419*E419-1)/(F419-1),0))","v":""},{"$f":"IF(G419=\"\",\"\",IF((G419*(1-E419)-1)>=Coeff!$B$10,Coeff!$B$8/Coeff!$B$9*(G419*(1-E419)-1)/(G419-1),0))","v":""}]
[null,null,null,null,null,null,null,{"$f":"IF(F420=\"\",\"\",IF((F420*E420-1)>=Coeff!$B$10,Coeff!$B$8/Coeff!$B$9*(F420*E420-1)/(F420-1),0))","v":""},{"$f":"IF(G420=\"\",\"\",IF((G420*(1-E420)-1)>=Coeff!$B$10,Coeff!$B$8/Coeff!$B$9*(G420*(1-E420)-1)/(G420-1),0))","v":""}]
[null,null,null,null,null,null,null,{"$f":"IF(F421=\"\",\"\",IF((F421*E421-1)>=Coeff!$B$10,Coeff!$B$8/Coeff!$B$9*(F421*E421-1)/(F421-1),0))","v":""},{"$f":"IF(G421=\"\",\"\",IF((G421*(1-E421)-1)>=Coeff!$B$10,Coeff!$B$8/Coeff!$B$9*(G421*(1-E421)-1)/(G421-1),0))","v":""}]
[null,null,null,null,null,null,null,{"$f":"IF(F422=\"\",\"\",IF((F422*E422-1)>=Coeff!$B$10,Coeff!$B$8/Coeff!$B$9*(F422*E422-1)/(F422-1),0))","v":""},{"$f":"IF(G422=\"\",\"\",IF((G422*(1-E422)-1)>=Coeff!$B$10,Coeff!$B$8/Coeff!$B$9*(G422*(1-E422)-1)/(G422-1),0))","v":""}]
[null,null,null,null,null,null,null,{"$f":"IF(F423=\"\",\"\",IF((F423*E423-1)>=Coeff!$B$10,Coeff!$B$8/Coeff!$B$9*(F423*E423-1)/(F423-1),0))","v":""},{"$f":"IF(G423=\"\",\"\",IF((G423*(1-E423)-1)>=Coeff!$B$10,Coeff!$B$8/Coeff!$B$9*(G423*(1-E423)-1)/(G423-1),0))","v":""}]
[null,null,null,null,null,null,null,{"$f":"IF(F424=\"\",\"\",IF((F424*E424-1)>=Coeff!$B$10,Coeff!$B$8/Coeff!$B$9*(F424*E424-1)/(F424-1),0))","v":""},{"$f":"IF(G424=\"\",\"\",IF((G424*(1-E424)-1)>=Coeff!$B$10,Coeff!$B$8/Coeff!$B$9*(G424*(1-E424)-1)/(G424-1),0))","v":""}]
[null,null,null,null,null,null,null,{"$f":"IF(F425=\"\",\"\",IF((F425*E425-1)>=Coeff!$B$10,Coeff!$B$8/Coeff!$B$9*(F425*E425-1)/(F425-1),0))","v":""},{"$f":"IF(G425=\"\",\"\",IF((G425*(1-E425)-1)>=Coeff!$B$10,Coeff!$B$8/Coeff!$B$9*(G425*(1-E425)-1)/(G425-1),0))","v":""}]
[null,null,null,null,null,null,null,{"$f":"IF(F426=\"\",\"\",IF((F426*E426-1)>=Coeff!$B$10,Coeff!$B$8/Coeff!$B$9*(F426*E426-1)/(F426-1),0))","v":""},{"$f":"IF(G426=\"\",\"\",IF((G426*(1-E426)-1)>=Coeff!$B$10,Coeff!$B$8/Coeff!$B$9*(G426*(1-E426)-1)/(G426-1),0))","v":""}]
[null,null,null,null,null,null,null,{"$f":"IF(F427=\"\",\"\",IF((F427*E427-1)>=Coeff!$B$10,Coeff!$B$8/Coeff!$B$9*(F427*E427-1)/(F427-1),0))","v":""},{"$f":"IF(G427=\"\",\"\",IF((G427*(1-E427)-1)>=Coeff!$B$10,Coeff!$B$8/Coeff!$B$9*(G427*(1-E427)-1)/(G427-1),0))","v":""}]
[null,null,null,null,null,null,null,{"$f":"IF(F428=\"\",\"\",IF((F428*E428-1)>=Coeff!$B$10,Coeff!$B$8/Coeff!$B$9*(F428*E428-1)/(F428-1),0))","v":""},{"$f":"IF(G428=\"\",\"\",IF((G428*(1-E428)-1)>=Coeff!$B$10,Coeff!$B$8/Coeff!$B$9*(G428*(1-E428)-1)/(G428-1),0))","v":""}]
[null,null,null,null,null,null,null,{"$f":"IF(F429=\"\",\"\",IF((F429*E429-1)>=Coeff!$B$10,Coeff!$B$8/Coeff!$B$9*(F429*E429-1)/(F429-1),0))","v":""},{"$f":"IF(G429=\"\",\"\",IF((G429*(1-E429)-1)>=Coeff!$B$10,Coeff!$B$8/Coeff!$B$9*(G429*(1-E429)-1)/(G429-1),0))","v":""}]
[null,null,null,null,null,null,null,{"$f":"IF(F430=\"\",\"\",IF((F430*E430-1)>=Coeff!$B$10,Coeff!$B$8/Coeff!$B$9*(F430*E430-1)/(F430-1),0))","v":""},{"$f":"IF(G430=\"\",\"\",IF((G430*(1-E430)-1)>=Coeff!$B$10,Coeff!$B$8/Coeff!$B$9*(G430*(1-E430)-1)/(G430-1),0))","v":""}]
[null,null,null,null,null,null,null,{"$f":"IF(F431=\"\",\"\",IF((F431*E431-1)>=Coeff!$B$10,Coeff!$B$8/Coeff!$B$9*(F431*E431-1)/(F431-1),0))","v":""},{"$f":"IF(G431=\"\",\"\",IF((G431*(1-E431)-1)>=Coeff!$B$10,Coeff!$B$8/Coeff!$B$9*(G431*(1-E431)-1)/(G431-1),0))","v":""}]
[null,null,null,null,null,null,null,{"$f":"IF(F432=\"\",\"\",IF((F432*E432-1)>=Coeff!$B$10,Coeff!$B$8/Coeff!$B$9*(F432*E432-1)/(F432-1),0))","v":""},{"$f":"IF(G432=\"\",\"\",IF((G432*(1-E432)-1)>=Coeff!$B$10,Coeff!$B$8/Coeff!$B$9*(G432*(1-E432)-1)/(G432-1),0))","v":""}]
[null,null,null,null,null,null,null,{"$f":"IF(F433=\"\",\"\",IF((F433*E433-1)>=Coeff!$B$10,Coeff!$B$8/Coeff!$B$9*(F433*E433-1)/(F433-1),0))","v":""},{"$f":"IF(G433=\"\",\"\",IF((G433*(1-E433)-1)>=Coeff!$B$10,Coeff!$B$8/Coeff!$B$9*(G433*(1-E433)-1)/(G433-1),0))","v":""}]
[null,null,null,null,null,null,null,{"$f":"IF(F434=\"\",\"\",IF((F434*E434-1)>=Coeff!$B$10,Coeff!$B$8/Coeff!$B$9*(F434*E434-1)/(F434-1),0))","v":""},{"$f":"IF(G434=\"\",\"\",IF((G434*(1-E434)-1)>=Coeff!$B$10,Coeff!$B$8/Coeff!$B$9*(G434*(1-E434)-1)/(G434-1),0))","v":""}]
[null,null,null,null,null,null,null,{"$f":"IF(F435=\"\",\"\",IF((F435*E435-1)>=Coeff!$B$10,Coeff!$B$8/Coeff!$B$9*(F435*E435-1)/(F435-1),0))","v":""},{"$f":"IF(G435=\"\",\"\",IF((G435*(1-E435)-1)>=Coeff!$B$10,Coeff!$B$8/Coeff!$B$9*(G435*(1-E435)-1)/(G435-1),0))","v":""}]
[null,null,null,null,null,null,null,{"$f":"IF(F436=\"\",\"\",IF((F436*E436-1)>=Coeff!$B$10,Coeff!$B$8/Coeff!$B$9*(F436*E436-1)/(F436-1),0))","v":""},{"$f":"IF(G436=\"\",\"\",IF((G436*(1-E436)-1)>=Coeff!$B$10,Coeff!$B$8/Coeff!$B$9*(G436*(1-E436)-1)/(G436-1),0))","v":""}]
[null,null,null,null,null,null,null,{"$f":"IF(F437=\"\",\"\",IF((F437*E437-1)>=Coeff!$B$10,Coeff!$B$8/Coeff!$B$9*(F437*E437-1)/(F437-1),0))","v":""},{"$f":"IF(G437=\"\",\"\",IF((G437*(1-E437)-1)>=Coeff!$B$10,Coeff!$B$8/Coeff!$B$9*(G437*(1-E437)-1)/(G437-1),0))","v":""}]
[null,null,null,null,null,null,null,{"$f":"IF(F438=\"\",\"\",IF((F438*E438-1)>=Coeff!$B$10,Coeff!$B$8/Coeff!$B$9*(F438*E438-1)/(F438-1),0))","v":""},{"$f":"IF(G438=\"\",\"\",IF((G438*(1-E438)-1)>=Coeff!$B$10,Coeff!$B$8/Coeff!$B$9*(G438*(1-E438)-1)/(G438-1),0))","v":""}]
[null,null,null,null,null,null,null,{"$f":"IF(F439=\"\",\"\",IF((F439*E439-1)>=Coeff!$B$10,Coeff!$B$8/Coeff!$B$9*(F439*E439-1)/(F439-1),0))","v":""},{"$f":"IF(G439=\"\",\"\",IF((G439*(1-E439)-1)>=Coeff!$B$10,Coeff!$B$8/Coeff!$B$9*(G439*(1-E439)-1)/(G439-1),0))","v":""}]
[null,null,null,null,null,null,null,{"$f":"IF(F440=\"\",\"\",IF((F440*E440-1)>=Coeff!$B$10,Coeff!$B$8/Coeff!$B$9*(F440*E440-1)/(F440-1),0))","v":""},{"$f":"IF(G440=\"\",\"\",IF((G440*(1-E440)-1)>=Coeff!$B$10,Coeff!$B$8/Coeff!$B$9*(G440*(1-E440)-1)/(G440-1),0))","v":""}]
[null,null,null,null,null,null,null,{"$f":"IF(F441=\"\",\"\",IF((F441*E441-1)>=Coeff!$B$10,Coeff!$B$8/Coeff!$B$9*(F441*E441-1)/(F441-1),0))","v":""},{"$f":"IF(G441=\"\",\"\",IF((G441*(1-E441)-1)>=Coeff!$B$10,Coeff!$B$8/Coeff!$B$9*(G441*(1-E441)-1)/(G441-1),0))","v":""}]
[null,null,null,null,null,null,null,{"$f":"IF(F442=\"\",\"\",IF((F442*E442-1)>=Coeff!$B$10,Coeff!$B$8/Coeff!$B$9*(F442*E442-1)/(F442-1),0))","v":""},{"$f":"IF(G442=\"\",\"\",IF((G442*(1-E442)-1)>=Coeff!$B$10,Coeff!$B$8/Coeff!$B$9*(G442*(1-E442)-1)/(G442-1),0))","v":""}]
[null,null,null,null,null,null,null,{"$f":"IF(F443=\"\",\"\",IF((F443*E443-1)>=Coeff!$B$10,Coeff!$B$8/Coeff!$B$9*(F443*E443-1)/(F443-1),0))","v":""},{"$f":"IF(G443=\"\",\"\",IF((G443*(1-E443)-1)>=Coeff!$B$10,Coeff!$B$8/Coeff!$B$9*(G443*(1-E443)-1)/(G443-1),0))","v":""}]
[null,null,null,null,null,null,null,{"$f":"IF(F444=\"\",\"\",IF((F444*E444-1)>=Coeff!$B$10,Coeff!$B$8/Coeff!$B$9*(F444*E444-1)/(F444-1),0))","v":""},{"$f":"IF(G444=\"\",\"\",IF((G444*(1-E444)-1)>=Coeff!$B$10,Coeff!$B$8/Coeff!$B$9*(G444*(1-E444)-1)/(G444-1),0))","v":""}]
[null,null,null,null,null,null,null,{"$f":"IF(F445=\"\",\"\",IF((F445*E445-1)>=Coeff!$B$10,Coeff!$B$8/Coeff!$B$9*(F445*E445-1)/(F445-1),0))","v":""},{"$f":"IF(G445=\"\",\"\",IF((G445*(1-E445)-1)>=Coeff!$B$10,Coeff!$B$8/Coeff!$B$9*(G445*(1-E445)-1)/(G445-1),0))","v":""}]
[null,null,null,null,null,null,null,{"$f":"IF(F446=\"\",\"\",IF((F446*E446-1)>=Coeff!$B$10,Coeff!$B$8/Coeff!$B$9*(F446*E446-1)/(F446-1),0))","v":""},{"$f":"IF(G446=\"\",\"\",IF((G446*(1-E446)-1)>=Coeff!$B$10,Coeff!$B$8/Coeff!$B$9*(G446*(1-E446)-1)/(G446-1),0))","v":""}]
[null,null,null,null,null,null,null,{"$f":"IF(F447=\"\",\"\",IF((F447*E447-1)>=Coeff!$B$10,Coeff!$B$8/Coeff!$B$9*(F447*E447-1)/(F447-1),0))","v":""},{"$f":"IF(G447=\"\",\"\",IF((G447*(1-E447)-1)>=Coeff!$B$10,Coeff!$B$8/Coeff!$B$9*(G447*(1-E447)-1)/(G447-1),0))","v":""}]
[null,null,null,null,null,null,null,{"$f":"IF(F448=\"\",\"\",IF((F448*E448-1)>=Coeff!$B$10,Coeff!$B$8/Coeff!$B$9*(F448*E448-1)/(F448-1),0))","v":""},{"$f":"IF(G448=\"\",\"\",IF((G448*(1-E448)-1)>=Coeff!$B$10,Coeff!$B$8/Coeff!$B$9*(G448*(1-E448)-1)/(G448-1),0))","v":""}]
[null,null,null,null,null,null,null,{"$f":"IF(F449=\"\",\"\",IF((F449*E449-1)>=Coeff!$B$10,Coeff!$B$8/Coeff!$B$9*(F449*E449-1)/(F449-1),0))","v":""},{"$f":"IF(G449=\"\",\"\",IF((G449*(1-E449)-1)>=Coeff!$B$10,Coeff!$B$8/Coeff!$B$9*(G449*(1-E449)-1)/(G449-1),0))","v":""}]
[null,null,null,null,null,null,null,{"$f":"IF(F450=\"\",\"\",IF((F450*E450-1)>=Coeff!$B$10,Coeff!$B$8/Coeff!$B$9*(F450*E450-1)/(F450-1),0))","v":""},{"$f":"IF(G450=\"\",\"\",IF((G450*(1-E450)-1)>=Coeff!$B$10,Coeff!$B$8/Coeff!$B$9*(G450*(1-E450)-1)/(G450-1),0))","v":""}]
[null,null,null,null,null,null,null,{"$f":"IF(F451=\"\",\"\",IF((F451*E451-1)>=Coeff!$B$10,Coeff!$B$8/Coeff!$B$9*(F451*E451-1)/(F451-1),0))","v":""},{"$f":"IF(G451=\"\",\"\",IF((G451*(1-E451)-1)>=Coeff!$B$10,Coeff!$B$8/Coeff!$B$9*(G451*(1-E451)-1)/(G451-1),0))","v":""}]
[null,null,null,null,null,null,null,{"$f":"IF(F452=\"\",\"\",IF((F452*E452-1)>=Coeff!$B$10,Coeff!$B$8/Coeff!$B$9*(F452*E452-1)/(F452-1),0))","v":""},{"$f":"IF(G452=\"\",\"\",IF((G452*(1-E452)-1)>=Coeff!$B$10,Coeff!$B$8/Coeff!$B$9*(G452*(1-E452)-1)/(G452-1),0))","v":""}]
[null,null,null,null,null,null,null,{"$f":"IF(F453=\"\",\"\",IF((F453*E453-1)>=Coeff!$B$10,Coeff!$B$8/Coeff!$B$9*(F453*E453-1)/(F453-1),0))","v":""},{"$f":"IF(G453=\"\",\"\",IF((G453*(1-E453)-1)>=Coeff!$B$10,Coeff!$B$8/Coeff!$B$9*(G453*(1-E453)-1)/(G453-1),0))","v":""}]
[null,null,null,null,null,null,null,{"$f":"IF(F454=\"\",\"\",IF((F454*E454-1)>=Coeff!$B$10,Coeff!$B$8/Coeff!$B$9*(F454*E454-1)/(F454-1),0))","v":""},{"$f":"IF(G454=\"\",\"\",IF((G454*(1-E454)-1)>=Coeff!$B$10,Coeff!$B$8/Coeff!$B$9*(G454*(1-E454)-1)/(G454-1),0))","v":""}]
[null,null,null,null,null,null,null,{"$f":"IF(F455=\"\",\"\",IF((F455*E455-1)>=Coeff!$B$10,Coeff!$B$8/Coeff!$B$9*(F455*E455-1)/(F455-1),0))","v":""},{"$f":"IF(G455=\"\",\"\",IF((G455*(1-E455)-1)>=Coeff!$B$10,Coeff!$B$8/Coeff!$B$9*(G455*(1-E455)-1)/(G455-1),0))","v":""}]
[null,null,null,null,null,null,null,{"$f":"IF(F456=\"\",\"\",IF((F456*E456-1)>=Coeff!$B$10,Coeff!$B$8/Coeff!$B$9*(F456*E456-1)/(F456-1),0))","v":""},{"$f":"IF(G456=\"\",\"\",IF((G456*(1-E456)-1)>=Coeff!$B$10,Coeff!$B$8/Coeff!$B$9*(G456*(1-E456)-1)/(G456-1),0))","v":""}]
[null,null,null,null,null,null,null,{"$f":"IF(F457=\"\",\"\",IF((F457*E457-1)>=Coeff!$B$10,Coeff!$B$8/Coeff!$B$9*(F457*E457-1)/(F457-1),0))","v":""},{"$f":"IF(G457=\"\",\"\",IF((G457*(1-E457)-1)>=Coeff!$B$10,Coeff!$B$8/Coeff!$B$9*(G457*(1-E457)-1)/(G457-1),0))","v":""}]
[null,null,null,null,null,null,null,{"$f":"IF(F458=\"\",\"\",IF((F458*E458-1)>=Coeff!$B$10,Coeff!$B$8/Coeff!$B$9*(F458*E458-1)/(F458-1),0))","v":""},{"$f":"IF(G458=\"\",\"\",IF((G458*(1-E458)-1)>=Coeff!$B$10,Coeff!$B$8/Coeff!$B$9*(G458*(1-E458)-1)/(G458-1),0))","v":""}]
[null,null,null,null,null,null,null,{"$f":"IF(F459=\"\",\"\",IF((F459*E459-1)>=Coeff!$B$10,Coeff!$B$8/Coeff!$B$9*(F459*E459-1)/(F459-1),0))","v":""},{"$f":"IF(G459=\"\",\"\",IF((G459*(1-E459)-1)>=Coeff!$B$10,Coeff!$B$8/Coeff!$B$9*(G459*(1-E459)-1)/(G459-1),0))","v":""}]
[null,null,null,null,null,null,null,{"$f":"IF(F460=\"\",\"\",IF((F460*E460-1)>=Coeff!$B$10,Coeff!$B$8/Coeff!$B$9*(F460*E460-1)/(F460-1),0))","v":""},{"$f":"IF(G460=\"\",\"\",IF((G460*(1-E460)-1)>=Coeff!$B$10,Coeff!$B$8/Coeff!$B$9*(G460*(1-E460)-1)/(G460-1),0))","v":""}]
[null,null,null,null,null,null,null,{"$f":"IF(F461=\"\",\"\",IF((F461*E461-1)>=Coeff!$B$10,Coeff!$B$8/Coeff!$B$9*(F461*E461-1)/(F461-1),0))","v":""},{"$f":"IF(G461=\"\",\"\",IF((G461*(1-E461)-1)>=Coeff!$B$10,Coeff!$B$8/Coeff!$B$9*(G461*(1-E461)-1)/(G461-1),0))","v":""}]
[null,null,null,null,null,null,null,{"$f":"IF(F462=\"\",\"\",IF((F462*E462-1)>=Coeff!$B$10,Coeff!$B$8/Coeff!$B$9*(F462*E462-1)/(F462-1),0))","v":""},{"$f":"IF(G462=\"\",\"\",IF((G462*(1-E462)-1)>=Coeff!$B$10,Coeff!$B$8/Coeff!$B$9*(G462*(1-E462)-1)/(G462-1),0))","v":""}]
[null,null,null,null,null,null,null,{"$f":"IF(F463=\"\",\"\",IF((F463*E463-1)>=Coeff!$B$10,Coeff!$B$8/Coeff!$B$9*(F463*E463-1)/(F463-1),0))","v":""},{"$f":"IF(G463=\"\",\"\",IF((G463*(1-E463)-1)>=Coeff!$B$10,Coeff!$B$8/Coeff!$B$9*(G463*(1-E463)-1)/(G463-1),0))","v":""}]
[null,null,null,null,null,null,null,{"$f":"IF(F464=\"\",\"\",IF((F464*E464-1)>=Coeff!$B$10,Coeff!$B$8/Coeff!$B$9*(F464*E464-1)/(F464-1),0))","v":""},{"$f":"IF(G464=\"\",\"\",IF((G464*(1-E464)-1)>=Coeff!$B$10,Coeff!$B$8/Coeff!$B$9*(G464*(1-E464)-1)/(G464-1),0))","v":""}]
[null,null,null,null,null,null,null,{"$f":"IF(F465=\"\",\"\",IF((F465*E465-1)>=Coeff!$B$10,Coeff!$B$8/Coeff!$B$9*(F465*E465-1)/(F465-1),0))","v":""},{"$f":"IF(G465=\"\",\"\",IF((G465*(1-E465)-1)>=Coeff!$B$10,Coeff!$B$8/Coeff!$B$9*(G465*(1-E465)-1)/(G465-1),0))","v":""}]
[null,null,null,null,null,null,null,{"$f":"IF(F466=\"\",\"\",IF((F466*E466-1)>=Coeff!$B$10,Coeff!$B$8/Coeff!$B$9*(F466*E466-1)/(F466-1),0))","v":""},{"$f":"IF(G466=\"\",\"\",IF((G466*(1-E466)-1)>=Coeff!$B$10,Coeff!$B$8/Coeff!$B$9*(G466*(1-E466)-1)/(G466-1),0))","v":""}]
[null,null,null,null,null,null,null,{"$f":"IF(F467=\"\",\"\",IF((F467*E467-1)>=Coeff!$B$10,Coeff!$B$8/Coeff!$B$9*(F467*E467-1)/(F467-1),0))","v":""},{"$f":"IF(G467=\"\",\"\",IF((G467*(1-E467)-1)>=Coeff!$B$10,Coeff!$B$8/Coeff!$B$9*(G467*(1-E467)-1)/(G467-1),0))","v":""}]
[null,null,null,null,null,null,null,{"$f":"IF(F468=\"\",\"\",IF((F468*E468-1)>=Coeff!$B$10,Coeff!$B$8/Coeff!$B$9*(F468*E468-1)/(F468-1),0))","v":""},{"$f":"IF(G468=\"\",\"\",IF((G468*(1-E468)-1)>=Coeff!$B$10,Coeff!$B$8/Coeff!$B$9*(G468*(1-E468)-1)/(G468-1),0))","v":""}]
[null,null,null,null,null,null,null,{"$f":"IF(F469=\"\",\"\",IF((F469*E469-1)>=Coeff!$B$10,Coeff!$B$8/Coeff!$B$9*(F469*E469-1)/(F469-1),0))","v":""},{"$f":"IF(G469=\"\",\"\",IF((G469*(1-E469)-1)>=Coeff!$B$10,Coeff!$B$8/Coeff!$B$9*(G469*(1-E469)-1)/(G469-1),0))","v":""}]
[null,null,null,null,null,null,null,{"$f":"IF(F470=\"\",\"\",IF((F470*E470-1)>=Coeff!$B$10,Coeff!$B$8/Coeff!$B$9*(F470*E470-1)/(F470-1),0))","v":""},{"$f":"IF(G470=\"\",\"\",IF((G470*(1-E470)-1)>=Coeff!$B$10,Coeff!$B$8/Coeff!$B$9*(G470*(1-E470)-1)/(G470-1),0))","v":""}]
[null,null,null,null,null,null,null,{"$f":"IF(F471=\"\",\"\",IF((F471*E471-1)>=Coeff!$B$10,Coeff!$B$8/Coeff!$B$9*(F471*E471-1)/(F471-1),0))","v":""},{"$f":"IF(G471=\"\",\"\",IF((G471*(1-E471)-1)>=Coeff!$B$10,Coeff!$B$8/Coeff!$B$9*(G471*(1-E471)-1)/(G471-1),0))","v":""}]
[null,null,null,null,null,null,null,{"$f":"IF(F472=\"\",\"\",IF((F472*E472-1)>=Coeff!$B$10,Coeff!$B$8/Coeff!$B$9*(F472*E472-1)/(F472-1),0))","v":""},{"$f":"IF(G472=\"\",\"\",IF((G472*(1-E472)-1)>=Coeff!$B$10,Coeff!$B$8/Coeff!$B$9*(G472*(1-E472)-1)/(G472-1),0))","v":""}]
[null,null,null,null,null,null,null,{"$f":"IF(F473=\"\",\"\",IF((F473*E473-1)>=Coeff!$B$10,Coeff!$B$8/Coeff!$B$9*(F473*E473-1)/(F473-1),0))","v":""},{"$f":"IF(G473=\"\",\"\",IF((G473*(1-E473)-1)>=Coeff!$B$10,Coeff!$B$8/Coeff!$B$9*(G473*(1-E473)-1)/(G473-1),0))","v":""}]
[null,null,null,null,null,null,null,{"$f":"IF(F474=\"\",\"\",IF((F474*E474-1)>=Coeff!$B$10,Coeff!$B$8/Coeff!$B$9*(F474*E474-1)/(F474-1),0))","v":""},{"$f":"IF(G474=\"\",\"\",IF((G474*(1-E474)-1)>=Coeff!$B$10,Coeff!$B$8/Coeff!$B$9*(G474*(1-E474)-1)/(G474-1),0))","v":""}]
[null,null,null,null,null,null,null,{"$f":"IF(F475=\"\",\"\",IF((F475*E475-1)>=Coeff!$B$10,Coeff!$B$8/Coeff!$B$9*(F475*E475-1)/(F475-1),0))","v":""},{"$f":"IF(G475=\"\",\"\",IF((G475*(1-E475)-1)>=Coeff!$B$10,Coeff!$B$8/Coeff!$B$9*(G475*(1-E475)-1)/(G475-1),0))","v":""}]
[null,null,null,null,null,null,null,{"$f":"IF(F476=\"\",\"\",IF((F476*E476-1)>=Coeff!$B$10,Coeff!$B$8/Coeff!$B$9*(F476*E476-1)/(F476-1),0))","v":""},{"$f":"IF(G476=\"\",\"\",IF((G476*(1-E476)-1)>=Coeff!$B$10,Coeff!$B$8/Coeff!$B$9*(G476*(1-E476)-1)/(G476-1),0))","v":""}]
[null,null,null,null,null,null,null,{"$f":"IF(F477=\"\",\"\",IF((F477*E477-1)>=Coeff!$B$10,Coeff!$B$8/Coeff!$B$9*(F477*E477-1)/(F477-1),0))","v":""},{"$f":"IF(G477=\"\",\"\",IF((G477*(1-E477)-1)>=Coeff!$B$10,Coeff!$B$8/Coeff!$B$9*(G477*(1-E477)-1)/(G477-1),0))","v":""}]
[null,null,null,null,null,null,null,{"$f":"IF(F478=\"\",\"\",IF((F478*E478-1)>=Coeff!$B$10,Coeff!$B$8/Coeff!$B$9*(F478*E478-1)/(F478-1),0))","v":""},{"$f":"IF(G478=\"\",\"\",IF((G478*(1-E478)-1)>=Coeff!$B$10,Coeff!$B$8/Coeff!$B$9*(G478*(1-E478)-1)/(G478-1),0))","v":""}]
[null,null,null,null,null,null,null,{"$f":"IF(F479=\"\",\"\",IF((F479*E479-1)>=Coeff!$B$10,Coeff!$B$8/Coeff!$B$9*(F479*E479-1)/(F479-1),0))","v":""},{"$f":"IF(G479=\"\",\"\",IF((G479*(1-E479)-1)>=Coeff!$B$10,Coeff!$B$8/Coeff!$B$9*(G479*(1-E479)-1)/(G479-1),0))","v":""}]
[null,null,null,null,null,null,null,{"$f":"IF(F480=\"\",\"\",IF((F480*E480-1)>=Coeff!$B$10,Coeff!$B$8/Coeff!$B$9*(F480*E480-1)/(F480-1),0))","v":""},{"$f":"IF(G480=\"\",\"\",IF((G480*(1-E480)-1)>=Coeff!$B$10,Coeff!$B$8/Coeff!$B$9*(G480*(1-E480)-1)/(G480-1),0))","v":""}]
[null,null,null,null,null,null,null,{"$f":"IF(F481=\"\",\"\",IF((F481*E481-1)>=Coeff!$B$10,Coeff!$B$8/Coeff!$B$9*(F481*E481-1)/(F481-1),0))","v":""},{"$f":"IF(G481=\"\",\"\",IF((G481*(1-E481)-1)>=Coeff!$B$10,Coeff!$B$8/Coeff!$B$9*(G481*(1-E481)-1)/(G481-1),0))","v":""}]
[null,null,null,null,null,null,null,{"$f":"IF(F482=\"\",\"\",IF((F482*E482-1)>=Coeff!$B$10,Coeff!$B$8/Coeff!$B$9*(F482*E482-1)/(F482-1),0))","v":""},{"$f":"IF(G482=\"\",\"\",IF((G482*(1-E482)-1)>=Coeff!$B$10,Coeff!$B$8/Coeff!$B$9*(G482*(1-E482)-1)/(G482-1),0))","v":""}]
[null,null,null,null,null,null,null,{"$f":"IF(F483=\"\",\"\",IF((F483*E483-1)>=Coeff!$B$10,Coeff!$B$8/Coeff!$B$9*(F483*E483-1)/(F483-1),0))","v":""},{"$f":"IF(G483=\"\",\"\",IF((G483*(1-E483)-1)>=Coeff!$B$10,Coeff!$B$8/Coeff!$B$9*(G483*(1-E483)-1)/(G483-1),0))","v":""}]
[null,null,null,null,null,null,null,{"$f":"IF(F484=\"\",\"\",IF((F484*E484-1)>=Coeff!$B$10,Coeff!$B$8/Coeff!$B$9*(F484*E484-1)/(F484-1),0))","v":""},{"$f":"IF(G484=\"\",\"\",IF((G484*(1-E484)-1)>=Coeff!$B$10,Coeff!$B$8/Coeff!$B$9*(G484*(1-E484)-1)/(G484-1),0))","v":""}]
[null,null,null,null,null,null,null,{"$f":"IF(F485=\"\",\"\",IF((F485*E485-1)>=Coeff!$B$10,Coeff!$B$8/Coeff!$B$9*(F485*E485-1)/(F485-1),0))","v":""},{"$f":"IF(G485=\"\",\"\",IF((G485*(1-E485)-1)>=Coeff!$B$10,Coeff!$B$8/Coeff!$B$9*(G485*(1-E485)-1)/(G485-1),0))","v":""}]
[null,null,null,null,null,null,null,{"$f":"IF(F486=\"\",\"\",IF((F486*E486-1)>=Coeff!$B$10,Coeff!$B$8/Coeff!$B$9*(F486*E486-1)/(F486-1),0))","v":""},{"$f":"IF(G486=\"\",\"\",IF((G486*(1-E486)-1)>=Coeff!$B$10,Coeff!$B$8/Coeff!$B$9*(G486*(1-E486)-1)/(G486-1),0))","v":""}]
[null,null,null,null,null,null,null,{"$f":"IF(F487=\"\",\"\",IF((F487*E487-1)>=Coeff!$B$10,Coeff!$B$8/Coeff!$B$9*(F487*E487-1)/(F487-1),0))","v":""},{"$f":"IF(G487=\"\",\"\",IF((G487*(1-E487)-1)>=Coeff!$B$10,Coeff!$B$8/Coeff!$B$9*(G487*(1-E487)-1)/(G487-1),0))","v":""}]
[null,null,null,null,null,null,null,{"$f":"IF(F488=\"\",\"\",IF((F488*E488-1)>=Coeff!$B$10,Coeff!$B$8/Coeff!$B$9*(F488*E488-1)/(F488-1),0))","v":""},{"$f":"IF(G488=\"\",\"\",IF((G488*(1-E488)-1)>=Coeff!$B$10,Coeff!$B$8/Coeff!$B$9*(G488*(1-E488)-1)/(G488-1),0))","v":""}]
[null,null,null,null,null,null,null,{"$f":"IF(F489=\"\",\"\",IF((F489*E489-1)>=Coeff!$B$10,Coeff!$B$8/Coeff!$B$9*(F489*E489-1)/(F489-1),0))","v":""},{"$f":"IF(G489=\"\",\"\",IF((G489*(1-E489)-1)>=Coeff!$B$10,Coeff!$B$8/Coeff!$B$9*(G489*(1-E489)-1)/(G489-1),0))","v":""}]
[null,null,null,null,null,null,null,{"$f":"IF(F490=\"\",\"\",IF((F490*E490-1)>=Coeff!$B$10,Coeff!$B$8/Coeff!$B$9*(F490*E490-1)/(F490-1),0))","v":""},{"$f":"IF(G490=\"\",\"\",IF((G490*(1-E490)-1)>=Coeff!$B$10,Coeff!$B$8/Coeff!$B$9*(G490*(1-E490)-1)/(G490-1),0))","v":""}]
[null,null,null,null,null,null,null,{"$f":"IF(F491=\"\",\"\",IF((F491*E491-1)>=Coeff!$B$10,Coeff!$B$8/Coeff!$B$9*(F491*E491-1)/(F491-1),0))","v":""},{"$f":"IF(G491=\"\",\"\",IF((G491*(1-E491)-1)>=Coeff!$B$10,Coeff!$B$8/Coeff!$B$9*(G491*(1-E491)-1)/(G491-1),0))","v":""}]
[null,null,null,null,null,null,null,{"$f":"IF(F492=\"\",\"\",IF((F492*E492-1)>=Coeff!$B$10,Coeff!$B$8/Coeff!$B$9*(F492*E492-1)/(F492-1),0))","v":""},{"$f":"IF(G492=\"\",\"\",IF((G492*(1-E492)-1)>=Coeff!$B$10,Coeff!$B$8/Coeff!$B$9*(G492*(1-E492)-1)/(G492-1),0))","v":""}]
[null,null,null,null,null,null,null,{"$f":"IF(F493=\"\",\"\",IF((F493*E493-1)>=Coeff!$B$10,Coeff!$B$8/Coeff!$B$9*(F493*E493-1)/(F493-1),0))","v":""},{"$f":"IF(G493=\"\",\"\",IF((G493*(1-E493)-1)>=Coeff!$B$10,Coeff!$B$8/Coeff!$B$9*(G493*(1-E493)-1)/(G493-1),0))","v":""}]
[null,null,null,null,null,null,null,{"$f":"IF(F494=\"\",\"\",IF((F494*E494-1)>=Coeff!$B$10,Coeff!$B$8/Coeff!$B$9*(F494*E494-1)/(F494-1),0))","v":""},{"$f":"IF(G494=\"\",\"\",IF((G494*(1-E494)-1)>=Coeff!$B$10,Coeff!$B$8/Coeff!$B$9*(G494*(1-E494)-1)/(G494-1),0))","v":""}]
[null,null,null,null,null,null,null,{"$f":"IF(F495=\"\",\"\",IF((F495*E495-1)>=Coeff!$B$10,Coeff!$B$8/Coeff!$B$9*(F495*E495-1)/(F495-1),0))","v":""},{"$f":"IF(G495=\"\",\"\",IF((G495*(1-E495)-1)>=Coeff!$B$10,Coeff!$B$8/Coeff!$B$9*(G495*(1-E495)-1)/(G495-1),0))","v":""}]
[null,null,null,null,null,null,null,{"$f":"IF(F496=\"\",\"\",IF((F496*E496-1)>=Coeff!$B$10,Coeff!$B$8/Coeff!$B$9*(F496*E496-1)/(F496-1),0))","v":""},{"$f":"IF(G496=\"\",\"\",IF((G496*(1-E496)-1)>=Coeff!$B$10,Coeff!$B$8/Coeff!$B$9*(G496*(1-E496)-1)/(G496-1),0))","v":""}]
[null,null,null,null,null,null,null,{"$f":"IF(F497=\"\",\"\",IF((F497*E497-1)>=Coeff!$B$10,Coeff!$B$8/Coeff!$B$9*(F497*E497-1)/(F497-1),0))","v":""},{"$f":"IF(G497=\"\",\"\",IF((G497*(1-E497)-1)>=Coeff!$B$10,Coeff!$B$8/Coeff!$B$9*(G497*(1-E497)-1)/(G497-1),0))","v":""}]
[null,null,null,null,null,null,null,{"$f":"IF(F498=\"\",\"\",IF((F498*E498-1)>=Coeff!$B$10,Coeff!$B$8/Coeff!$B$9*(F498*E498-1)/(F498-1),0))","v":""},{"$f":"IF(G498=\"\",\"\",IF((G498*(1-E498)-1)>=Coeff!$B$10,Coeff!$B$8/Coeff!$B$9*(G498*(1-E498)-1)/(G498-1),0))","v":""}]
[null,null,null,null,null,null,null,{"$f":"IF(F499=\"\",\"\",IF((F499*E499-1)>=Coeff!$B$10,Coeff!$B$8/Coeff!$B$9*(F499*E499-1)/(F499-1),0))","v":""},{"$f":"IF(G499=\"\",\"\",IF((G499*(1-E499)-1)>=Coeff!$B$10,Coeff!$B$8/Coeff!$B$9*(G499*(1-E499)-1)/(G499-1),0))","v":""}]
[null,null,null,null,null,null,null,{"$f":"IF(F500=\"\",\"\",IF((F500*E500-1)>=Coeff!$B$10,Coeff!$B$8/Coeff!$B$9*(F500*E500-1)/(F500-1),0))","v":""},{"$f":"IF(G500=\"\",\"\",IF((G500*(1-E500)-1)>=Coeff!$B$10,Coeff!$B$8/Coeff!$B$9*(G500*(1-E500)-1)/(G500-1),0))","v":""}]

{"sheet":"totals","index":3,"n_rows":500,"n_cols":9,"rows_kept":500,"cut":false,"hidden":false,"merged":[]}
[]
[]
["League","Team1","Team2","TotalsLine","Prob (Over)","OddsOver","OddsUnder","$BetOver","$BetUnder"]
["Austria tipp3-Bundesliga","Wiener Neustadt","RZ Pellets WAC",null,null,null,null,{"$f":"IF(F4=\"\",\"\",IF((F4*E4-1)>=Coeff!$B$15,Coeff!$B$13/Coeff!$B$14*(F4*E4-1)/(F4-1),0))","v":""},{"$f":"IF(G4=\"\",\"\",IF((G4*(1-E4)-1)>=Coeff!$B$15,Coeff!$B$13/Coeff!$B$14*(G4*(1-E4)-1)/(G4-1),0))","v":""}]
["Austria tipp3-Bundesliga","Austria Wien","Mattersburg",3,0.39100000000000001,1.99,1.91,{"$f":"IF(F5=\"\",\"\",IF((F5*E5-1)>=Coeff!$B$15,Coeff!$B$13/Coeff!$B$14*(F5*E5-1)/(F5-1),0))","v":0},{"$f":"IF(G5=\"\",\"\",IF((G5*(1-E5)-1)>=Coeff!$B$15,Coeff!$B$13/Coeff!$B$14*(G5*(1-E5)-1)/(G5-1),0))","v":17.932967032967028}]
["Austria tipp3-Bundesliga","Adm/Modling","Rapid Wien",2.75,0.39700000000000002,1.93,1.97,{"$f":"IF(F6=\"\",\"\",IF((F6*E6-1)>=Coeff!$B$15,Coeff!$B$13/Coeff!$B$14*(F6*E6-1)/(F6-1),0))","v":0},{"$f":"IF(G6=\"\",\"\",IF((G6*(1-E6)-1)>=Coeff!$B$15,Coeff!$B$13/Coeff!$B$14*(G6*(1-E6)-1)/(G6-1),0))","v":19.372164948453612}]
["Austria tipp3-Bundesliga","FC Wacker Innsbruck","Sturm Graz",2.75,0.37,1.85,2.0499999999999998,{"$f":"IF(F7=\"\",\"\",IF((F7*E7-1)>=Coeff!$B$15,Coeff!$B$13/Coeff!$B$14*(F7*E7-1)/(F7-1),0))","v":0},{"$f":"IF(G7=\"\",\"\",IF((G7*(1-E7)-1)>=Coeff!$B$15,Coeff!$B$13/Coeff!$B$14*(G7*(1-E7)-1)/(G7-1),0))","v":27.761904761904756}]
["Austria tipp3-Bundesliga","Ried","Salzburg",2.75,0.34599999999999997,1.84,2.06,{"$f":"IF(F8=\"\",\"\",IF((F8*E8-1)>=Coeff!$B$15,Coeff!$B$13/Coeff!$B$14*(F8*E8-1)/(F8-1),0))","v":0},{"$f":"IF(G8=\"\",\"\",IF((G8*(1-E8)-1)>=Coeff!$B$15,Coeff!$B$13/Coeff!$B$14*(G8*(1-E8)-1)/(G8-1),0))","v":32.758490566037729}]
["Austria ADEG Erste Liga","Vienna FC","SV Horn",null,null,null,null,{"$f":"IF(F9=\"\",\"\",IF((F9*E9-1)>=Coeff!$B$15,Coeff!$B$13/Coeff!$B$14*(F9*E9-1)/(F9-1),0))","v":""},{"$f":"IF(G9=\"\",\"\",IF((G9*(1-E9)-1)>=Coeff!$B$15,Coeff!$B$13/Coeff!$B$14*(G9*(1-E9)-1)/(G9-1),0))","v":""}]
["Belarus Premier Division","FC Minsk","Shakhtyor Soligorsk",null,null,null,null,{"$f":"IF(F10=\"\",\"\",IF((F10*E10-1)>=Coeff!$B$15,Coeff!$B$13/Coeff!$B$14*(F10*E10-1)/(F10-1),0))","v":""},{"$f":"IF(G10=\"\",\"\",IF((G10*(1-E10)-1)>=Coeff!$B$15,Coeff!$B$13/Coeff!$B$14*(G10*(1-E10)-1)/(G10-1),0))","v":""}]
["Belarus Premier Division","Belshina Bobruisk","Dinamo Minsk",null,null,null,null,{"$f":"IF(F11=\"\",\"\",IF((F11*E11-1)>=Coeff!$B$15,Coeff!$B$13/Coeff!$B$14*(F11*E11-1)/(F11-1),0))","v":""},{"$f":"IF(G11=\"\",\"\",IF((G11*(1-E11)-1)>=Coeff!$B$15,Coeff!$B$13/Coeff!$B$14*(G11*(1-E11)-1)/(G11-1),0))","v":""}]
["Bulgaria A Grupa","Botev Vratsa","Montana",null,null,null,null,{"$f":"IF(F12=\"\",\"\",IF((F12*E12-1)>=Coeff!$B$15,Coeff!$B$13/Coeff!$B$14*(F12*E12-1)/(F12-1),0))","v":""},{"$f":"IF(G12=\"\",\"\",IF((G12*(1-E12)-1)>=Coeff!$B$15,Coeff!$B$13/Coeff!$B$14*(G12*(1-E12)-1)/(G12-1),0))","v":""}]
["Bulgaria A Grupa","Slavia Sofia","Chernomorets Burgas",null,null,null,null,{"$f":"IF(F13=\"\",\"\",IF((F13*E13-1)>=Coeff!$B$15,Coeff!$B$13/Coeff!$B$14*(F13*E13-1)/(F13-1),0))","v":""},{"$f":"IF(G13=\"\",\"\",IF((G13*(1-E13)-1)>=Coeff!$B$15,Coeff!$B$13/Coeff!$B$14*(G13*(1-E13)-1)/(G13-1),0))","v":""}]
["Bulgaria A Grupa","Litex Lovech","Lokomotiv Sofia",null,null,null,null,{"$f":"IF(F14=\"\",\"\",IF((F14*E14-1)>=Coeff!$B$15,Coeff!$B$13/Coeff!$B$14*(F14*E14-1)/(F14-1),0))","v":""},{"$f":"IF(G14=\"\",\"\",IF((G14*(1-E14)-1)>=Coeff!$B$15,Coeff!$B$13/Coeff!$B$14*(G14*(1-E14)-1)/(G14-1),0))","v":""}]
["Bulgaria A Grupa","Lokomotiv Plovdiv","Beroe",null,null,null,null,{"$f":"IF(F15=\"\",\"\",IF((F15*E15-1)>=Coeff!$B$15,Coeff!$B$13/Coeff!$B$14*(F15*E15-1)/(F15-1),0))","v":""},{"$f":"IF(G15=\"\",\"\",IF((G15*(1-E15)-1)>=Coeff!$B$15,Coeff!$B$13/Coeff!$B$14*(G15*(1-E15)-1)/(G15-1),0))","v":""}]
["Bulgaria A Grupa","Minyor","Cherno More Varna",null,null,null,null,{"$f":"IF(F16=\"\",\"\",IF((F16*E16-1)>=Coeff!$B$15,Coeff!$B$13/Coeff!$B$14*(F16*E16-1)/(F16-1),0))","v":""},{"$f":"IF(G16=\"\",\"\",IF((G16*(1-E16)-1)>=Coeff!$B$15,Coeff!$B$13/Coeff!$B$14*(G16*(1-E16)-1)/(G16-1),0))","v":""}]
["Bulgaria A Grupa","PFC Ludogorets Razgrad","Botev Plovdiv",null,null,null,null,{"$f":"IF(F17=\"\",\"\",IF((F17*E17-1)>=Coeff!$B$15,Coeff!$B$13/Coeff!$B$14*(F17*E17-1)/(F17-1),0))","v":""},{"$f":"IF(G17=\"\",\"\",IF((G17*(1-E17)-1)>=Coeff!$B$15,Coeff!$B$13/Coeff!$B$14*(G17*(1-E17)-1)/(G17-1),0))","v":""}]
["Bulgaria A Grupa","CSKA Sofia","Pirin Gotse Delchev",null,null,null,null,{"$f":"IF(F18=\"\",\"\",IF((F18*E18-1)>=Coeff!$B$15,Coeff!$B$13/Coeff!$B$14*(F18*E18-1)/(F18-1),0))","v":""},{"$f":"IF(G18=\"\",\"\",IF((G18*(1-E18)-1)>=Coeff!$B$15,Coeff!$B$13/Coeff!$B$14*(G18*(1-E18)-1)/(G18-1),0))","v":""}]
["Czech Republic Gambrinus League","Jihlava","Slovacko",2.25,0.51700000000000002,1.99,1.91,{"$f":"IF(F19=\"\",\"\",IF((F19*E19-1)>=Coeff!$B$15,Coeff!$B$13/Coeff!$B$14*(F19*E19-1)/(F19-1),0))","v":0},{"$f":"IF(G19=\"\",\"\",IF((G19*(1-E19)-1)>=Coeff!$B$15,Coeff!$B$13/Coeff!$B$14*(G19*(1-E19)-1)/(G19-1),0))","v":0}]
["Czech Republic Gambrinus League","Slavia Prague","Budejovice",2.5,0.443,1.91,1.99,{"$f":"IF(F20=\"\",\"\",IF((F20*E20-1)>=Coeff!$B$15,Coeff!$B$13/Coeff!$B$14*(F20*E20-1)/(F20-1),0))","v":0},{"$f":"IF(G20=\"\",\"\",IF((G20*(1-E20)-1)>=Coeff!$B$15,Coeff!$B$13/Coeff!$B$14*(G20*(1-E20)-1)/(G20-1),0))","v":10.952525252525232}]
["Czech Republic Gambrinus League","Banik Ostrava","Dukla Praha",2.25,0.54500000000000004,1.85,2.06,{"$f":"IF(F21=\"\",\"\",IF((F21*E21-1)>=Coeff!$B$15,Coeff!$B$13/Coeff!$B$14*(F21*E21-1)/(F21-1),0))","v":0},{"$f":"IF(G21=\"\",\"\",IF((G21*(1-E21)-1)>=Coeff!$B$15,Coeff!$B$13/Coeff!$B$14*(G21*(1-E21)-1)/(G21-1),0))","v":0}]
["Czech Republic Gambrinus League","M Boleslav","Jablonec",2.5,0.51900000000000002,1.83,2.08,{"$f":"IF(F22=\"\",\"\",IF((F22*E22-1)>=Coeff!$B$15,Coeff!$B$13/Coeff!$B$14*(F22*E22-1)/(F22-1),0))","v":0},{"$f":"IF(G22=\"\",\"\",IF((G22*(1-E22)-1)>=Coeff!$B$15,Coeff!$B$13/Coeff!$B$14*(G22*(1-E22)-1)/(G22-1),0))","v":0}]
["Czech Republic Gambrinus League","Sigma Olomouc","Viktoria Plzen",2.5,0.34899999999999998,1.92,1.98,{"$f":"IF(F23=\"\",\"\",IF((F23*E23-1)>=Coeff!$B$15,Coeff!$B$13/Coeff!$B$14*(F23*E23-1)/(F23-1),0))","v":0},{"$f":"IF(G23=\"\",\"\",IF((G23*(1-E23)-1)>=Coeff!$B$15,Coeff!$B$13/Coeff!$B$14*(G23*(1-E23)-1)/(G23-1),0))","v":29.487755102040818}]
["Czech Republic Gambrinus League","Brno","Sparta Prague",2.5,0.437,1.88,2.02,{"$f":"IF(F24=\"\",\"\",IF((F24*E24-1)>=Coeff!$B$15,Coeff!$B$13/Coeff!$B$14*(F24*E24-1)/(F24-1),0))","v":0},{"$f":"IF(G24=\"\",\"\",IF((G24*(1-E24)-1)>=Coeff!$B$15,Coeff!$B$13/Coeff!$B$14*(G24*(1-E24)-1)/(G24-1),0))","v":13.456862745098032}]
["Czech Republic Druha League","Most","Karvina",null,null,null,null,{"$f":"IF(F25=\"\",\"\",IF((F25*E25-1)>=Coeff!$B$15,Coeff!$B$13/Coeff!$B$14*(F25*E25-1)/(F25-1),0))","v":""},{"$f":"IF(G25=\"\",\"\",IF((G25*(1-E25)-1)>=Coeff!$B$15,Coeff!$B$13/Coeff!$B$14*(G25*(1-E25)-1)/(G25-1),0))","v":""}]
["Czech Republic Druha League","FK MAS Taborsko","Slovan Varnsdorf",null,null,null,null,{"$f":"IF(F26=\"\",\"\",IF((F26*E26-1)>=Coeff!$B$15,Coeff!$B$13/Coeff!$B$14*(F26*E26-1)/(F26-1),0))","v":""},{"$f":"IF(G26=\"\",\"\",IF((G26*(1-E26)-1)>=Coeff!$B$15,Coeff!$B$13/Coeff!$B$14*(G26*(1-E26)-1)/(G26-1),0))","v":""}]
["Czech Republic Druha League","Sokolov","Opava",null,null,null,null,{"$f":"IF(F27=\"\",\"\",IF((F27*E27-1)>=Coeff!$B$15,Coeff!$B$13/Coeff!$B$14*(F27*E27-1)/(F27-1),0))","v":""},{"$f":"IF(G27=\"\",\"\",IF((G27*(1-E27)-1)>=Coeff!$B$15,Coeff!$B$13/Coeff!$B$14*(G27*(1-E27)-1)/(G27-1),0))","v":""}]
["Czech Republic Druha League","Caslav","Znojmo",null,null,null,null,{"$f":"IF(F28=\"\",\"\",IF((F28*E28-1)>=Coeff!$B$15,Coeff!$B$13/Coeff!$B$14*(F28*E28-1)/(F28-1),0))","v":""},{"$f":"IF(G28=\"\",\"\",IF((G28*(1-E28)-1)>=Coeff!$B$15,Coeff!$B$13/Coeff!$B$14*(G28*(1-E28)-1)/(G28-1),0))","v":""}]
["Czech Republic Druha League","Usti nad Labem","FC Vlasim",null,null,null,null,{"$f":"IF(F29=\"\",\"\",IF((F29*E29-1)>=Coeff!$B$15,Coeff!$B$13/Coeff!$B$14*(F29*E29-1)/(F29-1),0))","v":""},{"$f":"IF(G29=\"\",\"\",IF((G29*(1-E29)-1)>=Coeff!$B$15,Coeff!$B$13/Coeff!$B$14*(G29*(1-E29)-1)/(G29-1),0))","v":""}]
["Denmark 2. Division","Herlev","Frem",null,null,null,null,{"$f":"IF(F30=\"\",\"\",IF((F30*E30-1)>=Coeff!$B$15,Coeff!$B$13/Coeff!$B$14*(F30*E30-1)/(F30-1),0))","v":""},{"$f":"IF(G30=\"\",\"\",IF((G30*(1-E30)-1)>=Coeff!$B$15,Coeff!$B$13/Coeff!$B$14*(G30*(1-E30)-1)/(G30-1),0))","v":""}]
["Greece Super League","Pas Giannina","Atromitos",1.75,0.5,1.78,2.14,{"$f":"IF(F31=\"\",\"\",IF((F31*E31-1)>=Coeff!$B$15,Coeff!$B$13/Coeff!$B$14*(F31*E31-1)/(F31-1),0))","v":0},{"$f":"IF(G31=\"\",\"\",IF((G31*(1-E31)-1)>=Coeff!$B$15,Coeff!$B$13/Coeff!$B$14*(G31*(1-E31)-1)/(G31-1),0))","v":6.1403508771929873}]
["Greece Super League","Asteras Tripolis","PAOK Thessaloniki FC",2,0.41899999999999998,2.0699999999999998,1.83,{"$f":"IF(F32=\"\",\"\",IF((F32*E32-1)>=Coeff!$B$15,Coeff!$B$13/Coeff!$B$14*(F32*E32-1)/(F32-1),0))","v":0},{"$f":"IF(G32=\"\",\"\",IF((G32*(1-E32)-1)>=Coeff!$B$15,Coeff!$B$13/Coeff!$B$14*(G32*(1-E32)-1)/(G32-1),0))","v":7.6180722891566131}]
["Greece Football League","Olymp. Volou","Iraklis",null,null,null,null,{"$f":"IF(F33=\"\",\"\",IF((F33*E33-1)>=Coeff!$B$15,Coeff!$B$13/Coeff!$B$14*(F33*E33-1)/(F33-1),0))","v":""},{"$f":"IF(G33=\"\",\"\",IF((G33*(1-E33)-1)>=Coeff!$B$15,Coeff!$B$13/Coeff!$B$14*(G33*(1-E33)-1)/(G33-1),0))","v":""}]
["Greece Football League","Pierikos FC","Panaitolikos",null,null,null,null,{"$f":"IF(F34=\"\",\"\",IF((F34*E34-1)>=Coeff!$B$15,Coeff!$B$13/Coeff!$B$14*(F34*E34-1)/(F34-1),0))","v":""},{"$f":"IF(G34=\"\",\"\",IF((G34*(1-E34)-1)>=Coeff!$B$15,Coeff!$B$13/Coeff!$B$14*(G34*(1-E34)-1)/(G34-1),0))","v":""}]
["Greece Football League","Apollon Smirnis","Ethnikos Gazoros F.C.",null,null,null,null,{"$f":"IF(F35=\"\",\"\",IF((F35*E35-1)>=Coeff!$B$15,Coeff!$B$13/Coeff!$B$14*(F35*E35-1)/(F35-1),0))","v":""},{"$f":"IF(G35=\"\",\"\",IF((G35*(1-E35)-1)>=Coeff!$B$15,Coeff!$B$13/Coeff!$B$14*(G35*(1-E35)-1)/(G35-1),0))","v":""}]
["Greece Football League","Anagennisi Giannitsa","Kalloni Lekanopedio",null,null,null,null,{"$f":"IF(F36=\"\",\"\",IF((F36*E36-1)>=Coeff!$B$15,Coeff!$B$13/Coeff!$B$14*(F36*E36-1)/(F36-1),0))","v":""},{"$f":"IF(G36=\"\",\"\",IF((G36*(1-E36)-1)>=Coeff!$B$15,Coeff!$B$13/Coeff!$B$14*(G36*(1-E36)-1)/(G36-1),0))","v":""}]
["Greece Football League","Anagennisi Epanomi","Kavala",null,null,null,null,{"$f":"IF(F37=\"\",\"\",IF((F37*E37-1)>=Coeff!$B$15,Coeff!$B$13/Coeff!$B$14*(F37*E37-1)/(F37-1),0))","v":""},{"$f":"IF(G37=\"\",\"\",IF((G37*(1-E37)-1)>=Coeff!$B$15,Coeff!$B$13/Coeff!$B$14*(G37*(1-E37)-1)/(G37-1),0))","v":""}]
["Greece Football League","Kalithea","Fokikos",null,null,null,null,{"$f":"IF(F38=\"\",\"\",IF((F38*E38-1)>=Coeff!$B$15,Coeff!$B$13/Coeff!$B$14*(F38*E38-1)/(F38-1),0))","v":""},{"$f":"IF(G38=\"\",\"\",IF((G38*(1-E38)-1)>=Coeff!$B$15,Coeff!$B$13/Coeff!$B$14*(G38*(1-E38)-1)/(G38-1),0))","v":""}]
["Greece Football League","Iraklis Psachna FC","Panachaiki",null,null,null,null,{"$f":"IF(F39=\"\",\"\",IF((F39*E39-1)>=Coeff!$B$15,Coeff!$B$13/Coeff!$B$14*(F39*E39-1)/(F39-1),0))","v":""},{"$f":"IF(G39=\"\",\"\",IF((G39*(1-E39)-1)>=Coeff!$B$15,Coeff!$B$13/Coeff!$B$14*(G39*(1-E39)-1)/(G39-1),0))","v":""}]
["Greece Football League","Panserraikos FC","Vyzas",null,null,null,null,{"$f":"IF(F40=\"\",\"\",IF((F40*E40-1)>=Coeff!$B$15,Coeff!$B$13/Coeff!$B$14*(F40*E40-1)/(F40-1),0))","v":""},{"$f":"IF(G40=\"\",\"\",IF((G40*(1-E40)-1)>=Coeff!$B$15,Coeff!$B$13/Coeff!$B$14*(G40*(1-E40)-1)/(G40-1),0))","v":""}]
["Greece Football League","Doxa Dramas","Larisa",null,null,null,null,{"$f":"IF(F41=\"\",\"\",IF((F41*E41-1)>=Coeff!$B$15,Coeff!$B$13/Coeff!$B$14*(F41*E41-1)/(F41-1),0))","v":""},{"$f":"IF(G41=\"\",\"\",IF((G41*(1-E41)-1)>=Coeff!$B$15,Coeff!$B$13/Coeff!$B$14*(G41*(1-E41)-1)/(G41-1),0))","v":""}]
["Greece Football League","Ergotelis","Thrasyvoulos",null,null,null,null,{"$f":"IF(F42=\"\",\"\",IF((F42*E42-1)>=Coeff!$B$15,Coeff!$B$13/Coeff!$B$14*(F42*E42-1)/(F42-1),0))","v":""},{"$f":"IF(G42=\"\",\"\",IF((G42*(1-E42)-1)>=Coeff!$B$15,Coeff!$B$13/Coeff!$B$14*(G42*(1-E42)-1)/(G42-1),0))","v":""}]
["Lithuania A Lyga","FK Tauras Taurage","Zalgiris Vilnius",null,null,null,null,{"$f":"IF(F43=\"\",\"\",IF((F43*E43-1)>=Coeff!$B$15,Coeff!$B$13/Coeff!$B$14*(F43*E43-1)/(F43-1),0))","v":""},{"$f":"IF(G43=\"\",\"\",IF((G43*(1-E43)-1)>=Coeff!$B$15,Coeff!$B$13/Coeff!$B$14*(G43*(1-E43)-1)/(G43-1),0))","v":""}]
["Lithuania A Lyga","Ekranas","Banga Gargzdai",null,null,null,null,{"$f":"IF(F44=\"\",\"\",IF((F44*E44-1)>=Coeff!$B$15,Coeff!$B$13/Coeff!$B$14*(F44*E44-1)/(F44-1),0))","v":""},{"$f":"IF(G44=\"\",\"\",IF((G44*(1-E44)-1)>=Coeff!$B$15,Coeff!$B$13/Coeff!$B$14*(G44*(1-E44)-1)/(G44-1),0))","v":""}]
["Norway 1. Division","Kristiansund BK","Hødd",2.75,0.59699999999999998,1.9,1.98,{"$f":"IF(F45=\"\",\"\",IF((F45*E45-1)>=Coeff!$B$15,Coeff!$B$13/Coeff!$B$14*(F45*E45-1)/(F45-1),0))","v":14.922222222222208},{"$f":"IF(G45=\"\",\"\",IF((G45*(1-E45)-1)>=Coeff!$B$15,Coeff!$B$13/Coeff!$B$14*(G45*(1-E45)-1)/(G45-1),0))","v":0}]
["Paraguay Apertura","Sol de America","General Diaz",2.25,0.54800000000000004,1.91,1.93,{"$f":"IF(F46=\"\",\"\",IF((F46*E46-1)>=Coeff!$B$15,Coeff!$B$13/Coeff!$B$14*(F46*E46-1)/(F46-1),0))","v":0},{"$f":"IF(G46=\"\",\"\",IF((G46*(1-E46)-1)>=Coeff!$B$15,Coeff!$B$13/Coeff!$B$14*(G46*(1-E46)-1)/(G46-1),0))","v":0}]
["Paraguay Apertura","Nacional","Deportivo Capiata",2.5,0.499,1.84,2,{"$f":"IF(F47=\"\",\"\",IF((F47*E47-1)>=Coeff!$B$15,Coeff!$B$13/Coeff!$B$14*(F47*E47-1)/(F47-1),0))","v":0},{"$f":"IF(G47=\"\",\"\",IF((G47*(1-E47)-1)>=Coeff!$B$15,Coeff!$B$13/Coeff!$B$14*(G47*(1-E47)-1)/(G47-1),0))","v":0}]
["Paraguay Apertura","Club Deportivo Carapegua","Cerro Porteno PF",null,null,null,null,{"$f":"IF(F48=\"\",\"\",IF((F48*E48-1)>=Coeff!$B$15,Coeff!$B$13/Coeff!$B$14*(F48*E48-1)/(F48-1),0))","v":""},{"$f":"IF(G48=\"\",\"\",IF((G48*(1-E48)-1)>=Coeff!$B$15,Coeff!$B$13/Coeff!$B$14*(G48*(1-E48)-1)/(G48-1),0))","v":""}]
["Poland 1. Division","Kolejarz Stroze","Okocimski KS Brzesko",null,null,null,null,{"$f":"IF(F49=\"\",\"\",IF((F49*E49-1)>=Coeff!$B$15,Coeff!$B$13/Coeff!$B$14*(F49*E49-1)/(F49-1),0))","v":""},{"$f":"IF(G49=\"\",\"\",IF((G49*(1-E49)-1)>=Coeff!$B$15,Coeff!$B$13/Coeff!$B$14*(G49*(1-E49)-1)/(G49-1),0))","v":""}]
["Poland 1. Division","Warta Poznan","Stomil Olsztyn",null,null,null,null,{"$f":"IF(F50=\"\",\"\",IF((F50*E50-1)>=Coeff!$B$15,Coeff!$B$13/Coeff!$B$14*(F50*E50-1)/(F50-1),0))","v":""},{"$f":"IF(G50=\"\",\"\",IF((G50*(1-E50)-1)>=Coeff!$B$15,Coeff!$B$13/Coeff!$B$14*(G50*(1-E50)-1)/(G50-1),0))","v":""}]
["Poland 1. Division","Olimpia Grudziadz","Polonia Bytom",null,null,null,null,{"$f":"IF(F51=\"\",\"\",IF((F51*E51-1)>=Coeff!$B$15,Coeff!$B$13/Coeff!$B$14*(F51*E51-1)/(F51-1),0))","v":""},{"$f":"IF(G51=\"\",\"\",IF((G51*(1-E51)-1)>=Coeff!$B$15,Coeff!$B$13/Coeff!$B$14*(G51*(1-E51)-1)/(G51-1),0))","v":""}]
["Poland 1. Division","Flota Swinoujscie","Sandecja Nowy Sacz",null,null,null,null,{"$f":"IF(F52=\"\",\"\",IF((F52*E52-1)>=Coeff!$B$15,Coeff!$B$13/Coeff!$B$14*(F52*E52-1)/(F52-1),0))","v":""},{"$f":"IF(G52=\"\",\"\",IF((G52*(1-E52)-1)>=Coeff!$B$15,Coeff!$B$13/Coeff!$B$14*(G52*(1-E52)-1)/(G52-1),0))","v":""}]
["Serbia Super Liga","FK Donji Srem","Hajduk K.",null,null,null,null,{"$f":"IF(F53=\"\",\"\",IF((F53*E53-1)>=Coeff!$B$15,Coeff!$B$13/Coeff!$B$14*(F53*E53-1)/(F53-1),0))","v":""},{"$f":"IF(G53=\"\",\"\",IF((G53*(1-E53)-1)>=Coeff!$B$15,Coeff!$B$13/Coeff!$B$14*(G53*(1-E53)-1)/(G53-1),0))","v":""}]
["Serbia Super Liga","BSK Borca","Jagodina",null,null,null,null,{"$f":"IF(F54=\"\",\"\",IF((F54*E54-1)>=Coeff!$B$15,Coeff!$B$13/Coeff!$B$14*(F54*E54-1)/(F54-1),0))","v":""},{"$f":"IF(G54=\"\",\"\",IF((G54*(1-E54)-1)>=Coeff!$B$15,Coeff!$B$13/Coeff!$B$14*(G54*(1-E54)-1)/(G54-1),0))","v":""}]
["Serbia Super Liga","FK Spartak Zlatibor Voda","OFK Beograd",null,null,null,null,{"$f":"IF(F55=\"\",\"\",IF((F55*E55-1)>=Coeff!$B$15,Coeff!$B$13/Coeff!$B$14*(F55*E55-1)/(F55-1),0))","v":""},{"$f":"IF(G55=\"\",\"\",IF((G55*(1-E55)-1)>=Coeff!$B$15,Coeff!$B$13/Coeff!$B$14*(G55*(1-E55)-1)/(G55-1),0))","v":""}]
["Serbia Super Liga","FC Smederevo","Partizan Belgrad",null,null,null,null,{"$f":"IF(F56=\"\",\"\",IF((F56*E56-1)>=Coeff!$B$15,Coeff!$B$13/Coeff!$B$14*(F56*E56-1)/(F56-1),0))","v":""},{"$f":"IF(G56=\"\",\"\",IF((G56*(1-E56)-1)>=Coeff!$B$15,Coeff!$B$13/Coeff!$B$14*(G56*(1-E56)-1)/(G56-1),0))","v":""}]
["Serbia Super Liga","Novi Pazar","Rad",null,null,null,null,{"$f":"IF(F57=\"\",\"\",IF((F57*E57-1)>=Coeff!$B$15,Coeff!$B$13/Coeff!$B$14*(F57*E57-1)/(F57-1),0))","v":""},{"$f":"IF(G57=\"\",\"\",IF((G57*(1-E57)-1)>=Coeff!$B$15,Coeff!$B$13/Coeff!$B$14*(G57*(1-E57)-1)/(G57-1),0))","v":""}]
["Serbia Super Liga","FK Radnicki 1923","Vojvodina",null,null,null,null,{"$f":"IF(F58=\"\",\"\",IF((F58*E58-1)>=Coeff!$B$15,Coeff!$B$13/Coeff!$B$14*(F58*E58-1)/(F58-1),0))","v":""},{"$f":"IF(G58=\"\",\"\",IF((G58*(1-E58)-1)>=Coeff!$B$15,Coeff!$B$13/Coeff!$B$14*(G58*(1-E58)-1)/(G58-1),0))","v":""}]
["Serbia Super Liga","Radnicki N.","Javor",null,null,null,null,{"$f":"IF(F59=\"\",\"\",IF((F59*E59-1)>=Coeff!$B$15,Coeff!$B$13/Coeff!$B$14*(F59*E59-1)/(F59-1),0))","v":""},{"$f":"IF(G59=\"\",\"\",IF((G59*(1-E59)-1)>=Coeff!$B$15,Coeff!$B$13/Coeff!$B$14*(G59*(1-E59)-1)/(G59-1),0))","v":""}]
["Serbia Super Liga","Red Star Belgrad","FK Sloboda Point Sevojno",null,null,null,null,{"$f":"IF(F60=\"\",\"\",IF((F60*E60-1)>=Coeff!$B$15,Coeff!$B$13/Coeff!$B$14*(F60*E60-1)/(F60-1),0))","v":""},{"$f":"IF(G60=\"\",\"\",IF((G60*(1-E60)-1)>=Coeff!$B$15,Coeff!$B$13/Coeff!$B$14*(G60*(1-E60)-1)/(G60-1),0))","v":""}]
["Slovakia Corgon Liga","Trencin","Ruzomberok",null,null,null,null,{"$f":"IF(F61=\"\",\"\",IF((F61*E61-1)>=Coeff!$B$15,Coeff!$B$13/Coeff!$B$14*(F61*E61-1)/(F61-1),0))","v":""},{"$f":"IF(G61=\"\",\"\",IF((G61*(1-E61)-1)>=Coeff!$B$15,Coeff!$B$13/Coeff!$B$14*(G61*(1-E61)-1)/(G61-1),0))","v":""}]
["Slovakia Corgon Liga","Myjava","Kosice",null,null,null,null,{"$f":"IF(F62=\"\",\"\",IF((F62*E62-1)>=Coeff!$B$15,Coeff!$B$13/Coeff!$B$14*(F62*E62-1)/(F62-1),0))","v":""},{"$f":"IF(G62=\"\",\"\",IF((G62*(1-E62)-1)>=Coeff!$B$15,Coeff!$B$13/Coeff!$B$14*(G62*(1-E62)-1)/(G62-1),0))","v":""}]
["Slovakia Corgon Liga","FK Senica","Zlate Moravce",null,null,null,null,{"$f":"IF(F63=\"\",\"\",IF((F63*E63-1)>=Coeff!$B$15,Coeff!$B$13/Coeff!$B$14*(F63*E63-1)/(F63-1),0))","v":""},{"$f":"IF(G63=\"\",\"\",IF((G63*(1-E63)-1)>=Coeff!$B$15,Coeff!$B$13/Coeff!$B$14*(G63*(1-E63)-1)/(G63-1),0))","v":""}]
["Slovakia Corgon Liga","Zilina","Presov",null,null,null,null,{"$f":"IF(F64=\"\",\"\",IF((F64*E64-1)>=Coeff!$B$15,Coeff!$B$13/Coeff!$B$14*(F64*E64-1)/(F64-1),0))","v":""},{"$f":"IF(G64=\"\",\"\",IF((G64*(1-E64)-1)>=Coeff!$B$15,Coeff!$B$13/Coeff!$B$14*(G64*(1-E64)-1)/(G64-1),0))","v":""}]
["Slovakia Corgon Liga","Trnava","Banska Bystrica",null,null,null,null,{"$f":"IF(F65=\"\",\"\",IF((F65*E65-1)>=Coeff!$B$15,Coeff!$B$13/Coeff!$B$14*(F65*E65-1)/(F65-1),0))","v":""},{"$f":"IF(G65=\"\",\"\",IF((G65*(1-E65)-1)>=Coeff!$B$15,Coeff!$B$13/Coeff!$B$14*(G65*(1-E65)-1)/(G65-1),0))","v":""}]
["Slovakia Corgon Liga","Slovan Bratislava","Nitra",null,null,null,null,{"$f":"IF(F66=\"\",\"\",IF((F66*E66-1)>=Coeff!$B$15,Coeff!$B$13/Coeff!$B$14*(F66*E66-1)/(F66-1),0))","v":""},{"$f":"IF(G66=\"\",\"\",IF((G66*(1-E66)-1)>=Coeff!$B$15,Coeff!$B$13/Coeff!$B$14*(G66*(1-E66)-1)/(G66-1),0))","v":""}]
["Slovenia PrvaLiga","Rudar Velenje","Maribor",null,null,null,null,{"$f":"IF(F67=\"\",\"\",IF((F67*E67-1)>=Coeff!$B$15,Coeff!$B$13/Coeff!$B$14*(F67*E67-1)/(F67-1),0))","v":""},{"$f":"IF(G67=\"\",\"\",IF((G67*(1-E67)-1)>=Coeff!$B$15,Coeff!$B$13/Coeff!$B$14*(G67*(1-E67)-1)/(G67-1),0))","v":""}]
["Slovenia PrvaLiga","Koper","Ol Ljubljana",null,null,null,null,{"$f":"IF(F68=\"\",\"\",IF((F68*E68-1)>=Coeff!$B$15,Coeff!$B$13/Coeff!$B$14*(F68*E68-1)/(F68-1),0))","v":""},{"$f":"IF(G68=\"\",\"\",IF((G68*(1-E68)-1)>=Coeff!$B$15,Coeff!$B$13/Coeff!$B$14*(G68*(1-E68)-1)/(G68-1),0))","v":""}]
["Slovenia PrvaLiga","Domzale","Gorica",null,null,null,null,{"$f":"IF(F69=\"\",\"\",IF((F69*E69-1)>=Coeff!$B$15,Coeff!$B$13/Coeff!$B$14*(F69*E69-1)/(F69-1),0))","v":""},{"$f":"IF(G69=\"\",\"\",IF((G69*(1-E69)-1)>=Coeff!$B$15,Coeff!$B$13/Coeff!$B$14*(G69*(1-E69)-1)/(G69-1),0))","v":""}]
["Slovenia PrvaLiga","ND Triglav","Mura",null,null,null,null,{"$f":"IF(F70=\"\",\"\",IF((F70*E70-1)>=Coeff!$B$15,Coeff!$B$13/Coeff!$B$14*(F70*E70-1)/(F70-1),0))","v":""},{"$f":"IF(G70=\"\",\"\",IF((G70*(1-E70)-1)>=Coeff!$B$15,Coeff!$B$13/Coeff!$B$14*(G70*(1-E70)-1)/(G70-1),0))","v":""}]
["Slovenia PrvaLiga","Aluminij","MIK CM Celje",null,null,null,null,{"$f":"IF(F71=\"\",\"\",IF((F71*E71-1)>=Coeff!$B$15,Coeff!$B$13/Coeff!$B$14*(F71*E71-1)/(F71-1),0))","v":""},{"$f":"IF(G71=\"\",\"\",IF((G71*(1-E71)-1)>=Coeff!$B$15,Coeff!$B$13/Coeff!$B$14*(G71*(1-E71)-1)/(G71-1),0))","v":""}]
["Sweden Allsvenskan","Gefle","IFK Gothenburg",2.25,0.54300000000000004,1.97,1.93,{"$f":"IF(F72=\"\",\"\",IF((F72*E72-1)>=Coeff!$B$15,Coeff!$B$13/Coeff!$B$14*(F72*E72-1)/(F72-1),0))","v":7.186597938144347},{"$f":"IF(G72=\"\",\"\",IF((G72*(1-E72)-1)>=Coeff!$B$15,Coeff!$B$13/Coeff!$B$14*(G72*(1-E72)-1)/(G72-1),0))","v":0}]
["Sweden Allsvenskan","AIK","Djurgaarden",2.5,0.44600000000000001,1.85,2.06,{"$f":"IF(F73=\"\",\"\",IF((F73*E73-1)>=Coeff!$B$15,Coeff!$B$13/Coeff!$B$14*(F73*E73-1)/(F73-1),0))","v":0},{"$f":"IF(G73=\"\",\"\",IF((G73*(1-E73)-1)>=Coeff!$B$15,Coeff!$B$13/Coeff!$B$14*(G73*(1-E73)-1)/(G73-1),0))","v":13.324528301886794}]
["Sweden Superettan","Degerfors","Ostersund",null,null,null,null,{"$f":"IF(F74=\"\",\"\",IF((F74*E74-1)>=Coeff!$B$15,Coeff!$B$13/Coeff!$B$14*(F74*E74-1)/(F74-1),0))","v":""},{"$f":"IF(G74=\"\",\"\",IF((G74*(1-E74)-1)>=Coeff!$B$15,Coeff!$B$13/Coeff!$B$14*(G74*(1-E74)-1)/(G74-1),0))","v":""}]
["Sweden Superettan","Orebro","Angelholm",2.75,0.48399999999999999,1.84,2.06,{"$f":"IF(F75=\"\",\"\",IF((F75*E75-1)>=Coeff!$B$15,Coeff!$B$13/Coeff!$B$14*(F75*E75-1)/(F75-1),0))","v":0},{"$f":"IF(G75=\"\",\"\",IF((G75*(1-E75)-1)>=Coeff!$B$15,Coeff!$B$13/Coeff!$B$14*(G75*(1-E75)-1)/(G75-1),0))","v":5.9396226415094455}]
["Sweden Superettan","Jonkoping S.","IFK Varnamo",2.75,0.51500000000000001,1.85,2.06,{"$f":"IF(F76=\"\",\"\",IF((F76*E76-1)>=Coeff!$B$15,Coeff!$B$13/Coeff!$B$14*(F76*E76-1)/(F76-1),0))","v":0},{"$f":"IF(G76=\"\",\"\",IF((G76*(1-E76)-1)>=Coeff!$B$15,Coeff!$B$13/Coeff!$B$14*(G76*(1-E76)-1)/(G76-1),0))","v":0}]
["Switzerland Super League","Servette","Sion",2.5,0.45,2.0099999999999998,1.89,{"$f":"IF(F77=\"\",\"\",IF((F77*E77-1)>=Coeff!$B$15,Coeff!$B$13/Coeff!$B$14*(F77*E77-1)/(F77-1),0))","v":0},{"$f":"IF(G77=\"\",\"\",IF((G77*(1-E77)-1)>=Coeff!$B$15,Coeff!$B$13/Coeff!$B$14*(G77*(1-E77)-1)/(G77-1),0))","v":0}]
["Bolivia Apertura","La Paz FC","Nacional Potosi",null,null,null,null,{"$f":"IF(F78=\"\",\"\",IF((F78*E78-1)>=Coeff!$B$15,Coeff!$B$13/Coeff!$B$14*(F78*E78-1)/(F78-1),0))","v":""},{"$f":"IF(G78=\"\",\"\",IF((G78*(1-E78)-1)>=Coeff!$B$15,Coeff!$B$13/Coeff!$B$14*(G78*(1-E78)-1)/(G78-1),0))","v":""}]
["Bolivia Apertura","The Strongest","Jorge Wilstermann",null,null,null,null,{"$f":"IF(F79=\"\",\"\",IF((F79*E79-1)>=Coeff!$B$15,Coeff!$B$13/Coeff!$B$14*(F79*E79-1)/(F79-1),0))","v":""},{"$f":"IF(G79=\"\",\"\",IF((G79*(1-E79)-1)>=Coeff!$B$15,Coeff!$B$13/Coeff!$B$14*(G79*(1-E79)-1)/(G79-1),0))","v":""}]
["Paraguay Apertura","Guarani","Luqueno",2.25,0.53900000000000003,1.91,1.93,{"$f":"IF(F80=\"\",\"\",IF((F80*E80-1)>=Coeff!$B$15,Coeff!$B$13/Coeff!$B$14*(F80*E80-1)/(F80-1),0))","v":0},{"$f":"IF(G80=\"\",\"\",IF((G80*(1-E80)-1)>=Coeff!$B$15,Coeff!$B$13/Coeff!$B$14*(G80*(1-E80)-1)/(G80-1),0))","v":0}]
["Paraguay Apertura","Cerro Porteno","Libertad",2.25,0.55200000000000005,1.79,2.0499999999999998,{"$f":"IF(F81=\"\",\"\",IF((F81*E81-1)>=Coeff!$B$15,Coeff!$B$13/Coeff!$B$14*(F81*E81-1)/(F81-1),0))","v":0},{"$f":"IF(G81=\"\",\"\",IF((G81*(1-E81)-1)>=Coeff!$B$15,Coeff!$B$13/Coeff!$B$14*(G81*(1-E81)-1)/(G81-1),0))","v":0}]
["Peru Primera División","Juan Aurich","Sport Huancayo",null,null,null,null,{"$f":"IF(F82=\"\",\"\",IF((F82*E82-1)>=Coeff!$B$15,Coeff!$B$13/Coeff!$B$14*(F82*E82-1)/(F82-1),0))","v":""},{"$f":"IF(G82=\"\",\"\",IF((G82*(1-E82)-1)>=Coeff!$B$15,Coeff!$B$13/Coeff!$B$14*(G82*(1-E82)-1)/(G82-1),0))","v":""}]
[null,null,null,null,null,null,null,{"$f":"IF(F83=\"\",\"\",IF((F83*E83-1)>=Coeff!$B$15,Coeff!$B$13/Coeff!$B$14*(F83*E83-1)/(F83-1),0))","v":""},{"$f":"IF(G83=\"\",\"\",IF((G83*(1-E83)-1)>=Coeff!$B$15,Coeff!$B$13/Coeff!$B$14*(G83*(1-E83)-1)/(G83-1),0))","v":""}]
[null,null,null,null,null,null,null,{"$f":"IF(F84=\"\",\"\",IF((F84*E84-1)>=Coeff!$B$15,Coeff!$B$13/Coeff!$B$14*(F84*E84-1)/(F84-1),0))","v":""},{"$f":"IF(G84=\"\",\"\",IF((G84*(1-E84)-1)>=Coeff!$B$15,Coeff!$B$13/Coeff!$B$14*(G84*(1-E84)-1)/(G84-1),0))","v":""}]
[null,null,null,null,null,null,null,{"$f":"IF(F85=\"\",\"\",IF((F85*E85-1)>=Coeff!$B$15,Coeff!$B$13/Coeff!$B$14*(F85*E85-1)/(F85-1),0))","v":""},{"$f":"IF(G85=\"\",\"\",IF((G85*(1-E85)-1)>=Coeff!$B$15,Coeff!$B$13/Coeff!$B$14*(G85*(1-E85)-1)/(G85-1),0))","v":""}]
[null,null,null,null,null,null,null,{"$f":"IF(F86=\"\",\"\",IF((F86*E86-1)>=Coeff!$B$15,Coeff!$B$13/Coeff!$B$14*(F86*E86-1)/(F86-1),0))","v":""},{"$f":"IF(G86=\"\",\"\",IF((G86*(1-E86)-1)>=Coeff!$B$15,Coeff!$B$13/Coeff!$B$14*(G86*(1-E86)-1)/(G86-1),0))","v":""}]
[null,null,null,null,null,null,null,{"$f":"IF(F87=\"\",\"\",IF((F87*E87-1)>=Coeff!$B$15,Coeff!$B$13/Coeff!$B$14*(F87*E87-1)/(F87-1),0))","v":""},{"$f":"IF(G87=\"\",\"\",IF((G87*(1-E87)-1)>=Coeff!$B$15,Coeff!$B$13/Coeff!$B$14*(G87*(1-E87)-1)/(G87-1),0))","v":""}]
[null,null,null,null,null,null,null,{"$f":"IF(F88=\"\",\"\",IF((F88*E88-1)>=Coeff!$B$15,Coeff!$B$13/Coeff!$B$14*(F88*E88-1)/(F88-1),0))","v":""},{"$f":"IF(G88=\"\",\"\",IF((G88*(1-E88)-1)>=Coeff!$B$15,Coeff!$B$13/Coeff!$B$14*(G88*(1-E88)-1)/(G88-1),0))","v":""}]
[null,null,null,null,null,null,null,{"$f":"IF(F89=\"\",\"\",IF((F89*E89-1)>=Coeff!$B$15,Coeff!$B$13/Coeff!$B$14*(F89*E89-1)/(F89-1),0))","v":""},{"$f":"IF(G89=\"\",\"\",IF((G89*(1-E89)-1)>=Coeff!$B$15,Coeff!$B$13/Coeff!$B$14*(G89*(1-E89)-1)/(G89-1),0))","v":""}]
[null,null,null,null,null,null,null,{"$f":"IF(F90=\"\",\"\",IF((F90*E90-1)>=Coeff!$B$15,Coeff!$B$13/Coeff!$B$14*(F90*E90-1)/(F90-1),0))","v":""},{"$f":"IF(G90=\"\",\"\",IF((G90*(1-E90)-1)>=Coeff!$B$15,Coeff!$B$13/Coeff!$B$14*(G90*(1-E90)-1)/(G90-1),0))","v":""}]
[null,null,null,null,null,null,null,{"$f":"IF(F91=\"\",\"\",IF((F91*E91-1)>=Coeff!$B$15,Coeff!$B$13/Coeff!$B$14*(F91*E91-1)/(F91-1),0))","v":""},{"$f":"IF(G91=\"\",\"\",IF((G91*(1-E91)-1)>=Coeff!$B$15,Coeff!$B$13/Coeff!$B$14*(G91*(1-E91)-1)/(G91-1),0))","v":""}]
[null,null,null,null,null,null,null,{"$f":"IF(F92=\"\",\"\",IF((F92*E92-1)>=Coeff!$B$15,Coeff!$B$13/Coeff!$B$14*(F92*E92-1)/(F92-1),0))","v":""},{"$f":"IF(G92=\"\",\"\",IF((G92*(1-E92)-1)>=Coeff!$B$15,Coeff!$B$13/Coeff!$B$14*(G92*(1-E92)-1)/(G92-1),0))","v":""}]
[null,null,null,null,null,null,null,{"$f":"IF(F93=\"\",\"\",IF((F93*E93-1)>=Coeff!$B$15,Coeff!$B$13/Coeff!$B$14*(F93*E93-1)/(F93-1),0))","v":""},{"$f":"IF(G93=\"\",\"\",IF((G93*(1-E93)-1)>=Coeff!$B$15,Coeff!$B$13/Coeff!$B$14*(G93*(1-E93)-1)/(G93-1),0))","v":""}]
[null,null,null,null,null,null,null,{"$f":"IF(F94=\"\",\"\",IF((F94*E94-1)>=Coeff!$B$15,Coeff!$B$13/Coeff!$B$14*(F94*E94-1)/(F94-1),0))","v":""},{"$f":"IF(G94=\"\",\"\",IF((G94*(1-E94)-1)>=Coeff!$B$15,Coeff!$B$13/Coeff!$B$14*(G94*(1-E94)-1)/(G94-1),0))","v":""}]
[null,null,null,null,null,null,null,{"$f":"IF(F95=\"\",\"\",IF((F95*E95-1)>=Coeff!$B$15,Coeff!$B$13/Coeff!$B$14*(F95*E95-1)/(F95-1),0))","v":""},{"$f":"IF(G95=\"\",\"\",IF((G95*(1-E95)-1)>=Coeff!$B$15,Coeff!$B$13/Coeff!$B$14*(G95*(1-E95)-1)/(G95-1),0))","v":""}]
[null,null,null,null,null,null,null,{"$f":"IF(F96=\"\",\"\",IF((F96*E96-1)>=Coeff!$B$15,Coeff!$B$13/Coeff!$B$14*(F96*E96-1)/(F96-1),0))","v":""},{"$f":"IF(G96=\"\",\"\",IF((G96*(1-E96)-1)>=Coeff!$B$15,Coeff!$B$13/Coeff!$B$14*(G96*(1-E96)-1)/(G96-1),0))","v":""}]
[null,null,null,null,null,null,null,{"$f":"IF(F97=\"\",\"\",IF((F97*E97-1)>=Coeff!$B$15,Coeff!$B$13/Coeff!$B$14*(F97*E97-1)/(F97-1),0))","v":""},{"$f":"IF(G97=\"\",\"\",IF((G97*(1-E97)-1)>=Coeff!$B$15,Coeff!$B$13/Coeff!$B$14*(G97*(1-E97)-1)/(G97-1),0))","v":""}]
[null,null,null,null,null,null,null,{"$f":"IF(F98=\"\",\"\",IF((F98*E98-1)>=Coeff!$B$15,Coeff!$B$13/Coeff!$B$14*(F98*E98-1)/(F98-1),0))","v":""},{"$f":"IF(G98=\"\",\"\",IF((G98*(1-E98)-1)>=Coeff!$B$15,Coeff!$B$13/Coeff!$B$14*(G98*(1-E98)-1)/(G98-1),0))","v":""}]
[null,null,null,null,null,null,null,{"$f":"IF(F99=\"\",\"\",IF((F99*E99-1)>=Coeff!$B$15,Coeff!$B$13/Coeff!$B$14*(F99*E99-1)/(F99-1),0))","v":""},{"$f":"IF(G99=\"\",\"\",IF((G99*(1-E99)-1)>=Coeff!$B$15,Coeff!$B$13/Coeff!$B$14*(G99*(1-E99)-1)/(G99-1),0))","v":""}]
[null,null,null,null,null,null,null,{"$f":"IF(F100=\"\",\"\",IF((F100*E100-1)>=Coeff!$B$15,Coeff!$B$13/Coeff!$B$14*(F100*E100-1)/(F100-1),0))","v":""},{"$f":"IF(G100=\"\",\"\",IF((G100*(1-E100)-1)>=Coeff!$B$15,Coeff!$B$13/Coeff!$B$14*(G100*(1-E100)-1)/(G100-1),0))","v":""}]
[null,null,null,null,null,null,null,{"$f":"IF(F101=\"\",\"\",IF((F101*E101-1)>=Coeff!$B$15,Coeff!$B$13/Coeff!$B$14*(F101*E101-1)/(F101-1),0))","v":""},{"$f":"IF(G101=\"\",\"\",IF((G101*(1-E101)-1)>=Coeff!$B$15,Coeff!$B$13/Coeff!$B$14*(G101*(1-E101)-1)/(G101-1),0))","v":""}]
[null,null,null,null,null,null,null,{"$f":"IF(F102=\"\",\"\",IF((F102*E102-1)>=Coeff!$B$15,Coeff!$B$13/Coeff!$B$14*(F102*E102-1)/(F102-1),0))","v":""},{"$f":"IF(G102=\"\",\"\",IF((G102*(1-E102)-1)>=Coeff!$B$15,Coeff!$B$13/Coeff!$B$14*(G102*(1-E102)-1)/(G102-1),0))","v":""}]
[null,null,null,null,null,null,null,{"$f":"IF(F103=\"\",\"\",IF((F103*E103-1)>=Coeff!$B$15,Coeff!$B$13/Coeff!$B$14*(F103*E103-1)/(F103-1),0))","v":""},{"$f":"IF(G103=\"\",\"\",IF((G103*(1-E103)-1)>=Coeff!$B$15,Coeff!$B$13/Coeff!$B$14*(G103*(1-E103)-1)/(G103-1),0))","v":""}]
[null,null,null,null,null,null,null,{"$f":"IF(F104=\"\",\"\",IF((F104*E104-1)>=Coeff!$B$15,Coeff!$B$13/Coeff!$B$14*(F104*E104-1)/(F104-1),0))","v":""},{"$f":"IF(G104=\"\",\"\",IF((G104*(1-E104)-1)>=Coeff!$B$15,Coeff!$B$13/Coeff!$B$14*(G104*(1-E104)-1)/(G104-1),0))","v":""}]
[null,null,null,null,null,null,null,{"$f":"IF(F105=\"\",\"\",IF((F105*E105-1)>=Coeff!$B$15,Coeff!$B$13/Coeff!$B$14*(F105*E105-1)/(F105-1),0))","v":""},{"$f":"IF(G105=\"\",\"\",IF((G105*(1-E105)-1)>=Coeff!$B$15,Coeff!$B$13/Coeff!$B$14*(G105*(1-E105)-1)/(G105-1),0))","v":""}]
[null,null,null,null,null,null,null,{"$f":"IF(F106=\"\",\"\",IF((F106*E106-1)>=Coeff!$B$15,Coeff!$B$13/Coeff!$B$14*(F106*E106-1)/(F106-1),0))","v":""},{"$f":"IF(G106=\"\",\"\",IF((G106*(1-E106)-1)>=Coeff!$B$15,Coeff!$B$13/Coeff!$B$14*(G106*(1-E106)-1)/(G106-1),0))","v":""}]
[null,null,null,null,null,null,null,{"$f":"IF(F107=\"\",\"\",IF((F107*E107-1)>=Coeff!$B$15,Coeff!$B$13/Coeff!$B$14*(F107*E107-1)/(F107-1),0))","v":""},{"$f":"IF(G107=\"\",\"\",IF((G107*(1-E107)-1)>=Coeff!$B$15,Coeff!$B$13/Coeff!$B$14*(G107*(1-E107)-1)/(G107-1),0))","v":""}]
[null,null,null,null,null,null,null,{"$f":"IF(F108=\"\",\"\",IF((F108*E108-1)>=Coeff!$B$15,Coeff!$B$13/Coeff!$B$14*(F108*E108-1)/(F108-1),0))","v":""},{"$f":"IF(G108=\"\",\"\",IF((G108*(1-E108)-1)>=Coeff!$B$15,Coeff!$B$13/Coeff!$B$14*(G108*(1-E108)-1)/(G108-1),0))","v":""}]
[null,null,null,null,null,null,null,{"$f":"IF(F109=\"\",\"\",IF((F109*E109-1)>=Coeff!$B$15,Coeff!$B$13/Coeff!$B$14*(F109*E109-1)/(F109-1),0))","v":""},{"$f":"IF(G109=\"\",\"\",IF((G109*(1-E109)-1)>=Coeff!$B$15,Coeff!$B$13/Coeff!$B$14*(G109*(1-E109)-1)/(G109-1),0))","v":""}]
[null,null,null,null,null,null,null,{"$f":"IF(F110=\"\",\"\",IF((F110*E110-1)>=Coeff!$B$15,Coeff!$B$13/Coeff!$B$14*(F110*E110-1)/(F110-1),0))","v":""},{"$f":"IF(G110=\"\",\"\",IF((G110*(1-E110)-1)>=Coeff!$B$15,Coeff!$B$13/Coeff!$B$14*(G110*(1-E110)-1)/(G110-1),0))","v":""}]
[null,null,null,null,null,null,null,{"$f":"IF(F111=\"\",\"\",IF((F111*E111-1)>=Coeff!$B$15,Coeff!$B$13/Coeff!$B$14*(F111*E111-1)/(F111-1),0))","v":""},{"$f":"IF(G111=\"\",\"\",IF((G111*(1-E111)-1)>=Coeff!$B$15,Coeff!$B$13/Coeff!$B$14*(G111*(1-E111)-1)/(G111-1),0))","v":""}]
[null,null,null,null,null,null,null,{"$f":"IF(F112=\"\",\"\",IF((F112*E112-1)>=Coeff!$B$15,Coeff!$B$13/Coeff!$B$14*(F112*E112-1)/(F112-1),0))","v":""},{"$f":"IF(G112=\"\",\"\",IF((G112*(1-E112)-1)>=Coeff!$B$15,Coeff!$B$13/Coeff!$B$14*(G112*(1-E112)-1)/(G112-1),0))","v":""}]
[null,null,null,null,null,null,null,{"$f":"IF(F113=\"\",\"\",IF((F113*E113-1)>=Coeff!$B$15,Coeff!$B$13/Coeff!$B$14*(F113*E113-1)/(F113-1),0))","v":""},{"$f":"IF(G113=\"\",\"\",IF((G113*(1-E113)-1)>=Coeff!$B$15,Coeff!$B$13/Coeff!$B$14*(G113*(1-E113)-1)/(G113-1),0))","v":""}]
[null,null,null,null,null,null,null,{"$f":"IF(F114=\"\",\"\",IF((F114*E114-1)>=Coeff!$B$15,Coeff!$B$13/Coeff!$B$14*(F114*E114-1)/(F114-1),0))","v":""},{"$f":"IF(G114=\"\",\"\",IF((G114*(1-E114)-1)>=Coeff!$B$15,Coeff!$B$13/Coeff!$B$14*(G114*(1-E114)-1)/(G114-1),0))","v":""}]
[null,null,null,null,null,null,null,{"$f":"IF(F115=\"\",\"\",IF((F115*E115-1)>=Coeff!$B$15,Coeff!$B$13/Coeff!$B$14*(F115*E115-1)/(F115-1),0))","v":""},{"$f":"IF(G115=\"\",\"\",IF((G115*(1-E115)-1)>=Coeff!$B$15,Coeff!$B$13/Coeff!$B$14*(G115*(1-E115)-1)/(G115-1),0))","v":""}]
[null,null,null,null,null,null,null,{"$f":"IF(F116=\"\",\"\",IF((F116*E116-1)>=Coeff!$B$15,Coeff!$B$13/Coeff!$B$14*(F116*E116-1)/(F116-1),0))","v":""},{"$f":"IF(G116=\"\",\"\",IF((G116*(1-E116)-1)>=Coeff!$B$15,Coeff!$B$13/Coeff!$B$14*(G116*(1-E116)-1)/(G116-1),0))","v":""}]
[null,null,null,null,null,null,null,{"$f":"IF(F117=\"\",\"\",IF((F117*E117-1)>=Coeff!$B$15,Coeff!$B$13/Coeff!$B$14*(F117*E117-1)/(F117-1),0))","v":""},{"$f":"IF(G117=\"\",\"\",IF((G117*(1-E117)-1)>=Coeff!$B$15,Coeff!$B$13/Coeff!$B$14*(G117*(1-E117)-1)/(G117-1),0))","v":""}]
[null,null,null,null,null,null,null,{"$f":"IF(F118=\"\",\"\",IF((F118*E118-1)>=Coeff!$B$15,Coeff!$B$13/Coeff!$B$14*(F118*E118-1)/(F118-1),0))","v":""},{"$f":"IF(G118=\"\",\"\",IF((G118*(1-E118)-1)>=Coeff!$B$15,Coeff!$B$13/Coeff!$B$14*(G118*(1-E118)-1)/(G118-1),0))","v":""}]
[null,null,null,null,null,null,null,{"$f":"IF(F119=\"\",\"\",IF((F119*E119-1)>=Coeff!$B$15,Coeff!$B$13/Coeff!$B$14*(F119*E119-1)/(F119-1),0))","v":""},{"$f":"IF(G119=\"\",\"\",IF((G119*(1-E119)-1)>=Coeff!$B$15,Coeff!$B$13/Coeff!$B$14*(G119*(1-E119)-1)/(G119-1),0))","v":""}]
[null,null,null,null,null,null,null,{"$f":"IF(F120=\"\",\"\",IF((F120*E120-1)>=Coeff!$B$15,Coeff!$B$13/Coeff!$B$14*(F120*E120-1)/(F120-1),0))","v":""},{"$f":"IF(G120=\"\",\"\",IF((G120*(1-E120)-1)>=Coeff!$B$15,Coeff!$B$13/Coeff!$B$14*(G120*(1-E120)-1)/(G120-1),0))","v":""}]
[null,null,null,null,null,null,null,{"$f":"IF(F121=\"\",\"\",IF((F121*E121-1)>=Coeff!$B$15,Coeff!$B$13/Coeff!$B$14*(F121*E121-1)/(F121-1),0))","v":""},{"$f":"IF(G121=\"\",\"\",IF((G121*(1-E121)-1)>=Coeff!$B$15,Coeff!$B$13/Coeff!$B$14*(G121*(1-E121)-1)/(G121-1),0))","v":""}]
[null,null,null,null,null,null,null,{"$f":"IF(F122=\"\",\"\",IF((F122*E122-1)>=Coeff!$B$15,Coeff!$B$13/Coeff!$B$14*(F122*E122-1)/(F122-1),0))","v":""},{"$f":"IF(G122=\"\",\"\",IF((G122*(1-E122)-1)>=Coeff!$B$15,Coeff!$B$13/Coeff!$B$14*(G122*(1-E122)-1)/(G122-1),0))","v":""}]
[null,null,null,null,null,null,null,{"$f":"IF(F123=\"\",\"\",IF((F123*E123-1)>=Coeff!$B$15,Coeff!$B$13/Coeff!$B$14*(F123*E123-1)/(F123-1),0))","v":""},{"$f":"IF(G123=\"\",\"\",IF((G123*(1-E123)-1)>=Coeff!$B$15,Coeff!$B$13/Coeff!$B$14*(G123*(1-E123)-1)/(G123-1),0))","v":""}]
[null,null,null,null,null,null,null,{"$f":"IF(F124=\"\",\"\",IF((F124*E124-1)>=Coeff!$B$15,Coeff!$B$13/Coeff!$B$14*(F124*E124-1)/(F124-1),0))","v":""},{"$f":"IF(G124=\"\",\"\",IF((G124*(1-E124)-1)>=Coeff!$B$15,Coeff!$B$13/Coeff!$B$14*(G124*(1-E124)-1)/(G124-1),0))","v":""}]
[null,null,null,null,null,null,null,{"$f":"IF(F125=\"\",\"\",IF((F125*E125-1)>=Coeff!$B$15,Coeff!$B$13/Coeff!$B$14*(F125*E125-1)/(F125-1),0))","v":""},{"$f":"IF(G125=\"\",\"\",IF((G125*(1-E125)-1)>=Coeff!$B$15,Coeff!$B$13/Coeff!$B$14*(G125*(1-E125)-1)/(G125-1),0))","v":""}]
[null,null,null,null,null,null,null,{"$f":"IF(F126=\"\",\"\",IF((F126*E126-1)>=Coeff!$B$15,Coeff!$B$13/Coeff!$B$14*(F126*E126-1)/(F126-1),0))","v":""},{"$f":"IF(G126=\"\",\"\",IF((G126*(1-E126)-1)>=Coeff!$B$15,Coeff!$B$13/Coeff!$B$14*(G126*(1-E126)-1)/(G126-1),0))","v":""}]
[null,null,null,null,null,null,null,{"$f":"IF(F127=\"\",\"\",IF((F127*E127-1)>=Coeff!$B$15,Coeff!$B$13/Coeff!$B$14*(F127*E127-1)/(F127-1),0))","v":""},{"$f":"IF(G127=\"\",\"\",IF((G127*(1-E127)-1)>=Coeff!$B$15,Coeff!$B$13/Coeff!$B$14*(G127*(1-E127)-1)/(G127-1),0))","v":""}]
[null,null,null,null,null,null,null,{"$f":"IF(F128=\"\",\"\",IF((F128*E128-1)>=Coeff!$B$15,Coeff!$B$13/Coeff!$B$14*(F128*E128-1)/(F128-1),0))","v":""},{"$f":"IF(G128=\"\",\"\",IF((G128*(1-E128)-1)>=Coeff!$B$15,Coeff!$B$13/Coeff!$B$14*(G128*(1-E128)-1)/(G128-1),0))","v":""}]
[null,null,null,null,null,null,null,{"$f":"IF(F129=\"\",\"\",IF((F129*E129-1)>=Coeff!$B$15,Coeff!$B$13/Coeff!$B$14*(F129*E129-1)/(F129-1),0))","v":""},{"$f":"IF(G129=\"\",\"\",IF((G129*(1-E129)-1)>=Coeff!$B$15,Coeff!$B$13/Coeff!$B$14*(G129*(1-E129)-1)/(G129-1),0))","v":""}]
[null,null,null,null,null,null,null,{"$f":"IF(F130=\"\",\"\",IF((F130*E130-1)>=Coeff!$B$15,Coeff!$B$13/Coeff!$B$14*(F130*E130-1)/(F130-1),0))","v":""},{"$f":"IF(G130=\"\",\"\",IF((G130*(1-E130)-1)>=Coeff!$B$15,Coeff!$B$13/Coeff!$B$14*(G130*(1-E130)-1)/(G130-1),0))","v":""}]
[null,null,null,null,null,null,null,{"$f":"IF(F131=\"\",\"\",IF((F131*E131-1)>=Coeff!$B$15,Coeff!$B$13/Coeff!$B$14*(F131*E131-1)/(F131-1),0))","v":""},{"$f":"IF(G131=\"\",\"\",IF((G131*(1-E131)-1)>=Coeff!$B$15,Coeff!$B$13/Coeff!$B$14*(G131*(1-E131)-1)/(G131-1),0))","v":""}]
[null,null,null,null,null,null,null,{"$f":"IF(F132=\"\",\"\",IF((F132*E132-1)>=Coeff!$B$15,Coeff!$B$13/Coeff!$B$14*(F132*E132-1)/(F132-1),0))","v":""},{"$f":"IF(G132=\"\",\"\",IF((G132*(1-E132)-1)>=Coeff!$B$15,Coeff!$B$13/Coeff!$B$14*(G132*(1-E132)-1)/(G132-1),0))","v":""}]
[null,null,null,null,null,null,null,{"$f":"IF(F133=\"\",\"\",IF((F133*E133-1)>=Coeff!$B$15,Coeff!$B$13/Coeff!$B$14*(F133*E133-1)/(F133-1),0))","v":""},{"$f":"IF(G133=\"\",\"\",IF((G133*(1-E133)-1)>=Coeff!$B$15,Coeff!$B$13/Coeff!$B$14*(G133*(1-E133)-1)/(G133-1),0))","v":""}]
[null,null,null,null,null,null,null,{"$f":"IF(F134=\"\",\"\",IF((F134*E134-1)>=Coeff!$B$15,Coeff!$B$13/Coeff!$B$14*(F134*E134-1)/(F134-1),0))","v":""},{"$f":"IF(G134=\"\",\"\",IF((G134*(1-E134)-1)>=Coeff!$B$15,Coeff!$B$13/Coeff!$B$14*(G134*(1-E134)-1)/(G134-1),0))","v":""}]
[null,null,null,null,null,null,null,{"$f":"IF(F135=\"\",\"\",IF((F135*E135-1)>=Coeff!$B$15,Coeff!$B$13/Coeff!$B$14*(F135*E135-1)/(F135-1),0))","v":""},{"$f":"IF(G135=\"\",\"\",IF((G135*(1-E135)-1)>=Coeff!$B$15,Coeff!$B$13/Coeff!$B$14*(G135*(1-E135)-1)/(G135-1),0))","v":""}]
[null,null,null,null,null,null,null,{"$f":"IF(F136=\"\",\"\",IF((F136*E136-1)>=Coeff!$B$15,Coeff!$B$13/Coeff!$B$14*(F136*E136-1)/(F136-1),0))","v":""},{"$f":"IF(G136=\"\",\"\",IF((G136*(1-E136)-1)>=Coeff!$B$15,Coeff!$B$13/Coeff!$B$14*(G136*(1-E136)-1)/(G136-1),0))","v":""}]
[null,null,null,null,null,null,null,{"$f":"IF(F137=\"\",\"\",IF((F137*E137-1)>=Coeff!$B$15,Coeff!$B$13/Coeff!$B$14*(F137*E137-1)/(F137-1),0))","v":""},{"$f":"IF(G137=\"\",\"\",IF((G137*(1-E137)-1)>=Coeff!$B$15,Coeff!$B$13/Coeff!$B$14*(G137*(1-E137)-1)/(G137-1),0))","v":""}]
[null,null,null,null,null,null,null,{"$f":"IF(F138=\"\",\"\",IF((F138*E138-1)>=Coeff!$B$15,Coeff!$B$13/Coeff!$B$14*(F138*E138-1)/(F138-1),0))","v":""},{"$f":"IF(G138=\"\",\"\",IF((G138*(1-E138)-1)>=Coeff!$B$15,Coeff!$B$13/Coeff!$B$14*(G138*(1-E138)-1)/(G138-1),0))","v":""}]
[null,null,null,null,null,null,null,{"$f":"IF(F139=\"\",\"\",IF((F139*E139-1)>=Coeff!$B$15,Coeff!$B$13/Coeff!$B$14*(F139*E139-1)/(F139-1),0))","v":""},{"$f":"IF(G139=\"\",\"\",IF((G139*(1-E139)-1)>=Coeff!$B$15,Coeff!$B$13/Coeff!$B$14*(G139*(1-E139)-1)/(G139-1),0))","v":""}]
[null,null,null,null,null,null,null,{"$f":"IF(F140=\"\",\"\",IF((F140*E140-1)>=Coeff!$B$15,Coeff!$B$13/Coeff!$B$14*(F140*E140-1)/(F140-1),0))","v":""},{"$f":"IF(G140=\"\",\"\",IF((G140*(1-E140)-1)>=Coeff!$B$15,Coeff!$B$13/Coeff!$B$14*(G140*(1-E140)-1)/(G140-1),0))","v":""}]
[null,null,null,null,null,null,null,{"$f":"IF(F141=\"\",\"\",IF((F141*E141-1)>=Coeff!$B$15,Coeff!$B$13/Coeff!$B$14*(F141*E141-1)/(F141-1),0))","v":""},{"$f":"IF(G141=\"\",\"\",IF((G141*(1-E141)-1)>=Coeff!$B$15,Coeff!$B$13/Coeff!$B$14*(G141*(1-E141)-1)/(G141-1),0))","v":""}]
[null,null,null,null,null,null,null,{"$f":"IF(F142=\"\",\"\",IF((F142*E142-1)>=Coeff!$B$15,Coeff!$B$13/Coeff!$B$14*(F142*E142-1)/(F142-1),0))","v":""},{"$f":"IF(G142=\"\",\"\",IF((G142*(1-E142)-1)>=Coeff!$B$15,Coeff!$B$13/Coeff!$B$14*(G142*(1-E142)-1)/(G142-1),0))","v":""}]
[null,null,null,null,null,null,null,{"$f":"IF(F143=\"\",\"\",IF((F143*E143-1)>=Coeff!$B$15,Coeff!$B$13/Coeff!$B$14*(F143*E143-1)/(F143-1),0))","v":""},{"$f":"IF(G143=\"\",\"\",IF((G143*(1-E143)-1)>=Coeff!$B$15,Coeff!$B$13/Coeff!$B$14*(G143*(1-E143)-1)/(G143-1),0))","v":""}]
[null,null,null,null,null,null,null,{"$f":"IF(F144=\"\",\"\",IF((F144*E144-1)>=Coeff!$B$15,Coeff!$B$13/Coeff!$B$14*(F144*E144-1)/(F144-1),0))","v":""},{"$f":"IF(G144=\"\",\"\",IF((G144*(1-E144)-1)>=Coeff!$B$15,Coeff!$B$13/Coeff!$B$14*(G144*(1-E144)-1)/(G144-1),0))","v":""}]
[null,null,null,null,null,null,null,{"$f":"IF(F145=\"\",\"\",IF((F145*E145-1)>=Coeff!$B$15,Coeff!$B$13/Coeff!$B$14*(F145*E145-1)/(F145-1),0))","v":""},{"$f":"IF(G145=\"\",\"\",IF((G145*(1-E145)-1)>=Coeff!$B$15,Coeff!$B$13/Coeff!$B$14*(G145*(1-E145)-1)/(G145-1),0))","v":""}]
[null,null,null,null,null,null,null,{"$f":"IF(F146=\"\",\"\",IF((F146*E146-1)>=Coeff!$B$15,Coeff!$B$13/Coeff!$B$14*(F146*E146-1)/(F146-1),0))","v":""},{"$f":"IF(G146=\"\",\"\",IF((G146*(1-E146)-1)>=Coeff!$B$15,Coeff!$B$13/Coeff!$B$14*(G146*(1-E146)-1)/(G146-1),0))","v":""}]
[null,null,null,null,null,null,null,{"$f":"IF(F147=\"\",\"\",IF((F147*E147-1)>=Coeff!$B$15,Coeff!$B$13/Coeff!$B$14*(F147*E147-1)/(F147-1),0))","v":""},{"$f":"IF(G147=\"\",\"\",IF((G147*(1-E147)-1)>=Coeff!$B$15,Coeff!$B$13/Coeff!$B$14*(G147*(1-E147)-1)/(G147-1),0))","v":""}]
[null,null,null,null,null,null,null,{"$f":"IF(F148=\"\",\"\",IF((F148*E148-1)>=Coeff!$B$15,Coeff!$B$13/Coeff!$B$14*(F148*E148-1)/(F148-1),0))","v":""},{"$f":"IF(G148=\"\",\"\",IF((G148*(1-E148)-1)>=Coeff!$B$15,Coeff!$B$13/Coeff!$B$14*(G148*(1-E148)-1)/(G148-1),0))","v":""}]
[null,null,null,null,null,null,null,{"$f":"IF(F149=\"\",\"\",IF((F149*E149-1)>=Coeff!$B$15,Coeff!$B$13/Coeff!$B$14*(F149*E149-1)/(F149-1),0))","v":""},{"$f":"IF(G149=\"\",\"\",IF((G149*(1-E149)-1)>=Coeff!$B$15,Coeff!$B$13/Coeff!$B$14*(G149*(1-E149)-1)/(G149-1),0))","v":""}]
[null,null,null,null,null,null,null,{"$f":"IF(F150=\"\",\"\",IF((F150*E150-1)>=Coeff!$B$15,Coeff!$B$13/Coeff!$B$14*(F150*E150-1)/(F150-1),0))","v":""},{"$f":"IF(G150=\"\",\"\",IF((G150*(1-E150)-1)>=Coeff!$B$15,Coeff!$B$13/Coeff!$B$14*(G150*(1-E150)-1)/(G150-1),0))","v":""}]
[null,null,null,null,null,null,null,{"$f":"IF(F151=\"\",\"\",IF((F151*E151-1)>=Coeff!$B$15,Coeff!$B$13/Coeff!$B$14*(F151*E151-1)/(F151-1),0))","v":""},{"$f":"IF(G151=\"\",\"\",IF((G151*(1-E151)-1)>=Coeff!$B$15,Coeff!$B$13/Coeff!$B$14*(G151*(1-E151)-1)/(G151-1),0))","v":""}]
[null,null,null,null,null,null,null,{"$f":"IF(F152=\"\",\"\",IF((F152*E152-1)>=Coeff!$B$15,Coeff!$B$13/Coeff!$B$14*(F152*E152-1)/(F152-1),0))","v":""},{"$f":"IF(G152=\"\",\"\",IF((G152*(1-E152)-1)>=Coeff!$B$15,Coeff!$B$13/Coeff!$B$14*(G152*(1-E152)-1)/(G152-1),0))","v":""}]
[null,null,null,null,null,null,null,{"$f":"IF(F153=\"\",\"\",IF((F153*E153-1)>=Coeff!$B$15,Coeff!$B$13/Coeff!$B$14*(F153*E153-1)/(F153-1),0))","v":""},{"$f":"IF(G153=\"\",\"\",IF((G153*(1-E153)-1)>=Coeff!$B$15,Coeff!$B$13/Coeff!$B$14*(G153*(1-E153)-1)/(G153-1),0))","v":""}]
[null,null,null,null,null,null,null,{"$f":"IF(F154=\"\",\"\",IF((F154*E154-1)>=Coeff!$B$15,Coeff!$B$13/Coeff!$B$14*(F154*E154-1)/(F154-1),0))","v":""},{"$f":"IF(G154=\"\",\"\",IF((G154*(1-E154)-1)>=Coeff!$B$15,Coeff!$B$13/Coeff!$B$14*(G154*(1-E154)-1)/(G154-1),0))","v":""}]
[null,null,null,null,null,null,null,{"$f":"IF(F155=\"\",\"\",IF((F155*E155-1)>=Coeff!$B$15,Coeff!$B$13/Coeff!$B$14*(F155*E155-1)/(F155-1),0))","v":""},{"$f":"IF(G155=\"\",\"\",IF((G155*(1-E155)-1)>=Coeff!$B$15,Coeff!$B$13/Coeff!$B$14*(G155*(1-E155)-1)/(G155-1),0))","v":""}]
[null,null,null,null,null,null,null,{"$f":"IF(F156=\"\",\"\",IF((F156*E156-1)>=Coeff!$B$15,Coeff!$B$13/Coeff!$B$14*(F156*E156-1)/(F156-1),0))","v":""},{"$f":"IF(G156=\"\",\"\",IF((G156*(1-E156)-1)>=Coeff!$B$15,Coeff!$B$13/Coeff!$B$14*(G156*(1-E156)-1)/(G156-1),0))","v":""}]
[null,null,null,null,null,null,null,{"$f":"IF(F157=\"\",\"\",IF((F157*E157-1)>=Coeff!$B$15,Coeff!$B$13/Coeff!$B$14*(F157*E157-1)/(F157-1),0))","v":""},{"$f":"IF(G157=\"\",\"\",IF((G157*(1-E157)-1)>=Coeff!$B$15,Coeff!$B$13/Coeff!$B$14*(G157*(1-E157)-1)/(G157-1),0))","v":""}]
[null,null,null,null,null,null,null,{"$f":"IF(F158=\"\",\"\",IF((F158*E158-1)>=Coeff!$B$15,Coeff!$B$13/Coeff!$B$14*(F158*E158-1)/(F158-1),0))","v":""},{"$f":"IF(G158=\"\",\"\",IF((G158*(1-E158)-1)>=Coeff!$B$15,Coeff!$B$13/Coeff!$B$14*(G158*(1-E158)-1)/(G158-1),0))","v":""}]
[null,null,null,null,null,null,null,{"$f":"IF(F159=\"\",\"\",IF((F159*E159-1)>=Coeff!$B$15,Coeff!$B$13/Coeff!$B$14*(F159*E159-1)/(F159-1),0))","v":""},{"$f":"IF(G159=\"\",\"\",IF((G159*(1-E159)-1)>=Coeff!$B$15,Coeff!$B$13/Coeff!$B$14*(G159*(1-E159)-1)/(G159-1),0))","v":""}]
[null,null,null,null,null,null,null,{"$f":"IF(F160=\"\",\"\",IF((F160*E160-1)>=Coeff!$B$15,Coeff!$B$13/Coeff!$B$14*(F160*E160-1)/(F160-1),0))","v":""},{"$f":"IF(G160=\"\",\"\",IF((G160*(1-E160)-1)>=Coeff!$B$15,Coeff!$B$13/Coeff!$B$14*(G160*(1-E160)-1)/(G160-1),0))","v":""}]
[null,null,null,null,null,null,null,{"$f":"IF(F161=\"\",\"\",IF((F161*E161-1)>=Coeff!$B$15,Coeff!$B$13/Coeff!$B$14*(F161*E161-1)/(F161-1),0))","v":""},{"$f":"IF(G161=\"\",\"\",IF((G161*(1-E161)-1)>=Coeff!$B$15,Coeff!$B$13/Coeff!$B$14*(G161*(1-E161)-1)/(G161-1),0))","v":""}]
[null,null,null,null,null,null,null,{"$f":"IF(F162=\"\",\"\",IF((F162*E162-1)>=Coeff!$B$15,Coeff!$B$13/Coeff!$B$14*(F162*E162-1)/(F162-1),0))","v":""},{"$f":"IF(G162=\"\",\"\",IF((G162*(1-E162)-1)>=Coeff!$B$15,Coeff!$B$13/Coeff!$B$14*(G162*(1-E162)-1)/(G162-1),0))","v":""}]
[null,null,null,null,null,null,null,{"$f":"IF(F163=\"\",\"\",IF((F163*E163-1)>=Coeff!$B$15,Coeff!$B$13/Coeff!$B$14*(F163*E163-1)/(F163-1),0))","v":""},{"$f":"IF(G163=\"\",\"\",IF((G163*(1-E163)-1)>=Coeff!$B$15,Coeff!$B$13/Coeff!$B$14*(G163*(1-E163)-1)/(G163-1),0))","v":""}]
[null,null,null,null,null,null,null,{"$f":"IF(F164=\"\",\"\",IF((F164*E164-1)>=Coeff!$B$15,Coeff!$B$13/Coeff!$B$14*(F164*E164-1)/(F164-1),0))","v":""},{"$f":"IF(G164=\"\",\"\",IF((G164*(1-E164)-1)>=Coeff!$B$15,Coeff!$B$13/Coeff!$B$14*(G164*(1-E164)-1)/(G164-1),0))","v":""}]
[null,null,null,null,null,null,null,{"$f":"IF(F165=\"\",\"\",IF((F165*E165-1)>=Coeff!$B$15,Coeff!$B$13/Coeff!$B$14*(F165*E165-1)/(F165-1),0))","v":""},{"$f":"IF(G165=\"\",\"\",IF((G165*(1-E165)-1)>=Coeff!$B$15,Coeff!$B$13/Coeff!$B$14*(G165*(1-E165)-1)/(G165-1),0))","v":""}]
[null,null,null,null,null,null,null,{"$f":"IF(F166=\"\",\"\",IF((F166*E166-1)>=Coeff!$B$15,Coeff!$B$13/Coeff!$B$14*(F166*E166-1)/(F166-1),0))","v":""},{"$f":"IF(G166=\"\",\"\",IF((G166*(1-E166)-1)>=Coeff!$B$15,Coeff!$B$13/Coeff!$B$14*(G166*(1-E166)-1)/(G166-1),0))","v":""}]
[null,null,null,null,null,null,null,{"$f":"IF(F167=\"\",\"\",IF((F167*E167-1)>=Coeff!$B$15,Coeff!$B$13/Coeff!$B$14*(F167*E167-1)/(F167-1),0))","v":""},{"$f":"IF(G167=\"\",\"\",IF((G167*(1-E167)-1)>=Coeff!$B$15,Coeff!$B$13/Coeff!$B$14*(G167*(1-E167)-1)/(G167-1),0))","v":""}]
[null,null,null,null,null,null,null,{"$f":"IF(F168=\"\",\"\",IF((F168*E168-1)>=Coeff!$B$15,Coeff!$B$13/Coeff!$B$14*(F168*E168-1)/(F168-1),0))","v":""},{"$f":"IF(G168=\"\",\"\",IF((G168*(1-E168)-1)>=Coeff!$B$15,Coeff!$B$13/Coeff!$B$14*(G168*(1-E168)-1)/(G168-1),0))","v":""}]
[null,null,null,null,null,null,null,{"$f":"IF(F169=\"\",\"\",IF((F169*E169-1)>=Coeff!$B$15,Coeff!$B$13/Coeff!$B$14*(F169*E169-1)/(F169-1),0))","v":""},{"$f":"IF(G169=\"\",\"\",IF((G169*(1-E169)-1)>=Coeff!$B$15,Coeff!$B$13/Coeff!$B$14*(G169*(1-E169)-1)/(G169-1),0))","v":""}]
[null,null,null,null,null,null,null,{"$f":"IF(F170=\"\",\"\",IF((F170*E170-1)>=Coeff!$B$15,Coeff!$B$13/Coeff!$B$14*(F170*E170-1)/(F170-1),0))","v":""},{"$f":"IF(G170=\"\",\"\",IF((G170*(1-E170)-1)>=Coeff!$B$15,Coeff!$B$13/Coeff!$B$14*(G170*(1-E170)-1)/(G170-1),0))","v":""}]
[null,null,null,null,null,null,null,{"$f":"IF(F171=\"\",\"\",IF((F171*E171-1)>=Coeff!$B$15,Coeff!$B$13/Coeff!$B$14*(F171*E171-1)/(F171-1),0))","v":""},{"$f":"IF(G171=\"\",\"\",IF((G171*(1-E171)-1)>=Coeff!$B$15,Coeff!$B$13/Coeff!$B$14*(G171*(1-E171)-1)/(G171-1),0))","v":""}]
[null,null,null,null,null,null,null,{"$f":"IF(F172=\"\",\"\",IF((F172*E172-1)>=Coeff!$B$15,Coeff!$B$13/Coeff!$B$14*(F172*E172-1)/(F172-1),0))","v":""},{"$f":"IF(G172=\"\",\"\",IF((G172*(1-E172)-1)>=Coeff!$B$15,Coeff!$B$13/Coeff!$B$14*(G172*(1-E172)-1)/(G172-1),0))","v":""}]
[null,null,null,null,null,null,null,{"$f":"IF(F173=\"\",\"\",IF((F173*E173-1)>=Coeff!$B$15,Coeff!$B$13/Coeff!$B$14*(F173*E173-1)/(F173-1),0))","v":""},{"$f":"IF(G173=\"\",\"\",IF((G173*(1-E173)-1)>=Coeff!$B$15,Coeff!$B$13/Coeff!$B$14*(G173*(1-E173)-1)/(G173-1),0))","v":""}]
[null,null,null,null,null,null,null,{"$f":"IF(F174=\"\",\"\",IF((F174*E174-1)>=Coeff!$B$15,Coeff!$B$13/Coeff!$B$14*(F174*E174-1)/(F174-1),0))","v":""},{"$f":"IF(G174=\"\",\"\",IF((G174*(1-E174)-1)>=Coeff!$B$15,Coeff!$B$13/Coeff!$B$14*(G174*(1-E174)-1)/(G174-1),0))","v":""}]
[null,null,null,null,null,null,null,{"$f":"IF(F175=\"\",\"\",IF((F175*E175-1)>=Coeff!$B$15,Coeff!$B$13/Coeff!$B$14*(F175*E175-1)/(F175-1),0))","v":""},{"$f":"IF(G175=\"\",\"\",IF((G175*(1-E175)-1)>=Coeff!$B$15,Coeff!$B$13/Coeff!$B$14*(G175*(1-E175)-1)/(G175-1),0))","v":""}]
[null,null,null,null,null,null,null,{"$f":"IF(F176=\"\",\"\",IF((F176*E176-1)>=Coeff!$B$15,Coeff!$B$13/Coeff!$B$14*(F176*E176-1)/(F176-1),0))","v":""},{"$f":"IF(G176=\"\",\"\",IF((G176*(1-E176)-1)>=Coeff!$B$15,Coeff!$B$13/Coeff!$B$14*(G176*(1-E176)-1)/(G176-1),0))","v":""}]
[null,null,null,null,null,null,null,{"$f":"IF(F177=\"\",\"\",IF((F177*E177-1)>=Coeff!$B$15,Coeff!$B$13/Coeff!$B$14*(F177*E177-1)/(F177-1),0))","v":""},{"$f":"IF(G177=\"\",\"\",IF((G177*(1-E177)-1)>=Coeff!$B$15,Coeff!$B$13/Coeff!$B$14*(G177*(1-E177)-1)/(G177-1),0))","v":""}]
[null,null,null,null,null,null,null,{"$f":"IF(F178=\"\",\"\",IF((F178*E178-1)>=Coeff!$B$15,Coeff!$B$13/Coeff!$B$14*(F178*E178-1)/(F178-1),0))","v":""},{"$f":"IF(G178=\"\",\"\",IF((G178*(1-E178)-1)>=Coeff!$B$15,Coeff!$B$13/Coeff!$B$14*(G178*(1-E178)-1)/(G178-1),0))","v":""}]
[null,null,null,null,null,null,null,{"$f":"IF(F179=\"\",\"\",IF((F179*E179-1)>=Coeff!$B$15,Coeff!$B$13/Coeff!$B$14*(F179*E179-1)/(F179-1),0))","v":""},{"$f":"IF(G179=\"\",\"\",IF((G179*(1-E179)-1)>=Coeff!$B$15,Coeff!$B$13/Coeff!$B$14*(G179*(1-E179)-1)/(G179-1),0))","v":""}]
[null,null,null,null,null,null,null,{"$f":"IF(F180=\"\",\"\",IF((F180*E180-1)>=Coeff!$B$15,Coeff!$B$13/Coeff!$B$14*(F180*E180-1)/(F180-1),0))","v":""},{"$f":"IF(G180=\"\",\"\",IF((G180*(1-E180)-1)>=Coeff!$B$15,Coeff!$B$13/Coeff!$B$14*(G180*(1-E180)-1)/(G180-1),0))","v":""}]
[null,null,null,null,null,null,null,{"$f":"IF(F181=\"\",\"\",IF((F181*E181-1)>=Coeff!$B$15,Coeff!$B$13/Coeff!$B$14*(F181*E181-1)/(F181-1),0))","v":""},{"$f":"IF(G181=\"\",\"\",IF((G181*(1-E181)-1)>=Coeff!$B$15,Coeff!$B$13/Coeff!$B$14*(G181*(1-E181)-1)/(G181-1),0))","v":""}]
[null,null,null,null,null,null,null,{"$f":"IF(F182=\"\",\"\",IF((F182*E182-1)>=Coeff!$B$15,Coeff!$B$13/Coeff!$B$14*(F182*E182-1)/(F182-1),0))","v":""},{"$f":"IF(G182=\"\",\"\",IF((G182*(1-E182)-1)>=Coeff!$B$15,Coeff!$B$13/Coeff!$B$14*(G182*(1-E182)-1)/(G182-1),0))","v":""}]
[null,null,null,null,null,null,null,{"$f":"IF(F183=\"\",\"\",IF((F183*E183-1)>=Coeff!$B$15,Coeff!$B$13/Coeff!$B$14*(F183*E183-1)/(F183-1),0))","v":""},{"$f":"IF(G183=\"\",\"\",IF((G183*(1-E183)-1)>=Coeff!$B$15,Coeff!$B$13/Coeff!$B$14*(G183*(1-E183)-1)/(G183-1),0))","v":""}]
[null,null,null,null,null,null,null,{"$f":"IF(F184=\"\",\"\",IF((F184*E184-1)>=Coeff!$B$15,Coeff!$B$13/Coeff!$B$14*(F184*E184-1)/(F184-1),0))","v":""},{"$f":"IF(G184=\"\",\"\",IF((G184*(1-E184)-1)>=Coeff!$B$15,Coeff!$B$13/Coeff!$B$14*(G184*(1-E184)-1)/(G184-1),0))","v":""}]
[null,null,null,null,null,null,null,{"$f":"IF(F185=\"\",\"\",IF((F185*E185-1)>=Coeff!$B$15,Coeff!$B$13/Coeff!$B$14*(F185*E185-1)/(F185-1),0))","v":""},{"$f":"IF(G185=\"\",\"\",IF((G185*(1-E185)-1)>=Coeff!$B$15,Coeff!$B$13/Coeff!$B$14*(G185*(1-E185)-1)/(G185-1),0))","v":""}]
[null,null,null,null,null,null,null,{"$f":"IF(F186=\"\",\"\",IF((F186*E186-1)>=Coeff!$B$15,Coeff!$B$13/Coeff!$B$14*(F186*E186-1)/(F186-1),0))","v":""},{"$f":"IF(G186=\"\",\"\",IF((G186*(1-E186)-1)>=Coeff!$B$15,Coeff!$B$13/Coeff!$B$14*(G186*(1-E186)-1)/(G186-1),0))","v":""}]
[null,null,null,null,null,null,null,{"$f":"IF(F187=\"\",\"\",IF((F187*E187-1)>=Coeff!$B$15,Coeff!$B$13/Coeff!$B$14*(F187*E187-1)/(F187-1),0))","v":""},{"$f":"IF(G187=\"\",\"\",IF((G187*(1-E187)-1)>=Coeff!$B$15,Coeff!$B$13/Coeff!$B$14*(G187*(1-E187)-1)/(G187-1),0))","v":""}]
[null,null,null,null,null,null,null,{"$f":"IF(F188=\"\",\"\",IF((F188*E188-1)>=Coeff!$B$15,Coeff!$B$13/Coeff!$B$14*(F188*E188-1)/(F188-1),0))","v":""},{"$f":"IF(G188=\"\",\"\",IF((G188*(1-E188)-1)>=Coeff!$B$15,Coeff!$B$13/Coeff!$B$14*(G188*(1-E188)-1)/(G188-1),0))","v":""}]
[null,null,null,null,null,null,null,{"$f":"IF(F189=\"\",\"\",IF((F189*E189-1)>=Coeff!$B$15,Coeff!$B$13/Coeff!$B$14*(F189*E189-1)/(F189-1),0))","v":""},{"$f":"IF(G189=\"\",\"\",IF((G189*(1-E189)-1)>=Coeff!$B$15,Coeff!$B$13/Coeff!$B$14*(G189*(1-E189)-1)/(G189-1),0))","v":""}]
[null,null,null,null,null,null,null,{"$f":"IF(F190=\"\",\"\",IF((F190*E190-1)>=Coeff!$B$15,Coeff!$B$13/Coeff!$B$14*(F190*E190-1)/(F190-1),0))","v":""},{"$f":"IF(G190=\"\",\"\",IF((G190*(1-E190)-1)>=Coeff!$B$15,Coeff!$B$13/Coeff!$B$14*(G190*(1-E190)-1)/(G190-1),0))","v":""}]
[null,null,null,null,null,null,null,{"$f":"IF(F191=\"\",\"\",IF((F191*E191-1)>=Coeff!$B$15,Coeff!$B$13/Coeff!$B$14*(F191*E191-1)/(F191-1),0))","v":""},{"$f":"IF(G191=\"\",\"\",IF((G191*(1-E191)-1)>=Coeff!$B$15,Coeff!$B$13/Coeff!$B$14*(G191*(1-E191)-1)/(G191-1),0))","v":""}]
[null,null,null,null,null,null,null,{"$f":"IF(F192=\"\",\"\",IF((F192*E192-1)>=Coeff!$B$15,Coeff!$B$13/Coeff!$B$14*(F192*E192-1)/(F192-1),0))","v":""},{"$f":"IF(G192=\"\",\"\",IF((G192*(1-E192)-1)>=Coeff!$B$15,Coeff!$B$13/Coeff!$B$14*(G192*(1-E192)-1)/(G192-1),0))","v":""}]
[null,null,null,null,null,null,null,{"$f":"IF(F193=\"\",\"\",IF((F193*E193-1)>=Coeff!$B$15,Coeff!$B$13/Coeff!$B$14*(F193*E193-1)/(F193-1),0))","v":""},{"$f":"IF(G193=\"\",\"\",IF((G193*(1-E193)-1)>=Coeff!$B$15,Coeff!$B$13/Coeff!$B$14*(G193*(1-E193)-1)/(G193-1),0))","v":""}]
[null,null,null,null,null,null,null,{"$f":"IF(F194=\"\",\"\",IF((F194*E194-1)>=Coeff!$B$15,Coeff!$B$13/Coeff!$B$14*(F194*E194-1)/(F194-1),0))","v":""},{"$f":"IF(G194=\"\",\"\",IF((G194*(1-E194)-1)>=Coeff!$B$15,Coeff!$B$13/Coeff!$B$14*(G194*(1-E194)-1)/(G194-1),0))","v":""}]
[null,null,null,null,null,null,null,{"$f":"IF(F195=\"\",\"\",IF((F195*E195-1)>=Coeff!$B$15,Coeff!$B$13/Coeff!$B$14*(F195*E195-1)/(F195-1),0))","v":""},{"$f":"IF(G195=\"\",\"\",IF((G195*(1-E195)-1)>=Coeff!$B$15,Coeff!$B$13/Coeff!$B$14*(G195*(1-E195)-1)/(G195-1),0))","v":""}]
[null,null,null,null,null,null,null,{"$f":"IF(F196=\"\",\"\",IF((F196*E196-1)>=Coeff!$B$15,Coeff!$B$13/Coeff!$B$14*(F196*E196-1)/(F196-1),0))","v":""},{"$f":"IF(G196=\"\",\"\",IF((G196*(1-E196)-1)>=Coeff!$B$15,Coeff!$B$13/Coeff!$B$14*(G196*(1-E196)-1)/(G196-1),0))","v":""}]
[null,null,null,null,null,null,null,{"$f":"IF(F197=\"\",\"\",IF((F197*E197-1)>=Coeff!$B$15,Coeff!$B$13/Coeff!$B$14*(F197*E197-1)/(F197-1),0))","v":""},{"$f":"IF(G197=\"\",\"\",IF((G197*(1-E197)-1)>=Coeff!$B$15,Coeff!$B$13/Coeff!$B$14*(G197*(1-E197)-1)/(G197-1),0))","v":""}]
[null,null,null,null,null,null,null,{"$f":"IF(F198=\"\",\"\",IF((F198*E198-1)>=Coeff!$B$15,Coeff!$B$13/Coeff!$B$14*(F198*E198-1)/(F198-1),0))","v":""},{"$f":"IF(G198=\"\",\"\",IF((G198*(1-E198)-1)>=Coeff!$B$15,Coeff!$B$13/Coeff!$B$14*(G198*(1-E198)-1)/(G198-1),0))","v":""}]
[null,null,null,null,null,null,null,{"$f":"IF(F199=\"\",\"\",IF((F199*E199-1)>=Coeff!$B$15,Coeff!$B$13/Coeff!$B$14*(F199*E199-1)/(F199-1),0))","v":""},{"$f":"IF(G199=\"\",\"\",IF((G199*(1-E199)-1)>=Coeff!$B$15,Coeff!$B$13/Coeff!$B$14*(G199*(1-E199)-1)/(G199-1),0))","v":""}]
[null,null,null,null,null,null,null,{"$f":"IF(F200=\"\",\"\",IF((F200*E200-1)>=Coeff!$B$15,Coeff!$B$13/Coeff!$B$14*(F200*E200-1)/(F200-1),0))","v":""},{"$f":"IF(G200=\"\",\"\",IF((G200*(1-E200)-1)>=Coeff!$B$15,Coeff!$B$13/Coeff!$B$14*(G200*(1-E200)-1)/(G200-1),0))","v":""}]
[null,null,null,null,null,null,null,{"$f":"IF(F201=\"\",\"\",IF((F201*E201-1)>=Coeff!$B$15,Coeff!$B$13/Coeff!$B$14*(F201*E201-1)/(F201-1),0))","v":""},{"$f":"IF(G201=\"\",\"\",IF((G201*(1-E201)-1)>=Coeff!$B$15,Coeff!$B$13/Coeff!$B$14*(G201*(1-E201)-1)/(G201-1),0))","v":""}]
[null,null,null,null,null,null,null,{"$f":"IF(F202=\"\",\"\",IF((F202*E202-1)>=Coeff!$B$15,Coeff!$B$13/Coeff!$B$14*(F202*E202-1)/(F202-1),0))","v":""},{"$f":"IF(G202=\"\",\"\",IF((G202*(1-E202)-1)>=Coeff!$B$15,Coeff!$B$13/Coeff!$B$14*(G202*(1-E202)-1)/(G202-1),0))","v":""}]
[null,null,null,null,null,null,null,{"$f":"IF(F203=\"\",\"\",IF((F203*E203-1)>=Coeff!$B$15,Coeff!$B$13/Coeff!$B$14*(F203*E203-1)/(F203-1),0))","v":""},{"$f":"IF(G203=\"\",\"\",IF((G203*(1-E203)-1)>=Coeff!$B$15,Coeff!$B$13/Coeff!$B$14*(G203*(1-E203)-1)/(G203-1),0))","v":""}]
[null,null,null,null,null,null,null,{"$f":"IF(F204=\"\",\"\",IF((F204*E204-1)>=Coeff!$B$15,Coeff!$B$13/Coeff!$B$14*(F204*E204-1)/(F204-1),0))","v":""},{"$f":"IF(G204=\"\",\"\",IF((G204*(1-E204)-1)>=Coeff!$B$15,Coeff!$B$13/Coeff!$B$14*(G204*(1-E204)-1)/(G204-1),0))","v":""}]
[null,null,null,null,null,null,null,{"$f":"IF(F205=\"\",\"\",IF((F205*E205-1)>=Coeff!$B$15,Coeff!$B$13/Coeff!$B$14*(F205*E205-1)/(F205-1),0))","v":""},{"$f":"IF(G205=\"\",\"\",IF((G205*(1-E205)-1)>=Coeff!$B$15,Coeff!$B$13/Coeff!$B$14*(G205*(1-E205)-1)/(G205-1),0))","v":""}]
[null,null,null,null,null,null,null,{"$f":"IF(F206=\"\",\"\",IF((F206*E206-1)>=Coeff!$B$15,Coeff!$B$13/Coeff!$B$14*(F206*E206-1)/(F206-1),0))","v":""},{"$f":"IF(G206=\"\",\"\",IF((G206*(1-E206)-1)>=Coeff!$B$15,Coeff!$B$13/Coeff!$B$14*(G206*(1-E206)-1)/(G206-1),0))","v":""}]
[null,null,null,null,null,null,null,{"$f":"IF(F207=\"\",\"\",IF((F207*E207-1)>=Coeff!$B$15,Coeff!$B$13/Coeff!$B$14*(F207*E207-1)/(F207-1),0))","v":""},{"$f":"IF(G207=\"\",\"\",IF((G207*(1-E207)-1)>=Coeff!$B$15,Coeff!$B$13/Coeff!$B$14*(G207*(1-E207)-1)/(G207-1),0))","v":""}]
[null,null,null,null,null,null,null,{"$f":"IF(F208=\"\",\"\",IF((F208*E208-1)>=Coeff!$B$15,Coeff!$B$13/Coeff!$B$14*(F208*E208-1)/(F208-1),0))","v":""},{"$f":"IF(G208=\"\",\"\",IF((G208*(1-E208)-1)>=Coeff!$B$15,Coeff!$B$13/Coeff!$B$14*(G208*(1-E208)-1)/(G208-1),0))","v":""}]
[null,null,null,null,null,null,null,{"$f":"IF(F209=\"\",\"\",IF((F209*E209-1)>=Coeff!$B$15,Coeff!$B$13/Coeff!$B$14*(F209*E209-1)/(F209-1),0))","v":""},{"$f":"IF(G209=\"\",\"\",IF((G209*(1-E209)-1)>=Coeff!$B$15,Coeff!$B$13/Coeff!$B$14*(G209*(1-E209)-1)/(G209-1),0))","v":""}]
[null,null,null,null,null,null,null,{"$f":"IF(F210=\"\",\"\",IF((F210*E210-1)>=Coeff!$B$15,Coeff!$B$13/Coeff!$B$14*(F210*E210-1)/(F210-1),0))","v":""},{"$f":"IF(G210=\"\",\"\",IF((G210*(1-E210)-1)>=Coeff!$B$15,Coeff!$B$13/Coeff!$B$14*(G210*(1-E210)-1)/(G210-1),0))","v":""}]
[null,null,null,null,null,null,null,{"$f":"IF(F211=\"\",\"\",IF((F211*E211-1)>=Coeff!$B$15,Coeff!$B$13/Coeff!$B$14*(F211*E211-1)/(F211-1),0))","v":""},{"$f":"IF(G211=\"\",\"\",IF((G211*(1-E211)-1)>=Coeff!$B$15,Coeff!$B$13/Coeff!$B$14*(G211*(1-E211)-1)/(G211-1),0))","v":""}]
[null,null,null,null,null,null,null,{"$f":"IF(F212=\"\",\"\",IF((F212*E212-1)>=Coeff!$B$15,Coeff!$B$13/Coeff!$B$14*(F212*E212-1)/(F212-1),0))","v":""},{"$f":"IF(G212=\"\",\"\",IF((G212*(1-E212)-1)>=Coeff!$B$15,Coeff!$B$13/Coeff!$B$14*(G212*(1-E212)-1)/(G212-1),0))","v":""}]
[null,null,null,null,null,null,null,{"$f":"IF(F213=\"\",\"\",IF((F213*E213-1)>=Coeff!$B$15,Coeff!$B$13/Coeff!$B$14*(F213*E213-1)/(F213-1),0))","v":""},{"$f":"IF(G213=\"\",\"\",IF((G213*(1-E213)-1)>=Coeff!$B$15,Coeff!$B$13/Coeff!$B$14*(G213*(1-E213)-1)/(G213-1),0))","v":""}]
[null,null,null,null,null,null,null,{"$f":"IF(F214=\"\",\"\",IF((F214*E214-1)>=Coeff!$B$15,Coeff!$B$13/Coeff!$B$14*(F214*E214-1)/(F214-1),0))","v":""},{"$f":"IF(G214=\"\",\"\",IF((G214*(1-E214)-1)>=Coeff!$B$15,Coeff!$B$13/Coeff!$B$14*(G214*(1-E214)-1)/(G214-1),0))","v":""}]
[null,null,null,null,null,null,null,{"$f":"IF(F215=\"\",\"\",IF((F215*E215-1)>=Coeff!$B$15,Coeff!$B$13/Coeff!$B$14*(F215*E215-1)/(F215-1),0))","v":""},{"$f":"IF(G215=\"\",\"\",IF((G215*(1-E215)-1)>=Coeff!$B$15,Coeff!$B$13/Coeff!$B$14*(G215*(1-E215)-1)/(G215-1),0))","v":""}]
[null,null,null,null,null,null,null,{"$f":"IF(F216=\"\",\"\",IF((F216*E216-1)>=Coeff!$B$15,Coeff!$B$13/Coeff!$B$14*(F216*E216-1)/(F216-1),0))","v":""},{"$f":"IF(G216=\"\",\"\",IF((G216*(1-E216)-1)>=Coeff!$B$15,Coeff!$B$13/Coeff!$B$14*(G216*(1-E216)-1)/(G216-1),0))","v":""}]
[null,null,null,null,null,null,null,{"$f":"IF(F217=\"\",\"\",IF((F217*E217-1)>=Coeff!$B$15,Coeff!$B$13/Coeff!$B$14*(F217*E217-1)/(F217-1),0))","v":""},{"$f":"IF(G217=\"\",\"\",IF((G217*(1-E217)-1)>=Coeff!$B$15,Coeff!$B$13/Coeff!$B$14*(G217*(1-E217)-1)/(G217-1),0))","v":""}]
[null,null,null,null,null,null,null,{"$f":"IF(F218=\"\",\"\",IF((F218*E218-1)>=Coeff!$B$15,Coeff!$B$13/Coeff!$B$14*(F218*E218-1)/(F218-1),0))","v":""},{"$f":"IF(G218=\"\",\"\",IF((G218*(1-E218)-1)>=Coeff!$B$15,Coeff!$B$13/Coeff!$B$14*(G218*(1-E218)-1)/(G218-1),0))","v":""}]
[null,null,null,null,null,null,null,{"$f":"IF(F219=\"\",\"\",IF((F219*E219-1)>=Coeff!$B$15,Coeff!$B$13/Coeff!$B$14*(F219*E219-1)/(F219-1),0))","v":""},{"$f":"IF(G219=\"\",\"\",IF((G219*(1-E219)-1)>=Coeff!$B$15,Coeff!$B$13/Coeff!$B$14*(G219*(1-E219)-1)/(G219-1),0))","v":""}]
[null,null,null,null,null,null,null,{"$f":"IF(F220=\"\",\"\",IF((F220*E220-1)>=Coeff!$B$15,Coeff!$B$13/Coeff!$B$14*(F220*E220-1)/(F220-1),0))","v":""},{"$f":"IF(G220=\"\",\"\",IF((G220*(1-E220)-1)>=Coeff!$B$15,Coeff!$B$13/Coeff!$B$14*(G220*(1-E220)-1)/(G220-1),0))","v":""}]
[null,null,null,null,null,null,null,{"$f":"IF(F221=\"\",\"\",IF((F221*E221-1)>=Coeff!$B$15,Coeff!$B$13/Coeff!$B$14*(F221*E221-1)/(F221-1),0))","v":""},{"$f":"IF(G221=\"\",\"\",IF((G221*(1-E221)-1)>=Coeff!$B$15,Coeff!$B$13/Coeff!$B$14*(G221*(1-E221)-1)/(G221-1),0))","v":""}]
[null,null,null,null,null,null,null,{"$f":"IF(F222=\"\",\"\",IF((F222*E222-1)>=Coeff!$B$15,Coeff!$B$13/Coeff!$B$14*(F222*E222-1)/(F222-1),0))","v":""},{"$f":"IF(G222=\"\",\"\",IF((G222*(1-E222)-1)>=Coeff!$B$15,Coeff!$B$13/Coeff!$B$14*(G222*(1-E222)-1)/(G222-1),0))","v":""}]
[null,null,null,null,null,null,null,{"$f":"IF(F223=\"\",\"\",IF((F223*E223-1)>=Coeff!$B$15,Coeff!$B$13/Coeff!$B$14*(F223*E223-1)/(F223-1),0))","v":""},{"$f":"IF(G223=\"\",\"\",IF((G223*(1-E223)-1)>=Coeff!$B$15,Coeff!$B$13/Coeff!$B$14*(G223*(1-E223)-1)/(G223-1),0))","v":""}]
[null,null,null,null,null,null,null,{"$f":"IF(F224=\"\",\"\",IF((F224*E224-1)>=Coeff!$B$15,Coeff!$B$13/Coeff!$B$14*(F224*E224-1)/(F224-1),0))","v":""},{"$f":"IF(G224=\"\",\"\",IF((G224*(1-E224)-1)>=Coeff!$B$15,Coeff!$B$13/Coeff!$B$14*(G224*(1-E224)-1)/(G224-1),0))","v":""}]
[null,null,null,null,null,null,null,{"$f":"IF(F225=\"\",\"\",IF((F225*E225-1)>=Coeff!$B$15,Coeff!$B$13/Coeff!$B$14*(F225*E225-1)/(F225-1),0))","v":""},{"$f":"IF(G225=\"\",\"\",IF((G225*(1-E225)-1)>=Coeff!$B$15,Coeff!$B$13/Coeff!$B$14*(G225*(1-E225)-1)/(G225-1),0))","v":""}]
[null,null,null,null,null,null,null,{"$f":"IF(F226=\"\",\"\",IF((F226*E226-1)>=Coeff!$B$15,Coeff!$B$13/Coeff!$B$14*(F226*E226-1)/(F226-1),0))","v":""},{"$f":"IF(G226=\"\",\"\",IF((G226*(1-E226)-1)>=Coeff!$B$15,Coeff!$B$13/Coeff!$B$14*(G226*(1-E226)-1)/(G226-1),0))","v":""}]
[null,null,null,null,null,null,null,{"$f":"IF(F227=\"\",\"\",IF((F227*E227-1)>=Coeff!$B$15,Coeff!$B$13/Coeff!$B$14*(F227*E227-1)/(F227-1),0))","v":""},{"$f":"IF(G227=\"\",\"\",IF((G227*(1-E227)-1)>=Coeff!$B$15,Coeff!$B$13/Coeff!$B$14*(G227*(1-E227)-1)/(G227-1),0))","v":""}]
[null,null,null,null,null,null,null,{"$f":"IF(F228=\"\",\"\",IF((F228*E228-1)>=Coeff!$B$15,Coeff!$B$13/Coeff!$B$14*(F228*E228-1)/(F228-1),0))","v":""},{"$f":"IF(G228=\"\",\"\",IF((G228*(1-E228)-1)>=Coeff!$B$15,Coeff!$B$13/Coeff!$B$14*(G228*(1-E228)-1)/(G228-1),0))","v":""}]
[null,null,null,null,null,null,null,{"$f":"IF(F229=\"\",\"\",IF((F229*E229-1)>=Coeff!$B$15,Coeff!$B$13/Coeff!$B$14*(F229*E229-1)/(F229-1),0))","v":""},{"$f":"IF(G229=\"\",\"\",IF((G229*(1-E229)-1)>=Coeff!$B$15,Coeff!$B$13/Coeff!$B$14*(G229*(1-E229)-1)/(G229-1),0))","v":""}]
[null,null,null,null,null,null,null,{"$f":"IF(F230=\"\",\"\",IF((F230*E230-1)>=Coeff!$B$15,Coeff!$B$13/Coeff!$B$14*(F230*E230-1)/(F230-1),0))","v":""},{"$f":"IF(G230=\"\",\"\",IF((G230*(1-E230)-1)>=Coeff!$B$15,Coeff!$B$13/Coeff!$B$14*(G230*(1-E230)-1)/(G230-1),0))","v":""}]
[null,null,null,null,null,null,null,{"$f":"IF(F231=\"\",\"\",IF((F231*E231-1)>=Coeff!$B$15,Coeff!$B$13/Coeff!$B$14*(F231*E231-1)/(F231-1),0))","v":""},{"$f":"IF(G231=\"\",\"\",IF((G231*(1-E231)-1)>=Coeff!$B$15,Coeff!$B$13/Coeff!$B$14*(G231*(1-E231)-1)/(G231-1),0))","v":""}]
[null,null,null,null,null,null,null,{"$f":"IF(F232=\"\",\"\",IF((F232*E232-1)>=Coeff!$B$15,Coeff!$B$13/Coeff!$B$14*(F232*E232-1)/(F232-1),0))","v":""},{"$f":"IF(G232=\"\",\"\",IF((G232*(1-E232)-1)>=Coeff!$B$15,Coeff!$B$13/Coeff!$B$14*(G232*(1-E232)-1)/(G232-1),0))","v":""}]
[null,null,null,null,null,null,null,{"$f":"IF(F233=\"\",\"\",IF((F233*E233-1)>=Coeff!$B$15,Coeff!$B$13/Coeff!$B$14*(F233*E233-1)/(F233-1),0))","v":""},{"$f":"IF(G233=\"\",\"\",IF((G233*(1-E233)-1)>=Coeff!$B$15,Coeff!$B$13/Coeff!$B$14*(G233*(1-E233)-1)/(G233-1),0))","v":""}]
[null,null,null,null,null,null,null,{"$f":"IF(F234=\"\",\"\",IF((F234*E234-1)>=Coeff!$B$15,Coeff!$B$13/Coeff!$B$14*(F234*E234-1)/(F234-1),0))","v":""},{"$f":"IF(G234=\"\",\"\",IF((G234*(1-E234)-1)>=Coeff!$B$15,Coeff!$B$13/Coeff!$B$14*(G234*(1-E234)-1)/(G234-1),0))","v":""}]
[null,null,null,null,null,null,null,{"$f":"IF(F235=\"\",\"\",IF((F235*E235-1)>=Coeff!$B$15,Coeff!$B$13/Coeff!$B$14*(F235*E235-1)/(F235-1),0))","v":""},{"$f":"IF(G235=\"\",\"\",IF((G235*(1-E235)-1)>=Coeff!$B$15,Coeff!$B$13/Coeff!$B$14*(G235*(1-E235)-1)/(G235-1),0))","v":""}]
[null,null,null,null,null,null,null,{"$f":"IF(F236=\"\",\"\",IF((F236*E236-1)>=Coeff!$B$15,Coeff!$B$13/Coeff!$B$14*(F236*E236-1)/(F236-1),0))","v":""},{"$f":"IF(G236=\"\",\"\",IF((G236*(1-E236)-1)>=Coeff!$B$15,Coeff!$B$13/Coeff!$B$14*(G236*(1-E236)-1)/(G236-1),0))","v":""}]
[null,null,null,null,null,null,null,{"$f":"IF(F237=\"\",\"\",IF((F237*E237-1)>=Coeff!$B$15,Coeff!$B$13/Coeff!$B$14*(F237*E237-1)/(F237-1),0))","v":""},{"$f":"IF(G237=\"\",\"\",IF((G237*(1-E237)-1)>=Coeff!$B$15,Coeff!$B$13/Coeff!$B$14*(G237*(1-E237)-1)/(G237-1),0))","v":""}]
[null,null,null,null,null,null,null,{"$f":"IF(F238=\"\",\"\",IF((F238*E238-1)>=Coeff!$B$15,Coeff!$B$13/Coeff!$B$14*(F238*E238-1)/(F238-1),0))","v":""},{"$f":"IF(G238=\"\",\"\",IF((G238*(1-E238)-1)>=Coeff!$B$15,Coeff!$B$13/Coeff!$B$14*(G238*(1-E238)-1)/(G238-1),0))","v":""}]
[null,null,null,null,null,null,null,{"$f":"IF(F239=\"\",\"\",IF((F239*E239-1)>=Coeff!$B$15,Coeff!$B$13/Coeff!$B$14*(F239*E239-1)/(F239-1),0))","v":""},{"$f":"IF(G239=\"\",\"\",IF((G239*(1-E239)-1)>=Coeff!$B$15,Coeff!$B$13/Coeff!$B$14*(G239*(1-E239)-1)/(G239-1),0))","v":""}]
[null,null,null,null,null,null,null,{"$f":"IF(F240=\"\",\"\",IF((F240*E240-1)>=Coeff!$B$15,Coeff!$B$13/Coeff!$B$14*(F240*E240-1)/(F240-1),0))","v":""},{"$f":"IF(G240=\"\",\"\",IF((G240*(1-E240)-1)>=Coeff!$B$15,Coeff!$B$13/Coeff!$B$14*(G240*(1-E240)-1)/(G240-1),0))","v":""}]
[null,null,null,null,null,null,null,{"$f":"IF(F241=\"\",\"\",IF((F241*E241-1)>=Coeff!$B$15,Coeff!$B$13/Coeff!$B$14*(F241*E241-1)/(F241-1),0))","v":""},{"$f":"IF(G241=\"\",\"\",IF((G241*(1-E241)-1)>=Coeff!$B$15,Coeff!$B$13/Coeff!$B$14*(G241*(1-E241)-1)/(G241-1),0))","v":""}]
[null,null,null,null,null,null,null,{"$f":"IF(F242=\"\",\"\",IF((F242*E242-1)>=Coeff!$B$15,Coeff!$B$13/Coeff!$B$14*(F242*E242-1)/(F242-1),0))","v":""},{"$f":"IF(G242=\"\",\"\",IF((G242*(1-E242)-1)>=Coeff!$B$15,Coeff!$B$13/Coeff!$B$14*(G242*(1-E242)-1)/(G242-1),0))","v":""}]
[null,null,null,null,null,null,null,{"$f":"IF(F243=\"\",\"\",IF((F243*E243-1)>=Coeff!$B$15,Coeff!$B$13/Coeff!$B$14*(F243*E243-1)/(F243-1),0))","v":""},{"$f":"IF(G243=\"\",\"\",IF((G243*(1-E243)-1)>=Coeff!$B$15,Coeff!$B$13/Coeff!$B$14*(G243*(1-E243)-1)/(G243-1),0))","v":""}]
[null,null,null,null,null,null,null,{"$f":"IF(F244=\"\",\"\",IF((F244*E244-1)>=Coeff!$B$15,Coeff!$B$13/Coeff!$B$14*(F244*E244-1)/(F244-1),0))","v":""},{"$f":"IF(G244=\"\",\"\",IF((G244*(1-E244)-1)>=Coeff!$B$15,Coeff!$B$13/Coeff!$B$14*(G244*(1-E244)-1)/(G244-1),0))","v":""}]
[null,null,null,null,null,null,null,{"$f":"IF(F245=\"\",\"\",IF((F245*E245-1)>=Coeff!$B$15,Coeff!$B$13/Coeff!$B$14*(F245*E245-1)/(F245-1),0))","v":""},{"$f":"IF(G245=\"\",\"\",IF((G245*(1-E245)-1)>=Coeff!$B$15,Coeff!$B$13/Coeff!$B$14*(G245*(1-E245)-1)/(G245-1),0))","v":""}]
[null,null,null,null,null,null,null,{"$f":"IF(F246=\"\",\"\",IF((F246*E246-1)>=Coeff!$B$15,Coeff!$B$13/Coeff!$B$14*(F246*E246-1)/(F246-1),0))","v":""},{"$f":"IF(G246=\"\",\"\",IF((G246*(1-E246)-1)>=Coeff!$B$15,Coeff!$B$13/Coeff!$B$14*(G246*(1-E246)-1)/(G246-1),0))","v":""}]
[null,null,null,null,null,null,null,{"$f":"IF(F247=\"\",\"\",IF((F247*E247-1)>=Coeff!$B$15,Coeff!$B$13/Coeff!$B$14*(F247*E247-1)/(F247-1),0))","v":""},{"$f":"IF(G247=\"\",\"\",IF((G247*(1-E247)-1)>=Coeff!$B$15,Coeff!$B$13/Coeff!$B$14*(G247*(1-E247)-1)/(G247-1),0))","v":""}]
[null,null,null,null,null,null,null,{"$f":"IF(F248=\"\",\"\",IF((F248*E248-1)>=Coeff!$B$15,Coeff!$B$13/Coeff!$B$14*(F248*E248-1)/(F248-1),0))","v":""},{"$f":"IF(G248=\"\",\"\",IF((G248*(1-E248)-1)>=Coeff!$B$15,Coeff!$B$13/Coeff!$B$14*(G248*(1-E248)-1)/(G248-1),0))","v":""}]
[null,null,null,null,null,null,null,{"$f":"IF(F249=\"\",\"\",IF((F249*E249-1)>=Coeff!$B$15,Coeff!$B$13/Coeff!$B$14*(F249*E249-1)/(F249-1),0))","v":""},{"$f":"IF(G249=\"\",\"\",IF((G249*(1-E249)-1)>=Coeff!$B$15,Coeff!$B$13/Coeff!$B$14*(G249*(1-E249)-1)/(G249-1),0))","v":""}]
[null,null,null,null,null,null,null,{"$f":"IF(F250=\"\",\"\",IF((F250*E250-1)>=Coeff!$B$15,Coeff!$B$13/Coeff!$B$14*(F250*E250-1)/(F250-1),0))","v":""},{"$f":"IF(G250=\"\",\"\",IF((G250*(1-E250)-1)>=Coeff!$B$15,Coeff!$B$13/Coeff!$B$14*(G250*(1-E250)-1)/(G250-1),0))","v":""}]
[null,null,null,null,null,null,null,{"$f":"IF(F251=\"\",\"\",IF((F251*E251-1)>=Coeff!$B$15,Coeff!$B$13/Coeff!$B$14*(F251*E251-1)/(F251-1),0))","v":""},{"$f":"IF(G251=\"\",\"\",IF((G251*(1-E251)-1)>=Coeff!$B$15,Coeff!$B$13/Coeff!$B$14*(G251*(1-E251)-1)/(G251-1),0))","v":""}]
[null,null,null,null,null,null,null,{"$f":"IF(F252=\"\",\"\",IF((F252*E252-1)>=Coeff!$B$15,Coeff!$B$13/Coeff!$B$14*(F252*E252-1)/(F252-1),0))","v":""},{"$f":"IF(G252=\"\",\"\",IF((G252*(1-E252)-1)>=Coeff!$B$15,Coeff!$B$13/Coeff!$B$14*(G252*(1-E252)-1)/(G252-1),0))","v":""}]
[null,null,null,null,null,null,null,{"$f":"IF(F253=\"\",\"\",IF((F253*E253-1)>=Coeff!$B$15,Coeff!$B$13/Coeff!$B$14*(F253*E253-1)/(F253-1),0))","v":""},{"$f":"IF(G253=\"\",\"\",IF((G253*(1-E253)-1)>=Coeff!$B$15,Coeff!$B$13/Coeff!$B$14*(G253*(1-E253)-1)/(G253-1),0))","v":""}]
[null,null,null,null,null,null,null,{"$f":"IF(F254=\"\",\"\",IF((F254*E254-1)>=Coeff!$B$15,Coeff!$B$13/Coeff!$B$14*(F254*E254-1)/(F254-1),0))","v":""},{"$f":"IF(G254=\"\",\"\",IF((G254*(1-E254)-1)>=Coeff!$B$15,Coeff!$B$13/Coeff!$B$14*(G254*(1-E254)-1)/(G254-1),0))","v":""}]
[null,null,null,null,null,null,null,{"$f":"IF(F255=\"\",\"\",IF((F255*E255-1)>=Coeff!$B$15,Coeff!$B$13/Coeff!$B$14*(F255*E255-1)/(F255-1),0))","v":""},{"$f":"IF(G255=\"\",\"\",IF((G255*(1-E255)-1)>=Coeff!$B$15,Coeff!$B$13/Coeff!$B$14*(G255*(1-E255)-1)/(G255-1),0))","v":""}]
[null,null,null,null,null,null,null,{"$f":"IF(F256=\"\",\"\",IF((F256*E256-1)>=Coeff!$B$15,Coeff!$B$13/Coeff!$B$14*(F256*E256-1)/(F256-1),0))","v":""},{"$f":"IF(G256=\"\",\"\",IF((G256*(1-E256)-1)>=Coeff!$B$15,Coeff!$B$13/Coeff!$B$14*(G256*(1-E256)-1)/(G256-1),0))","v":""}]
[null,null,null,null,null,null,null,{"$f":"IF(F257=\"\",\"\",IF((F257*E257-1)>=Coeff!$B$15,Coeff!$B$13/Coeff!$B$14*(F257*E257-1)/(F257-1),0))","v":""},{"$f":"IF(G257=\"\",\"\",IF((G257*(1-E257)-1)>=Coeff!$B$15,Coeff!$B$13/Coeff!$B$14*(G257*(1-E257)-1)/(G257-1),0))","v":""}]
[null,null,null,null,null,null,null,{"$f":"IF(F258=\"\",\"\",IF((F258*E258-1)>=Coeff!$B$15,Coeff!$B$13/Coeff!$B$14*(F258*E258-1)/(F258-1),0))","v":""},{"$f":"IF(G258=\"\",\"\",IF((G258*(1-E258)-1)>=Coeff!$B$15,Coeff!$B$13/Coeff!$B$14*(G258*(1-E258)-1)/(G258-1),0))","v":""}]
[null,null,null,null,null,null,null,{"$f":"IF(F259=\"\",\"\",IF((F259*E259-1)>=Coeff!$B$15,Coeff!$B$13/Coeff!$B$14*(F259*E259-1)/(F259-1),0))","v":""},{"$f":"IF(G259=\"\",\"\",IF((G259*(1-E259)-1)>=Coeff!$B$15,Coeff!$B$13/Coeff!$B$14*(G259*(1-E259)-1)/(G259-1),0))","v":""}]
[null,null,null,null,null,null,null,{"$f":"IF(F260=\"\",\"\",IF((F260*E260-1)>=Coeff!$B$15,Coeff!$B$13/Coeff!$B$14*(F260*E260-1)/(F260-1),0))","v":""},{"$f":"IF(G260=\"\",\"\",IF((G260*(1-E260)-1)>=Coeff!$B$15,Coeff!$B$13/Coeff!$B$14*(G260*(1-E260)-1)/(G260-1),0))","v":""}]
[null,null,null,null,null,null,null,{"$f":"IF(F261=\"\",\"\",IF((F261*E261-1)>=Coeff!$B$15,Coeff!$B$13/Coeff!$B$14*(F261*E261-1)/(F261-1),0))","v":""},{"$f":"IF(G261=\"\",\"\",IF((G261*(1-E261)-1)>=Coeff!$B$15,Coeff!$B$13/Coeff!$B$14*(G261*(1-E261)-1)/(G261-1),0))","v":""}]
[null,null,null,null,null,null,null,{"$f":"IF(F262=\"\",\"\",IF((F262*E262-1)>=Coeff!$B$15,Coeff!$B$13/Coeff!$B$14*(F262*E262-1)/(F262-1),0))","v":""},{"$f":"IF(G262=\"\",\"\",IF((G262*(1-E262)-1)>=Coeff!$B$15,Coeff!$B$13/Coeff!$B$14*(G262*(1-E262)-1)/(G262-1),0))","v":""}]
[null,null,null,null,null,null,null,{"$f":"IF(F263=\"\",\"\",IF((F263*E263-1)>=Coeff!$B$15,Coeff!$B$13/Coeff!$B$14*(F263*E263-1)/(F263-1),0))","v":""},{"$f":"IF(G263=\"\",\"\",IF((G263*(1-E263)-1)>=Coeff!$B$15,Coeff!$B$13/Coeff!$B$14*(G263*(1-E263)-1)/(G263-1),0))","v":""}]
[null,null,null,null,null,null,null,{"$f":"IF(F264=\"\",\"\",IF((F264*E264-1)>=Coeff!$B$15,Coeff!$B$13/Coeff!$B$14*(F264*E264-1)/(F264-1),0))","v":""},{"$f":"IF(G264=\"\",\"\",IF((G264*(1-E264)-1)>=Coeff!$B$15,Coeff!$B$13/Coeff!$B$14*(G264*(1-E264)-1)/(G264-1),0))","v":""}]
[null,null,null,null,null,null,null,{"$f":"IF(F265=\"\",\"\",IF((F265*E265-1)>=Coeff!$B$15,Coeff!$B$13/Coeff!$B$14*(F265*E265-1)/(F265-1),0))","v":""},{"$f":"IF(G265=\"\",\"\",IF((G265*(1-E265)-1)>=Coeff!$B$15,Coeff!$B$13/Coeff!$B$14*(G265*(1-E265)-1)/(G265-1),0))","v":""}]
[null,null,null,null,null,null,null,{"$f":"IF(F266=\"\",\"\",IF((F266*E266-1)>=Coeff!$B$15,Coeff!$B$13/Coeff!$B$14*(F266*E266-1)/(F266-1),0))","v":""},{"$f":"IF(G266=\"\",\"\",IF((G266*(1-E266)-1)>=Coeff!$B$15,Coeff!$B$13/Coeff!$B$14*(G266*(1-E266)-1)/(G266-1),0))","v":""}]
[null,null,null,null,null,null,null,{"$f":"IF(F267=\"\",\"\",IF((F267*E267-1)>=Coeff!$B$15,Coeff!$B$13/Coeff!$B$14*(F267*E267-1)/(F267-1),0))","v":""},{"$f":"IF(G267=\"\",\"\",IF((G267*(1-E267)-1)>=Coeff!$B$15,Coeff!$B$13/Coeff!$B$14*(G267*(1-E267)-1)/(G267-1),0))","v":""}]
[null,null,null,null,null,null,null,{"$f":"IF(F268=\"\",\"\",IF((F268*E268-1)>=Coeff!$B$15,Coeff!$B$13/Coeff!$B$14*(F268*E268-1)/(F268-1),0))","v":""},{"$f":"IF(G268=\"\",\"\",IF((G268*(1-E268)-1)>=Coeff!$B$15,Coeff!$B$13/Coeff!$B$14*(G268*(1-E268)-1)/(G268-1),0))","v":""}]
[null,null,null,null,null,null,null,{"$f":"IF(F269=\"\",\"\",IF((F269*E269-1)>=Coeff!$B$15,Coeff!$B$13/Coeff!$B$14*(F269*E269-1)/(F269-1),0))","v":""},{"$f":"IF(G269=\"\",\"\",IF((G269*(1-E269)-1)>=Coeff!$B$15,Coeff!$B$13/Coeff!$B$14*(G269*(1-E269)-1)/(G269-1),0))","v":""}]
[null,null,null,null,null,null,null,{"$f":"IF(F270=\"\",\"\",IF((F270*E270-1)>=Coeff!$B$15,Coeff!$B$13/Coeff!$B$14*(F270*E270-1)/(F270-1),0))","v":""},{"$f":"IF(G270=\"\",\"\",IF((G270*(1-E270)-1)>=Coeff!$B$15,Coeff!$B$13/Coeff!$B$14*(G270*(1-E270)-1)/(G270-1),0))","v":""}]
[null,null,null,null,null,null,null,{"$f":"IF(F271=\"\",\"\",IF((F271*E271-1)>=Coeff!$B$15,Coeff!$B$13/Coeff!$B$14*(F271*E271-1)/(F271-1),0))","v":""},{"$f":"IF(G271=\"\",\"\",IF((G271*(1-E271)-1)>=Coeff!$B$15,Coeff!$B$13/Coeff!$B$14*(G271*(1-E271)-1)/(G271-1),0))","v":""}]
[null,null,null,null,null,null,null,{"$f":"IF(F272=\"\",\"\",IF((F272*E272-1)>=Coeff!$B$15,Coeff!$B$13/Coeff!$B$14*(F272*E272-1)/(F272-1),0))","v":""},{"$f":"IF(G272=\"\",\"\",IF((G272*(1-E272)-1)>=Coeff!$B$15,Coeff!$B$13/Coeff!$B$14*(G272*(1-E272)-1)/(G272-1),0))","v":""}]
[null,null,null,null,null,null,null,{"$f":"IF(F273=\"\",\"\",IF((F273*E273-1)>=Coeff!$B$15,Coeff!$B$13/Coeff!$B$14*(F273*E273-1)/(F273-1),0))","v":""},{"$f":"IF(G273=\"\",\"\",IF((G273*(1-E273)-1)>=Coeff!$B$15,Coeff!$B$13/Coeff!$B$14*(G273*(1-E273)-1)/(G273-1),0))","v":""}]
[null,null,null,null,null,null,null,{"$f":"IF(F274=\"\",\"\",IF((F274*E274-1)>=Coeff!$B$15,Coeff!$B$13/Coeff!$B$14*(F274*E274-1)/(F274-1),0))","v":""},{"$f":"IF(G274=\"\",\"\",IF((G274*(1-E274)-1)>=Coeff!$B$15,Coeff!$B$13/Coeff!$B$14*(G274*(1-E274)-1)/(G274-1),0))","v":""}]
[null,null,null,null,null,null,null,{"$f":"IF(F275=\"\",\"\",IF((F275*E275-1)>=Coeff!$B$15,Coeff!$B$13/Coeff!$B$14*(F275*E275-1)/(F275-1),0))","v":""},{"$f":"IF(G275=\"\",\"\",IF((G275*(1-E275)-1)>=Coeff!$B$15,Coeff!$B$13/Coeff!$B$14*(G275*(1-E275)-1)/(G275-1),0))","v":""}]
[null,null,null,null,null,null,null,{"$f":"IF(F276=\"\",\"\",IF((F276*E276-1)>=Coeff!$B$15,Coeff!$B$13/Coeff!$B$14*(F276*E276-1)/(F276-1),0))","v":""},{"$f":"IF(G276=\"\",\"\",IF((G276*(1-E276)-1)>=Coeff!$B$15,Coeff!$B$13/Coeff!$B$14*(G276*(1-E276)-1)/(G276-1),0))","v":""}]
[null,null,null,null,null,null,null,{"$f":"IF(F277=\"\",\"\",IF((F277*E277-1)>=Coeff!$B$15,Coeff!$B$13/Coeff!$B$14*(F277*E277-1)/(F277-1),0))","v":""},{"$f":"IF(G277=\"\",\"\",IF((G277*(1-E277)-1)>=Coeff!$B$15,Coeff!$B$13/Coeff!$B$14*(G277*(1-E277)-1)/(G277-1),0))","v":""}]
[null,null,null,null,null,null,null,{"$f":"IF(F278=\"\",\"\",IF((F278*E278-1)>=Coeff!$B$15,Coeff!$B$13/Coeff!$B$14*(F278*E278-1)/(F278-1),0))","v":""},{"$f":"IF(G278=\"\",\"\",IF((G278*(1-E278)-1)>=Coeff!$B$15,Coeff!$B$13/Coeff!$B$14*(G278*(1-E278)-1)/(G278-1),0))","v":""}]
[null,null,null,null,null,null,null,{"$f":"IF(F279=\"\",\"\",IF((F279*E279-1)>=Coeff!$B$15,Coeff!$B$13/Coeff!$B$14*(F279*E279-1)/(F279-1),0))","v":""},{"$f":"IF(G279=\"\",\"\",IF((G279*(1-E279)-1)>=Coeff!$B$15,Coeff!$B$13/Coeff!$B$14*(G279*(1-E279)-1)/(G279-1),0))","v":""}]
[null,null,null,null,null,null,null,{"$f":"IF(F280=\"\",\"\",IF((F280*E280-1)>=Coeff!$B$15,Coeff!$B$13/Coeff!$B$14*(F280*E280-1)/(F280-1),0))","v":""},{"$f":"IF(G280=\"\",\"\",IF((G280*(1-E280)-1)>=Coeff!$B$15,Coeff!$B$13/Coeff!$B$14*(G280*(1-E280)-1)/(G280-1),0))","v":""}]
[null,null,null,null,null,null,null,{"$f":"IF(F281=\"\",\"\",IF((F281*E281-1)>=Coeff!$B$15,Coeff!$B$13/Coeff!$B$14*(F281*E281-1)/(F281-1),0))","v":""},{"$f":"IF(G281=\"\",\"\",IF((G281*(1-E281)-1)>=Coeff!$B$15,Coeff!$B$13/Coeff!$B$14*(G281*(1-E281)-1)/(G281-1),0))","v":""}]
[null,null,null,null,null,null,null,{"$f":"IF(F282=\"\",\"\",IF((F282*E282-1)>=Coeff!$B$15,Coeff!$B$13/Coeff!$B$14*(F282*E282-1)/(F282-1),0))","v":""},{"$f":"IF(G282=\"\",\"\",IF((G282*(1-E282)-1)>=Coeff!$B$15,Coeff!$B$13/Coeff!$B$14*(G282*(1-E282)-1)/(G282-1),0))","v":""}]
[null,null,null,null,null,null,null,{"$f":"IF(F283=\"\",\"\",IF((F283*E283-1)>=Coeff!$B$15,Coeff!$B$13/Coeff!$B$14*(F283*E283-1)/(F283-1),0))","v":""},{"$f":"IF(G283=\"\",\"\",IF((G283*(1-E283)-1)>=Coeff!$B$15,Coeff!$B$13/Coeff!$B$14*(G283*(1-E283)-1)/(G283-1),0))","v":""}]
[null,null,null,null,null,null,null,{"$f":"IF(F284=\"\",\"\",IF((F284*E284-1)>=Coeff!$B$15,Coeff!$B$13/Coeff!$B$14*(F284*E284-1)/(F284-1),0))","v":""},{"$f":"IF(G284=\"\",\"\",IF((G284*(1-E284)-1)>=Coeff!$B$15,Coeff!$B$13/Coeff!$B$14*(G284*(1-E284)-1)/(G284-1),0))","v":""}]
[null,null,null,null,null,null,null,{"$f":"IF(F285=\"\",\"\",IF((F285*E285-1)>=Coeff!$B$15,Coeff!$B$13/Coeff!$B$14*(F285*E285-1)/(F285-1),0))","v":""},{"$f":"IF(G285=\"\",\"\",IF((G285*(1-E285)-1)>=Coeff!$B$15,Coeff!$B$13/Coeff!$B$14*(G285*(1-E285)-1)/(G285-1),0))","v":""}]
[null,null,null,null,null,null,null,{"$f":"IF(F286=\"\",\"\",IF((F286*E286-1)>=Coeff!$B$15,Coeff!$B$13/Coeff!$B$14*(F286*E286-1)/(F286-1),0))","v":""},{"$f":"IF(G286=\"\",\"\",IF((G286*(1-E286)-1)>=Coeff!$B$15,Coeff!$B$13/Coeff!$B$14*(G286*(1-E286)-1)/(G286-1),0))","v":""}]
[null,null,null,null,null,null,null,{"$f":"IF(F287=\"\",\"\",IF((F287*E287-1)>=Coeff!$B$15,Coeff!$B$13/Coeff!$B$14*(F287*E287-1)/(F287-1),0))","v":""},{"$f":"IF(G287=\"\",\"\",IF((G287*(1-E287)-1)>=Coeff!$B$15,Coeff!$B$13/Coeff!$B$14*(G287*(1-E287)-1)/(G287-1),0))","v":""}]
[null,null,null,null,null,null,null,{"$f":"IF(F288=\"\",\"\",IF((F288*E288-1)>=Coeff!$B$15,Coeff!$B$13/Coeff!$B$14*(F288*E288-1)/(F288-1),0))","v":""},{"$f":"IF(G288=\"\",\"\",IF((G288*(1-E288)-1)>=Coeff!$B$15,Coeff!$B$13/Coeff!$B$14*(G288*(1-E288)-1)/(G288-1),0))","v":""}]
[null,null,null,null,null,null,null,{"$f":"IF(F289=\"\",\"\",IF((F289*E289-1)>=Coeff!$B$15,Coeff!$B$13/Coeff!$B$14*(F289*E289-1)/(F289-1),0))","v":""},{"$f":"IF(G289=\"\",\"\",IF((G289*(1-E289)-1)>=Coeff!$B$15,Coeff!$B$13/Coeff!$B$14*(G289*(1-E289)-1)/(G289-1),0))","v":""}]
[null,null,null,null,null,null,null,{"$f":"IF(F290=\"\",\"\",IF((F290*E290-1)>=Coeff!$B$15,Coeff!$B$13/Coeff!$B$14*(F290*E290-1)/(F290-1),0))","v":""},{"$f":"IF(G290=\"\",\"\",IF((G290*(1-E290)-1)>=Coeff!$B$15,Coeff!$B$13/Coeff!$B$14*(G290*(1-E290)-1)/(G290-1),0))","v":""}]
[null,null,null,null,null,null,null,{"$f":"IF(F291=\"\",\"\",IF((F291*E291-1)>=Coeff!$B$15,Coeff!$B$13/Coeff!$B$14*(F291*E291-1)/(F291-1),0))","v":""},{"$f":"IF(G291=\"\",\"\",IF((G291*(1-E291)-1)>=Coeff!$B$15,Coeff!$B$13/Coeff!$B$14*(G291*(1-E291)-1)/(G291-1),0))","v":""}]
[null,null,null,null,null,null,null,{"$f":"IF(F292=\"\",\"\",IF((F292*E292-1)>=Coeff!$B$15,Coeff!$B$13/Coeff!$B$14*(F292*E292-1)/(F292-1),0))","v":""},{"$f":"IF(G292=\"\",\"\",IF((G292*(1-E292)-1)>=Coeff!$B$15,Coeff!$B$13/Coeff!$B$14*(G292*(1-E292)-1)/(G292-1),0))","v":""}]
[null,null,null,null,null,null,null,{"$f":"IF(F293=\"\",\"\",IF((F293*E293-1)>=Coeff!$B$15,Coeff!$B$13/Coeff!$B$14*(F293*E293-1)/(F293-1),0))","v":""},{"$f":"IF(G293=\"\",\"\",IF((G293*(1-E293)-1)>=Coeff!$B$15,Coeff!$B$13/Coeff!$B$14*(G293*(1-E293)-1)/(G293-1),0))","v":""}]
[null,null,null,null,null,null,null,{"$f":"IF(F294=\"\",\"\",IF((F294*E294-1)>=Coeff!$B$15,Coeff!$B$13/Coeff!$B$14*(F294*E294-1)/(F294-1),0))","v":""},{"$f":"IF(G294=\"\",\"\",IF((G294*(1-E294)-1)>=Coeff!$B$15,Coeff!$B$13/Coeff!$B$14*(G294*(1-E294)-1)/(G294-1),0))","v":""}]
[null,null,null,null,null,null,null,{"$f":"IF(F295=\"\",\"\",IF((F295*E295-1)>=Coeff!$B$15,Coeff!$B$13/Coeff!$B$14*(F295*E295-1)/(F295-1),0))","v":""},{"$f":"IF(G295=\"\",\"\",IF((G295*(1-E295)-1)>=Coeff!$B$15,Coeff!$B$13/Coeff!$B$14*(G295*(1-E295)-1)/(G295-1),0))","v":""}]
[null,null,null,null,null,null,null,{"$f":"IF(F296=\"\",\"\",IF((F296*E296-1)>=Coeff!$B$15,Coeff!$B$13/Coeff!$B$14*(F296*E296-1)/(F296-1),0))","v":""},{"$f":"IF(G296=\"\",\"\",IF((G296*(1-E296)-1)>=Coeff!$B$15,Coeff!$B$13/Coeff!$B$14*(G296*(1-E296)-1)/(G296-1),0))","v":""}]
[null,null,null,null,null,null,null,{"$f":"IF(F297=\"\",\"\",IF((F297*E297-1)>=Coeff!$B$15,Coeff!$B$13/Coeff!$B$14*(F297*E297-1)/(F297-1),0))","v":""},{"$f":"IF(G297=\"\",\"\",IF((G297*(1-E297)-1)>=Coeff!$B$15,Coeff!$B$13/Coeff!$B$14*(G297*(1-E297)-1)/(G297-1),0))","v":""}]
[null,null,null,null,null,null,null,{"$f":"IF(F298=\"\",\"\",IF((F298*E298-1)>=Coeff!$B$15,Coeff!$B$13/Coeff!$B$14*(F298*E298-1)/(F298-1),0))","v":""},{"$f":"IF(G298=\"\",\"\",IF((G298*(1-E298)-1)>=Coeff!$B$15,Coeff!$B$13/Coeff!$B$14*(G298*(1-E298)-1)/(G298-1),0))","v":""}]
[null,null,null,null,null,null,null,{"$f":"IF(F299=\"\",\"\",IF((F299*E299-1)>=Coeff!$B$15,Coeff!$B$13/Coeff!$B$14*(F299*E299-1)/(F299-1),0))","v":""},{"$f":"IF(G299=\"\",\"\",IF((G299*(1-E299)-1)>=Coeff!$B$15,Coeff!$B$13/Coeff!$B$14*(G299*(1-E299)-1)/(G299-1),0))","v":""}]
[null,null,null,null,null,null,null,{"$f":"IF(F300=\"\",\"\",IF((F300*E300-1)>=Coeff!$B$15,Coeff!$B$13/Coeff!$B$14*(F300*E300-1)/(F300-1),0))","v":""},{"$f":"IF(G300=\"\",\"\",IF((G300*(1-E300)-1)>=Coeff!$B$15,Coeff!$B$13/Coeff!$B$14*(G300*(1-E300)-1)/(G300-1),0))","v":""}]
[null,null,null,null,null,null,null,{"$f":"IF(F301=\"\",\"\",IF((F301*E301-1)>=Coeff!$B$15,Coeff!$B$13/Coeff!$B$14*(F301*E301-1)/(F301-1),0))","v":""},{"$f":"IF(G301=\"\",\"\",IF((G301*(1-E301)-1)>=Coeff!$B$15,Coeff!$B$13/Coeff!$B$14*(G301*(1-E301)-1)/(G301-1),0))","v":""}]
[null,null,null,null,null,null,null,{"$f":"IF(F302=\"\",\"\",IF((F302*E302-1)>=Coeff!$B$15,Coeff!$B$13/Coeff!$B$14*(F302*E302-1)/(F302-1),0))","v":""},{"$f":"IF(G302=\"\",\"\",IF((G302*(1-E302)-1)>=Coeff!$B$15,Coeff!$B$13/Coeff!$B$14*(G302*(1-E302)-1)/(G302-1),0))","v":""}]
[null,null,null,null,null,null,null,{"$f":"IF(F303=\"\",\"\",IF((F303*E303-1)>=Coeff!$B$15,Coeff!$B$13/Coeff!$B$14*(F303*E303-1)/(F303-1),0))","v":""},{"$f":"IF(G303=\"\",\"\",IF((G303*(1-E303)-1)>=Coeff!$B$15,Coeff!$B$13/Coeff!$B$14*(G303*(1-E303)-1)/(G303-1),0))","v":""}]
[null,null,null,null,null,null,null,{"$f":"IF(F304=\"\",\"\",IF((F304*E304-1)>=Coeff!$B$15,Coeff!$B$13/Coeff!$B$14*(F304*E304-1)/(F304-1),0))","v":""},{"$f":"IF(G304=\"\",\"\",IF((G304*(1-E304)-1)>=Coeff!$B$15,Coeff!$B$13/Coeff!$B$14*(G304*(1-E304)-1)/(G304-1),0))","v":""}]
[null,null,null,null,null,null,null,{"$f":"IF(F305=\"\",\"\",IF((F305*E305-1)>=Coeff!$B$15,Coeff!$B$13/Coeff!$B$14*(F305*E305-1)/(F305-1),0))","v":""},{"$f":"IF(G305=\"\",\"\",IF((G305*(1-E305)-1)>=Coeff!$B$15,Coeff!$B$13/Coeff!$B$14*(G305*(1-E305)-1)/(G305-1),0))","v":""}]
[null,null,null,null,null,null,null,{"$f":"IF(F306=\"\",\"\",IF((F306*E306-1)>=Coeff!$B$15,Coeff!$B$13/Coeff!$B$14*(F306*E306-1)/(F306-1),0))","v":""},{"$f":"IF(G306=\"\",\"\",IF((G306*(1-E306)-1)>=Coeff!$B$15,Coeff!$B$13/Coeff!$B$14*(G306*(1-E306)-1)/(G306-1),0))","v":""}]
[null,null,null,null,null,null,null,{"$f":"IF(F307=\"\",\"\",IF((F307*E307-1)>=Coeff!$B$15,Coeff!$B$13/Coeff!$B$14*(F307*E307-1)/(F307-1),0))","v":""},{"$f":"IF(G307=\"\",\"\",IF((G307*(1-E307)-1)>=Coeff!$B$15,Coeff!$B$13/Coeff!$B$14*(G307*(1-E307)-1)/(G307-1),0))","v":""}]
[null,null,null,null,null,null,null,{"$f":"IF(F308=\"\",\"\",IF((F308*E308-1)>=Coeff!$B$15,Coeff!$B$13/Coeff!$B$14*(F308*E308-1)/(F308-1),0))","v":""},{"$f":"IF(G308=\"\",\"\",IF((G308*(1-E308)-1)>=Coeff!$B$15,Coeff!$B$13/Coeff!$B$14*(G308*(1-E308)-1)/(G308-1),0))","v":""}]
[null,null,null,null,null,null,null,{"$f":"IF(F309=\"\",\"\",IF((F309*E309-1)>=Coeff!$B$15,Coeff!$B$13/Coeff!$B$14*(F309*E309-1)/(F309-1),0))","v":""},{"$f":"IF(G309=\"\",\"\",IF((G309*(1-E309)-1)>=Coeff!$B$15,Coeff!$B$13/Coeff!$B$14*(G309*(1-E309)-1)/(G309-1),0))","v":""}]
[null,null,null,null,null,null,null,{"$f":"IF(F310=\"\",\"\",IF((F310*E310-1)>=Coeff!$B$15,Coeff!$B$13/Coeff!$B$14*(F310*E310-1)/(F310-1),0))","v":""},{"$f":"IF(G310=\"\",\"\",IF((G310*(1-E310)-1)>=Coeff!$B$15,Coeff!$B$13/Coeff!$B$14*(G310*(1-E310)-1)/(G310-1),0))","v":""}]
[null,null,null,null,null,null,null,{"$f":"IF(F311=\"\",\"\",IF((F311*E311-1)>=Coeff!$B$15,Coeff!$B$13/Coeff!$B$14*(F311*E311-1)/(F311-1),0))","v":""},{"$f":"IF(G311=\"\",\"\",IF((G311*(1-E311)-1)>=Coeff!$B$15,Coeff!$B$13/Coeff!$B$14*(G311*(1-E311)-1)/(G311-1),0))","v":""}]
[null,null,null,null,null,null,null,{"$f":"IF(F312=\"\",\"\",IF((F312*E312-1)>=Coeff!$B$15,Coeff!$B$13/Coeff!$B$14*(F312*E312-1)/(F312-1),0))","v":""},{"$f":"IF(G312=\"\",\"\",IF((G312*(1-E312)-1)>=Coeff!$B$15,Coeff!$B$13/Coeff!$B$14*(G312*(1-E312)-1)/(G312-1),0))","v":""}]
[null,null,null,null,null,null,null,{"$f":"IF(F313=\"\",\"\",IF((F313*E313-1)>=Coeff!$B$15,Coeff!$B$13/Coeff!$B$14*(F313*E313-1)/(F313-1),0))","v":""},{"$f":"IF(G313=\"\",\"\",IF((G313*(1-E313)-1)>=Coeff!$B$15,Coeff!$B$13/Coeff!$B$14*(G313*(1-E313)-1)/(G313-1),0))","v":""}]
[null,null,null,null,null,null,null,{"$f":"IF(F314=\"\",\"\",IF((F314*E314-1)>=Coeff!$B$15,Coeff!$B$13/Coeff!$B$14*(F314*E314-1)/(F314-1),0))","v":""},{"$f":"IF(G314=\"\",\"\",IF((G314*(1-E314)-1)>=Coeff!$B$15,Coeff!$B$13/Coeff!$B$14*(G314*(1-E314)-1)/(G314-1),0))","v":""}]
[null,null,null,null,null,null,null,{"$f":"IF(F315=\"\",\"\",IF((F315*E315-1)>=Coeff!$B$15,Coeff!$B$13/Coeff!$B$14*(F315*E315-1)/(F315-1),0))","v":""},{"$f":"IF(G315=\"\",\"\",IF((G315*(1-E315)-1)>=Coeff!$B$15,Coeff!$B$13/Coeff!$B$14*(G315*(1-E315)-1)/(G315-1),0))","v":""}]
[null,null,null,null,null,null,null,{"$f":"IF(F316=\"\",\"\",IF((F316*E316-1)>=Coeff!$B$15,Coeff!$B$13/Coeff!$B$14*(F316*E316-1)/(F316-1),0))","v":""},{"$f":"IF(G316=\"\",\"\",IF((G316*(1-E316)-1)>=Coeff!$B$15,Coeff!$B$13/Coeff!$B$14*(G316*(1-E316)-1)/(G316-1),0))","v":""}]
[null,null,null,null,null,null,null,{"$f":"IF(F317=\"\",\"\",IF((F317*E317-1)>=Coeff!$B$15,Coeff!$B$13/Coeff!$B$14*(F317*E317-1)/(F317-1),0))","v":""},{"$f":"IF(G317=\"\",\"\",IF((G317*(1-E317)-1)>=Coeff!$B$15,Coeff!$B$13/Coeff!$B$14*(G317*(1-E317)-1)/(G317-1),0))","v":""}]
[null,null,null,null,null,null,null,{"$f":"IF(F318=\"\",\"\",IF((F318*E318-1)>=Coeff!$B$15,Coeff!$B$13/Coeff!$B$14*(F318*E318-1)/(F318-1),0))","v":""},{"$f":"IF(G318=\"\",\"\",IF((G318*(1-E318)-1)>=Coeff!$B$15,Coeff!$B$13/Coeff!$B$14*(G318*(1-E318)-1)/(G318-1),0))","v":""}]
[null,null,null,null,null,null,null,{"$f":"IF(F319=\"\",\"\",IF((F319*E319-1)>=Coeff!$B$15,Coeff!$B$13/Coeff!$B$14*(F319*E319-1)/(F319-1),0))","v":""},{"$f":"IF(G319=\"\",\"\",IF((G319*(1-E319)-1)>=Coeff!$B$15,Coeff!$B$13/Coeff!$B$14*(G319*(1-E319)-1)/(G319-1),0))","v":""}]
[null,null,null,null,null,null,null,{"$f":"IF(F320=\"\",\"\",IF((F320*E320-1)>=Coeff!$B$15,Coeff!$B$13/Coeff!$B$14*(F320*E320-1)/(F320-1),0))","v":""},{"$f":"IF(G320=\"\",\"\",IF((G320*(1-E320)-1)>=Coeff!$B$15,Coeff!$B$13/Coeff!$B$14*(G320*(1-E320)-1)/(G320-1),0))","v":""}]
[null,null,null,null,null,null,null,{"$f":"IF(F321=\"\",\"\",IF((F321*E321-1)>=Coeff!$B$15,Coeff!$B$13/Coeff!$B$14*(F321*E321-1)/(F321-1),0))","v":""},{"$f":"IF(G321=\"\",\"\",IF((G321*(1-E321)-1)>=Coeff!$B$15,Coeff!$B$13/Coeff!$B$14*(G321*(1-E321)-1)/(G321-1),0))","v":""}]
[null,null,null,null,null,null,null,{"$f":"IF(F322=\"\",\"\",IF((F322*E322-1)>=Coeff!$B$15,Coeff!$B$13/Coeff!$B$14*(F322*E322-1)/(F322-1),0))","v":""},{"$f":"IF(G322=\"\",\"\",IF((G322*(1-E322)-1)>=Coeff!$B$15,Coeff!$B$13/Coeff!$B$14*(G322*(1-E322)-1)/(G322-1),0))","v":""}]
[null,null,null,null,null,null,null,{"$f":"IF(F323=\"\",\"\",IF((F323*E323-1)>=Coeff!$B$15,Coeff!$B$13/Coeff!$B$14*(F323*E323-1)/(F323-1),0))","v":""},{"$f":"IF(G323=\"\",\"\",IF((G323*(1-E323)-1)>=Coeff!$B$15,Coeff!$B$13/Coeff!$B$14*(G323*(1-E323)-1)/(G323-1),0))","v":""}]
[null,null,null,null,null,null,null,{"$f":"IF(F324=\"\",\"\",IF((F324*E324-1)>=Coeff!$B$15,Coeff!$B$13/Coeff!$B$14*(F324*E324-1)/(F324-1),0))","v":""},{"$f":"IF(G324=\"\",\"\",IF((G324*(1-E324)-1)>=Coeff!$B$15,Coeff!$B$13/Coeff!$B$14*(G324*(1-E324)-1)/(G324-1),0))","v":""}]
[null,null,null,null,null,null,null,{"$f":"IF(F325=\"\",\"\",IF((F325*E325-1)>=Coeff!$B$15,Coeff!$B$13/Coeff!$B$14*(F325*E325-1)/(F325-1),0))","v":""},{"$f":"IF(G325=\"\",\"\",IF((G325*(1-E325)-1)>=Coeff!$B$15,Coeff!$B$13/Coeff!$B$14*(G325*(1-E325)-1)/(G325-1),0))","v":""}]
[null,null,null,null,null,null,null,{"$f":"IF(F326=\"\",\"\",IF((F326*E326-1)>=Coeff!$B$15,Coeff!$B$13/Coeff!$B$14*(F326*E326-1)/(F326-1),0))","v":""},{"$f":"IF(G326=\"\",\"\",IF((G326*(1-E326)-1)>=Coeff!$B$15,Coeff!$B$13/Coeff!$B$14*(G326*(1-E326)-1)/(G326-1),0))","v":""}]
[null,null,null,null,null,null,null,{"$f":"IF(F327=\"\",\"\",IF((F327*E327-1)>=Coeff!$B$15,Coeff!$B$13/Coeff!$B$14*(F327*E327-1)/(F327-1),0))","v":""},{"$f":"IF(G327=\"\",\"\",IF((G327*(1-E327)-1)>=Coeff!$B$15,Coeff!$B$13/Coeff!$B$14*(G327*(1-E327)-1)/(G327-1),0))","v":""}]
[null,null,null,null,null,null,null,{"$f":"IF(F328=\"\",\"\",IF((F328*E328-1)>=Coeff!$B$15,Coeff!$B$13/Coeff!$B$14*(F328*E328-1)/(F328-1),0))","v":""},{"$f":"IF(G328=\"\",\"\",IF((G328*(1-E328)-1)>=Coeff!$B$15,Coeff!$B$13/Coeff!$B$14*(G328*(1-E328)-1)/(G328-1),0))","v":""}]
[null,null,null,null,null,null,null,{"$f":"IF(F329=\"\",\"\",IF((F329*E329-1)>=Coeff!$B$15,Coeff!$B$13/Coeff!$B$14*(F329*E329-1)/(F329-1),0))","v":""},{"$f":"IF(G329=\"\",\"\",IF((G329*(1-E329)-1)>=Coeff!$B$15,Coeff!$B$13/Coeff!$B$14*(G329*(1-E329)-1)/(G329-1),0))","v":""}]
[null,null,null,null,null,null,null,{"$f":"IF(F330=\"\",\"\",IF((F330*E330-1)>=Coeff!$B$15,Coeff!$B$13/Coeff!$B$14*(F330*E330-1)/(F330-1),0))","v":""},{"$f":"IF(G330=\"\",\"\",IF((G330*(1-E330)-1)>=Coeff!$B$15,Coeff!$B$13/Coeff!$B$14*(G330*(1-E330)-1)/(G330-1),0))","v":""}]
[null,null,null,null,null,null,null,{"$f":"IF(F331=\"\",\"\",IF((F331*E331-1)>=Coeff!$B$15,Coeff!$B$13/Coeff!$B$14*(F331*E331-1)/(F331-1),0))","v":""},{"$f":"IF(G331=\"\",\"\",IF((G331*(1-E331)-1)>=Coeff!$B$15,Coeff!$B$13/Coeff!$B$14*(G331*(1-E331)-1)/(G331-1),0))","v":""}]
[null,null,null,null,null,null,null,{"$f":"IF(F332=\"\",\"\",IF((F332*E332-1)>=Coeff!$B$15,Coeff!$B$13/Coeff!$B$14*(F332*E332-1)/(F332-1),0))","v":""},{"$f":"IF(G332=\"\",\"\",IF((G332*(1-E332)-1)>=Coeff!$B$15,Coeff!$B$13/Coeff!$B$14*(G332*(1-E332)-1)/(G332-1),0))","v":""}]
[null,null,null,null,null,null,null,{"$f":"IF(F333=\"\",\"\",IF((F333*E333-1)>=Coeff!$B$15,Coeff!$B$13/Coeff!$B$14*(F333*E333-1)/(F333-1),0))","v":""},{"$f":"IF(G333=\"\",\"\",IF((G333*(1-E333)-1)>=Coeff!$B$15,Coeff!$B$13/Coeff!$B$14*(G333*(1-E333)-1)/(G333-1),0))","v":""}]
[null,null,null,null,null,null,null,{"$f":"IF(F334=\"\",\"\",IF((F334*E334-1)>=Coeff!$B$15,Coeff!$B$13/Coeff!$B$14*(F334*E334-1)/(F334-1),0))","v":""},{"$f":"IF(G334=\"\",\"\",IF((G334*(1-E334)-1)>=Coeff!$B$15,Coeff!$B$13/Coeff!$B$14*(G334*(1-E334)-1)/(G334-1),0))","v":""}]
[null,null,null,null,null,null,null,{"$f":"IF(F335=\"\",\"\",IF((F335*E335-1)>=Coeff!$B$15,Coeff!$B$13/Coeff!$B$14*(F335*E335-1)/(F335-1),0))","v":""},{"$f":"IF(G335=\"\",\"\",IF((G335*(1-E335)-1)>=Coeff!$B$15,Coeff!$B$13/Coeff!$B$14*(G335*(1-E335)-1)/(G335-1),0))","v":""}]
[null,null,null,null,null,null,null,{"$f":"IF(F336=\"\",\"\",IF((F336*E336-1)>=Coeff!$B$15,Coeff!$B$13/Coeff!$B$14*(F336*E336-1)/(F336-1),0))","v":""},{"$f":"IF(G336=\"\",\"\",IF((G336*(1-E336)-1)>=Coeff!$B$15,Coeff!$B$13/Coeff!$B$14*(G336*(1-E336)-1)/(G336-1),0))","v":""}]
[null,null,null,null,null,null,null,{"$f":"IF(F337=\"\",\"\",IF((F337*E337-1)>=Coeff!$B$15,Coeff!$B$13/Coeff!$B$14*(F337*E337-1)/(F337-1),0))","v":""},{"$f":"IF(G337=\"\",\"\",IF((G337*(1-E337)-1)>=Coeff!$B$15,Coeff!$B$13/Coeff!$B$14*(G337*(1-E337)-1)/(G337-1),0))","v":""}]
[null,null,null,null,null,null,null,{"$f":"IF(F338=\"\",\"\",IF((F338*E338-1)>=Coeff!$B$15,Coeff!$B$13/Coeff!$B$14*(F338*E338-1)/(F338-1),0))","v":""},{"$f":"IF(G338=\"\",\"\",IF((G338*(1-E338)-1)>=Coeff!$B$15,Coeff!$B$13/Coeff!$B$14*(G338*(1-E338)-1)/(G338-1),0))","v":""}]
[null,null,null,null,null,null,null,{"$f":"IF(F339=\"\",\"\",IF((F339*E339-1)>=Coeff!$B$15,Coeff!$B$13/Coeff!$B$14*(F339*E339-1)/(F339-1),0))","v":""},{"$f":"IF(G339=\"\",\"\",IF((G339*(1-E339)-1)>=Coeff!$B$15,Coeff!$B$13/Coeff!$B$14*(G339*(1-E339)-1)/(G339-1),0))","v":""}]
[null,null,null,null,null,null,null,{"$f":"IF(F340=\"\",\"\",IF((F340*E340-1)>=Coeff!$B$15,Coeff!$B$13/Coeff!$B$14*(F340*E340-1)/(F340-1),0))","v":""},{"$f":"IF(G340=\"\",\"\",IF((G340*(1-E340)-1)>=Coeff!$B$15,Coeff!$B$13/Coeff!$B$14*(G340*(1-E340)-1)/(G340-1),0))","v":""}]
[null,null,null,null,null,null,null,{"$f":"IF(F341=\"\",\"\",IF((F341*E341-1)>=Coeff!$B$15,Coeff!$B$13/Coeff!$B$14*(F341*E341-1)/(F341-1),0))","v":""},{"$f":"IF(G341=\"\",\"\",IF((G341*(1-E341)-1)>=Coeff!$B$15,Coeff!$B$13/Coeff!$B$14*(G341*(1-E341)-1)/(G341-1),0))","v":""}]
[null,null,null,null,null,null,null,{"$f":"IF(F342=\"\",\"\",IF((F342*E342-1)>=Coeff!$B$15,Coeff!$B$13/Coeff!$B$14*(F342*E342-1)/(F342-1),0))","v":""},{"$f":"IF(G342=\"\",\"\",IF((G342*(1-E342)-1)>=Coeff!$B$15,Coeff!$B$13/Coeff!$B$14*(G342*(1-E342)-1)/(G342-1),0))","v":""}]
[null,null,null,null,null,null,null,{"$f":"IF(F343=\"\",\"\",IF((F343*E343-1)>=Coeff!$B$15,Coeff!$B$13/Coeff!$B$14*(F343*E343-1)/(F343-1),0))","v":""},{"$f":"IF(G343=\"\",\"\",IF((G343*(1-E343)-1)>=Coeff!$B$15,Coeff!$B$13/Coeff!$B$14*(G343*(1-E343)-1)/(G343-1),0))","v":""}]
[null,null,null,null,null,null,null,{"$f":"IF(F344=\"\",\"\",IF((F344*E344-1)>=Coeff!$B$15,Coeff!$B$13/Coeff!$B$14*(F344*E344-1)/(F344-1),0))","v":""},{"$f":"IF(G344=\"\",\"\",IF((G344*(1-E344)-1)>=Coeff!$B$15,Coeff!$B$13/Coeff!$B$14*(G344*(1-E344)-1)/(G344-1),0))","v":""}]
[null,null,null,null,null,null,null,{"$f":"IF(F345=\"\",\"\",IF((F345*E345-1)>=Coeff!$B$15,Coeff!$B$13/Coeff!$B$14*(F345*E345-1)/(F345-1),0))","v":""},{"$f":"IF(G345=\"\",\"\",IF((G345*(1-E345)-1)>=Coeff!$B$15,Coeff!$B$13/Coeff!$B$14*(G345*(1-E345)-1)/(G345-1),0))","v":""}]
[null,null,null,null,null,null,null,{"$f":"IF(F346=\"\",\"\",IF((F346*E346-1)>=Coeff!$B$15,Coeff!$B$13/Coeff!$B$14*(F346*E346-1)/(F346-1),0))","v":""},{"$f":"IF(G346=\"\",\"\",IF((G346*(1-E346)-1)>=Coeff!$B$15,Coeff!$B$13/Coeff!$B$14*(G346*(1-E346)-1)/(G346-1),0))","v":""}]
[null,null,null,null,null,null,null,{"$f":"IF(F347=\"\",\"\",IF((F347*E347-1)>=Coeff!$B$15,Coeff!$B$13/Coeff!$B$14*(F347*E347-1)/(F347-1),0))","v":""},{"$f":"IF(G347=\"\",\"\",IF((G347*(1-E347)-1)>=Coeff!$B$15,Coeff!$B$13/Coeff!$B$14*(G347*(1-E347)-1)/(G347-1),0))","v":""}]
[null,null,null,null,null,null,null,{"$f":"IF(F348=\"\",\"\",IF((F348*E348-1)>=Coeff!$B$15,Coeff!$B$13/Coeff!$B$14*(F348*E348-1)/(F348-1),0))","v":""},{"$f":"IF(G348=\"\",\"\",IF((G348*(1-E348)-1)>=Coeff!$B$15,Coeff!$B$13/Coeff!$B$14*(G348*(1-E348)-1)/(G348-1),0))","v":""}]
[null,null,null,null,null,null,null,{"$f":"IF(F349=\"\",\"\",IF((F349*E349-1)>=Coeff!$B$15,Coeff!$B$13/Coeff!$B$14*(F349*E349-1)/(F349-1),0))","v":""},{"$f":"IF(G349=\"\",\"\",IF((G349*(1-E349)-1)>=Coeff!$B$15,Coeff!$B$13/Coeff!$B$14*(G349*(1-E349)-1)/(G349-1),0))","v":""}]
[null,null,null,null,null,null,null,{"$f":"IF(F350=\"\",\"\",IF((F350*E350-1)>=Coeff!$B$15,Coeff!$B$13/Coeff!$B$14*(F350*E350-1)/(F350-1),0))","v":""},{"$f":"IF(G350=\"\",\"\",IF((G350*(1-E350)-1)>=Coeff!$B$15,Coeff!$B$13/Coeff!$B$14*(G350*(1-E350)-1)/(G350-1),0))","v":""}]
[null,null,null,null,null,null,null,{"$f":"IF(F351=\"\",\"\",IF((F351*E351-1)>=Coeff!$B$15,Coeff!$B$13/Coeff!$B$14*(F351*E351-1)/(F351-1),0))","v":""},{"$f":"IF(G351=\"\",\"\",IF((G351*(1-E351)-1)>=Coeff!$B$15,Coeff!$B$13/Coeff!$B$14*(G351*(1-E351)-1)/(G351-1),0))","v":""}]
[null,null,null,null,null,null,null,{"$f":"IF(F352=\"\",\"\",IF((F352*E352-1)>=Coeff!$B$15,Coeff!$B$13/Coeff!$B$14*(F352*E352-1)/(F352-1),0))","v":""},{"$f":"IF(G352=\"\",\"\",IF((G352*(1-E352)-1)>=Coeff!$B$15,Coeff!$B$13/Coeff!$B$14*(G352*(1-E352)-1)/(G352-1),0))","v":""}]
[null,null,null,null,null,null,null,{"$f":"IF(F353=\"\",\"\",IF((F353*E353-1)>=Coeff!$B$15,Coeff!$B$13/Coeff!$B$14*(F353*E353-1)/(F353-1),0))","v":""},{"$f":"IF(G353=\"\",\"\",IF((G353*(1-E353)-1)>=Coeff!$B$15,Coeff!$B$13/Coeff!$B$14*(G353*(1-E353)-1)/(G353-1),0))","v":""}]
[null,null,null,null,null,null,null,{"$f":"IF(F354=\"\",\"\",IF((F354*E354-1)>=Coeff!$B$15,Coeff!$B$13/Coeff!$B$14*(F354*E354-1)/(F354-1),0))","v":""},{"$f":"IF(G354=\"\",\"\",IF((G354*(1-E354)-1)>=Coeff!$B$15,Coeff!$B$13/Coeff!$B$14*(G354*(1-E354)-1)/(G354-1),0))","v":""}]
[null,null,null,null,null,null,null,{"$f":"IF(F355=\"\",\"\",IF((F355*E355-1)>=Coeff!$B$15,Coeff!$B$13/Coeff!$B$14*(F355*E355-1)/(F355-1),0))","v":""},{"$f":"IF(G355=\"\",\"\",IF((G355*(1-E355)-1)>=Coeff!$B$15,Coeff!$B$13/Coeff!$B$14*(G355*(1-E355)-1)/(G355-1),0))","v":""}]
[null,null,null,null,null,null,null,{"$f":"IF(F356=\"\",\"\",IF((F356*E356-1)>=Coeff!$B$15,Coeff!$B$13/Coeff!$B$14*(F356*E356-1)/(F356-1),0))","v":""},{"$f":"IF(G356=\"\",\"\",IF((G356*(1-E356)-1)>=Coeff!$B$15,Coeff!$B$13/Coeff!$B$14*(G356*(1-E356)-1)/(G356-1),0))","v":""}]
[null,null,null,null,null,null,null,{"$f":"IF(F357=\"\",\"\",IF((F357*E357-1)>=Coeff!$B$15,Coeff!$B$13/Coeff!$B$14*(F357*E357-1)/(F357-1),0))","v":""},{"$f":"IF(G357=\"\",\"\",IF((G357*(1-E357)-1)>=Coeff!$B$15,Coeff!$B$13/Coeff!$B$14*(G357*(1-E357)-1)/(G357-1),0))","v":""}]
[null,null,null,null,null,null,null,{"$f":"IF(F358=\"\",\"\",IF((F358*E358-1)>=Coeff!$B$15,Coeff!$B$13/Coeff!$B$14*(F358*E358-1)/(F358-1),0))","v":""},{"$f":"IF(G358=\"\",\"\",IF((G358*(1-E358)-1)>=Coeff!$B$15,Coeff!$B$13/Coeff!$B$14*(G358*(1-E358)-1)/(G358-1),0))","v":""}]
[null,null,null,null,null,null,null,{"$f":"IF(F359=\"\",\"\",IF((F359*E359-1)>=Coeff!$B$15,Coeff!$B$13/Coeff!$B$14*(F359*E359-1)/(F359-1),0))","v":""},{"$f":"IF(G359=\"\",\"\",IF((G359*(1-E359)-1)>=Coeff!$B$15,Coeff!$B$13/Coeff!$B$14*(G359*(1-E359)-1)/(G359-1),0))","v":""}]
[null,null,null,null,null,null,null,{"$f":"IF(F360=\"\",\"\",IF((F360*E360-1)>=Coeff!$B$15,Coeff!$B$13/Coeff!$B$14*(F360*E360-1)/(F360-1),0))","v":""},{"$f":"IF(G360=\"\",\"\",IF((G360*(1-E360)-1)>=Coeff!$B$15,Coeff!$B$13/Coeff!$B$14*(G360*(1-E360)-1)/(G360-1),0))","v":""}]
[null,null,null,null,null,null,null,{"$f":"IF(F361=\"\",\"\",IF((F361*E361-1)>=Coeff!$B$15,Coeff!$B$13/Coeff!$B$14*(F361*E361-1)/(F361-1),0))","v":""},{"$f":"IF(G361=\"\",\"\",IF((G361*(1-E361)-1)>=Coeff!$B$15,Coeff!$B$13/Coeff!$B$14*(G361*(1-E361)-1)/(G361-1),0))","v":""}]
[null,null,null,null,null,null,null,{"$f":"IF(F362=\"\",\"\",IF((F362*E362-1)>=Coeff!$B$15,Coeff!$B$13/Coeff!$B$14*(F362*E362-1)/(F362-1),0))","v":""},{"$f":"IF(G362=\"\",\"\",IF((G362*(1-E362)-1)>=Coeff!$B$15,Coeff!$B$13/Coeff!$B$14*(G362*(1-E362)-1)/(G362-1),0))","v":""}]
[null,null,null,null,null,null,null,{"$f":"IF(F363=\"\",\"\",IF((F363*E363-1)>=Coeff!$B$15,Coeff!$B$13/Coeff!$B$14*(F363*E363-1)/(F363-1),0))","v":""},{"$f":"IF(G363=\"\",\"\",IF((G363*(1-E363)-1)>=Coeff!$B$15,Coeff!$B$13/Coeff!$B$14*(G363*(1-E363)-1)/(G363-1),0))","v":""}]
[null,null,null,null,null,null,null,{"$f":"IF(F364=\"\",\"\",IF((F364*E364-1)>=Coeff!$B$15,Coeff!$B$13/Coeff!$B$14*(F364*E364-1)/(F364-1),0))","v":""},{"$f":"IF(G364=\"\",\"\",IF((G364*(1-E364)-1)>=Coeff!$B$15,Coeff!$B$13/Coeff!$B$14*(G364*(1-E364)-1)/(G364-1),0))","v":""}]
[null,null,null,null,null,null,null,{"$f":"IF(F365=\"\",\"\",IF((F365*E365-1)>=Coeff!$B$15,Coeff!$B$13/Coeff!$B$14*(F365*E365-1)/(F365-1),0))","v":""},{"$f":"IF(G365=\"\",\"\",IF((G365*(1-E365)-1)>=Coeff!$B$15,Coeff!$B$13/Coeff!$B$14*(G365*(1-E365)-1)/(G365-1),0))","v":""}]
[null,null,null,null,null,null,null,{"$f":"IF(F366=\"\",\"\",IF((F366*E366-1)>=Coeff!$B$15,Coeff!$B$13/Coeff!$B$14*(F366*E366-1)/(F366-1),0))","v":""},{"$f":"IF(G366=\"\",\"\",IF((G366*(1-E366)-1)>=Coeff!$B$15,Coeff!$B$13/Coeff!$B$14*(G366*(1-E366)-1)/(G366-1),0))","v":""}]
[null,null,null,null,null,null,null,{"$f":"IF(F367=\"\",\"\",IF((F367*E367-1)>=Coeff!$B$15,Coeff!$B$13/Coeff!$B$14*(F367*E367-1)/(F367-1),0))","v":""},{"$f":"IF(G367=\"\",\"\",IF((G367*(1-E367)-1)>=Coeff!$B$15,Coeff!$B$13/Coeff!$B$14*(G367*(1-E367)-1)/(G367-1),0))","v":""}]
[null,null,null,null,null,null,null,{"$f":"IF(F368=\"\",\"\",IF((F368*E368-1)>=Coeff!$B$15,Coeff!$B$13/Coeff!$B$14*(F368*E368-1)/(F368-1),0))","v":""},{"$f":"IF(G368=\"\",\"\",IF((G368*(1-E368)-1)>=Coeff!$B$15,Coeff!$B$13/Coeff!$B$14*(G368*(1-E368)-1)/(G368-1),0))","v":""}]
[null,null,null,null,null,null,null,{"$f":"IF(F369=\"\",\"\",IF((F369*E369-1)>=Coeff!$B$15,Coeff!$B$13/Coeff!$B$14*(F369*E369-1)/(F369-1),0))","v":""},{"$f":"IF(G369=\"\",\"\",IF((G369*(1-E369)-1)>=Coeff!$B$15,Coeff!$B$13/Coeff!$B$14*(G369*(1-E369)-1)/(G369-1),0))","v":""}]
[null,null,null,null,null,null,null,{"$f":"IF(F370=\"\",\"\",IF((F370*E370-1)>=Coeff!$B$15,Coeff!$B$13/Coeff!$B$14*(F370*E370-1)/(F370-1),0))","v":""},{"$f":"IF(G370=\"\",\"\",IF((G370*(1-E370)-1)>=Coeff!$B$15,Coeff!$B$13/Coeff!$B$14*(G370*(1-E370)-1)/(G370-1),0))","v":""}]
[null,null,null,null,null,null,null,{"$f":"IF(F371=\"\",\"\",IF((F371*E371-1)>=Coeff!$B$15,Coeff!$B$13/Coeff!$B$14*(F371*E371-1)/(F371-1),0))","v":""},{"$f":"IF(G371=\"\",\"\",IF((G371*(1-E371)-1)>=Coeff!$B$15,Coeff!$B$13/Coeff!$B$14*(G371*(1-E371)-1)/(G371-1),0))","v":""}]
[null,null,null,null,null,null,null,{"$f":"IF(F372=\"\",\"\",IF((F372*E372-1)>=Coeff!$B$15,Coeff!$B$13/Coeff!$B$14*(F372*E372-1)/(F372-1),0))","v":""},{"$f":"IF(G372=\"\",\"\",IF((G372*(1-E372)-1)>=Coeff!$B$15,Coeff!$B$13/Coeff!$B$14*(G372*(1-E372)-1)/(G372-1),0))","v":""}]
[null,null,null,null,null,null,null,{"$f":"IF(F373=\"\",\"\",IF((F373*E373-1)>=Coeff!$B$15,Coeff!$B$13/Coeff!$B$14*(F373*E373-1)/(F373-1),0))","v":""},{"$f":"IF(G373=\"\",\"\",IF((G373*(1-E373)-1)>=Coeff!$B$15,Coeff!$B$13/Coeff!$B$14*(G373*(1-E373)-1)/(G373-1),0))","v":""}]
[null,null,null,null,null,null,null,{"$f":"IF(F374=\"\",\"\",IF((F374*E374-1)>=Coeff!$B$15,Coeff!$B$13/Coeff!$B$14*(F374*E374-1)/(F374-1),0))","v":""},{"$f":"IF(G374=\"\",\"\",IF((G374*(1-E374)-1)>=Coeff!$B$15,Coeff!$B$13/Coeff!$B$14*(G374*(1-E374)-1)/(G374-1),0))","v":""}]
[null,null,null,null,null,null,null,{"$f":"IF(F375=\"\",\"\",IF((F375*E375-1)>=Coeff!$B$15,Coeff!$B$13/Coeff!$B$14*(F375*E375-1)/(F375-1),0))","v":""},{"$f":"IF(G375=\"\",\"\",IF((G375*(1-E375)-1)>=Coeff!$B$15,Coeff!$B$13/Coeff!$B$14*(G375*(1-E375)-1)/(G375-1),0))","v":""}]
[null,null,null,null,null,null,null,{"$f":"IF(F376=\"\",\"\",IF((F376*E376-1)>=Coeff!$B$15,Coeff!$B$13/Coeff!$B$14*(F376*E376-1)/(F376-1),0))","v":""},{"$f":"IF(G376=\"\",\"\",IF((G376*(1-E376)-1)>=Coeff!$B$15,Coeff!$B$13/Coeff!$B$14*(G376*(1-E376)-1)/(G376-1),0))","v":""}]
[null,null,null,null,null,null,null,{"$f":"IF(F377=\"\",\"\",IF((F377*E377-1)>=Coeff!$B$15,Coeff!$B$13/Coeff!$B$14*(F377*E377-1)/(F377-1),0))","v":""},{"$f":"IF(G377=\"\",\"\",IF((G377*(1-E377)-1)>=Coeff!$B$15,Coeff!$B$13/Coeff!$B$14*(G377*(1-E377)-1)/(G377-1),0))","v":""}]
[null,null,null,null,null,null,null,{"$f":"IF(F378=\"\",\"\",IF((F378*E378-1)>=Coeff!$B$15,Coeff!$B$13/Coeff!$B$14*(F378*E378-1)/(F378-1),0))","v":""},{"$f":"IF(G378=\"\",\"\",IF((G378*(1-E378)-1)>=Coeff!$B$15,Coeff!$B$13/Coeff!$B$14*(G378*(1-E378)-1)/(G378-1),0))","v":""}]
[null,null,null,null,null,null,null,{"$f":"IF(F379=\"\",\"\",IF((F379*E379-1)>=Coeff!$B$15,Coeff!$B$13/Coeff!$B$14*(F379*E379-1)/(F379-1),0))","v":""},{"$f":"IF(G379=\"\",\"\",IF((G379*(1-E379)-1)>=Coeff!$B$15,Coeff!$B$13/Coeff!$B$14*(G379*(1-E379)-1)/(G379-1),0))","v":""}]
[null,null,null,null,null,null,null,{"$f":"IF(F380=\"\",\"\",IF((F380*E380-1)>=Coeff!$B$15,Coeff!$B$13/Coeff!$B$14*(F380*E380-1)/(F380-1),0))","v":""},{"$f":"IF(G380=\"\",\"\",IF((G380*(1-E380)-1)>=Coeff!$B$15,Coeff!$B$13/Coeff!$B$14*(G380*(1-E380)-1)/(G380-1),0))","v":""}]
[null,null,null,null,null,null,null,{"$f":"IF(F381=\"\",\"\",IF((F381*E381-1)>=Coeff!$B$15,Coeff!$B$13/Coeff!$B$14*(F381*E381-1)/(F381-1),0))","v":""},{"$f":"IF(G381=\"\",\"\",IF((G381*(1-E381)-1)>=Coeff!$B$15,Coeff!$B$13/Coeff!$B$14*(G381*(1-E381)-1)/(G381-1),0))","v":""}]
[null,null,null,null,null,null,null,{"$f":"IF(F382=\"\",\"\",IF((F382*E382-1)>=Coeff!$B$15,Coeff!$B$13/Coeff!$B$14*(F382*E382-1)/(F382-1),0))","v":""},{"$f":"IF(G382=\"\",\"\",IF((G382*(1-E382)-1)>=Coeff!$B$15,Coeff!$B$13/Coeff!$B$14*(G382*(1-E382)-1)/(G382-1),0))","v":""}]
[null,null,null,null,null,null,null,{"$f":"IF(F383=\"\",\"\",IF((F383*E383-1)>=Coeff!$B$15,Coeff!$B$13/Coeff!$B$14*(F383*E383-1)/(F383-1),0))","v":""},{"$f":"IF(G383=\"\",\"\",IF((G383*(1-E383)-1)>=Coeff!$B$15,Coeff!$B$13/Coeff!$B$14*(G383*(1-E383)-1)/(G383-1),0))","v":""}]
[null,null,null,null,null,null,null,{"$f":"IF(F384=\"\",\"\",IF((F384*E384-1)>=Coeff!$B$15,Coeff!$B$13/Coeff!$B$14*(F384*E384-1)/(F384-1),0))","v":""},{"$f":"IF(G384=\"\",\"\",IF((G384*(1-E384)-1)>=Coeff!$B$15,Coeff!$B$13/Coeff!$B$14*(G384*(1-E384)-1)/(G384-1),0))","v":""}]
[null,null,null,null,null,null,null,{"$f":"IF(F385=\"\",\"\",IF((F385*E385-1)>=Coeff!$B$15,Coeff!$B$13/Coeff!$B$14*(F385*E385-1)/(F385-1),0))","v":""},{"$f":"IF(G385=\"\",\"\",IF((G385*(1-E385)-1)>=Coeff!$B$15,Coeff!$B$13/Coeff!$B$14*(G385*(1-E385)-1)/(G385-1),0))","v":""}]
[null,null,null,null,null,null,null,{"$f":"IF(F386=\"\",\"\",IF((F386*E386-1)>=Coeff!$B$15,Coeff!$B$13/Coeff!$B$14*(F386*E386-1)/(F386-1),0))","v":""},{"$f":"IF(G386=\"\",\"\",IF((G386*(1-E386)-1)>=Coeff!$B$15,Coeff!$B$13/Coeff!$B$14*(G386*(1-E386)-1)/(G386-1),0))","v":""}]
[null,null,null,null,null,null,null,{"$f":"IF(F387=\"\",\"\",IF((F387*E387-1)>=Coeff!$B$15,Coeff!$B$13/Coeff!$B$14*(F387*E387-1)/(F387-1),0))","v":""},{"$f":"IF(G387=\"\",\"\",IF((G387*(1-E387)-1)>=Coeff!$B$15,Coeff!$B$13/Coeff!$B$14*(G387*(1-E387)-1)/(G387-1),0))","v":""}]
[null,null,null,null,null,null,null,{"$f":"IF(F388=\"\",\"\",IF((F388*E388-1)>=Coeff!$B$15,Coeff!$B$13/Coeff!$B$14*(F388*E388-1)/(F388-1),0))","v":""},{"$f":"IF(G388=\"\",\"\",IF((G388*(1-E388)-1)>=Coeff!$B$15,Coeff!$B$13/Coeff!$B$14*(G388*(1-E388)-1)/(G388-1),0))","v":""}]
[null,null,null,null,null,null,null,{"$f":"IF(F389=\"\",\"\",IF((F389*E389-1)>=Coeff!$B$15,Coeff!$B$13/Coeff!$B$14*(F389*E389-1)/(F389-1),0))","v":""},{"$f":"IF(G389=\"\",\"\",IF((G389*(1-E389)-1)>=Coeff!$B$15,Coeff!$B$13/Coeff!$B$14*(G389*(1-E389)-1)/(G389-1),0))","v":""}]
[null,null,null,null,null,null,null,{"$f":"IF(F390=\"\",\"\",IF((F390*E390-1)>=Coeff!$B$15,Coeff!$B$13/Coeff!$B$14*(F390*E390-1)/(F390-1),0))","v":""},{"$f":"IF(G390=\"\",\"\",IF((G390*(1-E390)-1)>=Coeff!$B$15,Coeff!$B$13/Coeff!$B$14*(G390*(1-E390)-1)/(G390-1),0))","v":""}]
[null,null,null,null,null,null,null,{"$f":"IF(F391=\"\",\"\",IF((F391*E391-1)>=Coeff!$B$15,Coeff!$B$13/Coeff!$B$14*(F391*E391-1)/(F391-1),0))","v":""},{"$f":"IF(G391=\"\",\"\",IF((G391*(1-E391)-1)>=Coeff!$B$15,Coeff!$B$13/Coeff!$B$14*(G391*(1-E391)-1)/(G391-1),0))","v":""}]
[null,null,null,null,null,null,null,{"$f":"IF(F392=\"\",\"\",IF((F392*E392-1)>=Coeff!$B$15,Coeff!$B$13/Coeff!$B$14*(F392*E392-1)/(F392-1),0))","v":""},{"$f":"IF(G392=\"\",\"\",IF((G392*(1-E392)-1)>=Coeff!$B$15,Coeff!$B$13/Coeff!$B$14*(G392*(1-E392)-1)/(G392-1),0))","v":""}]
[null,null,null,null,null,null,null,{"$f":"IF(F393=\"\",\"\",IF((F393*E393-1)>=Coeff!$B$15,Coeff!$B$13/Coeff!$B$14*(F393*E393-1)/(F393-1),0))","v":""},{"$f":"IF(G393=\"\",\"\",IF((G393*(1-E393)-1)>=Coeff!$B$15,Coeff!$B$13/Coeff!$B$14*(G393*(1-E393)-1)/(G393-1),0))","v":""}]
[null,null,null,null,null,null,null,{"$f":"IF(F394=\"\",\"\",IF((F394*E394-1)>=Coeff!$B$15,Coeff!$B$13/Coeff!$B$14*(F394*E394-1)/(F394-1),0))","v":""},{"$f":"IF(G394=\"\",\"\",IF((G394*(1-E394)-1)>=Coeff!$B$15,Coeff!$B$13/Coeff!$B$14*(G394*(1-E394)-1)/(G394-1),0))","v":""}]
[null,null,null,null,null,null,null,{"$f":"IF(F395=\"\",\"\",IF((F395*E395-1)>=Coeff!$B$15,Coeff!$B$13/Coeff!$B$14*(F395*E395-1)/(F395-1),0))","v":""},{"$f":"IF(G395=\"\",\"\",IF((G395*(1-E395)-1)>=Coeff!$B$15,Coeff!$B$13/Coeff!$B$14*(G395*(1-E395)-1)/(G395-1),0))","v":""}]
[null,null,null,null,null,null,null,{"$f":"IF(F396=\"\",\"\",IF((F396*E396-1)>=Coeff!$B$15,Coeff!$B$13/Coeff!$B$14*(F396*E396-1)/(F396-1),0))","v":""},{"$f":"IF(G396=\"\",\"\",IF((G396*(1-E396)-1)>=Coeff!$B$15,Coeff!$B$13/Coeff!$B$14*(G396*(1-E396)-1)/(G396-1),0))","v":""}]
[null,null,null,null,null,null,null,{"$f":"IF(F397=\"\",\"\",IF((F397*E397-1)>=Coeff!$B$15,Coeff!$B$13/Coeff!$B$14*(F397*E397-1)/(F397-1),0))","v":""},{"$f":"IF(G397=\"\",\"\",IF((G397*(1-E397)-1)>=Coeff!$B$15,Coeff!$B$13/Coeff!$B$14*(G397*(1-E397)-1)/(G397-1),0))","v":""}]
[null,null,null,null,null,null,null,{"$f":"IF(F398=\"\",\"\",IF((F398*E398-1)>=Coeff!$B$15,Coeff!$B$13/Coeff!$B$14*(F398*E398-1)/(F398-1),0))","v":""},{"$f":"IF(G398=\"\",\"\",IF((G398*(1-E398)-1)>=Coeff!$B$15,Coeff!$B$13/Coeff!$B$14*(G398*(1-E398)-1)/(G398-1),0))","v":""}]
[null,null,null,null,null,null,null,{"$f":"IF(F399=\"\",\"\",IF((F399*E399-1)>=Coeff!$B$15,Coeff!$B$13/Coeff!$B$14*(F399*E399-1)/(F399-1),0))","v":""},{"$f":"IF(G399=\"\",\"\",IF((G399*(1-E399)-1)>=Coeff!$B$15,Coeff!$B$13/Coeff!$B$14*(G399*(1-E399)-1)/(G399-1),0))","v":""}]
[null,null,null,null,null,null,null,{"$f":"IF(F400=\"\",\"\",IF((F400*E400-1)>=Coeff!$B$15,Coeff!$B$13/Coeff!$B$14*(F400*E400-1)/(F400-1),0))","v":""},{"$f":"IF(G400=\"\",\"\",IF((G400*(1-E400)-1)>=Coeff!$B$15,Coeff!$B$13/Coeff!$B$14*(G400*(1-E400)-1)/(G400-1),0))","v":""}]
[null,null,null,null,null,null,null,{"$f":"IF(F401=\"\",\"\",IF((F401*E401-1)>=Coeff!$B$15,Coeff!$B$13/Coeff!$B$14*(F401*E401-1)/(F401-1),0))","v":""},{"$f":"IF(G401=\"\",\"\",IF((G401*(1-E401)-1)>=Coeff!$B$15,Coeff!$B$13/Coeff!$B$14*(G401*(1-E401)-1)/(G401-1),0))","v":""}]
[null,null,null,null,null,null,null,{"$f":"IF(F402=\"\",\"\",IF((F402*E402-1)>=Coeff!$B$15,Coeff!$B$13/Coeff!$B$14*(F402*E402-1)/(F402-1),0))","v":""},{"$f":"IF(G402=\"\",\"\",IF((G402*(1-E402)-1)>=Coeff!$B$15,Coeff!$B$13/Coeff!$B$14*(G402*(1-E402)-1)/(G402-1),0))","v":""}]
[null,null,null,null,null,null,null,{"$f":"IF(F403=\"\",\"\",IF((F403*E403-1)>=Coeff!$B$15,Coeff!$B$13/Coeff!$B$14*(F403*E403-1)/(F403-1),0))","v":""},{"$f":"IF(G403=\"\",\"\",IF((G403*(1-E403)-1)>=Coeff!$B$15,Coeff!$B$13/Coeff!$B$14*(G403*(1-E403)-1)/(G403-1),0))","v":""}]
[null,null,null,null,null,null,null,{"$f":"IF(F404=\"\",\"\",IF((F404*E404-1)>=Coeff!$B$15,Coeff!$B$13/Coeff!$B$14*(F404*E404-1)/(F404-1),0))","v":""},{"$f":"IF(G404=\"\",\"\",IF((G404*(1-E404)-1)>=Coeff!$B$15,Coeff!$B$13/Coeff!$B$14*(G404*(1-E404)-1)/(G404-1),0))","v":""}]
[null,null,null,null,null,null,null,{"$f":"IF(F405=\"\",\"\",IF((F405*E405-1)>=Coeff!$B$15,Coeff!$B$13/Coeff!$B$14*(F405*E405-1)/(F405-1),0))","v":""},{"$f":"IF(G405=\"\",\"\",IF((G405*(1-E405)-1)>=Coeff!$B$15,Coeff!$B$13/Coeff!$B$14*(G405*(1-E405)-1)/(G405-1),0))","v":""}]
[null,null,null,null,null,null,null,{"$f":"IF(F406=\"\",\"\",IF((F406*E406-1)>=Coeff!$B$15,Coeff!$B$13/Coeff!$B$14*(F406*E406-1)/(F406-1),0))","v":""},{"$f":"IF(G406=\"\",\"\",IF((G406*(1-E406)-1)>=Coeff!$B$15,Coeff!$B$13/Coeff!$B$14*(G406*(1-E406)-1)/(G406-1),0))","v":""}]
[null,null,null,null,null,null,null,{"$f":"IF(F407=\"\",\"\",IF((F407*E407-1)>=Coeff!$B$15,Coeff!$B$13/Coeff!$B$14*(F407*E407-1)/(F407-1),0))","v":""},{"$f":"IF(G407=\"\",\"\",IF((G407*(1-E407)-1)>=Coeff!$B$15,Coeff!$B$13/Coeff!$B$14*(G407*(1-E407)-1)/(G407-1),0))","v":""}]
[null,null,null,null,null,null,null,{"$f":"IF(F408=\"\",\"\",IF((F408*E408-1)>=Coeff!$B$15,Coeff!$B$13/Coeff!$B$14*(F408*E408-1)/(F408-1),0))","v":""},{"$f":"IF(G408=\"\",\"\",IF((G408*(1-E408)-1)>=Coeff!$B$15,Coeff!$B$13/Coeff!$B$14*(G408*(1-E408)-1)/(G408-1),0))","v":""}]
[null,null,null,null,null,null,null,{"$f":"IF(F409=\"\",\"\",IF((F409*E409-1)>=Coeff!$B$15,Coeff!$B$13/Coeff!$B$14*(F409*E409-1)/(F409-1),0))","v":""},{"$f":"IF(G409=\"\",\"\",IF((G409*(1-E409)-1)>=Coeff!$B$15,Coeff!$B$13/Coeff!$B$14*(G409*(1-E409)-1)/(G409-1),0))","v":""}]
[null,null,null,null,null,null,null,{"$f":"IF(F410=\"\",\"\",IF((F410*E410-1)>=Coeff!$B$15,Coeff!$B$13/Coeff!$B$14*(F410*E410-1)/(F410-1),0))","v":""},{"$f":"IF(G410=\"\",\"\",IF((G410*(1-E410)-1)>=Coeff!$B$15,Coeff!$B$13/Coeff!$B$14*(G410*(1-E410)-1)/(G410-1),0))","v":""}]
[null,null,null,null,null,null,null,{"$f":"IF(F411=\"\",\"\",IF((F411*E411-1)>=Coeff!$B$15,Coeff!$B$13/Coeff!$B$14*(F411*E411-1)/(F411-1),0))","v":""},{"$f":"IF(G411=\"\",\"\",IF((G411*(1-E411)-1)>=Coeff!$B$15,Coeff!$B$13/Coeff!$B$14*(G411*(1-E411)-1)/(G411-1),0))","v":""}]
[null,null,null,null,null,null,null,{"$f":"IF(F412=\"\",\"\",IF((F412*E412-1)>=Coeff!$B$15,Coeff!$B$13/Coeff!$B$14*(F412*E412-1)/(F412-1),0))","v":""},{"$f":"IF(G412=\"\",\"\",IF((G412*(1-E412)-1)>=Coeff!$B$15,Coeff!$B$13/Coeff!$B$14*(G412*(1-E412)-1)/(G412-1),0))","v":""}]
[null,null,null,null,null,null,null,{"$f":"IF(F413=\"\",\"\",IF((F413*E413-1)>=Coeff!$B$15,Coeff!$B$13/Coeff!$B$14*(F413*E413-1)/(F413-1),0))","v":""},{"$f":"IF(G413=\"\",\"\",IF((G413*(1-E413)-1)>=Coeff!$B$15,Coeff!$B$13/Coeff!$B$14*(G413*(1-E413)-1)/(G413-1),0))","v":""}]
[null,null,null,null,null,null,null,{"$f":"IF(F414=\"\",\"\",IF((F414*E414-1)>=Coeff!$B$15,Coeff!$B$13/Coeff!$B$14*(F414*E414-1)/(F414-1),0))","v":""},{"$f":"IF(G414=\"\",\"\",IF((G414*(1-E414)-1)>=Coeff!$B$15,Coeff!$B$13/Coeff!$B$14*(G414*(1-E414)-1)/(G414-1),0))","v":""}]
[null,null,null,null,null,null,null,{"$f":"IF(F415=\"\",\"\",IF((F415*E415-1)>=Coeff!$B$15,Coeff!$B$13/Coeff!$B$14*(F415*E415-1)/(F415-1),0))","v":""},{"$f":"IF(G415=\"\",\"\",IF((G415*(1-E415)-1)>=Coeff!$B$15,Coeff!$B$13/Coeff!$B$14*(G415*(1-E415)-1)/(G415-1),0))","v":""}]
[null,null,null,null,null,null,null,{"$f":"IF(F416=\"\",\"\",IF((F416*E416-1)>=Coeff!$B$15,Coeff!$B$13/Coeff!$B$14*(F416*E416-1)/(F416-1),0))","v":""},{"$f":"IF(G416=\"\",\"\",IF((G416*(1-E416)-1)>=Coeff!$B$15,Coeff!$B$13/Coeff!$B$14*(G416*(1-E416)-1)/(G416-1),0))","v":""}]
[null,null,null,null,null,null,null,{"$f":"IF(F417=\"\",\"\",IF((F417*E417-1)>=Coeff!$B$15,Coeff!$B$13/Coeff!$B$14*(F417*E417-1)/(F417-1),0))","v":""},{"$f":"IF(G417=\"\",\"\",IF((G417*(1-E417)-1)>=Coeff!$B$15,Coeff!$B$13/Coeff!$B$14*(G417*(1-E417)-1)/(G417-1),0))","v":""}]
[null,null,null,null,null,null,null,{"$f":"IF(F418=\"\",\"\",IF((F418*E418-1)>=Coeff!$B$15,Coeff!$B$13/Coeff!$B$14*(F418*E418-1)/(F418-1),0))","v":""},{"$f":"IF(G418=\"\",\"\",IF((G418*(1-E418)-1)>=Coeff!$B$15,Coeff!$B$13/Coeff!$B$14*(G418*(1-E418)-1)/(G418-1),0))","v":""}]
[null,null,null,null,null,null,null,{"$f":"IF(F419=\"\",\"\",IF((F419*E419-1)>=Coeff!$B$15,Coeff!$B$13/Coeff!$B$14*(F419*E419-1)/(F419-1),0))","v":""},{"$f":"IF(G419=\"\",\"\",IF((G419*(1-E419)-1)>=Coeff!$B$15,Coeff!$B$13/Coeff!$B$14*(G419*(1-E419)-1)/(G419-1),0))","v":""}]
[null,null,null,null,null,null,null,{"$f":"IF(F420=\"\",\"\",IF((F420*E420-1)>=Coeff!$B$15,Coeff!$B$13/Coeff!$B$14*(F420*E420-1)/(F420-1),0))","v":""},{"$f":"IF(G420=\"\",\"\",IF((G420*(1-E420)-1)>=Coeff!$B$15,Coeff!$B$13/Coeff!$B$14*(G420*(1-E420)-1)/(G420-1),0))","v":""}]
[null,null,null,null,null,null,null,{"$f":"IF(F421=\"\",\"\",IF((F421*E421-1)>=Coeff!$B$15,Coeff!$B$13/Coeff!$B$14*(F421*E421-1)/(F421-1),0))","v":""},{"$f":"IF(G421=\"\",\"\",IF((G421*(1-E421)-1)>=Coeff!$B$15,Coeff!$B$13/Coeff!$B$14*(G421*(1-E421)-1)/(G421-1),0))","v":""}]
[null,null,null,null,null,null,null,{"$f":"IF(F422=\"\",\"\",IF((F422*E422-1)>=Coeff!$B$15,Coeff!$B$13/Coeff!$B$14*(F422*E422-1)/(F422-1),0))","v":""},{"$f":"IF(G422=\"\",\"\",IF((G422*(1-E422)-1)>=Coeff!$B$15,Coeff!$B$13/Coeff!$B$14*(G422*(1-E422)-1)/(G422-1),0))","v":""}]
[null,null,null,null,null,null,null,{"$f":"IF(F423=\"\",\"\",IF((F423*E423-1)>=Coeff!$B$15,Coeff!$B$13/Coeff!$B$14*(F423*E423-1)/(F423-1),0))","v":""},{"$f":"IF(G423=\"\",\"\",IF((G423*(1-E423)-1)>=Coeff!$B$15,Coeff!$B$13/Coeff!$B$14*(G423*(1-E423)-1)/(G423-1),0))","v":""}]
[null,null,null,null,null,null,null,{"$f":"IF(F424=\"\",\"\",IF((F424*E424-1)>=Coeff!$B$15,Coeff!$B$13/Coeff!$B$14*(F424*E424-1)/(F424-1),0))","v":""},{"$f":"IF(G424=\"\",\"\",IF((G424*(1-E424)-1)>=Coeff!$B$15,Coeff!$B$13/Coeff!$B$14*(G424*(1-E424)-1)/(G424-1),0))","v":""}]
[null,null,null,null,null,null,null,{"$f":"IF(F425=\"\",\"\",IF((F425*E425-1)>=Coeff!$B$15,Coeff!$B$13/Coeff!$B$14*(F425*E425-1)/(F425-1),0))","v":""},{"$f":"IF(G425=\"\",\"\",IF((G425*(1-E425)-1)>=Coeff!$B$15,Coeff!$B$13/Coeff!$B$14*(G425*(1-E425)-1)/(G425-1),0))","v":""}]
[null,null,null,null,null,null,null,{"$f":"IF(F426=\"\",\"\",IF((F426*E426-1)>=Coeff!$B$15,Coeff!$B$13/Coeff!$B$14*(F426*E426-1)/(F426-1),0))","v":""},{"$f":"IF(G426=\"\",\"\",IF((G426*(1-E426)-1)>=Coeff!$B$15,Coeff!$B$13/Coeff!$B$14*(G426*(1-E426)-1)/(G426-1),0))","v":""}]
[null,null,null,null,null,null,null,{"$f":"IF(F427=\"\",\"\",IF((F427*E427-1)>=Coeff!$B$15,Coeff!$B$13/Coeff!$B$14*(F427*E427-1)/(F427-1),0))","v":""},{"$f":"IF(G427=\"\",\"\",IF((G427*(1-E427)-1)>=Coeff!$B$15,Coeff!$B$13/Coeff!$B$14*(G427*(1-E427)-1)/(G427-1),0))","v":""}]
[null,null,null,null,null,null,null,{"$f":"IF(F428=\"\",\"\",IF((F428*E428-1)>=Coeff!$B$15,Coeff!$B$13/Coeff!$B$14*(F428*E428-1)/(F428-1),0))","v":""},{"$f":"IF(G428=\"\",\"\",IF((G428*(1-E428)-1)>=Coeff!$B$15,Coeff!$B$13/Coeff!$B$14*(G428*(1-E428)-1)/(G428-1),0))","v":""}]
[null,null,null,null,null,null,null,{"$f":"IF(F429=\"\",\"\",IF((F429*E429-1)>=Coeff!$B$15,Coeff!$B$13/Coeff!$B$14*(F429*E429-1)/(F429-1),0))","v":""},{"$f":"IF(G429=\"\",\"\",IF((G429*(1-E429)-1)>=Coeff!$B$15,Coeff!$B$13/Coeff!$B$14*(G429*(1-E429)-1)/(G429-1),0))","v":""}]
[null,null,null,null,null,null,null,{"$f":"IF(F430=\"\",\"\",IF((F430*E430-1)>=Coeff!$B$15,Coeff!$B$13/Coeff!$B$14*(F430*E430-1)/(F430-1),0))","v":""},{"$f":"IF(G430=\"\",\"\",IF((G430*(1-E430)-1)>=Coeff!$B$15,Coeff!$B$13/Coeff!$B$14*(G430*(1-E430)-1)/(G430-1),0))","v":""}]
[null,null,null,null,null,null,null,{"$f":"IF(F431=\"\",\"\",IF((F431*E431-1)>=Coeff!$B$15,Coeff!$B$13/Coeff!$B$14*(F431*E431-1)/(F431-1),0))","v":""},{"$f":"IF(G431=\"\",\"\",IF((G431*(1-E431)-1)>=Coeff!$B$15,Coeff!$B$13/Coeff!$B$14*(G431*(1-E431)-1)/(G431-1),0))","v":""}]
[null,null,null,null,null,null,null,{"$f":"IF(F432=\"\",\"\",IF((F432*E432-1)>=Coeff!$B$15,Coeff!$B$13/Coeff!$B$14*(F432*E432-1)/(F432-1),0))","v":""},{"$f":"IF(G432=\"\",\"\",IF((G432*(1-E432)-1)>=Coeff!$B$15,Coeff!$B$13/Coeff!$B$14*(G432*(1-E432)-1)/(G432-1),0))","v":""}]
[null,null,null,null,null,null,null,{"$f":"IF(F433=\"\",\"\",IF((F433*E433-1)>=Coeff!$B$15,Coeff!$B$13/Coeff!$B$14*(F433*E433-1)/(F433-1),0))","v":""},{"$f":"IF(G433=\"\",\"\",IF((G433*(1-E433)-1)>=Coeff!$B$15,Coeff!$B$13/Coeff!$B$14*(G433*(1-E433)-1)/(G433-1),0))","v":""}]
[null,null,null,null,null,null,null,{"$f":"IF(F434=\"\",\"\",IF((F434*E434-1)>=Coeff!$B$15,Coeff!$B$13/Coeff!$B$14*(F434*E434-1)/(F434-1),0))","v":""},{"$f":"IF(G434=\"\",\"\",IF((G434*(1-E434)-1)>=Coeff!$B$15,Coeff!$B$13/Coeff!$B$14*(G434*(1-E434)-1)/(G434-1),0))","v":""}]
[null,null,null,null,null,null,null,{"$f":"IF(F435=\"\",\"\",IF((F435*E435-1)>=Coeff!$B$15,Coeff!$B$13/Coeff!$B$14*(F435*E435-1)/(F435-1),0))","v":""},{"$f":"IF(G435=\"\",\"\",IF((G435*(1-E435)-1)>=Coeff!$B$15,Coeff!$B$13/Coeff!$B$14*(G435*(1-E435)-1)/(G435-1),0))","v":""}]
[null,null,null,null,null,null,null,{"$f":"IF(F436=\"\",\"\",IF((F436*E436-1)>=Coeff!$B$15,Coeff!$B$13/Coeff!$B$14*(F436*E436-1)/(F436-1),0))","v":""},{"$f":"IF(G436=\"\",\"\",IF((G436*(1-E436)-1)>=Coeff!$B$15,Coeff!$B$13/Coeff!$B$14*(G436*(1-E436)-1)/(G436-1),0))","v":""}]
[null,null,null,null,null,null,null,{"$f":"IF(F437=\"\",\"\",IF((F437*E437-1)>=Coeff!$B$15,Coeff!$B$13/Coeff!$B$14*(F437*E437-1)/(F437-1),0))","v":""},{"$f":"IF(G437=\"\",\"\",IF((G437*(1-E437)-1)>=Coeff!$B$15,Coeff!$B$13/Coeff!$B$14*(G437*(1-E437)-1)/(G437-1),0))","v":""}]
[null,null,null,null,null,null,null,{"$f":"IF(F438=\"\",\"\",IF((F438*E438-1)>=Coeff!$B$15,Coeff!$B$13/Coeff!$B$14*(F438*E438-1)/(F438-1),0))","v":""},{"$f":"IF(G438=\"\",\"\",IF((G438*(1-E438)-1)>=Coeff!$B$15,Coeff!$B$13/Coeff!$B$14*(G438*(1-E438)-1)/(G438-1),0))","v":""}]
[null,null,null,null,null,null,null,{"$f":"IF(F439=\"\",\"\",IF((F439*E439-1)>=Coeff!$B$15,Coeff!$B$13/Coeff!$B$14*(F439*E439-1)/(F439-1),0))","v":""},{"$f":"IF(G439=\"\",\"\",IF((G439*(1-E439)-1)>=Coeff!$B$15,Coeff!$B$13/Coeff!$B$14*(G439*(1-E439)-1)/(G439-1),0))","v":""}]
[null,null,null,null,null,null,null,{"$f":"IF(F440=\"\",\"\",IF((F440*E440-1)>=Coeff!$B$15,Coeff!$B$13/Coeff!$B$14*(F440*E440-1)/(F440-1),0))","v":""},{"$f":"IF(G440=\"\",\"\",IF((G440*(1-E440)-1)>=Coeff!$B$15,Coeff!$B$13/Coeff!$B$14*(G440*(1-E440)-1)/(G440-1),0))","v":""}]
[null,null,null,null,null,null,null,{"$f":"IF(F441=\"\",\"\",IF((F441*E441-1)>=Coeff!$B$15,Coeff!$B$13/Coeff!$B$14*(F441*E441-1)/(F441-1),0))","v":""},{"$f":"IF(G441=\"\",\"\",IF((G441*(1-E441)-1)>=Coeff!$B$15,Coeff!$B$13/Coeff!$B$14*(G441*(1-E441)-1)/(G441-1),0))","v":""}]
[null,null,null,null,null,null,null,{"$f":"IF(F442=\"\",\"\",IF((F442*E442-1)>=Coeff!$B$15,Coeff!$B$13/Coeff!$B$14*(F442*E442-1)/(F442-1),0))","v":""},{"$f":"IF(G442=\"\",\"\",IF((G442*(1-E442)-1)>=Coeff!$B$15,Coeff!$B$13/Coeff!$B$14*(G442*(1-E442)-1)/(G442-1),0))","v":""}]
[null,null,null,null,null,null,null,{"$f":"IF(F443=\"\",\"\",IF((F443*E443-1)>=Coeff!$B$15,Coeff!$B$13/Coeff!$B$14*(F443*E443-1)/(F443-1),0))","v":""},{"$f":"IF(G443=\"\",\"\",IF((G443*(1-E443)-1)>=Coeff!$B$15,Coeff!$B$13/Coeff!$B$14*(G443*(1-E443)-1)/(G443-1),0))","v":""}]
[null,null,null,null,null,null,null,{"$f":"IF(F444=\"\",\"\",IF((F444*E444-1)>=Coeff!$B$15,Coeff!$B$13/Coeff!$B$14*(F444*E444-1)/(F444-1),0))","v":""},{"$f":"IF(G444=\"\",\"\",IF((G444*(1-E444)-1)>=Coeff!$B$15,Coeff!$B$13/Coeff!$B$14*(G444*(1-E444)-1)/(G444-1),0))","v":""}]
[null,null,null,null,null,null,null,{"$f":"IF(F445=\"\",\"\",IF((F445*E445-1)>=Coeff!$B$15,Coeff!$B$13/Coeff!$B$14*(F445*E445-1)/(F445-1),0))","v":""},{"$f":"IF(G445=\"\",\"\",IF((G445*(1-E445)-1)>=Coeff!$B$15,Coeff!$B$13/Coeff!$B$14*(G445*(1-E445)-1)/(G445-1),0))","v":""}]
[null,null,null,null,null,null,null,{"$f":"IF(F446=\"\",\"\",IF((F446*E446-1)>=Coeff!$B$15,Coeff!$B$13/Coeff!$B$14*(F446*E446-1)/(F446-1),0))","v":""},{"$f":"IF(G446=\"\",\"\",IF((G446*(1-E446)-1)>=Coeff!$B$15,Coeff!$B$13/Coeff!$B$14*(G446*(1-E446)-1)/(G446-1),0))","v":""}]
[null,null,null,null,null,null,null,{"$f":"IF(F447=\"\",\"\",IF((F447*E447-1)>=Coeff!$B$15,Coeff!$B$13/Coeff!$B$14*(F447*E447-1)/(F447-1),0))","v":""},{"$f":"IF(G447=\"\",\"\",IF((G447*(1-E447)-1)>=Coeff!$B$15,Coeff!$B$13/Coeff!$B$14*(G447*(1-E447)-1)/(G447-1),0))","v":""}]
[null,null,null,null,null,null,null,{"$f":"IF(F448=\"\",\"\",IF((F448*E448-1)>=Coeff!$B$15,Coeff!$B$13/Coeff!$B$14*(F448*E448-1)/(F448-1),0))","v":""},{"$f":"IF(G448=\"\",\"\",IF((G448*(1-E448)-1)>=Coeff!$B$15,Coeff!$B$13/Coeff!$B$14*(G448*(1-E448)-1)/(G448-1),0))","v":""}]
[null,null,null,null,null,null,null,{"$f":"IF(F449=\"\",\"\",IF((F449*E449-1)>=Coeff!$B$15,Coeff!$B$13/Coeff!$B$14*(F449*E449-1)/(F449-1),0))","v":""},{"$f":"IF(G449=\"\",\"\",IF((G449*(1-E449)-1)>=Coeff!$B$15,Coeff!$B$13/Coeff!$B$14*(G449*(1-E449)-1)/(G449-1),0))","v":""}]
[null,null,null,null,null,null,null,{"$f":"IF(F450=\"\",\"\",IF((F450*E450-1)>=Coeff!$B$15,Coeff!$B$13/Coeff!$B$14*(F450*E450-1)/(F450-1),0))","v":""},{"$f":"IF(G450=\"\",\"\",IF((G450*(1-E450)-1)>=Coeff!$B$15,Coeff!$B$13/Coeff!$B$14*(G450*(1-E450)-1)/(G450-1),0))","v":""}]
[null,null,null,null,null,null,null,{"$f":"IF(F451=\"\",\"\",IF((F451*E451-1)>=Coeff!$B$15,Coeff!$B$13/Coeff!$B$14*(F451*E451-1)/(F451-1),0))","v":""},{"$f":"IF(G451=\"\",\"\",IF((G451*(1-E451)-1)>=Coeff!$B$15,Coeff!$B$13/Coeff!$B$14*(G451*(1-E451)-1)/(G451-1),0))","v":""}]
[null,null,null,null,null,null,null,{"$f":"IF(F452=\"\",\"\",IF((F452*E452-1)>=Coeff!$B$15,Coeff!$B$13/Coeff!$B$14*(F452*E452-1)/(F452-1),0))","v":""},{"$f":"IF(G452=\"\",\"\",IF((G452*(1-E452)-1)>=Coeff!$B$15,Coeff!$B$13/Coeff!$B$14*(G452*(1-E452)-1)/(G452-1),0))","v":""}]
[null,null,null,null,null,null,null,{"$f":"IF(F453=\"\",\"\",IF((F453*E453-1)>=Coeff!$B$15,Coeff!$B$13/Coeff!$B$14*(F453*E453-1)/(F453-1),0))","v":""},{"$f":"IF(G453=\"\",\"\",IF((G453*(1-E453)-1)>=Coeff!$B$15,Coeff!$B$13/Coeff!$B$14*(G453*(1-E453)-1)/(G453-1),0))","v":""}]
[null,null,null,null,null,null,null,{"$f":"IF(F454=\"\",\"\",IF((F454*E454-1)>=Coeff!$B$15,Coeff!$B$13/Coeff!$B$14*(F454*E454-1)/(F454-1),0))","v":""},{"$f":"IF(G454=\"\",\"\",IF((G454*(1-E454)-1)>=Coeff!$B$15,Coeff!$B$13/Coeff!$B$14*(G454*(1-E454)-1)/(G454-1),0))","v":""}]
[null,null,null,null,null,null,null,{"$f":"IF(F455=\"\",\"\",IF((F455*E455-1)>=Coeff!$B$15,Coeff!$B$13/Coeff!$B$14*(F455*E455-1)/(F455-1),0))","v":""},{"$f":"IF(G455=\"\",\"\",IF((G455*(1-E455)-1)>=Coeff!$B$15,Coeff!$B$13/Coeff!$B$14*(G455*(1-E455)-1)/(G455-1),0))","v":""}]
[null,null,null,null,null,null,null,{"$f":"IF(F456=\"\",\"\",IF((F456*E456-1)>=Coeff!$B$15,Coeff!$B$13/Coeff!$B$14*(F456*E456-1)/(F456-1),0))","v":""},{"$f":"IF(G456=\"\",\"\",IF((G456*(1-E456)-1)>=Coeff!$B$15,Coeff!$B$13/Coeff!$B$14*(G456*(1-E456)-1)/(G456-1),0))","v":""}]
[null,null,null,null,null,null,null,{"$f":"IF(F457=\"\",\"\",IF((F457*E457-1)>=Coeff!$B$15,Coeff!$B$13/Coeff!$B$14*(F457*E457-1)/(F457-1),0))","v":""},{"$f":"IF(G457=\"\",\"\",IF((G457*(1-E457)-1)>=Coeff!$B$15,Coeff!$B$13/Coeff!$B$14*(G457*(1-E457)-1)/(G457-1),0))","v":""}]
[null,null,null,null,null,null,null,{"$f":"IF(F458=\"\",\"\",IF((F458*E458-1)>=Coeff!$B$15,Coeff!$B$13/Coeff!$B$14*(F458*E458-1)/(F458-1),0))","v":""},{"$f":"IF(G458=\"\",\"\",IF((G458*(1-E458)-1)>=Coeff!$B$15,Coeff!$B$13/Coeff!$B$14*(G458*(1-E458)-1)/(G458-1),0))","v":""}]
[null,null,null,null,null,null,null,{"$f":"IF(F459=\"\",\"\",IF((F459*E459-1)>=Coeff!$B$15,Coeff!$B$13/Coeff!$B$14*(F459*E459-1)/(F459-1),0))","v":""},{"$f":"IF(G459=\"\",\"\",IF((G459*(1-E459)-1)>=Coeff!$B$15,Coeff!$B$13/Coeff!$B$14*(G459*(1-E459)-1)/(G459-1),0))","v":""}]
[null,null,null,null,null,null,null,{"$f":"IF(F460=\"\",\"\",IF((F460*E460-1)>=Coeff!$B$15,Coeff!$B$13/Coeff!$B$14*(F460*E460-1)/(F460-1),0))","v":""},{"$f":"IF(G460=\"\",\"\",IF((G460*(1-E460)-1)>=Coeff!$B$15,Coeff!$B$13/Coeff!$B$14*(G460*(1-E460)-1)/(G460-1),0))","v":""}]
[null,null,null,null,null,null,null,{"$f":"IF(F461=\"\",\"\",IF((F461*E461-1)>=Coeff!$B$15,Coeff!$B$13/Coeff!$B$14*(F461*E461-1)/(F461-1),0))","v":""},{"$f":"IF(G461=\"\",\"\",IF((G461*(1-E461)-1)>=Coeff!$B$15,Coeff!$B$13/Coeff!$B$14*(G461*(1-E461)-1)/(G461-1),0))","v":""}]
[null,null,null,null,null,null,null,{"$f":"IF(F462=\"\",\"\",IF((F462*E462-1)>=Coeff!$B$15,Coeff!$B$13/Coeff!$B$14*(F462*E462-1)/(F462-1),0))","v":""},{"$f":"IF(G462=\"\",\"\",IF((G462*(1-E462)-1)>=Coeff!$B$15,Coeff!$B$13/Coeff!$B$14*(G462*(1-E462)-1)/(G462-1),0))","v":""}]
[null,null,null,null,null,null,null,{"$f":"IF(F463=\"\",\"\",IF((F463*E463-1)>=Coeff!$B$15,Coeff!$B$13/Coeff!$B$14*(F463*E463-1)/(F463-1),0))","v":""},{"$f":"IF(G463=\"\",\"\",IF((G463*(1-E463)-1)>=Coeff!$B$15,Coeff!$B$13/Coeff!$B$14*(G463*(1-E463)-1)/(G463-1),0))","v":""}]
[null,null,null,null,null,null,null,{"$f":"IF(F464=\"\",\"\",IF((F464*E464-1)>=Coeff!$B$15,Coeff!$B$13/Coeff!$B$14*(F464*E464-1)/(F464-1),0))","v":""},{"$f":"IF(G464=\"\",\"\",IF((G464*(1-E464)-1)>=Coeff!$B$15,Coeff!$B$13/Coeff!$B$14*(G464*(1-E464)-1)/(G464-1),0))","v":""}]
[null,null,null,null,null,null,null,{"$f":"IF(F465=\"\",\"\",IF((F465*E465-1)>=Coeff!$B$15,Coeff!$B$13/Coeff!$B$14*(F465*E465-1)/(F465-1),0))","v":""},{"$f":"IF(G465=\"\",\"\",IF((G465*(1-E465)-1)>=Coeff!$B$15,Coeff!$B$13/Coeff!$B$14*(G465*(1-E465)-1)/(G465-1),0))","v":""}]
[null,null,null,null,null,null,null,{"$f":"IF(F466=\"\",\"\",IF((F466*E466-1)>=Coeff!$B$15,Coeff!$B$13/Coeff!$B$14*(F466*E466-1)/(F466-1),0))","v":""},{"$f":"IF(G466=\"\",\"\",IF((G466*(1-E466)-1)>=Coeff!$B$15,Coeff!$B$13/Coeff!$B$14*(G466*(1-E466)-1)/(G466-1),0))","v":""}]
[null,null,null,null,null,null,null,{"$f":"IF(F467=\"\",\"\",IF((F467*E467-1)>=Coeff!$B$15,Coeff!$B$13/Coeff!$B$14*(F467*E467-1)/(F467-1),0))","v":""},{"$f":"IF(G467=\"\",\"\",IF((G467*(1-E467)-1)>=Coeff!$B$15,Coeff!$B$13/Coeff!$B$14*(G467*(1-E467)-1)/(G467-1),0))","v":""}]
[null,null,null,null,null,null,null,{"$f":"IF(F468=\"\",\"\",IF((F468*E468-1)>=Coeff!$B$15,Coeff!$B$13/Coeff!$B$14*(F468*E468-1)/(F468-1),0))","v":""},{"$f":"IF(G468=\"\",\"\",IF((G468*(1-E468)-1)>=Coeff!$B$15,Coeff!$B$13/Coeff!$B$14*(G468*(1-E468)-1)/(G468-1),0))","v":""}]
[null,null,null,null,null,null,null,{"$f":"IF(F469=\"\",\"\",IF((F469*E469-1)>=Coeff!$B$15,Coeff!$B$13/Coeff!$B$14*(F469*E469-1)/(F469-1),0))","v":""},{"$f":"IF(G469=\"\",\"\",IF((G469*(1-E469)-1)>=Coeff!$B$15,Coeff!$B$13/Coeff!$B$14*(G469*(1-E469)-1)/(G469-1),0))","v":""}]
[null,null,null,null,null,null,null,{"$f":"IF(F470=\"\",\"\",IF((F470*E470-1)>=Coeff!$B$15,Coeff!$B$13/Coeff!$B$14*(F470*E470-1)/(F470-1),0))","v":""},{"$f":"IF(G470=\"\",\"\",IF((G470*(1-E470)-1)>=Coeff!$B$15,Coeff!$B$13/Coeff!$B$14*(G470*(1-E470)-1)/(G470-1),0))","v":""}]
[null,null,null,null,null,null,null,{"$f":"IF(F471=\"\",\"\",IF((F471*E471-1)>=Coeff!$B$15,Coeff!$B$13/Coeff!$B$14*(F471*E471-1)/(F471-1),0))","v":""},{"$f":"IF(G471=\"\",\"\",IF((G471*(1-E471)-1)>=Coeff!$B$15,Coeff!$B$13/Coeff!$B$14*(G471*(1-E471)-1)/(G471-1),0))","v":""}]
[null,null,null,null,null,null,null,{"$f":"IF(F472=\"\",\"\",IF((F472*E472-1)>=Coeff!$B$15,Coeff!$B$13/Coeff!$B$14*(F472*E472-1)/(F472-1),0))","v":""},{"$f":"IF(G472=\"\",\"\",IF((G472*(1-E472)-1)>=Coeff!$B$15,Coeff!$B$13/Coeff!$B$14*(G472*(1-E472)-1)/(G472-1),0))","v":""}]
[null,null,null,null,null,null,null,{"$f":"IF(F473=\"\",\"\",IF((F473*E473-1)>=Coeff!$B$15,Coeff!$B$13/Coeff!$B$14*(F473*E473-1)/(F473-1),0))","v":""},{"$f":"IF(G473=\"\",\"\",IF((G473*(1-E473)-1)>=Coeff!$B$15,Coeff!$B$13/Coeff!$B$14*(G473*(1-E473)-1)/(G473-1),0))","v":""}]
[null,null,null,null,null,null,null,{"$f":"IF(F474=\"\",\"\",IF((F474*E474-1)>=Coeff!$B$15,Coeff!$B$13/Coeff!$B$14*(F474*E474-1)/(F474-1),0))","v":""},{"$f":"IF(G474=\"\",\"\",IF((G474*(1-E474)-1)>=Coeff!$B$15,Coeff!$B$13/Coeff!$B$14*(G474*(1-E474)-1)/(G474-1),0))","v":""}]
[null,null,null,null,null,null,null,{"$f":"IF(F475=\"\",\"\",IF((F475*E475-1)>=Coeff!$B$15,Coeff!$B$13/Coeff!$B$14*(F475*E475-1)/(F475-1),0))","v":""},{"$f":"IF(G475=\"\",\"\",IF((G475*(1-E475)-1)>=Coeff!$B$15,Coeff!$B$13/Coeff!$B$14*(G475*(1-E475)-1)/(G475-1),0))","v":""}]
[null,null,null,null,null,null,null,{"$f":"IF(F476=\"\",\"\",IF((F476*E476-1)>=Coeff!$B$15,Coeff!$B$13/Coeff!$B$14*(F476*E476-1)/(F476-1),0))","v":""},{"$f":"IF(G476=\"\",\"\",IF((G476*(1-E476)-1)>=Coeff!$B$15,Coeff!$B$13/Coeff!$B$14*(G476*(1-E476)-1)/(G476-1),0))","v":""}]
[null,null,null,null,null,null,null,{"$f":"IF(F477=\"\",\"\",IF((F477*E477-1)>=Coeff!$B$15,Coeff!$B$13/Coeff!$B$14*(F477*E477-1)/(F477-1),0))","v":""},{"$f":"IF(G477=\"\",\"\",IF((G477*(1-E477)-1)>=Coeff!$B$15,Coeff!$B$13/Coeff!$B$14*(G477*(1-E477)-1)/(G477-1),0))","v":""}]
[null,null,null,null,null,null,null,{"$f":"IF(F478=\"\",\"\",IF((F478*E478-1)>=Coeff!$B$15,Coeff!$B$13/Coeff!$B$14*(F478*E478-1)/(F478-1),0))","v":""},{"$f":"IF(G478=\"\",\"\",IF((G478*(1-E478)-1)>=Coeff!$B$15,Coeff!$B$13/Coeff!$B$14*(G478*(1-E478)-1)/(G478-1),0))","v":""}]
[null,null,null,null,null,null,null,{"$f":"IF(F479=\"\",\"\",IF((F479*E479-1)>=Coeff!$B$15,Coeff!$B$13/Coeff!$B$14*(F479*E479-1)/(F479-1),0))","v":""},{"$f":"IF(G479=\"\",\"\",IF((G479*(1-E479)-1)>=Coeff!$B$15,Coeff!$B$13/Coeff!$B$14*(G479*(1-E479)-1)/(G479-1),0))","v":""}]
[null,null,null,null,null,null,null,{"$f":"IF(F480=\"\",\"\",IF((F480*E480-1)>=Coeff!$B$15,Coeff!$B$13/Coeff!$B$14*(F480*E480-1)/(F480-1),0))","v":""},{"$f":"IF(G480=\"\",\"\",IF((G480*(1-E480)-1)>=Coeff!$B$15,Coeff!$B$13/Coeff!$B$14*(G480*(1-E480)-1)/(G480-1),0))","v":""}]
[null,null,null,null,null,null,null,{"$f":"IF(F481=\"\",\"\",IF((F481*E481-1)>=Coeff!$B$15,Coeff!$B$13/Coeff!$B$14*(F481*E481-1)/(F481-1),0))","v":""},{"$f":"IF(G481=\"\",\"\",IF((G481*(1-E481)-1)>=Coeff!$B$15,Coeff!$B$13/Coeff!$B$14*(G481*(1-E481)-1)/(G481-1),0))","v":""}]
[null,null,null,null,null,null,null,{"$f":"IF(F482=\"\",\"\",IF((F482*E482-1)>=Coeff!$B$15,Coeff!$B$13/Coeff!$B$14*(F482*E482-1)/(F482-1),0))","v":""},{"$f":"IF(G482=\"\",\"\",IF((G482*(1-E482)-1)>=Coeff!$B$15,Coeff!$B$13/Coeff!$B$14*(G482*(1-E482)-1)/(G482-1),0))","v":""}]
[null,null,null,null,null,null,null,{"$f":"IF(F483=\"\",\"\",IF((F483*E483-1)>=Coeff!$B$15,Coeff!$B$13/Coeff!$B$14*(F483*E483-1)/(F483-1),0))","v":""},{"$f":"IF(G483=\"\",\"\",IF((G483*(1-E483)-1)>=Coeff!$B$15,Coeff!$B$13/Coeff!$B$14*(G483*(1-E483)-1)/(G483-1),0))","v":""}]
[null,null,null,null,null,null,null,{"$f":"IF(F484=\"\",\"\",IF((F484*E484-1)>=Coeff!$B$15,Coeff!$B$13/Coeff!$B$14*(F484*E484-1)/(F484-1),0))","v":""},{"$f":"IF(G484=\"\",\"\",IF((G484*(1-E484)-1)>=Coeff!$B$15,Coeff!$B$13/Coeff!$B$14*(G484*(1-E484)-1)/(G484-1),0))","v":""}]
[null,null,null,null,null,null,null,{"$f":"IF(F485=\"\",\"\",IF((F485*E485-1)>=Coeff!$B$15,Coeff!$B$13/Coeff!$B$14*(F485*E485-1)/(F485-1),0))","v":""},{"$f":"IF(G485=\"\",\"\",IF((G485*(1-E485)-1)>=Coeff!$B$15,Coeff!$B$13/Coeff!$B$14*(G485*(1-E485)-1)/(G485-1),0))","v":""}]
[null,null,null,null,null,null,null,{"$f":"IF(F486=\"\",\"\",IF((F486*E486-1)>=Coeff!$B$15,Coeff!$B$13/Coeff!$B$14*(F486*E486-1)/(F486-1),0))","v":""},{"$f":"IF(G486=\"\",\"\",IF((G486*(1-E486)-1)>=Coeff!$B$15,Coeff!$B$13/Coeff!$B$14*(G486*(1-E486)-1)/(G486-1),0))","v":""}]
[null,null,null,null,null,null,null,{"$f":"IF(F487=\"\",\"\",IF((F487*E487-1)>=Coeff!$B$15,Coeff!$B$13/Coeff!$B$14*(F487*E487-1)/(F487-1),0))","v":""},{"$f":"IF(G487=\"\",\"\",IF((G487*(1-E487)-1)>=Coeff!$B$15,Coeff!$B$13/Coeff!$B$14*(G487*(1-E487)-1)/(G487-1),0))","v":""}]
[null,null,null,null,null,null,null,{"$f":"IF(F488=\"\",\"\",IF((F488*E488-1)>=Coeff!$B$15,Coeff!$B$13/Coeff!$B$14*(F488*E488-1)/(F488-1),0))","v":""},{"$f":"IF(G488=\"\",\"\",IF((G488*(1-E488)-1)>=Coeff!$B$15,Coeff!$B$13/Coeff!$B$14*(G488*(1-E488)-1)/(G488-1),0))","v":""}]
[null,null,null,null,null,null,null,{"$f":"IF(F489=\"\",\"\",IF((F489*E489-1)>=Coeff!$B$15,Coeff!$B$13/Coeff!$B$14*(F489*E489-1)/(F489-1),0))","v":""},{"$f":"IF(G489=\"\",\"\",IF((G489*(1-E489)-1)>=Coeff!$B$15,Coeff!$B$13/Coeff!$B$14*(G489*(1-E489)-1)/(G489-1),0))","v":""}]
[null,null,null,null,null,null,null,{"$f":"IF(F490=\"\",\"\",IF((F490*E490-1)>=Coeff!$B$15,Coeff!$B$13/Coeff!$B$14*(F490*E490-1)/(F490-1),0))","v":""},{"$f":"IF(G490=\"\",\"\",IF((G490*(1-E490)-1)>=Coeff!$B$15,Coeff!$B$13/Coeff!$B$14*(G490*(1-E490)-1)/(G490-1),0))","v":""}]
[null,null,null,null,null,null,null,{"$f":"IF(F491=\"\",\"\",IF((F491*E491-1)>=Coeff!$B$15,Coeff!$B$13/Coeff!$B$14*(F491*E491-1)/(F491-1),0))","v":""},{"$f":"IF(G491=\"\",\"\",IF((G491*(1-E491)-1)>=Coeff!$B$15,Coeff!$B$13/Coeff!$B$14*(G491*(1-E491)-1)/(G491-1),0))","v":""}]
[null,null,null,null,null,null,null,{"$f":"IF(F492=\"\",\"\",IF((F492*E492-1)>=Coeff!$B$15,Coeff!$B$13/Coeff!$B$14*(F492*E492-1)/(F492-1),0))","v":""},{"$f":"IF(G492=\"\",\"\",IF((G492*(1-E492)-1)>=Coeff!$B$15,Coeff!$B$13/Coeff!$B$14*(G492*(1-E492)-1)/(G492-1),0))","v":""}]
[null,null,null,null,null,null,null,{"$f":"IF(F493=\"\",\"\",IF((F493*E493-1)>=Coeff!$B$15,Coeff!$B$13/Coeff!$B$14*(F493*E493-1)/(F493-1),0))","v":""},{"$f":"IF(G493=\"\",\"\",IF((G493*(1-E493)-1)>=Coeff!$B$15,Coeff!$B$13/Coeff!$B$14*(G493*(1-E493)-1)/(G493-1),0))","v":""}]
[null,null,null,null,null,null,null,{"$f":"IF(F494=\"\",\"\",IF((F494*E494-1)>=Coeff!$B$15,Coeff!$B$13/Coeff!$B$14*(F494*E494-1)/(F494-1),0))","v":""},{"$f":"IF(G494=\"\",\"\",IF((G494*(1-E494)-1)>=Coeff!$B$15,Coeff!$B$13/Coeff!$B$14*(G494*(1-E494)-1)/(G494-1),0))","v":""}]
[null,null,null,null,null,null,null,{"$f":"IF(F495=\"\",\"\",IF((F495*E495-1)>=Coeff!$B$15,Coeff!$B$13/Coeff!$B$14*(F495*E495-1)/(F495-1),0))","v":""},{"$f":"IF(G495=\"\",\"\",IF((G495*(1-E495)-1)>=Coeff!$B$15,Coeff!$B$13/Coeff!$B$14*(G495*(1-E495)-1)/(G495-1),0))","v":""}]
[null,null,null,null,null,null,null,{"$f":"IF(F496=\"\",\"\",IF((F496*E496-1)>=Coeff!$B$15,Coeff!$B$13/Coeff!$B$14*(F496*E496-1)/(F496-1),0))","v":""},{"$f":"IF(G496=\"\",\"\",IF((G496*(1-E496)-1)>=Coeff!$B$15,Coeff!$B$13/Coeff!$B$14*(G496*(1-E496)-1)/(G496-1),0))","v":""}]
[null,null,null,null,null,null,null,{"$f":"IF(F497=\"\",\"\",IF((F497*E497-1)>=Coeff!$B$15,Coeff!$B$13/Coeff!$B$14*(F497*E497-1)/(F497-1),0))","v":""},{"$f":"IF(G497=\"\",\"\",IF((G497*(1-E497)-1)>=Coeff!$B$15,Coeff!$B$13/Coeff!$B$14*(G497*(1-E497)-1)/(G497-1),0))","v":""}]
[null,null,null,null,null,null,null,{"$f":"IF(F498=\"\",\"\",IF((F498*E498-1)>=Coeff!$B$15,Coeff!$B$13/Coeff!$B$14*(F498*E498-1)/(F498-1),0))","v":""},{"$f":"IF(G498=\"\",\"\",IF((G498*(1-E498)-1)>=Coeff!$B$15,Coeff!$B$13/Coeff!$B$14*(G498*(1-E498)-1)/(G498-1),0))","v":""}]
[null,null,null,null,null,null,null,{"$f":"IF(F499=\"\",\"\",IF((F499*E499-1)>=Coeff!$B$15,Coeff!$B$13/Coeff!$B$14*(F499*E499-1)/(F499-1),0))","v":""},{"$f":"IF(G499=\"\",\"\",IF((G499*(1-E499)-1)>=Coeff!$B$15,Coeff!$B$13/Coeff!$B$14*(G499*(1-E499)-1)/(G499-1),0))","v":""}]
[null,null,null,null,null,null,null,{"$f":"IF(F500=\"\",\"\",IF((F500*E500-1)>=Coeff!$B$15,Coeff!$B$13/Coeff!$B$14*(F500*E500-1)/(F500-1),0))","v":""},{"$f":"IF(G500=\"\",\"\",IF((G500*(1-E500)-1)>=Coeff!$B$15,Coeff!$B$13/Coeff!$B$14*(G500*(1-E500)-1)/(G500-1),0))","v":""}]