{"text_format":"1","workbook":"xlsx","n_sheets":4,"sheets":["coeff","h2h","line","totals"],"not_rendered":{"charts":0,"images":0,"macros":1,"external_links":0,"defined_names":80,"comments":0,"pivot_tables":0},"unopened":[],"bounds":{"document_bytes":16777216,"sheet_cells":100000,"rows_first":2000,"rows_last":500,"rows_between":2000,"halvings":0,"cell_chars":16384,"cell_head_chars":4096},"cells_cut":0,"cells_raw":0,"read":"whole","date_system":"1900"}

{"sheet":"coeff","index":0,"n_rows":15,"n_cols":6,"rows_kept":15,"cut":false,"hidden":false,"merged":[]}
[]
["h2h",null,null,null,"EU IceHockey Calc","Version 1.1"]
["Bank Balance",1000]
["Kelly",10]
["Min. Overlay",0.05]
[]
["line"]
["Bank Balance",1000]
["Kelly",10]
["Min. Overlay",0.05]
[]
["totals"]
["Bank Balance",1000]
["Kelly",10]
["Min. Overlay",0.05]

{"sheet":"h2h","index":1,"n_rows":181,"n_cols":10,"rows_kept":181,"cut":false,"hidden":false,"merged":[]}
[]
[]
["League","Start Time","Team1","Team2","Expected","Prob1","Odds1","Odds2"," $Bet1 "," $Bet2 "]
["Russia - KHL","2016-02-22T12:00:00","Avangard Omsk ","Neftekhimik Nizhne… ",1.1000000000000001,0.72399999999999998,null,null,{"$f":"IF(OR(F4=\"\",G4=\"\"),\"\",IF((G4*F4-1)>=coeff!$B$5,coeff!$B$3/coeff!$B$4*(G4*F4-1)/(G4-1),\"\"))","v":""},{"$f":"IF(OR(F4=\"\",H4=\"\"),\"\",IF((H4*(1-F4)-1)>=coeff!$B$5,coeff!$B$3/coeff!$B$4*(H4*(1-F4)-1)/(H4-1),\"\"))","v":""}]
["Russia - KHL","2016-02-22T12:30:00","Sibir Novosibirsk ","Admiral Vladivostok ",0.9,0.69199999999999995,null,null,{"$f":"IF(OR(F5=\"\",G5=\"\"),\"\",IF((G5*F5-1)>=coeff!$B$5,coeff!$B$3/coeff!$B$4*(G5*F5-1)/(G5-1),\"\"))","v":""},{"$f":"IF(OR(F5=\"\",H5=\"\"),\"\",IF((H5*(1-F5)-1)>=coeff!$B$5,coeff!$B$3/coeff!$B$4*(H5*(1-F5)-1)/(H5-1),\"\"))","v":""}]
["Russia - KHL","2016-02-22T13:00:00","Salavat Yulaev Ufa ","Ak Bars Kazan ",0.2,0.54700000000000004,null,null,{"$f":"IF(OR(F6=\"\",G6=\"\"),\"\",IF((G6*F6-1)>=coeff!$B$5,coeff!$B$3/coeff!$B$4*(G6*F6-1)/(G6-1),\"\"))","v":""},{"$f":"IF(OR(F6=\"\",H6=\"\"),\"\",IF((H6*(1-F6)-1)>=coeff!$B$5,coeff!$B$3/coeff!$B$4*(H6*(1-F6)-1)/(H6-1),\"\"))","v":""}]
["Russia - KHL","2016-02-22T13:00:00","Metallurg Magnitogorsk ","Avtomobilist ",1.2,0.746,null,null,{"$f":"IF(OR(F7=\"\",G7=\"\"),\"\",IF((G7*F7-1)>=coeff!$B$5,coeff!$B$3/coeff!$B$4*(G7*F7-1)/(G7-1),\"\"))","v":""},{"$f":"IF(OR(F7=\"\",H7=\"\"),\"\",IF((H7*(1-F7)-1)>=coeff!$B$5,coeff!$B$3/coeff!$B$4*(H7*(1-F7)-1)/(H7-1),\"\"))","v":""}]
["Sweden - HockeyAllsvenskan","2016-02-22T19:00:00","Asplöven HC ","Västerås ",0.4,0.56100000000000005,null,null,{"$f":"IF(OR(F8=\"\",G8=\"\"),\"\",IF((G8*F8-1)>=coeff!$B$5,coeff!$B$3/coeff!$B$4*(G8*F8-1)/(G8-1),\"\"))","v":""},{"$f":"IF(OR(F8=\"\",H8=\"\"),\"\",IF((H8*(1-F8)-1)>=coeff!$B$5,coeff!$B$3/coeff!$B$4*(H8*(1-F8)-1)/(H8-1),\"\"))","v":""}]
["Sweden - HockeyAllsvenskan","2016-02-22T19:00:00","Leksand ","Mora ",0.6,0.58599999999999997,null,null,{"$f":"IF(OR(F9=\"\",G9=\"\"),\"\",IF((G9*F9-1)>=coeff!$B$5,coeff!$B$3/coeff!$B$4*(G9*F9-1)/(G9-1),\"\"))","v":""},{"$f":"IF(OR(F9=\"\",H9=\"\"),\"\",IF((H9*(1-F9)-1)>=coeff!$B$5,coeff!$B$3/coeff!$B$4*(H9*(1-F9)-1)/(H9-1),\"\"))","v":""}]
["Sweden - HockeyAllsvenskan","2016-02-22T19:00:00","IK Pantern ","IK Oskarshamn ",0.6,0.58899999999999997,null,null,{"$f":"IF(OR(F10=\"\",G10=\"\"),\"\",IF((G10*F10-1)>=coeff!$B$5,coeff!$B$3/coeff!$B$4*(G10*F10-1)/(G10-1),\"\"))","v":""},{"$f":"IF(OR(F10=\"\",H10=\"\"),\"\",IF((H10*(1-F10)-1)>=coeff!$B$5,coeff!$B$3/coeff!$B$4*(H10*(1-F10)-1)/(H10-1),\"\"))","v":""}]
["Sweden - HockeyAllsvenskan","2016-02-22T19:00:00","BIK Karlskoga ","Tingsryds AIF ",0.4,0.55300000000000005,null,null,{"$f":"IF(OR(F11=\"\",G11=\"\"),\"\",IF((G11*F11-1)>=coeff!$B$5,coeff!$B$3/coeff!$B$4*(G11*F11-1)/(G11-1),\"\"))","v":""},{"$f":"IF(OR(F11=\"\",H11=\"\"),\"\",IF((H11*(1-F11)-1)>=coeff!$B$5,coeff!$B$3/coeff!$B$4*(H11*(1-F11)-1)/(H11-1),\"\"))","v":""}]
["Sweden - HockeyAllsvenskan","2016-02-22T19:00:00","Almtuna IS ","HC Vita Hästen ",0.9,0.63100000000000001,null,null,{"$f":"IF(OR(F12=\"\",G12=\"\"),\"\",IF((G12*F12-1)>=coeff!$B$5,coeff!$B$3/coeff!$B$4*(G12*F12-1)/(G12-1),\"\"))","v":""},{"$f":"IF(OR(F12=\"\",H12=\"\"),\"\",IF((H12*(1-F12)-1)>=coeff!$B$5,coeff!$B$3/coeff!$B$4*(H12*(1-F12)-1)/(H12-1),\"\"))","v":""}]
["Sweden - HockeyAllsvenskan","2016-02-22T19:00:00","Timrå ","AIK ",-0.1,0.49099999999999999,null,null,{"$f":"IF(OR(F13=\"\",G13=\"\"),\"\",IF((G13*F13-1)>=coeff!$B$5,coeff!$B$3/coeff!$B$4*(G13*F13-1)/(G13-1),\"\"))","v":""},{"$f":"IF(OR(F13=\"\",H13=\"\"),\"\",IF((H13*(1-F13)-1)>=coeff!$B$5,coeff!$B$3/coeff!$B$4*(H13*(1-F13)-1)/(H13-1),\"\"))","v":""}]
["Sweden - HockeyAllsvenskan","2016-02-22T19:00:00","Björklöven ","IF Sundsvall Hockey ",1.9,0.74,null,null,{"$f":"IF(OR(F14=\"\",G14=\"\"),\"\",IF((G14*F14-1)>=coeff!$B$5,coeff!$B$3/coeff!$B$4*(G14*F14-1)/(G14-1),\"\"))","v":""},{"$f":"IF(OR(F14=\"\",H14=\"\"),\"\",IF((H14*(1-F14)-1)>=coeff!$B$5,coeff!$B$3/coeff!$B$4*(H14*(1-F14)-1)/(H14-1),\"\"))","v":""}]
[null,null,null,null,null,null,null,null,{"$f":"IF(OR(F15=\"\",G15=\"\"),\"\",IF((G15*F15-1)>=coeff!$B$5,coeff!$B$3/coeff!$B$4*(G15*F15-1)/(G15-1),\"\"))","v":""},{"$f":"IF(OR(F15=\"\",H15=\"\"),\"\",IF((H15*(1-F15)-1)>=coeff!$B$5,coeff!$B$3/coeff!$B$4*(H15*(1-F15)-1)/(H15-1),\"\"))","v":""}]
[null,null,null,null,null,null,null,null,{"$f":"IF(OR(F16=\"\",G16=\"\"),\"\",IF((G16*F16-1)>=coeff!$B$5,coeff!$B$3/coeff!$B$4*(G16*F16-1)/(G16-1),\"\"))","v":""},{"$f":"IF(OR(F16=\"\",H16=\"\"),\"\",IF((H16*(1-F16)-1)>=coeff!$B$5,coeff!$B$3/coeff!$B$4*(H16*(1-F16)-1)/(H16-1),\"\"))","v":""}]
[null,null,null,null,null,null,null,null,{"$f":"IF(OR(F17=\"\",G17=\"\"),\"\",IF((G17*F17-1)>=coeff!$B$5,coeff!$B$3/coeff!$B$4*(G17*F17-1)/(G17-1),\"\"))","v":""},{"$f":"IF(OR(F17=\"\",H17=\"\"),\"\",IF((H17*(1-F17)-1)>=coeff!$B$5,coeff!$B$3/coeff!$B$4*(H17*(1-F17)-1)/(H17-1),\"\"))","v":""}]
[null,null,null,null,null,null,null,null,{"$f":"IF(OR(F18=\"\",G18=\"\"),\"\",IF((G18*F18-1)>=coeff!$B$5,coeff!$B$3/coeff!$B$4*(G18*F18-1)/(G18-1),\"\"))","v":""},{"$f":"IF(OR(F18=\"\",H18=\"\"),\"\",IF((H18*(1-F18)-1)>=coeff!$B$5,coeff!$B$3/coeff!$B$4*(H18*(1-F18)-1)/(H18-1),\"\"))","v":""}]
[null,null,null,null,null,null,null,null,{"$f":"IF(OR(F19=\"\",G19=\"\"),\"\",IF((G19*F19-1)>=coeff!$B$5,coeff!$B$3/coeff!$B$4*(G19*F19-1)/(G19-1),\"\"))","v":""},{"$f":"IF(OR(F19=\"\",H19=\"\"),\"\",IF((H19*(1-F19)-1)>=coeff!$B$5,coeff!$B$3/coeff!$B$4*(H19*(1-F19)-1)/(H19-1),\"\"))","v":""}]
[null,null,null,null,null,null,null,null,{"$f":"IF(OR(F20=\"\",G20=\"\"),\"\",IF((G20*F20-1)>=coeff!$B$5,coeff!$B$3/coeff!$B$4*(G20*F20-1)/(G20-1),\"\"))","v":""},{"$f":"IF(OR(F20=\"\",H20=\"\"),\"\",IF((H20*(1-F20)-1)>=coeff!$B$5,coeff!$B$3/coeff!$B$4*(H20*(1-F20)-1)/(H20-1),\"\"))","v":""}]
[null,null,null,null,null,null,null,null,{"$f":"IF(OR(F21=\"\",G21=\"\"),\"\",IF((G21*F21-1)>=coeff!$B$5,coeff!$B$3/coeff!$B$4*(G21*F21-1)/(G21-1),\"\"))","v":""},{"$f":"IF(OR(F21=\"\",H21=\"\"),\"\",IF((H21*(1-F21)-1)>=coeff!$B$5,coeff!$B$3/coeff!$B$4*(H21*(1-F21)-1)/(H21-1),\"\"))","v":""}]
[null,null,null,null,null,null,null,null,{"$f":"IF(OR(F22=\"\",G22=\"\"),\"\",IF((G22*F22-1)>=coeff!$B$5,coeff!$B$3/coeff!$B$4*(G22*F22-1)/(G22-1),\"\"))","v":""},{"$f":"IF(OR(F22=\"\",H22=\"\"),\"\",IF((H22*(1-F22)-1)>=coeff!$B$5,coeff!$B$3/coeff!$B$4*(H22*(1-F22)-1)/(H22-1),\"\"))","v":""}]
[null,null,null,null,null,null,null,null,{"$f":"IF(OR(F23=\"\",G23=\"\"),\"\",IF((G23*F23-1)>=coeff!$B$5,coeff!$B$3/coeff!$B$4*(G23*F23-1)/(G23-1),\"\"))","v":""},{"$f":"IF(OR(F23=\"\",H23=\"\"),\"\",IF((H23*(1-F23)-1)>=coeff!$B$5,coeff!$B$3/coeff!$B$4*(H23*(1-F23)-1)/(H23-1),\"\"))","v":""}]
[null,null,null,null,null,null,null,null,{"$f":"IF(OR(F24=\"\",G24=\"\"),\"\",IF((G24*F24-1)>=coeff!$B$5,coeff!$B$3/coeff!$B$4*(G24*F24-1)/(G24-1),\"\"))","v":""},{"$f":"IF(OR(F24=\"\",H24=\"\"),\"\",IF((H24*(1-F24)-1)>=coeff!$B$5,coeff!$B$3/coeff!$B$4*(H24*(1-F24)-1)/(H24-1),\"\"))","v":""}]
[null,null,null,null,null,null,null,null,{"$f":"IF(OR(F25=\"\",G25=\"\"),\"\",IF((G25*F25-1)>=coeff!$B$5,coeff!$B$3/coeff!$B$4*(G25*F25-1)/(G25-1),\"\"))","v":""},{"$f":"IF(OR(F25=\"\",H25=\"\"),\"\",IF((H25*(1-F25)-1)>=coeff!$B$5,coeff!$B$3/coeff!$B$4*(H25*(1-F25)-1)/(H25-1),\"\"))","v":""}]
[null,null,null,null,null,null,null,null,{"$f":"IF(OR(F26=\"\",G26=\"\"),\"\",IF((G26*F26-1)>=coeff!$B$5,coeff!$B$3/coeff!$B$4*(G26*F26-1)/(G26-1),\"\"))","v":""},{"$f":"IF(OR(F26=\"\",H26=\"\"),\"\",IF((H26*(1-F26)-1)>=coeff!$B$5,coeff!$B$3/coeff!$B$4*(H26*(1-F26)-1)/(H26-1),\"\"))","v":""}]
[null,null,null,null,null,null,null,null,{"$f":"IF(OR(F27=\"\",G27=\"\"),\"\",IF((G27*F27-1)>=coeff!$B$5,coeff!$B$3/coeff!$B$4*(G27*F27-1)/(G27-1),\"\"))","v":""},{"$f":"IF(OR(F27=\"\",H27=\"\"),\"\",IF((H27*(1-F27)-1)>=coeff!$B$5,coeff!$B$3/coeff!$B$4*(H27*(1-F27)-1)/(H27-1),\"\"))","v":""}]
[null,null,null,null,null,null,null,null,{"$f":"IF(OR(F28=\"\",G28=\"\"),\"\",IF((G28*F28-1)>=coeff!$B$5,coeff!$B$3/coeff!$B$4*(G28*F28-1)/(G28-1),\"\"))","v":""},{"$f":"IF(OR(F28=\"\",H28=\"\"),\"\",IF((H28*(1-F28)-1)>=coeff!$B$5,coeff!$B$3/coeff!$B$4*(H28*(1-F28)-1)/(H28-1),\"\"))","v":""}]
[null,null,null,null,null,null,null,null,{"$f":"IF(OR(F29=\"\",G29=\"\"),\"\",IF((G29*F29-1)>=coeff!$B$5,coeff!$B$3/coeff!$B$4*(G29*F29-1)/(G29-1),\"\"))","v":""},{"$f":"IF(OR(F29=\"\",H29=\"\"),\"\",IF((H29*(1-F29)-1)>=coeff!$B$5,coeff!$B$3/coeff!$B$4*(H29*(1-F29)-1)/(H29-1),\"\"))","v":""}]
[null,null,null,null,null,null,null,null,{"$f":"IF(OR(F30=\"\",G30=\"\"),\"\",IF((G30*F30-1)>=coeff!$B$5,coeff!$B$3/coeff!$B$4*(G30*F30-1)/(G30-1),\"\"))","v":""},{"$f":"IF(OR(F30=\"\",H30=\"\"),\"\",IF((H30*(1-F30)-1)>=coeff!$B$5,coeff!$B$3/coeff!$B$4*(H30*(1-F30)-1)/(H30-1),\"\"))","v":""}]
[null,null,null,null,null,null,null,null,{"$f":"IF(OR(F31=\"\",G31=\"\"),\"\",IF((G31*F31-1)>=coeff!$B$5,coeff!$B$3/coeff!$B$4*(G31*F31-1)/(G31-1),\"\"))","v":""},{"$f":"IF(OR(F31=\"\",H31=\"\"),\"\",IF((H31*(1-F31)-1)>=coeff!$B$5,coeff!$B$3/coeff!$B$4*(H31*(1-F31)-1)/(H31-1),\"\"))","v":""}]
[null,null,null,null,null,null,null,null,{"$f":"IF(OR(F32=\"\",G32=\"\"),\"\",IF((G32*F32-1)>=coeff!$B$5,coeff!$B$3/coeff!$B$4*(G32*F32-1)/(G32-1),\"\"))","v":""},{"$f":"IF(OR(F32=\"\",H32=\"\"),\"\",IF((H32*(1-F32)-1)>=coeff!$B$5,coeff!$B$3/coeff!$B$4*(H32*(1-F32)-1)/(H32-1),\"\"))","v":""}]
[null,null,null,null,null,null,null,null,{"$f":"IF(OR(F33=\"\",G33=\"\"),\"\",IF((G33*F33-1)>=coeff!$B$5,coeff!$B$3/coeff!$B$4*(G33*F33-1)/(G33-1),\"\"))","v":""},{"$f":"IF(OR(F33=\"\",H33=\"\"),\"\",IF((H33*(1-F33)-1)>=coeff!$B$5,coeff!$B$3/coeff!$B$4*(H33*(1-F33)-1)/(H33-1),\"\"))","v":""}]
[null,null,null,null,null,null,null,null,{"$f":"IF(OR(F34=\"\",G34=\"\"),\"\",IF((G34*F34-1)>=coeff!$B$5,coeff!$B$3/coeff!$B$4*(G34*F34-1)/(G34-1),\"\"))","v":""},{"$f":"IF(OR(F34=\"\",H34=\"\"),\"\",IF((H34*(1-F34)-1)>=coeff!$B$5,coeff!$B$3/coeff!$B$4*(H34*(1-F34)-1)/(H34-1),\"\"))","v":""}]
[null,null,null,null,null,null,null,null,{"$f":"IF(OR(F35=\"\",G35=\"\"),\"\",IF((G35*F35-1)>=coeff!$B$5,coeff!$B$3/coeff!$B$4*(G35*F35-1)/(G35-1),\"\"))","v":""},{"$f":"IF(OR(F35=\"\",H35=\"\"),\"\",IF((H35*(1-F35)-1)>=coeff!$B$5,coeff!$B$3/coeff!$B$4*(H35*(1-F35)-1)/(H35-1),\"\"))","v":""}]
[null,null,null,null,null,null,null,null,{"$f":"IF(OR(F36=\"\",G36=\"\"),\"\",IF((G36*F36-1)>=coeff!$B$5,coeff!$B$3/coeff!$B$4*(G36*F36-1)/(G36-1),\"\"))","v":""},{"$f":"IF(OR(F36=\"\",H36=\"\"),\"\",IF((H36*(1-F36)-1)>=coeff!$B$5,coeff!$B$3/coeff!$B$4*(H36*(1-F36)-1)/(H36-1),\"\"))","v":""}]
[null,null,null,null,null,null,null,null,{"$f":"IF(OR(F37=\"\",G37=\"\"),\"\",IF((G37*F37-1)>=coeff!$B$5,coeff!$B$3/coeff!$B$4*(G37*F37-1)/(G37-1),\"\"))","v":""},{"$f":"IF(OR(F37=\"\",H37=\"\"),\"\",IF((H37*(1-F37)-1)>=coeff!$B$5,coeff!$B$3/coeff!$B$4*(H37*(1-F37)-1)/(H37-1),\"\"))","v":""}]
[null,null,null,null,null,null,null,null,{"$f":"IF(OR(F38=\"\",G38=\"\"),\"\",IF((G38*F38-1)>=coeff!$B$5,coeff!$B$3/coeff!$B$4*(G38*F38-1)/(G38-1),\"\"))","v":""},{"$f":"IF(OR(F38=\"\",H38=\"\"),\"\",IF((H38*(1-F38)-1)>=coeff!$B$5,coeff!$B$3/coeff!$B$4*(H38*(1-F38)-1)/(H38-1),\"\"))","v":""}]
[null,null,null,null,null,null,null,null,{"$f":"IF(OR(F39=\"\",G39=\"\"),\"\",IF((G39*F39-1)>=coeff!$B$5,coeff!$B$3/coeff!$B$4*(G39*F39-1)/(G39-1),\"\"))","v":""},{"$f":"IF(OR(F39=\"\",H39=\"\"),\"\",IF((H39*(1-F39)-1)>=coeff!$B$5,coeff!$B$3/coeff!$B$4*(H39*(1-F39)-1)/(H39-1),\"\"))","v":""}]
[null,null,null,null,null,null,null,null,{"$f":"IF(OR(F40=\"\",G40=\"\"),\"\",IF((G40*F40-1)>=coeff!$B$5,coeff!$B$3/coeff!$B$4*(G40*F40-1)/(G40-1),\"\"))","v":""},{"$f":"IF(OR(F40=\"\",H40=\"\"),\"\",IF((H40*(1-F40)-1)>=coeff!$B$5,coeff!$B$3/coeff!$B$4*(H40*(1-F40)-1)/(H40-1),\"\"))","v":""}]
[null,null,null,null,null,null,null,null,{"$f":"IF(OR(F41=\"\",G41=\"\"),\"\",IF((G41*F41-1)>=coeff!$B$5,coeff!$B$3/coeff!$B$4*(G41*F41-1)/(G41-1),\"\"))","v":""},{"$f":"IF(OR(F41=\"\",H41=\"\"),\"\",IF((H41*(1-F41)-1)>=coeff!$B$5,coeff!$B$3/coeff!$B$4*(H41*(1-F41)-1)/(H41-1),\"\"))","v":""}]
[null,null,null,null,null,null,null,null,{"$f":"IF(OR(F42=\"\",G42=\"\"),\"\",IF((G42*F42-1)>=coeff!$B$5,coeff!$B$3/coeff!$B$4*(G42*F42-1)/(G42-1),\"\"))","v":""},{"$f":"IF(OR(F42=\"\",H42=\"\"),\"\",IF((H42*(1-F42)-1)>=coeff!$B$5,coeff!$B$3/coeff!$B$4*(H42*(1-F42)-1)/(H42-1),\"\"))","v":""}]
[null,null,null,null,null,null,null,null,{"$f":"IF(OR(F43=\"\",G43=\"\"),\"\",IF((G43*F43-1)>=coeff!$B$5,coeff!$B$3/coeff!$B$4*(G43*F43-1)/(G43-1),\"\"))","v":""},{"$f":"IF(OR(F43=\"\",H43=\"\"),\"\",IF((H43*(1-F43)-1)>=coeff!$B$5,coeff!$B$3/coeff!$B$4*(H43*(1-F43)-1)/(H43-1),\"\"))","v":""}]
[null,null,null,null,null,null,null,null,{"$f":"IF(OR(F44=\"\",G44=\"\"),\"\",IF((G44*F44-1)>=coeff!$B$5,coeff!$B$3/coeff!$B$4*(G44*F44-1)/(G44-1),\"\"))","v":""},{"$f":"IF(OR(F44=\"\",H44=\"\"),\"\",IF((H44*(1-F44)-1)>=coeff!$B$5,coeff!$B$3/coeff!$B$4*(H44*(1-F44)-1)/(H44-1),\"\"))","v":""}]
[null,null,null,null,null,null,null,null,{"$f":"IF(OR(F45=\"\",G45=\"\"),\"\",IF((G45*F45-1)>=coeff!$B$5,coeff!$B$3/coeff!$B$4*(G45*F45-1)/(G45-1),\"\"))","v":""},{"$f":"IF(OR(F45=\"\",H45=\"\"),\"\",IF((H45*(1-F45)-1)>=coeff!$B$5,coeff!$B$3/coeff!$B$4*(H45*(1-F45)-1)/(H45-1),\"\"))","v":""}]
[null,null,null,null,null,null,null,null,{"$f":"IF(OR(F46=\"\",G46=\"\"),\"\",IF((G46*F46-1)>=coeff!$B$5,coeff!$B$3/coeff!$B$4*(G46*F46-1)/(G46-1),\"\"))","v":""},{"$f":"IF(OR(F46=\"\",H46=\"\"),\"\",IF((H46*(1-F46)-1)>=coeff!$B$5,coeff!$B$3/coeff!$B$4*(H46*(1-F46)-1)/(H46-1),\"\"))","v":""}]
[null,null,null,null,null,null,null,null,{"$f":"IF(OR(F47=\"\",G47=\"\"),\"\",IF((G47*F47-1)>=coeff!$B$5,coeff!$B$3/coeff!$B$4*(G47*F47-1)/(G47-1),\"\"))","v":""},{"$f":"IF(OR(F47=\"\",H47=\"\"),\"\",IF((H47*(1-F47)-1)>=coeff!$B$5,coeff!$B$3/coeff!$B$4*(H47*(1-F47)-1)/(H47-1),\"\"))","v":""}]
[null,null,null,null,null,null,null,null,{"$f":"IF(OR(F48=\"\",G48=\"\"),\"\",IF((G48*F48-1)>=coeff!$B$5,coeff!$B$3/coeff!$B$4*(G48*F48-1)/(G48-1),\"\"))","v":""},{"$f":"IF(OR(F48=\"\",H48=\"\"),\"\",IF((H48*(1-F48)-1)>=coeff!$B$5,coeff!$B$3/coeff!$B$4*(H48*(1-F48)-1)/(H48-1),\"\"))","v":""}]
[null,null,null,null,null,null,null,null,{"$f":"IF(OR(F49=\"\",G49=\"\"),\"\",IF((G49*F49-1)>=coeff!$B$5,coeff!$B$3/coeff!$B$4*(G49*F49-1)/(G49-1),\"\"))","v":""},{"$f":"IF(OR(F49=\"\",H49=\"\"),\"\",IF((H49*(1-F49)-1)>=coeff!$B$5,coeff!$B$3/coeff!$B$4*(H49*(1-F49)-1)/(H49-1),\"\"))","v":""}]
[null,null,null,null,null,null,null,null,{"$f":"IF(OR(F50=\"\",G50=\"\"),\"\",IF((G50*F50-1)>=coeff!$B$5,coeff!$B$3/coeff!$B$4*(G50*F50-1)/(G50-1),\"\"))","v":""},{"$f":"IF(OR(F50=\"\",H50=\"\"),\"\",IF((H50*(1-F50)-1)>=coeff!$B$5,coeff!$B$3/coeff!$B$4*(H50*(1-F50)-1)/(H50-1),\"\"))","v":""}]
[null,null,null,null,null,null,null,null,{"$f":"IF(OR(F51=\"\",G51=\"\"),\"\",IF((G51*F51-1)>=coeff!$B$5,coeff!$B$3/coeff!$B$4*(G51*F51-1)/(G51-1),\"\"))","v":""},{"$f":"IF(OR(F51=\"\",H51=\"\"),\"\",IF((H51*(1-F51)-1)>=coeff!$B$5,coeff!$B$3/coeff!$B$4*(H51*(1-F51)-1)/(H51-1),\"\"))","v":""}]
[null,null,null,null,null,null,null,null,{"$f":"IF(OR(F52=\"\",G52=\"\"),\"\",IF((G52*F52-1)>=coeff!$B$5,coeff!$B$3/coeff!$B$4*(G52*F52-1)/(G52-1),\"\"))","v":""},{"$f":"IF(OR(F52=\"\",H52=\"\"),\"\",IF((H52*(1-F52)-1)>=coeff!$B$5,coeff!$B$3/coeff!$B$4*(H52*(1-F52)-1)/(H52-1),\"\"))","v":""}]
[null,null,null,null,null,null,null,null,{"$f":"IF(OR(F53=\"\",G53=\"\"),\"\",IF((G53*F53-1)>=coeff!$B$5,coeff!$B$3/coeff!$B$4*(G53*F53-1)/(G53-1),\"\"))","v":""},{"$f":"IF(OR(F53=\"\",H53=\"\"),\"\",IF((H53*(1-F53)-1)>=coeff!$B$5,coeff!$B$3/coeff!$B$4*(H53*(1-F53)-1)/(H53-1),\"\"))","v":""}]
[null,null,null,null,null,null,null,null,{"$f":"IF(OR(F54=\"\",G54=\"\"),\"\",IF((G54*F54-1)>=coeff!$B$5,coeff!$B$3/coeff!$B$4*(G54*F54-1)/(G54-1),\"\"))","v":""},{"$f":"IF(OR(F54=\"\",H54=\"\"),\"\",IF((H54*(1-F54)-1)>=coeff!$B$5,coeff!$B$3/coeff!$B$4*(H54*(1-F54)-1)/(H54-1),\"\"))","v":""}]
[null,null,null,null,null,null,null,null,{"$f":"IF(OR(F55=\"\",G55=\"\"),\"\",IF((G55*F55-1)>=coeff!$B$5,coeff!$B$3/coeff!$B$4*(G55*F55-1)/(G55-1),\"\"))","v":""},{"$f":"IF(OR(F55=\"\",H55=\"\"),\"\",IF((H55*(1-F55)-1)>=coeff!$B$5,coeff!$B$3/coeff!$B$4*(H55*(1-F55)-1)/(H55-1),\"\"))","v":""}]
[null,null,null,null,null,null,null,null,{"$f":"IF(OR(F56=\"\",G56=\"\"),\"\",IF((G56*F56-1)>=coeff!$B$5,coeff!$B$3/coeff!$B$4*(G56*F56-1)/(G56-1),\"\"))","v":""},{"$f":"IF(OR(F56=\"\",H56=\"\"),\"\",IF((H56*(1-F56)-1)>=coeff!$B$5,coeff!$B$3/coeff!$B$4*(H56*(1-F56)-1)/(H56-1),\"\"))","v":""}]
[null,null,null,null,null,null,null,null,{"$f":"IF(OR(F57=\"\",G57=\"\"),\"\",IF((G57*F57-1)>=coeff!$B$5,coeff!$B$3/coeff!$B$4*(G57*F57-1)/(G57-1),\"\"))","v":""},{"$f":"IF(OR(F57=\"\",H57=\"\"),\"\",IF((H57*(1-F57)-1)>=coeff!$B$5,coeff!$B$3/coeff!$B$4*(H57*(1-F57)-1)/(H57-1),\"\"))","v":""}]
[null,null,null,null,null,null,null,null,{"$f":"IF(OR(F58=\"\",G58=\"\"),\"\",IF((G58*F58-1)>=coeff!$B$5,coeff!$B$3/coeff!$B$4*(G58*F58-1)/(G58-1),\"\"))","v":""},{"$f":"IF(OR(F58=\"\",H58=\"\"),\"\",IF((H58*(1-F58)-1)>=coeff!$B$5,coeff!$B$3/coeff!$B$4*(H58*(1-F58)-1)/(H58-1),\"\"))","v":""}]
[null,null,null,null,null,null,null,null,{"$f":"IF(OR(F59=\"\",G59=\"\"),\"\",IF((G59*F59-1)>=coeff!$B$5,coeff!$B$3/coeff!$B$4*(G59*F59-1)/(G59-1),\"\"))","v":""},{"$f":"IF(OR(F59=\"\",H59=\"\"),\"\",IF((H59*(1-F59)-1)>=coeff!$B$5,coeff!$B$3/coeff!$B$4*(H59*(1-F59)-1)/(H59-1),\"\"))","v":""}]
[null,null,null,null,null,null,null,null,{"$f":"IF(OR(F60=\"\",G60=\"\"),\"\",IF((G60*F60-1)>=coeff!$B$5,coeff!$B$3/coeff!$B$4*(G60*F60-1)/(G60-1),\"\"))","v":""},{"$f":"IF(OR(F60=\"\",H60=\"\"),\"\",IF((H60*(1-F60)-1)>=coeff!$B$5,coeff!$B$3/coeff!$B$4*(H60*(1-F60)-1)/(H60-1),\"\"))","v":""}]
[null,null,null,null,null,null,null,null,{"$f":"IF(OR(F61=\"\",G61=\"\"),\"\",IF((G61*F61-1)>=coeff!$B$5,coeff!$B$3/coeff!$B$4*(G61*F61-1)/(G61-1),\"\"))","v":""},{"$f":"IF(OR(F61=\"\",H61=\"\"),\"\",IF((H61*(1-F61)-1)>=coeff!$B$5,coeff!$B$3/coeff!$B$4*(H61*(1-F61)-1)/(H61-1),\"\"))","v":""}]
[null,null,null,null,null,null,null,null,{"$f":"IF(OR(F62=\"\",G62=\"\"),\"\",IF((G62*F62-1)>=coeff!$B$5,coeff!$B$3/coeff!$B$4*(G62*F62-1)/(G62-1),\"\"))","v":""},{"$f":"IF(OR(F62=\"\",H62=\"\"),\"\",IF((H62*(1-F62)-1)>=coeff!$B$5,coeff!$B$3/coeff!$B$4*(H62*(1-F62)-1)/(H62-1),\"\"))","v":""}]
[null,null,null,null,null,null,null,null,{"$f":"IF(OR(F63=\"\",G63=\"\"),\"\",IF((G63*F63-1)>=coeff!$B$5,coeff!$B$3/coeff!$B$4*(G63*F63-1)/(G63-1),\"\"))","v":""},{"$f":"IF(OR(F63=\"\",H63=\"\"),\"\",IF((H63*(1-F63)-1)>=coeff!$B$5,coeff!$B$3/coeff!$B$4*(H63*(1-F63)-1)/(H63-1),\"\"))","v":""}]
[null,null,null,null,null,null,null,null,{"$f":"IF(OR(F64=\"\",G64=\"\"),\"\",IF((G64*F64-1)>=coeff!$B$5,coeff!$B$3/coeff!$B$4*(G64*F64-1)/(G64-1),\"\"))","v":""},{"$f":"IF(OR(F64=\"\",H64=\"\"),\"\",IF((H64*(1-F64)-1)>=coeff!$B$5,coeff!$B$3/coeff!$B$4*(H64*(1-F64)-1)/(H64-1),\"\"))","v":""}]
[null,null,null,null,null,null,null,null,{"$f":"IF(OR(F65=\"\",G65=\"\"),\"\",IF((G65*F65-1)>=coeff!$B$5,coeff!$B$3/coeff!$B$4*(G65*F65-1)/(G65-1),\"\"))","v":""},{"$f":"IF(OR(F65=\"\",H65=\"\"),\"\",IF((H65*(1-F65)-1)>=coeff!$B$5,coeff!$B$3/coeff!$B$4*(H65*(1-F65)-1)/(H65-1),\"\"))","v":""}]
[null,null,null,null,null,null,null,null,{"$f":"IF(OR(F66=\"\",G66=\"\"),\"\",IF((G66*F66-1)>=coeff!$B$5,coeff!$B$3/coeff!$B$4*(G66*F66-1)/(G66-1),\"\"))","v":""},{"$f":"IF(OR(F66=\"\",H66=\"\"),\"\",IF((H66*(1-F66)-1)>=coeff!$B$5,coeff!$B$3/coeff!$B$4*(H66*(1-F66)-1)/(H66-1),\"\"))","v":""}]
[null,null,null,null,null,null,null,null,{"$f":"IF(OR(F67=\"\",G67=\"\"),\"\",IF((G67*F67-1)>=coeff!$B$5,coeff!$B$3/coeff!$B$4*(G67*F67-1)/(G67-1),\"\"))","v":""},{"$f":"IF(OR(F67=\"\",H67=\"\"),\"\",IF((H67*(1-F67)-1)>=coeff!$B$5,coeff!$B$3/coeff!$B$4*(H67*(1-F67)-1)/(H67-1),\"\"))","v":""}]
[null,null,null,null,null,null,null,null,{"$f":"IF(OR(F68=\"\",G68=\"\"),\"\",IF((G68*F68-1)>=coeff!$B$5,coeff!$B$3/coeff!$B$4*(G68*F68-1)/(G68-1),\"\"))","v":""},{"$f":"IF(OR(F68=\"\",H68=\"\"),\"\",IF((H68*(1-F68)-1)>=coeff!$B$5,coeff!$B$3/coeff!$B$4*(H68*(1-F68)-1)/(H68-1),\"\"))","v":""}]
[null,null,null,null,null,null,null,null,{"$f":"IF(OR(F69=\"\",G69=\"\"),\"\",IF((G69*F69-1)>=coeff!$B$5,coeff!$B$3/coeff!$B$4*(G69*F69-1)/(G69-1),\"\"))","v":""},{"$f":"IF(OR(F69=\"\",H69=\"\"),\"\",IF((H69*(1-F69)-1)>=coeff!$B$5,coeff!$B$3/coeff!$B$4*(H69*(1-F69)-1)/(H69-1),\"\"))","v":""}]
[null,null,null,null,null,null,null,null,{"$f":"IF(OR(F70=\"\",G70=\"\"),\"\",IF((G70*F70-1)>=coeff!$B$5,coeff!$B$3/coeff!$B$4*(G70*F70-1)/(G70-1),\"\"))","v":""},{"$f":"IF(OR(F70=\"\",H70=\"\"),\"\",IF((H70*(1-F70)-1)>=coeff!$B$5,coeff!$B$3/coeff!$B$4*(H70*(1-F70)-1)/(H70-1),\"\"))","v":""}]
[null,null,null,null,null,null,null,null,{"$f":"IF(OR(F71=\"\",G71=\"\"),\"\",IF((G71*F71-1)>=coeff!$B$5,coeff!$B$3/coeff!$B$4*(G71*F71-1)/(G71-1),\"\"))","v":""},{"$f":"IF(OR(F71=\"\",H71=\"\"),\"\",IF((H71*(1-F71)-1)>=coeff!$B$5,coeff!$B$3/coeff!$B$4*(H71*(1-F71)-1)/(H71-1),\"\"))","v":""}]
[null,null,null,null,null,null,null,null,{"$f":"IF(OR(F72=\"\",G72=\"\"),\"\",IF((G72*F72-1)>=coeff!$B$5,coeff!$B$3/coeff!$B$4*(G72*F72-1)/(G72-1),\"\"))","v":""},{"$f":"IF(OR(F72=\"\",H72=\"\"),\"\",IF((H72*(1-F72)-1)>=coeff!$B$5,coeff!$B$3/coeff!$B$4*(H72*(1-F72)-1)/(H72-1),\"\"))","v":""}]
[null,null,null,null,null,null,null,null,{"$f":"IF(OR(F73=\"\",G73=\"\"),\"\",IF((G73*F73-1)>=coeff!$B$5,coeff!$B$3/coeff!$B$4*(G73*F73-1)/(G73-1),\"\"))","v":""},{"$f":"IF(OR(F73=\"\",H73=\"\"),\"\",IF((H73*(1-F73)-1)>=coeff!$B$5,coeff!$B$3/coeff!$B$4*(H73*(1-F73)-1)/(H73-1),\"\"))","v":""}]
[null,null,null,null,null,null,null,null,{"$f":"IF(OR(F74=\"\",G74=\"\"),\"\",IF((G74*F74-1)>=coeff!$B$5,coeff!$B$3/coeff!$B$4*(G74*F74-1)/(G74-1),\"\"))","v":""},{"$f":"IF(OR(F74=\"\",H74=\"\"),\"\",IF((H74*(1-F74)-1)>=coeff!$B$5,coeff!$B$3/coeff!$B$4*(H74*(1-F74)-1)/(H74-1),\"\"))","v":""}]
[null,null,null,null,null,null,null,null,{"$f":"IF(OR(F75=\"\",G75=\"\"),\"\",IF((G75*F75-1)>=coeff!$B$5,coeff!$B$3/coeff!$B$4*(G75*F75-1)/(G75-1),\"\"))","v":""},{"$f":"IF(OR(F75=\"\",H75=\"\"),\"\",IF((H75*(1-F75)-1)>=coeff!$B$5,coeff!$B$3/coeff!$B$4*(H75*(1-F75)-1)/(H75-1),\"\"))","v":""}]
[null,null,null,null,null,null,null,null,{"$f":"IF(OR(F76=\"\",G76=\"\"),\"\",IF((G76*F76-1)>=coeff!$B$5,coeff!$B$3/coeff!$B$4*(G76*F76-1)/(G76-1),\"\"))","v":""},{"$f":"IF(OR(F76=\"\",H76=\"\"),\"\",IF((H76*(1-F76)-1)>=coeff!$B$5,coeff!$B$3/coeff!$B$4*(H76*(1-F76)-1)/(H76-1),\"\"))","v":""}]
[null,null,null,null,null,null,null,null,{"$f":"IF(OR(F77=\"\",G77=\"\"),\"\",IF((G77*F77-1)>=coeff!$B$5,coeff!$B$3/coeff!$B$4*(G77*F77-1)/(G77-1),\"\"))","v":""},{"$f":"IF(OR(F77=\"\",H77=\"\"),\"\",IF((H77*(1-F77)-1)>=coeff!$B$5,coeff!$B$3/coeff!$B$4*(H77*(1-F77)-1)/(H77-1),\"\"))","v":""}]
[null,null,null,null,null,null,null,null,{"$f":"IF(OR(F78=\"\",G78=\"\"),\"\",IF((G78*F78-1)>=coeff!$B$5,coeff!$B$3/coeff!$B$4*(G78*F78-1)/(G78-1),\"\"))","v":""},{"$f":"IF(OR(F78=\"\",H78=\"\"),\"\",IF((H78*(1-F78)-1)>=coeff!$B$5,coeff!$B$3/coeff!$B$4*(H78*(1-F78)-1)/(H78-1),\"\"))","v":""}]
[null,null,null,null,null,null,null,null,{"$f":"IF(OR(F79=\"\",G79=\"\"),\"\",IF((G79*F79-1)>=coeff!$B$5,coeff!$B$3/coeff!$B$4*(G79*F79-1)/(G79-1),\"\"))","v":""},{"$f":"IF(OR(F79=\"\",H79=\"\"),\"\",IF((H79*(1-F79)-1)>=coeff!$B$5,coeff!$B$3/coeff!$B$4*(H79*(1-F79)-1)/(H79-1),\"\"))","v":""}]
[null,null,null,null,null,null,null,null,{"$f":"IF(OR(F80=\"\",G80=\"\"),\"\",IF((G80*F80-1)>=coeff!$B$5,coeff!$B$3/coeff!$B$4*(G80*F80-1)/(G80-1),\"\"))","v":""},{"$f":"IF(OR(F80=\"\",H80=\"\"),\"\",IF((H80*(1-F80)-1)>=coeff!$B$5,coeff!$B$3/coeff!$B$4*(H80*(1-F80)-1)/(H80-1),\"\"))","v":""}]
[null,null,null,null,null,null,null,null,{"$f":"IF(OR(F81=\"\",G81=\"\"),\"\",IF((G81*F81-1)>=coeff!$B$5,coeff!$B$3/coeff!$B$4*(G81*F81-1)/(G81-1),\"\"))","v":""},{"$f":"IF(OR(F81=\"\",H81=\"\"),\"\",IF((H81*(1-F81)-1)>=coeff!$B$5,coeff!$B$3/coeff!$B$4*(H81*(1-F81)-1)/(H81-1),\"\"))","v":""}]
[null,null,null,null,null,null,null,null,{"$f":"IF(OR(F82=\"\",G82=\"\"),\"\",IF((G82*F82-1)>=coeff!$B$5,coeff!$B$3/coeff!$B$4*(G82*F82-1)/(G82-1),\"\"))","v":""},{"$f":"IF(OR(F82=\"\",H82=\"\"),\"\",IF((H82*(1-F82)-1)>=coeff!$B$5,coeff!$B$3/coeff!$B$4*(H82*(1-F82)-1)/(H82-1),\"\"))","v":""}]
[null,null,null,null,null,null,null,null,{"$f":"IF(OR(F83=\"\",G83=\"\"),\"\",IF((G83*F83-1)>=coeff!$B$5,coeff!$B$3/coeff!$B$4*(G83*F83-1)/(G83-1),\"\"))","v":""},{"$f":"IF(OR(F83=\"\",H83=\"\"),\"\",IF((H83*(1-F83)-1)>=coeff!$B$5,coeff!$B$3/coeff!$B$4*(H83*(1-F83)-1)/(H83-1),\"\"))","v":""}]
[null,null,null,null,null,null,null,null,{"$f":"IF(OR(F84=\"\",G84=\"\"),\"\",IF((G84*F84-1)>=coeff!$B$5,coeff!$B$3/coeff!$B$4*(G84*F84-1)/(G84-1),\"\"))","v":""},{"$f":"IF(OR(F84=\"\",H84=\"\"),\"\",IF((H84*(1-F84)-1)>=coeff!$B$5,coeff!$B$3/coeff!$B$4*(H84*(1-F84)-1)/(H84-1),\"\"))","v":""}]
[null,null,null,null,null,null,null,null,{"$f":"IF(OR(F85=\"\",G85=\"\"),\"\",IF((G85*F85-1)>=coeff!$B$5,coeff!$B$3/coeff!$B$4*(G85*F85-1)/(G85-1),\"\"))","v":""},{"$f":"IF(OR(F85=\"\",H85=\"\"),\"\",IF((H85*(1-F85)-1)>=coeff!$B$5,coeff!$B$3/coeff!$B$4*(H85*(1-F85)-1)/(H85-1),\"\"))","v":""}]
[null,null,null,null,null,null,null,null,{"$f":"IF(OR(F86=\"\",G86=\"\"),\"\",IF((G86*F86-1)>=coeff!$B$5,coeff!$B$3/coeff!$B$4*(G86*F86-1)/(G86-1),\"\"))","v":""},{"$f":"IF(OR(F86=\"\",H86=\"\"),\"\",IF((H86*(1-F86)-1)>=coeff!$B$5,coeff!$B$3/coeff!$B$4*(H86*(1-F86)-1)/(H86-1),\"\"))","v":""}]
[null,null,null,null,null,null,null,null,{"$f":"IF(OR(F87=\"\",G87=\"\"),\"\",IF((G87*F87-1)>=coeff!$B$5,coeff!$B$3/coeff!$B$4*(G87*F87-1)/(G87-1),\"\"))","v":""},{"$f":"IF(OR(F87=\"\",H87=\"\"),\"\",IF((H87*(1-F87)-1)>=coeff!$B$5,coeff!$B$3/coeff!$B$4*(H87*(1-F87)-1)/(H87-1),\"\"))","v":""}]
[null,null,null,null,null,null,null,null,{"$f":"IF(OR(F88=\"\",G88=\"\"),\"\",IF((G88*F88-1)>=coeff!$B$5,coeff!$B$3/coeff!$B$4*(G88*F88-1)/(G88-1),\"\"))","v":""},{"$f":"IF(OR(F88=\"\",H88=\"\"),\"\",IF((H88*(1-F88)-1)>=coeff!$B$5,coeff!$B$3/coeff!$B$4*(H88*(1-F88)-1)/(H88-1),\"\"))","v":""}]
[null,null,null,null,null,null,null,null,{"$f":"IF(OR(F89=\"\",G89=\"\"),\"\",IF((G89*F89-1)>=coeff!$B$5,coeff!$B$3/coeff!$B$4*(G89*F89-1)/(G89-1),\"\"))","v":""},{"$f":"IF(OR(F89=\"\",H89=\"\"),\"\",IF((H89*(1-F89)-1)>=coeff!$B$5,coeff!$B$3/coeff!$B$4*(H89*(1-F89)-1)/(H89-1),\"\"))","v":""}]
[null,null,null,null,null,null,null,null,{"$f":"IF(OR(F90=\"\",G90=\"\"),\"\",IF((G90*F90-1)>=coeff!$B$5,coeff!$B$3/coeff!$B$4*(G90*F90-1)/(G90-1),\"\"))","v":""},{"$f":"IF(OR(F90=\"\",H90=\"\"),\"\",IF((H90*(1-F90)-1)>=coeff!$B$5,coeff!$B$3/coeff!$B$4*(H90*(1-F90)-1)/(H90-1),\"\"))","v":""}]
[null,null,null,null,null,null,null,null,{"$f":"IF(OR(F91=\"\",G91=\"\"),\"\",IF((G91*F91-1)>=coeff!$B$5,coeff!$B$3/coeff!$B$4*(G91*F91-1)/(G91-1),\"\"))","v":""},{"$f":"IF(OR(F91=\"\",H91=\"\"),\"\",IF((H91*(1-F91)-1)>=coeff!$B$5,coeff!$B$3/coeff!$B$4*(H91*(1-F91)-1)/(H91-1),\"\"))","v":""}]
[null,null,null,null,null,null,null,null,{"$f":"IF(OR(F92=\"\",G92=\"\"),\"\",IF((G92*F92-1)>=coeff!$B$5,coeff!$B$3/coeff!$B$4*(G92*F92-1)/(G92-1),\"\"))","v":""},{"$f":"IF(OR(F92=\"\",H92=\"\"),\"\",IF((H92*(1-F92)-1)>=coeff!$B$5,coeff!$B$3/coeff!$B$4*(H92*(1-F92)-1)/(H92-1),\"\"))","v":""}]
[null,null,null,null,null,null,null,null,{"$f":"IF(OR(F93=\"\",G93=\"\"),\"\",IF((G93*F93-1)>=coeff!$B$5,coeff!$B$3/coeff!$B$4*(G93*F93-1)/(G93-1),\"\"))","v":""},{"$f":"IF(OR(F93=\"\",H93=\"\"),\"\",IF((H93*(1-F93)-1)>=coeff!$B$5,coeff!$B$3/coeff!$B$4*(H93*(1-F93)-1)/(H93-1),\"\"))","v":""}]
[null,null,null,null,null,null,null,null,{"$f":"IF(OR(F94=\"\",G94=\"\"),\"\",IF((G94*F94-1)>=coeff!$B$5,coeff!$B$3/coeff!$B$4*(G94*F94-1)/(G94-1),\"\"))","v":""},{"$f":"IF(OR(F94=\"\",H94=\"\"),\"\",IF((H94*(1-F94)-1)>=coeff!$B$5,coeff!$B$3/coeff!$B$4*(H94*(1-F94)-1)/(H94-1),\"\"))","v":""}]
[null,null,null,null,null,null,null,null,{"$f":"IF(OR(F95=\"\",G95=\"\"),\"\",IF((G95*F95-1)>=coeff!$B$5,coeff!$B$3/coeff!$B$4*(G95*F95-1)/(G95-1),\"\"))","v":""},{"$f":"IF(OR(F95=\"\",H95=\"\"),\"\",IF((H95*(1-F95)-1)>=coeff!$B$5,coeff!$B$3/coeff!$B$4*(H95*(1-F95)-1)/(H95-1),\"\"))","v":""}]
[null,null,null,null,null,null,null,null,{"$f":"IF(OR(F96=\"\",G96=\"\"),\"\",IF((G96*F96-1)>=coeff!$B$5,coeff!$B$3/coeff!$B$4*(G96*F96-1)/(G96-1),\"\"))","v":""},{"$f":"IF(OR(F96=\"\",H96=\"\"),\"\",IF((H96*(1-F96)-1)>=coeff!$B$5,coeff!$B$3/coeff!$B$4*(H96*(1-F96)-1)/(H96-1),\"\"))","v":""}]
[null,null,null,null,null,null,null,null,{"$f":"IF(OR(F97=\"\",G97=\"\"),\"\",IF((G97*F97-1)>=coeff!$B$5,coeff!$B$3/coeff!$B$4*(G97*F97-1)/(G97-1),\"\"))","v":""},{"$f":"IF(OR(F97=\"\",H97=\"\"),\"\",IF((H97*(1-F97)-1)>=coeff!$B$5,coeff!$B$3/coeff!$B$4*(H97*(1-F97)-1)/(H97-1),\"\"))","v":""}]
[null,null,null,null,null,null,null,null,{"$f":"IF(OR(F98=\"\",G98=\"\"),\"\",IF((G98*F98-1)>=coeff!$B$5,coeff!$B$3/coeff!$B$4*(G98*F98-1)/(G98-1),\"\"))","v":""},{"$f":"IF(OR(F98=\"\",H98=\"\"),\"\",IF((H98*(1-F98)-1)>=coeff!$B$5,coeff!$B$3/coeff!$B$4*(H98*(1-F98)-1)/(H98-1),\"\"))","v":""}]
[null,null,null,null,null,null,null,null,{"$f":"IF(OR(F99=\"\",G99=\"\"),\"\",IF((G99*F99-1)>=coeff!$B$5,coeff!$B$3/coeff!$B$4*(G99*F99-1)/(G99-1),\"\"))","v":""},{"$f":"IF(OR(F99=\"\",H99=\"\"),\"\",IF((H99*(1-F99)-1)>=coeff!$B$5,coeff!$B$3/coeff!$B$4*(H99*(1-F99)-1)/(H99-1),\"\"))","v":""}]
[null,null,null,null,null,null,null,null,{"$f":"IF(OR(F100=\"\",G100=\"\"),\"\",IF((G100*F100-1)>=coeff!$B$5,coeff!$B$3/coeff!$B$4*(G100*F100-1)/(G100-1),\"\"))","v":""},{"$f":"IF(OR(F100=\"\",H100=\"\"),\"\",IF((H100*(1-F100)-1)>=coeff!$B$5,coeff!$B$3/coeff!$B$4*(H100*(1-F100)-1)/(H100-1),\"\"))","v":""}]
[null,null,null,null,null,null,null,null,{"$f":"IF(OR(F101=\"\",G101=\"\"),\"\",IF((G101*F101-1)>=coeff!$B$5,coeff!$B$3/coeff!$B$4*(G101*F101-1)/(G101-1),\"\"))","v":""},{"$f":"IF(OR(F101=\"\",H101=\"\"),\"\",IF((H101*(1-F101)-1)>=coeff!$B$5,coeff!$B$3/coeff!$B$4*(H101*(1-F101)-1)/(H101-1),\"\"))","v":""}]
[null,null,null,null,null,null,null,null,{"$f":"IF(OR(F102=\"\",G102=\"\"),\"\",IF((G102*F102-1)>=coeff!$B$5,coeff!$B$3/coeff!$B$4*(G102*F102-1)/(G102-1),\"\"))","v":""},{"$f":"IF(OR(F102=\"\",H102=\"\"),\"\",IF((H102*(1-F102)-1)>=coeff!$B$5,coeff!$B$3/coeff!$B$4*(H102*(1-F102)-1)/(H102-1),\"\"))","v":""}]
[null,null,null,null,null,null,null,null,{"$f":"IF(OR(F103=\"\",G103=\"\"),\"\",IF((G103*F103-1)>=coeff!$B$5,coeff!$B$3/coeff!$B$4*(G103*F103-1)/(G103-1),\"\"))","v":""},{"$f":"IF(OR(F103=\"\",H103=\"\"),\"\",IF((H103*(1-F103)-1)>=coeff!$B$5,coeff!$B$3/coeff!$B$4*(H103*(1-F103)-1)/(H103-1),\"\"))","v":""}]
[null,null,null,null,null,null,null,null,{"$f":"IF(OR(F104=\"\",G104=\"\"),\"\",IF((G104*F104-1)>=coeff!$B$5,coeff!$B$3/coeff!$B$4*(G104*F104-1)/(G104-1),\"\"))","v":""},{"$f":"IF(OR(F104=\"\",H104=\"\"),\"\",IF((H104*(1-F104)-1)>=coeff!$B$5,coeff!$B$3/coeff!$B$4*(H104*(1-F104)-1)/(H104-1),\"\"))","v":""}]
[null,null,null,null,null,null,null,null,{"$f":"IF(OR(F105=\"\",G105=\"\"),\"\",IF((G105*F105-1)>=coeff!$B$5,coeff!$B$3/coeff!$B$4*(G105*F105-1)/(G105-1),\"\"))","v":""},{"$f":"IF(OR(F105=\"\",H105=\"\"),\"\",IF((H105*(1-F105)-1)>=coeff!$B$5,coeff!$B$3/coeff!$B$4*(H105*(1-F105)-1)/(H105-1),\"\"))","v":""}]
[null,null,null,null,null,null,null,null,{"$f":"IF(OR(F106=\"\",G106=\"\"),\"\",IF((G106*F106-1)>=coeff!$B$5,coeff!$B$3/coeff!$B$4*(G106*F106-1)/(G106-1),\"\"))","v":""},{"$f":"IF(OR(F106=\"\",H106=\"\"),\"\",IF((H106*(1-F106)-1)>=coeff!$B$5,coeff!$B$3/coeff!$B$4*(H106*(1-F106)-1)/(H106-1),\"\"))","v":""}]
[null,null,null,null,null,null,null,null,{"$f":"IF(OR(F107=\"\",G107=\"\"),\"\",IF((G107*F107-1)>=coeff!$B$5,coeff!$B$3/coeff!$B$4*(G107*F107-1)/(G107-1),\"\"))","v":""},{"$f":"IF(OR(F107=\"\",H107=\"\"),\"\",IF((H107*(1-F107)-1)>=coeff!$B$5,coeff!$B$3/coeff!$B$4*(H107*(1-F107)-1)/(H107-1),\"\"))","v":""}]
[null,null,null,null,null,null,null,null,{"$f":"IF(OR(F108=\"\",G108=\"\"),\"\",IF((G108*F108-1)>=coeff!$B$5,coeff!$B$3/coeff!$B$4*(G108*F108-1)/(G108-1),\"\"))","v":""},{"$f":"IF(OR(F108=\"\",H108=\"\"),\"\",IF((H108*(1-F108)-1)>=coeff!$B$5,coeff!$B$3/coeff!$B$4*(H108*(1-F108)-1)/(H108-1),\"\"))","v":""}]
[null,null,null,null,null,null,null,null,{"$f":"IF(OR(F109=\"\",G109=\"\"),\"\",IF((G109*F109-1)>=coeff!$B$5,coeff!$B$3/coeff!$B$4*(G109*F109-1)/(G109-1),\"\"))","v":""},{"$f":"IF(OR(F109=\"\",H109=\"\"),\"\",IF((H109*(1-F109)-1)>=coeff!$B$5,coeff!$B$3/coeff!$B$4*(H109*(1-F109)-1)/(H109-1),\"\"))","v":""}]
[null,null,null,null,null,null,null,null,{"$f":"IF(OR(F110=\"\",G110=\"\"),\"\",IF((G110*F110-1)>=coeff!$B$5,coeff!$B$3/coeff!$B$4*(G110*F110-1)/(G110-1),\"\"))","v":""},{"$f":"IF(OR(F110=\"\",H110=\"\"),\"\",IF((H110*(1-F110)-1)>=coeff!$B$5,coeff!$B$3/coeff!$B$4*(H110*(1-F110)-1)/(H110-1),\"\"))","v":""}]
[null,null,null,null,null,null,null,null,{"$f":"IF(OR(F111=\"\",G111=\"\"),\"\",IF((G111*F111-1)>=coeff!$B$5,coeff!$B$3/coeff!$B$4*(G111*F111-1)/(G111-1),\"\"))","v":""},{"$f":"IF(OR(F111=\"\",H111=\"\"),\"\",IF((H111*(1-F111)-1)>=coeff!$B$5,coeff!$B$3/coeff!$B$4*(H111*(1-F111)-1)/(H111-1),\"\"))","v":""}]
[null,null,null,null,null,null,null,null,{"$f":"IF(OR(F112=\"\",G112=\"\"),\"\",IF((G112*F112-1)>=coeff!$B$5,coeff!$B$3/coeff!$B$4*(G112*F112-1)/(G112-1),\"\"))","v":""},{"$f":"IF(OR(F112=\"\",H112=\"\"),\"\",IF((H112*(1-F112)-1)>=coeff!$B$5,coeff!$B$3/coeff!$B$4*(H112*(1-F112)-1)/(H112-1),\"\"))","v":""}]
[null,null,null,null,null,null,null,null,{"$f":"IF(OR(F113=\"\",G113=\"\"),\"\",IF((G113*F113-1)>=coeff!$B$5,coeff!$B$3/coeff!$B$4*(G113*F113-1)/(G113-1),\"\"))","v":""},{"$f":"IF(OR(F113=\"\",H113=\"\"),\"\",IF((H113*(1-F113)-1)>=coeff!$B$5,coeff!$B$3/coeff!$B$4*(H113*(1-F113)-1)/(H113-1),\"\"))","v":""}]
[null,null,null,null,null,null,null,null,{"$f":"IF(OR(F114=\"\",G114=\"\"),\"\",IF((G114*F114-1)>=coeff!$B$5,coeff!$B$3/coeff!$B$4*(G114*F114-1)/(G114-1),\"\"))","v":""},{"$f":"IF(OR(F114=\"\",H114=\"\"),\"\",IF((H114*(1-F114)-1)>=coeff!$B$5,coeff!$B$3/coeff!$B$4*(H114*(1-F114)-1)/(H114-1),\"\"))","v":""}]
[null,null,null,null,null,null,null,null,{"$f":"IF(OR(F115=\"\",G115=\"\"),\"\",IF((G115*F115-1)>=coeff!$B$5,coeff!$B$3/coeff!$B$4*(G115*F115-1)/(G115-1),\"\"))","v":""},{"$f":"IF(OR(F115=\"\",H115=\"\"),\"\",IF((H115*(1-F115)-1)>=coeff!$B$5,coeff!$B$3/coeff!$B$4*(H115*(1-F115)-1)/(H115-1),\"\"))","v":""}]
[null,null,null,null,null,null,null,null,{"$f":"IF(OR(F116=\"\",G116=\"\"),\"\",IF((G116*F116-1)>=coeff!$B$5,coeff!$B$3/coeff!$B$4*(G116*F116-1)/(G116-1),\"\"))","v":""},{"$f":"IF(OR(F116=\"\",H116=\"\"),\"\",IF((H116*(1-F116)-1)>=coeff!$B$5,coeff!$B$3/coeff!$B$4*(H116*(1-F116)-1)/(H116-1),\"\"))","v":""}]
[null,null,null,null,null,null,null,null,{"$f":"IF(OR(F117=\"\",G117=\"\"),\"\",IF((G117*F117-1)>=coeff!$B$5,coeff!$B$3/coeff!$B$4*(G117*F117-1)/(G117-1),\"\"))","v":""},{"$f":"IF(OR(F117=\"\",H117=\"\"),\"\",IF((H117*(1-F117)-1)>=coeff!$B$5,coeff!$B$3/coeff!$B$4*(H117*(1-F117)-1)/(H117-1),\"\"))","v":""}]
[null,null,null,null,null,null,null,null,{"$f":"IF(OR(F118=\"\",G118=\"\"),\"\",IF((G118*F118-1)>=coeff!$B$5,coeff!$B$3/coeff!$B$4*(G118*F118-1)/(G118-1),\"\"))","v":""},{"$f":"IF(OR(F118=\"\",H118=\"\"),\"\",IF((H118*(1-F118)-1)>=coeff!$B$5,coeff!$B$3/coeff!$B$4*(H118*(1-F118)-1)/(H118-1),\"\"))","v":""}]
[null,null,null,null,null,null,null,null,{"$f":"IF(OR(F119=\"\",G119=\"\"),\"\",IF((G119*F119-1)>=coeff!$B$5,coeff!$B$3/coeff!$B$4*(G119*F119-1)/(G119-1),\"\"))","v":""},{"$f":"IF(OR(F119=\"\",H119=\"\"),\"\",IF((H119*(1-F119)-1)>=coeff!$B$5,coeff!$B$3/coeff!$B$4*(H119*(1-F119)-1)/(H119-1),\"\"))","v":""}]
[null,null,null,null,null,null,null,null,{"$f":"IF(OR(F120=\"\",G120=\"\"),\"\",IF((G120*F120-1)>=coeff!$B$5,coeff!$B$3/coeff!$B$4*(G120*F120-1)/(G120-1),\"\"))","v":""},{"$f":"IF(OR(F120=\"\",H120=\"\"),\"\",IF((H120*(1-F120)-1)>=coeff!$B$5,coeff!$B$3/coeff!$B$4*(H120*(1-F120)-1)/(H120-1),\"\"))","v":""}]
[null,null,null,null,null,null,null,null,{"$f":"IF(OR(F121=\"\",G121=\"\"),\"\",IF((G121*F121-1)>=coeff!$B$5,coeff!$B$3/coeff!$B$4*(G121*F121-1)/(G121-1),\"\"))","v":""},{"$f":"IF(OR(F121=\"\",H121=\"\"),\"\",IF((H121*(1-F121)-1)>=coeff!$B$5,coeff!$B$3/coeff!$B$4*(H121*(1-F121)-1)/(H121-1),\"\"))","v":""}]
[null,null,null,null,null,null,null,null,{"$f":"IF(OR(F122=\"\",G122=\"\"),\"\",IF((G122*F122-1)>=coeff!$B$5,coeff!$B$3/coeff!$B$4*(G122*F122-1)/(G122-1),\"\"))","v":""},{"$f":"IF(OR(F122=\"\",H122=\"\"),\"\",IF((H122*(1-F122)-1)>=coeff!$B$5,coeff!$B$3/coeff!$B$4*(H122*(1-F122)-1)/(H122-1),\"\"))","v":""}]
[null,null,null,null,null,null,null,null,{"$f":"IF(OR(F123=\"\",G123=\"\"),\"\",IF((G123*F123-1)>=coeff!$B$5,coeff!$B$3/coeff!$B$4*(G123*F123-1)/(G123-1),\"\"))","v":""},{"$f":"IF(OR(F123=\"\",H123=\"\"),\"\",IF((H123*(1-F123)-1)>=coeff!$B$5,coeff!$B$3/coeff!$B$4*(H123*(1-F123)-1)/(H123-1),\"\"))","v":""}]
[null,null,null,null,null,null,null,null,{"$f":"IF(OR(F124=\"\",G124=\"\"),\"\",IF((G124*F124-1)>=coeff!$B$5,coeff!$B$3/coeff!$B$4*(G124*F124-1)/(G124-1),\"\"))","v":""},{"$f":"IF(OR(F124=\"\",H124=\"\"),\"\",IF((H124*(1-F124)-1)>=coeff!$B$5,coeff!$B$3/coeff!$B$4*(H124*(1-F124)-1)/(H124-1),\"\"))","v":""}]
[null,null,null,null,null,null,null,null,{"$f":"IF(OR(F125=\"\",G125=\"\"),\"\",IF((G125*F125-1)>=coeff!$B$5,coeff!$B$3/coeff!$B$4*(G125*F125-1)/(G125-1),\"\"))","v":""},{"$f":"IF(OR(F125=\"\",H125=\"\"),\"\",IF((H125*(1-F125)-1)>=coeff!$B$5,coeff!$B$3/coeff!$B$4*(H125*(1-F125)-1)/(H125-1),\"\"))","v":""}]
[null,null,null,null,null,null,null,null,{"$f":"IF(OR(F126=\"\",G126=\"\"),\"\",IF((G126*F126-1)>=coeff!$B$5,coeff!$B$3/coeff!$B$4*(G126*F126-1)/(G126-1),\"\"))","v":""},{"$f":"IF(OR(F126=\"\",H126=\"\"),\"\",IF((H126*(1-F126)-1)>=coeff!$B$5,coeff!$B$3/coeff!$B$4*(H126*(1-F126)-1)/(H126-1),\"\"))","v":""}]
[null,null,null,null,null,null,null,null,{"$f":"IF(OR(F127=\"\",G127=\"\"),\"\",IF((G127*F127-1)>=coeff!$B$5,coeff!$B$3/coeff!$B$4*(G127*F127-1)/(G127-1),\"\"))","v":""},{"$f":"IF(OR(F127=\"\",H127=\"\"),\"\",IF((H127*(1-F127)-1)>=coeff!$B$5,coeff!$B$3/coeff!$B$4*(H127*(1-F127)-1)/(H127-1),\"\"))","v":""}]
[null,null,null,null,null,null,null,null,{"$f":"IF(OR(F128=\"\",G128=\"\"),\"\",IF((G128*F128-1)>=coeff!$B$5,coeff!$B$3/coeff!$B$4*(G128*F128-1)/(G128-1),\"\"))","v":""},{"$f":"IF(OR(F128=\"\",H128=\"\"),\"\",IF((H128*(1-F128)-1)>=coeff!$B$5,coeff!$B$3/coeff!$B$4*(H128*(1-F128)-1)/(H128-1),\"\"))","v":""}]
[null,null,null,null,null,null,null,null,{"$f":"IF(OR(F129=\"\",G129=\"\"),\"\",IF((G129*F129-1)>=coeff!$B$5,coeff!$B$3/coeff!$B$4*(G129*F129-1)/(G129-1),\"\"))","v":""},{"$f":"IF(OR(F129=\"\",H129=\"\"),\"\",IF((H129*(1-F129)-1)>=coeff!$B$5,coeff!$B$3/coeff!$B$4*(H129*(1-F129)-1)/(H129-1),\"\"))","v":""}]
[null,null,null,null,null,null,null,null,{"$f":"IF(OR(F130=\"\",G130=\"\"),\"\",IF((G130*F130-1)>=coeff!$B$5,coeff!$B$3/coeff!$B$4*(G130*F130-1)/(G130-1),\"\"))","v":""},{"$f":"IF(OR(F130=\"\",H130=\"\"),\"\",IF((H130*(1-F130)-1)>=coeff!$B$5,coeff!$B$3/coeff!$B$4*(H130*(1-F130)-1)/(H130-1),\"\"))","v":""}]
[null,null,null,null,null,null,null,null,{"$f":"IF(OR(F131=\"\",G131=\"\"),\"\",IF((G131*F131-1)>=coeff!$B$5,coeff!$B$3/coeff!$B$4*(G131*F131-1)/(G131-1),\"\"))","v":""},{"$f":"IF(OR(F131=\"\",H131=\"\"),\"\",IF((H131*(1-F131)-1)>=coeff!$B$5,coeff!$B$3/coeff!$B$4*(H131*(1-F131)-1)/(H131-1),\"\"))","v":""}]
[null,null,null,null,null,null,null,null,{"$f":"IF(OR(F132=\"\",G132=\"\"),\"\",IF((G132*F132-1)>=coeff!$B$5,coeff!$B$3/coeff!$B$4*(G132*F132-1)/(G132-1),\"\"))","v":""},{"$f":"IF(OR(F132=\"\",H132=\"\"),\"\",IF((H132*(1-F132)-1)>=coeff!$B$5,coeff!$B$3/coeff!$B$4*(H132*(1-F132)-1)/(H132-1),\"\"))","v":""}]
[null,null,null,null,null,null,null,null,{"$f":"IF(OR(F133=\"\",G133=\"\"),\"\",IF((G133*F133-1)>=coeff!$B$5,coeff!$B$3/coeff!$B$4*(G133*F133-1)/(G133-1),\"\"))","v":""},{"$f":"IF(OR(F133=\"\",H133=\"\"),\"\",IF((H133*(1-F133)-1)>=coeff!$B$5,coeff!$B$3/coeff!$B$4*(H133*(1-F133)-1)/(H133-1),\"\"))","v":""}]
[null,null,null,null,null,null,null,null,{"$f":"IF(OR(F134=\"\",G134=\"\"),\"\",IF((G134*F134-1)>=coeff!$B$5,coeff!$B$3/coeff!$B$4*(G134*F134-1)/(G134-1),\"\"))","v":""},{"$f":"IF(OR(F134=\"\",H134=\"\"),\"\",IF((H134*(1-F134)-1)>=coeff!$B$5,coeff!$B$3/coeff!$B$4*(H134*(1-F134)-1)/(H134-1),\"\"))","v":""}]
[null,null,null,null,null,null,null,null,{"$f":"IF(OR(F135=\"\",G135=\"\"),\"\",IF((G135*F135-1)>=coeff!$B$5,coeff!$B$3/coeff!$B$4*(G135*F135-1)/(G135-1),\"\"))","v":""},{"$f":"IF(OR(F135=\"\",H135=\"\"),\"\",IF((H135*(1-F135)-1)>=coeff!$B$5,coeff!$B$3/coeff!$B$4*(H135*(1-F135)-1)/(H135-1),\"\"))","v":""}]
[null,null,null,null,null,null,null,null,{"$f":"IF(OR(F136=\"\",G136=\"\"),\"\",IF((G136*F136-1)>=coeff!$B$5,coeff!$B$3/coeff!$B$4*(G136*F136-1)/(G136-1),\"\"))","v":""},{"$f":"IF(OR(F136=\"\",H136=\"\"),\"\",IF((H136*(1-F136)-1)>=coeff!$B$5,coeff!$B$3/coeff!$B$4*(H136*(1-F136)-1)/(H136-1),\"\"))","v":""}]
[null,null,null,null,null,null,null,null,{"$f":"IF(OR(F137=\"\",G137=\"\"),\"\",IF((G137*F137-1)>=coeff!$B$5,coeff!$B$3/coeff!$B$4*(G137*F137-1)/(G137-1),\"\"))","v":""},{"$f":"IF(OR(F137=\"\",H137=\"\"),\"\",IF((H137*(1-F137)-1)>=coeff!$B$5,coeff!$B$3/coeff!$B$4*(H137*(1-F137)-1)/(H137-1),\"\"))","v":""}]
[null,null,null,null,null,null,null,null,{"$f":"IF(OR(F138=\"\",G138=\"\"),\"\",IF((G138*F138-1)>=coeff!$B$5,coeff!$B$3/coeff!$B$4*(G138*F138-1)/(G138-1),\"\"))","v":""},{"$f":"IF(OR(F138=\"\",H138=\"\"),\"\",IF((H138*(1-F138)-1)>=coeff!$B$5,coeff!$B$3/coeff!$B$4*(H138*(1-F138)-1)/(H138-1),\"\"))","v":""}]
[null,null,null,null,null,null,null,null,{"$f":"IF(OR(F139=\"\",G139=\"\"),\"\",IF((G139*F139-1)>=coeff!$B$5,coeff!$B$3/coeff!$B$4*(G139*F139-1)/(G139-1),\"\"))","v":""},{"$f":"IF(OR(F139=\"\",H139=\"\"),\"\",IF((H139*(1-F139)-1)>=coeff!$B$5,coeff!$B$3/coeff!$B$4*(H139*(1-F139)-1)/(H139-1),\"\"))","v":""}]
[null,null,null,null,null,null,null,null,{"$f":"IF(OR(F140=\"\",G140=\"\"),\"\",IF((G140*F140-1)>=coeff!$B$5,coeff!$B$3/coeff!$B$4*(G140*F140-1)/(G140-1),\"\"))","v":""},{"$f":"IF(OR(F140=\"\",H140=\"\"),\"\",IF((H140*(1-F140)-1)>=coeff!$B$5,coeff!$B$3/coeff!$B$4*(H140*(1-F140)-1)/(H140-1),\"\"))","v":""}]
[null,null,null,null,null,null,null,null,{"$f":"IF(OR(F141=\"\",G141=\"\"),\"\",IF((G141*F141-1)>=coeff!$B$5,coeff!$B$3/coeff!$B$4*(G141*F141-1)/(G141-1),\"\"))","v":""},{"$f":"IF(OR(F141=\"\",H141=\"\"),\"\",IF((H141*(1-F141)-1)>=coeff!$B$5,coeff!$B$3/coeff!$B$4*(H141*(1-F141)-1)/(H141-1),\"\"))","v":""}]
[null,null,null,null,null,null,null,null,{"$f":"IF(OR(F142=\"\",G142=\"\"),\"\",IF((G142*F142-1)>=coeff!$B$5,coeff!$B$3/coeff!$B$4*(G142*F142-1)/(G142-1),\"\"))","v":""},{"$f":"IF(OR(F142=\"\",H142=\"\"),\"\",IF((H142*(1-F142)-1)>=coeff!$B$5,coeff!$B$3/coeff!$B$4*(H142*(1-F142)-1)/(H142-1),\"\"))","v":""}]
[null,null,null,null,null,null,null,null,{"$f":"IF(OR(F143=\"\",G143=\"\"),\"\",IF((G143*F143-1)>=coeff!$B$5,coeff!$B$3/coeff!$B$4*(G143*F143-1)/(G143-1),\"\"))","v":""},{"$f":"IF(OR(F143=\"\",H143=\"\"),\"\",IF((H143*(1-F143)-1)>=coeff!$B$5,coeff!$B$3/coeff!$B$4*(H143*(1-F143)-1)/(H143-1),\"\"))","v":""}]
[null,null,null,null,null,null,null,null,{"$f":"IF(OR(F144=\"\",G144=\"\"),\"\",IF((G144*F144-1)>=coeff!$B$5,coeff!$B$3/coeff!$B$4*(G144*F144-1)/(G144-1),\"\"))","v":""},{"$f":"IF(OR(F144=\"\",H144=\"\"),\"\",IF((H144*(1-F144)-1)>=coeff!$B$5,coeff!$B$3/coeff!$B$4*(H144*(1-F144)-1)/(H144-1),\"\"))","v":""}]
[null,null,null,null,null,null,null,null,{"$f":"IF(OR(F145=\"\",G145=\"\"),\"\",IF((G145*F145-1)>=coeff!$B$5,coeff!$B$3/coeff!$B$4*(G145*F145-1)/(G145-1),\"\"))","v":""},{"$f":"IF(OR(F145=\"\",H145=\"\"),\"\",IF((H145*(1-F145)-1)>=coeff!$B$5,coeff!$B$3/coeff!$B$4*(H145*(1-F145)-1)/(H145-1),\"\"))","v":""}]
[null,null,null,null,null,null,null,null,{"$f":"IF(OR(F146=\"\",G146=\"\"),\"\",IF((G146*F146-1)>=coeff!$B$5,coeff!$B$3/coeff!$B$4*(G146*F146-1)/(G146-1),\"\"))","v":""},{"$f":"IF(OR(F146=\"\",H146=\"\"),\"\",IF((H146*(1-F146)-1)>=coeff!$B$5,coeff!$B$3/coeff!$B$4*(H146*(1-F146)-1)/(H146-1),\"\"))","v":""}]
[null,null,null,null,null,null,null,null,{"$f":"IF(OR(F147=\"\",G147=\"\"),\"\",IF((G147*F147-1)>=coeff!$B$5,coeff!$B$3/coeff!$B$4*(G147*F147-1)/(G147-1),\"\"))","v":""},{"$f":"IF(OR(F147=\"\",H147=\"\"),\"\",IF((H147*(1-F147)-1)>=coeff!$B$5,coeff!$B$3/coeff!$B$4*(H147*(1-F147)-1)/(H147-1),\"\"))","v":""}]
[null,null,null,null,null,null,null,null,{"$f":"IF(OR(F148=\"\",G148=\"\"),\"\",IF((G148*F148-1)>=coeff!$B$5,coeff!$B$3/coeff!$B$4*(G148*F148-1)/(G148-1),\"\"))","v":""},{"$f":"IF(OR(F148=\"\",H148=\"\"),\"\",IF((H148*(1-F148)-1)>=coeff!$B$5,coeff!$B$3/coeff!$B$4*(H148*(1-F148)-1)/(H148-1),\"\"))","v":""}]
[null,null,null,null,null,null,null,null,{"$f":"IF(OR(F149=\"\",G149=\"\"),\"\",IF((G149*F149-1)>=coeff!$B$5,coeff!$B$3/coeff!$B$4*(G149*F149-1)/(G149-1),\"\"))","v":""},{"$f":"IF(OR(F149=\"\",H149=\"\"),\"\",IF((H149*(1-F149)-1)>=coeff!$B$5,coeff!$B$3/coeff!$B$4*(H149*(1-F149)-1)/(H149-1),\"\"))","v":""}]
[null,null,null,null,null,null,null,null,{"$f":"IF(OR(F150=\"\",G150=\"\"),\"\",IF((G150*F150-1)>=coeff!$B$5,coeff!$B$3/coeff!$B$4*(G150*F150-1)/(G150-1),\"\"))","v":""},{"$f":"IF(OR(F150=\"\",H150=\"\"),\"\",IF((H150*(1-F150)-1)>=coeff!$B$5,coeff!$B$3/coeff!$B$4*(H150*(1-F150)-1)/(H150-1),\"\"))","v":""}]
[null,null,null,null,null,null,null,null,{"$f":"IF(OR(F151=\"\",G151=\"\"),\"\",IF((G151*F151-1)>=coeff!$B$5,coeff!$B$3/coeff!$B$4*(G151*F151-1)/(G151-1),\"\"))","v":""},{"$f":"IF(OR(F151=\"\",H151=\"\"),\"\",IF((H151*(1-F151)-1)>=coeff!$B$5,coeff!$B$3/coeff!$B$4*(H151*(1-F151)-1)/(H151-1),\"\"))","v":""}]
[null,null,null,null,null,null,null,null,{"$f":"IF(OR(F152=\"\",G152=\"\"),\"\",IF((G152*F152-1)>=coeff!$B$5,coeff!$B$3/coeff!$B$4*(G152*F152-1)/(G152-1),\"\"))","v":""},{"$f":"IF(OR(F152=\"\",H152=\"\"),\"\",IF((H152*(1-F152)-1)>=coeff!$B$5,coeff!$B$3/coeff!$B$4*(H152*(1-F152)-1)/(H152-1),\"\"))","v":""}]
[null,null,null,null,null,null,null,null,{"$f":"IF(OR(F153=\"\",G153=\"\"),\"\",IF((G153*F153-1)>=coeff!$B$5,coeff!$B$3/coeff!$B$4*(G153*F153-1)/(G153-1),\"\"))","v":""},{"$f":"IF(OR(F153=\"\",H153=\"\"),\"\",IF((H153*(1-F153)-1)>=coeff!$B$5,coeff!$B$3/coeff!$B$4*(H153*(1-F153)-1)/(H153-1),\"\"))","v":""}]
[null,null,null,null,null,null,null,null,{"$f":"IF(OR(F154=\"\",G154=\"\"),\"\",IF((G154*F154-1)>=coeff!$B$5,coeff!$B$3/coeff!$B$4*(G154*F154-1)/(G154-1),\"\"))","v":""},{"$f":"IF(OR(F154=\"\",H154=\"\"),\"\",IF((H154*(1-F154)-1)>=coeff!$B$5,coeff!$B$3/coeff!$B$4*(H154*(1-F154)-1)/(H154-1),\"\"))","v":""}]
[null,null,null,null,null,null,null,null,{"$f":"IF(OR(F155=\"\",G155=\"\"),\"\",IF((G155*F155-1)>=coeff!$B$5,coeff!$B$3/coeff!$B$4*(G155*F155-1)/(G155-1),\"\"))","v":""},{"$f":"IF(OR(F155=\"\",H155=\"\"),\"\",IF((H155*(1-F155)-1)>=coeff!$B$5,coeff!$B$3/coeff!$B$4*(H155*(1-F155)-1)/(H155-1),\"\"))","v":""}]
[null,null,null,null,null,null,null,null,{"$f":"IF(OR(F156=\"\",G156=\"\"),\"\",IF((G156*F156-1)>=coeff!$B$5,coeff!$B$3/coeff!$B$4*(G156*F156-1)/(G156-1),\"\"))","v":""},{"$f":"IF(OR(F156=\"\",H156=\"\"),\"\",IF((H156*(1-F156)-1)>=coeff!$B$5,coeff!$B$3/coeff!$B$4*(H156*(1-F156)-1)/(H156-1),\"\"))","v":""}]
[null,null,null,null,null,null,null,null,{"$f":"IF(OR(F157=\"\",G157=\"\"),\"\",IF((G157*F157-1)>=coeff!$B$5,coeff!$B$3/coeff!$B$4*(G157*F157-1)/(G157-1),\"\"))","v":""},{"$f":"IF(OR(F157=\"\",H157=\"\"),\"\",IF((H157*(1-F157)-1)>=coeff!$B$5,coeff!$B$3/coeff!$B$4*(H157*(1-F157)-1)/(H157-1),\"\"))","v":""}]
[null,null,null,null,null,null,null,null,{"$f":"IF(OR(F158=\"\",G158=\"\"),\"\",IF((G158*F158-1)>=coeff!$B$5,coeff!$B$3/coeff!$B$4*(G158*F158-1)/(G158-1),\"\"))","v":""},{"$f":"IF(OR(F158=\"\",H158=\"\"),\"\",IF((H158*(1-F158)-1)>=coeff!$B$5,coeff!$B$3/coeff!$B$4*(H158*(1-F158)-1)/(H158-1),\"\"))","v":""}]
[null,null,null,null,null,null,null,null,{"$f":"IF(OR(F159=\"\",G159=\"\"),\"\",IF((G159*F159-1)>=coeff!$B$5,coeff!$B$3/coeff!$B$4*(G159*F159-1)/(G159-1),\"\"))","v":""},{"$f":"IF(OR(F159=\"\",H159=\"\"),\"\",IF((H159*(1-F159)-1)>=coeff!$B$5,coeff!$B$3/coeff!$B$4*(H159*(1-F159)-1)/(H159-1),\"\"))","v":""}]
[null,null,null,null,null,null,null,null,{"$f":"IF(OR(F160=\"\",G160=\"\"),\"\",IF((G160*F160-1)>=coeff!$B$5,coeff!$B$3/coeff!$B$4*(G160*F160-1)/(G160-1),\"\"))","v":""},{"$f":"IF(OR(F160=\"\",H160=\"\"),\"\",IF((H160*(1-F160)-1)>=coeff!$B$5,coeff!$B$3/coeff!$B$4*(H160*(1-F160)-1)/(H160-1),\"\"))","v":""}]
[null,null,null,null,null,null,null,null,{"$f":"IF(OR(F161=\"\",G161=\"\"),\"\",IF((G161*F161-1)>=coeff!$B$5,coeff!$B$3/coeff!$B$4*(G161*F161-1)/(G161-1),\"\"))","v":""},{"$f":"IF(OR(F161=\"\",H161=\"\"),\"\",IF((H161*(1-F161)-1)>=coeff!$B$5,coeff!$B$3/coeff!$B$4*(H161*(1-F161)-1)/(H161-1),\"\"))","v":""}]
[null,null,null,null,null,null,null,null,{"$f":"IF(OR(F162=\"\",G162=\"\"),\"\",IF((G162*F162-1)>=coeff!$B$5,coeff!$B$3/coeff!$B$4*(G162*F162-1)/(G162-1),\"\"))","v":""},{"$f":"IF(OR(F162=\"\",H162=\"\"),\"\",IF((H162*(1-F162)-1)>=coeff!$B$5,coeff!$B$3/coeff!$B$4*(H162*(1-F162)-1)/(H162-1),\"\"))","v":""}]
[null,null,null,null,null,null,null,null,{"$f":"IF(OR(F163=\"\",G163=\"\"),\"\",IF((G163*F163-1)>=coeff!$B$5,coeff!$B$3/coeff!$B$4*(G163*F163-1)/(G163-1),\"\"))","v":""},{"$f":"IF(OR(F163=\"\",H163=\"\"),\"\",IF((H163*(1-F163)-1)>=coeff!$B$5,coeff!$B$3/coeff!$B$4*(H163*(1-F163)-1)/(H163-1),\"\"))","v":""}]
[null,null,null,null,null,null,null,null,{"$f":"IF(OR(F164=\"\",G164=\"\"),\"\",IF((G164*F164-1)>=coeff!$B$5,coeff!$B$3/coeff!$B$4*(G164*F164-1)/(G164-1),\"\"))","v":""},{"$f":"IF(OR(F164=\"\",H164=\"\"),\"\",IF((H164*(1-F164)-1)>=coeff!$B$5,coeff!$B$3/coeff!$B$4*(H164*(1-F164)-1)/(H164-1),\"\"))","v":""}]
[null,null,null,null,null,null,null,null,{"$f":"IF(OR(F165=\"\",G165=\"\"),\"\",IF((G165*F165-1)>=coeff!$B$5,coeff!$B$3/coeff!$B$4*(G165*F165-1)/(G165-1),\"\"))","v":""},{"$f":"IF(OR(F165=\"\",H165=\"\"),\"\",IF((H165*(1-F165)-1)>=coeff!$B$5,coeff!$B$3/coeff!$B$4*(H165*(1-F165)-1)/(H165-1),\"\"))","v":""}]
[null,null,null,null,null,null,null,null,{"$f":"IF(OR(F166=\"\",G166=\"\"),\"\",IF((G166*F166-1)>=coeff!$B$5,coeff!$B$3/coeff!$B$4*(G166*F166-1)/(G166-1),\"\"))","v":""},{"$f":"IF(OR(F166=\"\",H166=\"\"),\"\",IF((H166*(1-F166)-1)>=coeff!$B$5,coeff!$B$3/coeff!$B$4*(H166*(1-F166)-1)/(H166-1),\"\"))","v":""}]
[null,null,null,null,null,null,null,null,{"$f":"IF(OR(F167=\"\",G167=\"\"),\"\",IF((G167*F167-1)>=coeff!$B$5,coeff!$B$3/coeff!$B$4*(G167*F167-1)/(G167-1),\"\"))","v":""},{"$f":"IF(OR(F167=\"\",H167=\"\"),\"\",IF((H167*(1-F167)-1)>=coeff!$B$5,coeff!$B$3/coeff!$B$4*(H167*(1-F167)-1)/(H167-1),\"\"))","v":""}]
[null,null,null,null,null,null,null,null,{"$f":"IF(OR(F168=\"\",G168=\"\"),\"\",IF((G168*F168-1)>=coeff!$B$5,coeff!$B$3/coeff!$B$4*(G168*F168-1)/(G168-1),\"\"))","v":""},{"$f":"IF(OR(F168=\"\",H168=\"\"),\"\",IF((H168*(1-F168)-1)>=coeff!$B$5,coeff!$B$3/coeff!$B$4*(H168*(1-F168)-1)/(H168-1),\"\"))","v":""}]
[null,null,null,null,null,null,null,null,{"$f":"IF(OR(F169=\"\",G169=\"\"),\"\",IF((G169*F169-1)>=coeff!$B$5,coeff!$B$3/coeff!$B$4*(G169*F169-1)/(G169-1),\"\"))","v":""},{"$f":"IF(OR(F169=\"\",H169=\"\"),\"\",IF((H169*(1-F169)-1)>=coeff!$B$5,coeff!$B$3/coeff!$B$4*(H169*(1-F169)-1)/(H169-1),\"\"))","v":""}]
[null,null,null,null,null,null,null,null,{"$f":"IF(OR(F170=\"\",G170=\"\"),\"\",IF((G170*F170-1)>=coeff!$B$5,coeff!$B$3/coeff!$B$4*(G170*F170-1)/(G170-1),\"\"))","v":""},{"$f":"IF(OR(F170=\"\",H170=\"\"),\"\",IF((H170*(1-F170)-1)>=coeff!$B$5,coeff!$B$3/coeff!$B$4*(H170*(1-F170)-1)/(H170-1),\"\"))","v":""}]
[null,null,null,null,null,null,null,null,{"$f":"IF(OR(F171=\"\",G171=\"\"),\"\",IF((G171*F171-1)>=coeff!$B$5,coeff!$B$3/coeff!$B$4*(G171*F171-1)/(G171-1),\"\"))","v":""},{"$f":"IF(OR(F171=\"\",H171=\"\"),\"\",IF((H171*(1-F171)-1)>=coeff!$B$5,coeff!$B$3/coeff!$B$4*(H171*(1-F171)-1)/(H171-1),\"\"))","v":""}]
[null,null,null,null,null,null,null,null,{"$f":"IF(OR(F172=\"\",G172=\"\"),\"\",IF((G172*F172-1)>=coeff!$B$5,coeff!$B$3/coeff!$B$4*(G172*F172-1)/(G172-1),\"\"))","v":""},{"$f":"IF(OR(F172=\"\",H172=\"\"),\"\",IF((H172*(1-F172)-1)>=coeff!$B$5,coeff!$B$3/coeff!$B$4*(H172*(1-F172)-1)/(H172-1),\"\"))","v":""}]
[null,null,null,null,null,null,null,null,{"$f":"IF(OR(F173=\"\",G173=\"\"),\"\",IF((G173*F173-1)>=coeff!$B$5,coeff!$B$3/coeff!$B$4*(G173*F173-1)/(G173-1),\"\"))","v":""},{"$f":"IF(OR(F173=\"\",H173=\"\"),\"\",IF((H173*(1-F173)-1)>=coeff!$B$5,coeff!$B$3/coeff!$B$4*(H173*(1-F173)-1)/(H173-1),\"\"))","v":""}]
[null,null,null,null,null,null,null,null,{"$f":"IF(OR(F174=\"\",G174=\"\"),\"\",IF((G174*F174-1)>=coeff!$B$5,coeff!$B$3/coeff!$B$4*(G174*F174-1)/(G174-1),\"\"))","v":""},{"$f":"IF(OR(F174=\"\",H174=\"\"),\"\",IF((H174*(1-F174)-1)>=coeff!$B$5,coeff!$B$3/coeff!$B$4*(H174*(1-F174)-1)/(H174-1),\"\"))","v":""}]
[null,null,null,null,null,null,null,null,{"$f":"IF(OR(F175=\"\",G175=\"\"),\"\",IF((G175*F175-1)>=coeff!$B$5,coeff!$B$3/coeff!$B$4*(G175*F175-1)/(G175-1),\"\"))","v":""},{"$f":"IF(OR(F175=\"\",H175=\"\"),\"\",IF((H175*(1-F175)-1)>=coeff!$B$5,coeff!$B$3/coeff!$B$4*(H175*(1-F175)-1)/(H175-1),\"\"))","v":""}]
[null,null,null,null,null,null,null,null,{"$f":"IF(OR(F176=\"\",G176=\"\"),\"\",IF((G176*F176-1)>=coeff!$B$5,coeff!$B$3/coeff!$B$4*(G176*F176-1)/(G176-1),\"\"))","v":""},{"$f":"IF(OR(F176=\"\",H176=\"\"),\"\",IF((H176*(1-F176)-1)>=coeff!$B$5,coeff!$B$3/coeff!$B$4*(H176*(1-F176)-1)/(H176-1),\"\"))","v":""}]
[null,null,null,null,null,null,null,null,{"$f":"IF(OR(F177=\"\",G177=\"\"),\"\",IF((G177*F177-1)>=coeff!$B$5,coeff!$B$3/coeff!$B$4*(G177*F177-1)/(G177-1),\"\"))","v":""},{"$f":"IF(OR(F177=\"\",H177=\"\"),\"\",IF((H177*(1-F177)-1)>=coeff!$B$5,coeff!$B$3/coeff!$B$4*(H177*(1-F177)-1)/(H177-1),\"\"))","v":""}]
[null,null,null,null,null,null,null,null,{"$f":"IF(OR(F178=\"\",G178=\"\"),\"\",IF((G178*F178-1)>=coeff!$B$5,coeff!$B$3/coeff!$B$4*(G178*F178-1)/(G178-1),\"\"))","v":""},{"$f":"IF(OR(F178=\"\",H178=\"\"),\"\",IF((H178*(1-F178)-1)>=coeff!$B$5,coeff!$B$3/coeff!$B$4*(H178*(1-F178)-1)/(H178-1),\"\"))","v":""}]
[null,null,null,null,null,null,null,null,{"$f":"IF(OR(F179=\"\",G179=\"\"),\"\",IF((G179*F179-1)>=coeff!$B$5,coeff!$B$3/coeff!$B$4*(G179*F179-1)/(G179-1),\"\"))","v":""},{"$f":"IF(OR(F179=\"\",H179=\"\"),\"\",IF((H179*(1-F179)-1)>=coeff!$B$5,coeff!$B$3/coeff!$B$4*(H179*(1-F179)-1)/(H179-1),\"\"))","v":""}]
[null,null,null,null,null,null,null,null,{"$f":"IF(OR(F180=\"\",G180=\"\"),\"\",IF((G180*F180-1)>=coeff!$B$5,coeff!$B$3/coeff!$B$4*(G180*F180-1)/(G180-1),\"\"))","v":""},{"$f":"IF(OR(F180=\"\",H180=\"\"),\"\",IF((H180*(1-F180)-1)>=coeff!$B$5,coeff!$B$3/coeff!$B$4*(H180*(1-F180)-1)/(H180-1),\"\"))","v":""}]
[null,null,null,null,null,null,null,null,{"$f":"IF(OR(F181=\"\",G181=\"\"),\"\",IF((G181*F181-1)>=coeff!$B$5,coeff!$B$3/coeff!$B$4*(G181*F181-1)/(G181-1),\"\"))","v":""},{"$f":"IF(OR(F181=\"\",H181=\"\"),\"\",IF((H181*(1-F181)-1)>=coeff!$B$5,coeff!$B$3/coeff!$B$4*(H181*(1-F181)-1)/(H181-1),\"\"))","v":""}]

{"sheet":"line","index":2,"n_rows":200,"n_cols":37,"rows_kept":200,"cut":false,"hidden":false,"merged":[]}
[null,null,null,null,null,null,null,null,null,null,null,null,"Sportpunter's EURO icehockey line Probabilities as of 22/02/2016 4:43:44 PM AEST"]
[]
["League","Start Time","Team1","Team2","Line","ProbLine1","Odds1","Odds2"," $Bet1 "," $Bet2 ",null,null,"League","Team1","Team2","Ref",-5,-4.5,-4,-3.5,-3,-2.5,-2,-1.5,-1,-0.5,0,0.5,1,1.5,2,2.5,3,3.5,4,4.5,5]
["Russia - KHL","2016-02-22","Avangard Omsk ","Neftekhimik Nizhne… ",-1,{"$f":"IF(E4=\"\",\"\",HLOOKUP(E4,$Q$3:AK6,ROW()-2))","v":0.48699999999999999},1.85,2.0699999999999998,{"$f":"IF(OR(F4=\"\",G4=\"\"),\"\",IF((G4*F4-1)>=coeff!$B$10,coeff!$B$8/coeff!$B$9*(G4*F4-1)/(G4-1),\"\"))","v":""},{"$f":"IF(OR(F4=\"\",H4=\"\"),\"\",IF((H4*(1-F4)-1)>=coeff!$B$10,coeff!$B$8/coeff!$B$9*(H4*(1-F4)-1)/(H4-1),\"\"))","v":5.7859813084112073},null,null,"Russia - KHL","Avangard Omsk ","Neftekhimik Nizhne… ",85,1.2999999999999999E-2,4.9000000000000002E-2,5.1999999999999998E-2,0.108,0.125,0.22700000000000001,0.27400000000000002,0.40799999999999997,0.48699999999999999,0.56999999999999995,0.72399999999999998,0.77900000000000003,0.86299999999999999,0.874,0.94399999999999995,0.94799999999999995,0.98199999999999998,0.98099999999999998,0.99299999999999999,0.99299999999999999,0.999]
["Russia - KHL","2016-02-22","Sibir Novosibirsk ","Admiral Vladivostok ",-0.5,{"$f":"IF(E5=\"\",\"\",HLOOKUP(E5,$Q$3:AK7,ROW()-2))","v":0.53900000000000003},1.83,2.1,{"$f":"IF(OR(F5=\"\",G5=\"\"),\"\",IF((G5*F5-1)>=coeff!$B$10,coeff!$B$8/coeff!$B$9*(G5*F5-1)/(G5-1),\"\"))","v":""},{"$f":"IF(OR(F5=\"\",H5=\"\"),\"\",IF((H5*(1-F5)-1)>=coeff!$B$10,coeff!$B$8/coeff!$B$9*(H5*(1-F5)-1)/(H5-1),\"\"))","v":""},null,null,"Russia - KHL","Sibir Novosibirsk ","Admiral Vladivostok ",85,1.0999999999999999E-2,4.2000000000000003E-2,4.4999999999999998E-2,9.4E-2,0.108,0.20499999999999999,0.246,0.378,0.45100000000000001,0.53900000000000003,0.69199999999999995,0.75700000000000001,0.84499999999999997,0.86,0.93500000000000005,0.94099999999999995,0.97899999999999998,0.97899999999999998,0.99099999999999999,0.99099999999999999,0.999]
["Russia - KHL","2016-02-22","Salavat Yulaev Ufa ","Ak Bars Kazan ",-0.5,{"$f":"IF(E6=\"\",\"\",HLOOKUP(E6,$Q$3:AK8,ROW()-2))","v":0.41699999999999998},2.17,1.78,{"$f":"IF(OR(F6=\"\",G6=\"\"),\"\",IF((G6*F6-1)>=coeff!$B$10,coeff!$B$8/coeff!$B$9*(G6*F6-1)/(G6-1),\"\"))","v":""},{"$f":"IF(OR(F6=\"\",H6=\"\"),\"\",IF((H6*(1-F6)-1)>=coeff!$B$10,coeff!$B$8/coeff!$B$9*(H6*(1-F6)-1)/(H6-1),\"\"))","v":""},null,null,"Russia - KHL","Salavat Yulaev Ufa ","Ak Bars Kazan ",85,5.0000000000000001E-3,2.3E-2,2.4E-2,5.3999999999999999E-2,5.8999999999999997E-2,0.13,0.153,0.26900000000000002,0.317,0.41699999999999998,0.54700000000000004,0.65500000000000003,0.754,0.78800000000000003,0.88900000000000001,0.90300000000000002,0.96,0.96199999999999997,0.98399999999999999,0.98399999999999999,0.997]
["Russia - KHL","2016-02-22","Metallurg Magnitogorsk ","Avtomobilist ",-1.5,{"$f":"IF(E7=\"\",\"\",HLOOKUP(E7,$Q$3:AK9,ROW()-2))","v":0.43},2.11,1.82,{"$f":"IF(OR(F7=\"\",G7=\"\"),\"\",IF((G7*F7-1)>=coeff!$B$10,coeff!$B$8/coeff!$B$9*(G7*F7-1)/(G7-1),\"\"))","v":""},{"$f":"IF(OR(F7=\"\",H7=\"\"),\"\",IF((H7*(1-F7)-1)>=coeff!$B$10,coeff!$B$8/coeff!$B$9*(H7*(1-F7)-1)/(H7-1),\"\"))","v":""},null,null,"Russia - KHL","Metallurg Magnitogorsk ","Avtomobilist ",85,1.6E-2,5.5E-2,5.8000000000000003E-2,0.11899999999999999,0.13800000000000001,0.245,0.29599999999999999,0.43,0.51300000000000001,0.59199999999999997,0.746,0.79400000000000004,0.875,0.88400000000000001,0.94899999999999995,0.95299999999999996,0.98399999999999999,0.98299999999999998,0.99299999999999999,0.99299999999999999,0.999]
["Sweden - HockeyAllsvenskan","2016-02-22","Asplöven HC ","Västerås ",0.5,{"$f":"IF(E8=\"\",\"\",HLOOKUP(E8,$Q$3:AK10,ROW()-2))","v":0.64200000000000002},1.78,2.17,{"$f":"IF(OR(F8=\"\",G8=\"\"),\"\",IF((G8*F8-1)>=coeff!$B$10,coeff!$B$8/coeff!$B$9*(G8*F8-1)/(G8-1),\"\"))","v":18.302564102564101},{"$f":"IF(OR(F8=\"\",H8=\"\"),\"\",IF((H8*(1-F8)-1)>=coeff!$B$10,coeff!$B$8/coeff!$B$9*(H8*(1-F8)-1)/(H8-1),\"\"))","v":""},null,null,"Sweden - HockeyAllsvenskan","Asplöven HC ","Västerås ",105,8.0000000000000002E-3,2.5999999999999999E-2,2.8000000000000001E-2,7.4999999999999997E-2,8.4000000000000005E-2,0.18099999999999999,0.21199999999999999,0.31900000000000001,0.371,0.45900000000000002,0.56100000000000005,0.64200000000000002,0.73599999999999999,0.77,0.86099999999999999,0.877,0.95099999999999996,0.95499999999999996,0.98499999999999999,0.98599999999999999,0.996]
["Sweden - HockeyAllsvenskan","2016-02-22","Leksand ","Mora ",-0.5,{"$f":"IF(E9=\"\",\"\",HLOOKUP(E9,$Q$3:AK11,ROW()-2))","v":0.48099999999999998},1.88,2.0299999999999998,{"$f":"IF(OR(F9=\"\",G9=\"\"),\"\",IF((G9*F9-1)>=coeff!$B$10,coeff!$B$8/coeff!$B$9*(G9*F9-1)/(G9-1),\"\"))","v":""},{"$f":"IF(OR(F9=\"\",H9=\"\"),\"\",IF((H9*(1-F9)-1)>=coeff!$B$10,coeff!$B$8/coeff!$B$9*(H9*(1-F9)-1)/(H9-1),\"\"))","v":5.2009708737863987},null,null,"Sweden - HockeyAllsvenskan","Leksand ","Mora ",105,0.01,0.03,3.2000000000000001E-2,8.4000000000000005E-2,9.5000000000000001E-2,0.19600000000000001,0.23100000000000001,0.34,0.39600000000000002,0.48099999999999998,0.58599999999999997,0.66300000000000003,0.75700000000000001,0.78700000000000003,0.874,0.88700000000000001,0.95699999999999996,0.96,0.98699999999999999,0.98699999999999999,0.996]
["Sweden - HockeyAllsvenskan","2016-02-22","IK Pantern ","IK Oskarshamn ",-0.5,{"$f":"IF(E10=\"\",\"\",HLOOKUP(E10,$Q$3:AK12,ROW()-2))","v":0.48299999999999998},2.17,1.78,{"$f":"IF(OR(F10=\"\",G10=\"\"),\"\",IF((G10*F10-1)>=coeff!$B$10,coeff!$B$8/coeff!$B$9*(G10*F10-1)/(G10-1),\"\"))","v":""},{"$f":"IF(OR(F10=\"\",H10=\"\"),\"\",IF((H10*(1-F10)-1)>=coeff!$B$10,coeff!$B$8/coeff!$B$9*(H10*(1-F10)-1)/(H10-1),\"\"))","v":""},null,null,"Sweden - HockeyAllsvenskan","IK Pantern ","IK Oskarshamn ",105,0.01,0.03,3.2000000000000001E-2,8.4000000000000005E-2,9.6000000000000002E-2,0.19700000000000001,0.23200000000000001,0.34200000000000003,0.39900000000000002,0.48299999999999998,0.58899999999999997,0.66500000000000004,0.75800000000000001,0.78800000000000003,0.875,0.88800000000000001,0.95699999999999996,0.96,0.98699999999999999,0.98799999999999999,0.996]
["Sweden - HockeyAllsvenskan","2016-02-22","BIK Karlskoga ","Tingsryds AIF ",-0.5,{"$f":"IF(E11=\"\",\"\",HLOOKUP(E11,$Q$3:AK13,ROW()-2))","v":0.45200000000000001},2.04,1.88,{"$f":"IF(OR(F11=\"\",G11=\"\"),\"\",IF((G11*F11-1)>=coeff!$B$10,coeff!$B$8/coeff!$B$9*(G11*F11-1)/(G11-1),\"\"))","v":""},{"$f":"IF(OR(F11=\"\",H11=\"\"),\"\",IF((H11*(1-F11)-1)>=coeff!$B$10,coeff!$B$8/coeff!$B$9*(H11*(1-F11)-1)/(H11-1),\"\"))","v":""},null,null,"Sweden - HockeyAllsvenskan","BIK Karlskoga ","Tingsryds AIF ",105,8.0000000000000002E-3,2.5000000000000001E-2,2.7E-2,7.2999999999999995E-2,8.2000000000000003E-2,0.17699999999999999,0.20599999999999999,0.313,0.36299999999999999,0.45200000000000001,0.55300000000000005,0.63600000000000001,0.73,0.76500000000000001,0.85699999999999998,0.873,0.94899999999999995,0.95399999999999996,0.98499999999999999,0.98499999999999999,0.996]
["Sweden - HockeyAllsvenskan","2016-02-22","Almtuna IS ","HC Vita Hästen ",-0.5,{"$f":"IF(E12=\"\",\"\",HLOOKUP(E12,$Q$3:AK14,ROW()-2))","v":0.52100000000000002},1.79,2.14,{"$f":"IF(OR(F12=\"\",G12=\"\"),\"\",IF((G12*F12-1)>=coeff!$B$10,coeff!$B$8/coeff!$B$9*(G12*F12-1)/(G12-1),\"\"))","v":""},{"$f":"IF(OR(F12=\"\",H12=\"\"),\"\",IF((H12*(1-F12)-1)>=coeff!$B$10,coeff!$B$8/coeff!$B$9*(H12*(1-F12)-1)/(H12-1),\"\"))","v":""},null,null,"Sweden - HockeyAllsvenskan","Almtuna IS ","HC Vita Hästen ",105,1.2E-2,3.7999999999999999E-2,0.04,0.10100000000000001,0.11600000000000001,0.22500000000000001,0.26700000000000002,0.38,0.443,0.52100000000000002,0.63100000000000001,0.69799999999999995,0.79,0.81399999999999995,0.89400000000000002,0.90300000000000002,0.96499999999999997,0.96699999999999997,0.99,0.99,0.997]
["Sweden - HockeyAllsvenskan","2016-02-22","Timrå ","AIK ",0.5,{"$f":"IF(E13=\"\",\"\",HLOOKUP(E13,$Q$3:AK15,ROW()-2))","v":0.58599999999999997},1.88,2.02,{"$f":"IF(OR(F13=\"\",G13=\"\"),\"\",IF((G13*F13-1)>=coeff!$B$10,coeff!$B$8/coeff!$B$9*(G13*F13-1)/(G13-1),\"\"))","v":11.554545454545432},{"$f":"IF(OR(F13=\"\",H13=\"\"),\"\",IF((H13*(1-F13)-1)>=coeff!$B$10,coeff!$B$8/coeff!$B$9*(H13*(1-F13)-1)/(H13-1),\"\"))","v":""},null,null,"Sweden - HockeyAllsvenskan","Timrå ","AIK ",105,6.0000000000000001E-3,1.9E-2,1.9E-2,5.6000000000000001E-2,6.2E-2,0.14599999999999999,0.16700000000000001,0.26600000000000001,0.307,0.4,0.49099999999999999,0.58599999999999997,0.67800000000000005,0.72099999999999997,0.82299999999999995,0.84599999999999997,0.93300000000000005,0.94,0.97899999999999998,0.98,0.99399999999999999]
["Sweden - HockeyAllsvenskan","2016-02-22","Björklöven ","IF Sundsvall Hockey ",-1.5,{"$f":"IF(E14=\"\",\"\",HLOOKUP(E14,$Q$3:AK16,ROW()-2))","v":0.496},1.81,2.09,{"$f":"IF(OR(F14=\"\",G14=\"\"),\"\",IF((G14*F14-1)>=coeff!$B$10,coeff!$B$8/coeff!$B$9*(G14*F14-1)/(G14-1),\"\"))","v":""},{"$f":"IF(OR(F14=\"\",H14=\"\"),\"\",IF((H14*(1-F14)-1)>=coeff!$B$10,coeff!$B$8/coeff!$B$9*(H14*(1-F14)-1)/(H14-1),\"\"))","v":4.8954128440366844},null,null,"Sweden - HockeyAllsvenskan","Björklöven ","IF Sundsvall Hockey ",105,2.5000000000000001E-2,7.0000000000000007E-2,7.5999999999999998E-2,0.16600000000000001,0.19600000000000001,0.317,0.38400000000000001,0.496,0.57299999999999995,0.628,0.74,0.78200000000000003,0.86399999999999999,0.875,0.93500000000000005,0.93700000000000006,0.98099999999999998,0.98099999999999998,0.995,0.995,0.999]
[null,null,null,null,null,{"$f":"IF(E15=\"\",\"\",HLOOKUP(E15,$Q$3:AK17,ROW()-2))","v":""},null,null,{"$f":"IF(OR(F15=\"\",G15=\"\"),\"\",IF((G15*F15-1)>=coeff!$B$10,coeff!$B$8/coeff!$B$9*(G15*F15-1)/(G15-1),\"\"))","v":""},{"$f":"IF(OR(F15=\"\",H15=\"\"),\"\",IF((H15*(1-F15)-1)>=coeff!$B$10,coeff!$B$8/coeff!$B$9*(H15*(1-F15)-1)/(H15-1),\"\"))","v":""}]
[null,null,null,null,null,{"$f":"IF(E16=\"\",\"\",HLOOKUP(E16,$Q$3:AK18,ROW()-2))","v":""},null,null,{"$f":"IF(OR(F16=\"\",G16=\"\"),\"\",IF((G16*F16-1)>=coeff!$B$10,coeff!$B$8/coeff!$B$9*(G16*F16-1)/(G16-1),\"\"))","v":""},{"$f":"IF(OR(F16=\"\",H16=\"\"),\"\",IF((H16*(1-F16)-1)>=coeff!$B$10,coeff!$B$8/coeff!$B$9*(H16*(1-F16)-1)/(H16-1),\"\"))","v":""}]
[null,null,null,null,null,{"$f":"IF(E17=\"\",\"\",HLOOKUP(E17,$Q$3:AK19,ROW()-2))","v":""},null,null,{"$f":"IF(OR(F17=\"\",G17=\"\"),\"\",IF((G17*F17-1)>=coeff!$B$10,coeff!$B$8/coeff!$B$9*(G17*F17-1)/(G17-1),\"\"))","v":""},{"$f":"IF(OR(F17=\"\",H17=\"\"),\"\",IF((H17*(1-F17)-1)>=coeff!$B$10,coeff!$B$8/coeff!$B$9*(H17*(1-F17)-1)/(H17-1),\"\"))","v":""}]
[null,null,null,null,null,{"$f":"IF(E18=\"\",\"\",HLOOKUP(E18,$Q$3:AK20,ROW()-2))","v":""},null,null,{"$f":"IF(OR(F18=\"\",G18=\"\"),\"\",IF((G18*F18-1)>=coeff!$B$10,coeff!$B$8/coeff!$B$9*(G18*F18-1)/(G18-1),\"\"))","v":""},{"$f":"IF(OR(F18=\"\",H18=\"\"),\"\",IF((H18*(1-F18)-1)>=coeff!$B$10,coeff!$B$8/coeff!$B$9*(H18*(1-F18)-1)/(H18-1),\"\"))","v":""}]
[null,null,null,null,null,{"$f":"IF(E19=\"\",\"\",HLOOKUP(E19,$Q$3:AK21,ROW()-2))","v":""},null,null,{"$f":"IF(OR(F19=\"\",G19=\"\"),\"\",IF((G19*F19-1)>=coeff!$B$10,coeff!$B$8/coeff!$B$9*(G19*F19-1)/(G19-1),\"\"))","v":""},{"$f":"IF(OR(F19=\"\",H19=\"\"),\"\",IF((H19*(1-F19)-1)>=coeff!$B$10,coeff!$B$8/coeff!$B$9*(H19*(1-F19)-1)/(H19-1),\"\"))","v":""}]
[null,null,null,null,null,{"$f":"IF(E20=\"\",\"\",HLOOKUP(E20,$Q$3:AK22,ROW()-2))","v":""},null,null,{"$f":"IF(OR(F20=\"\",G20=\"\"),\"\",IF((G20*F20-1)>=coeff!$B$10,coeff!$B$8/coeff!$B$9*(G20*F20-1)/(G20-1),\"\"))","v":""},{"$f":"IF(OR(F20=\"\",H20=\"\"),\"\",IF((H20*(1-F20)-1)>=coeff!$B$10,coeff!$B$8/coeff!$B$9*(H20*(1-F20)-1)/(H20-1),\"\"))","v":""}]
[null,null,null,null,null,{"$f":"IF(E21=\"\",\"\",HLOOKUP(E21,$Q$3:AK23,ROW()-2))","v":""},null,null,{"$f":"IF(OR(F21=\"\",G21=\"\"),\"\",IF((G21*F21-1)>=coeff!$B$10,coeff!$B$8/coeff!$B$9*(G21*F21-1)/(G21-1),\"\"))","v":""},{"$f":"IF(OR(F21=\"\",H21=\"\"),\"\",IF((H21*(1-F21)-1)>=coeff!$B$10,coeff!$B$8/coeff!$B$9*(H21*(1-F21)-1)/(H21-1),\"\"))","v":""}]
[null,null,null,null,null,{"$f":"IF(E22=\"\",\"\",HLOOKUP(E22,$Q$3:AK24,ROW()-2))","v":""},null,null,{"$f":"IF(OR(F22=\"\",G22=\"\"),\"\",IF((G22*F22-1)>=coeff!$B$10,coeff!$B$8/coeff!$B$9*(G22*F22-1)/(G22-1),\"\"))","v":""},{"$f":"IF(OR(F22=\"\",H22=\"\"),\"\",IF((H22*(1-F22)-1)>=coeff!$B$10,coeff!$B$8/coeff!$B$9*(H22*(1-F22)-1)/(H22-1),\"\"))","v":""}]
[null,null,null,null,null,{"$f":"IF(E23=\"\",\"\",HLOOKUP(E23,$Q$3:AK25,ROW()-2))","v":""},null,null,{"$f":"IF(OR(F23=\"\",G23=\"\"),\"\",IF((G23*F23-1)>=coeff!$B$10,coeff!$B$8/coeff!$B$9*(G23*F23-1)/(G23-1),\"\"))","v":""},{"$f":"IF(OR(F23=\"\",H23=\"\"),\"\",IF((H23*(1-F23)-1)>=coeff!$B$10,coeff!$B$8/coeff!$B$9*(H23*(1-F23)-1)/(H23-1),\"\"))","v":""}]
[null,null,null,null,null,{"$f":"IF(E24=\"\",\"\",HLOOKUP(E24,$Q$3:AK26,ROW()-2))","v":""},null,null,{"$f":"IF(OR(F24=\"\",G24=\"\"),\"\",IF((G24*F24-1)>=coeff!$B$10,coeff!$B$8/coeff!$B$9*(G24*F24-1)/(G24-1),\"\"))","v":""},{"$f":"IF(OR(F24=\"\",H24=\"\"),\"\",IF((H24*(1-F24)-1)>=coeff!$B$10,coeff!$B$8/coeff!$B$9*(H24*(1-F24)-1)/(H24-1),\"\"))","v":""}]
[null,null,null,null,null,{"$f":"IF(E25=\"\",\"\",HLOOKUP(E25,$Q$3:AK27,ROW()-2))","v":""},null,null,{"$f":"IF(OR(F25=\"\",G25=\"\"),\"\",IF((G25*F25-1)>=coeff!$B$10,coeff!$B$8/coeff!$B$9*(G25*F25-1)/(G25-1),\"\"))","v":""},{"$f":"IF(OR(F25=\"\",H25=\"\"),\"\",IF((H25*(1-F25)-1)>=coeff!$B$10,coeff!$B$8/coeff!$B$9*(H25*(1-F25)-1)/(H25-1),\"\"))","v":""}]
[null,null,null,null,null,{"$f":"IF(E26=\"\",\"\",HLOOKUP(E26,$Q$3:AK28,ROW()-2))","v":""},null,null,{"$f":"IF(OR(F26=\"\",G26=\"\"),\"\",IF((G26*F26-1)>=coeff!$B$10,coeff!$B$8/coeff!$B$9*(G26*F26-1)/(G26-1),\"\"))","v":""},{"$f":"IF(OR(F26=\"\",H26=\"\"),\"\",IF((H26*(1-F26)-1)>=coeff!$B$10,coeff!$B$8/coeff!$B$9*(H26*(1-F26)-1)/(H26-1),\"\"))","v":""}]
[null,null,null,null,null,{"$f":"IF(E27=\"\",\"\",HLOOKUP(E27,$Q$3:AK29,ROW()-2))","v":""},null,null,{"$f":"IF(OR(F27=\"\",G27=\"\"),\"\",IF((G27*F27-1)>=coeff!$B$10,coeff!$B$8/coeff!$B$9*(G27*F27-1)/(G27-1),\"\"))","v":""},{"$f":"IF(OR(F27=\"\",H27=\"\"),\"\",IF((H27*(1-F27)-1)>=coeff!$B$10,coeff!$B$8/coeff!$B$9*(H27*(1-F27)-1)/(H27-1),\"\"))","v":""}]
[null,null,null,null,null,{"$f":"IF(E28=\"\",\"\",HLOOKUP(E28,$Q$3:AK30,ROW()-2))","v":""},null,null,{"$f":"IF(OR(F28=\"\",G28=\"\"),\"\",IF((G28*F28-1)>=coeff!$B$10,coeff!$B$8/coeff!$B$9*(G28*F28-1)/(G28-1),\"\"))","v":""},{"$f":"IF(OR(F28=\"\",H28=\"\"),\"\",IF((H28*(1-F28)-1)>=coeff!$B$10,coeff!$B$8/coeff!$B$9*(H28*(1-F28)-1)/(H28-1),\"\"))","v":""}]
[null,null,null,null,null,{"$f":"IF(E29=\"\",\"\",HLOOKUP(E29,$Q$3:AK31,ROW()-2))","v":""},null,null,{"$f":"IF(OR(F29=\"\",G29=\"\"),\"\",IF((G29*F29-1)>=coeff!$B$10,coeff!$B$8/coeff!$B$9*(G29*F29-1)/(G29-1),\"\"))","v":""},{"$f":"IF(OR(F29=\"\",H29=\"\"),\"\",IF((H29*(1-F29)-1)>=coeff!$B$10,coeff!$B$8/coeff!$B$9*(H29*(1-F29)-1)/(H29-1),\"\"))","v":""}]
[null,null,null,null,null,{"$f":"IF(E30=\"\",\"\",HLOOKUP(E30,$Q$3:AK32,ROW()-2))","v":""},null,null,{"$f":"IF(OR(F30=\"\",G30=\"\"),\"\",IF((G30*F30-1)>=coeff!$B$10,coeff!$B$8/coeff!$B$9*(G30*F30-1)/(G30-1),\"\"))","v":""},{"$f":"IF(OR(F30=\"\",H30=\"\"),\"\",IF((H30*(1-F30)-1)>=coeff!$B$10,coeff!$B$8/coeff!$B$9*(H30*(1-F30)-1)/(H30-1),\"\"))","v":""}]
[null,null,null,null,null,{"$f":"IF(E31=\"\",\"\",HLOOKUP(E31,$Q$3:AK33,ROW()-2))","v":""},null,null,{"$f":"IF(OR(F31=\"\",G31=\"\"),\"\",IF((G31*F31-1)>=coeff!$B$10,coeff!$B$8/coeff!$B$9*(G31*F31-1)/(G31-1),\"\"))","v":""},{"$f":"IF(OR(F31=\"\",H31=\"\"),\"\",IF((H31*(1-F31)-1)>=coeff!$B$10,coeff!$B$8/coeff!$B$9*(H31*(1-F31)-1)/(H31-1),\"\"))","v":""}]
[null,null,null,null,null,{"$f":"IF(E32=\"\",\"\",HLOOKUP(E32,$Q$3:AK34,ROW()-2))","v":""},null,null,{"$f":"IF(OR(F32=\"\",G32=\"\"),\"\",IF((G32*F32-1)>=coeff!$B$10,coeff!$B$8/coeff!$B$9*(G32*F32-1)/(G32-1),\"\"))","v":""},{"$f":"IF(OR(F32=\"\",H32=\"\"),\"\",IF((H32*(1-F32)-1)>=coeff!$B$10,coeff!$B$8/coeff!$B$9*(H32*(1-F32)-1)/(H32-1),\"\"))","v":""}]
[null,null,null,null,null,{"$f":"IF(E33=\"\",\"\",HLOOKUP(E33,$Q$3:AK35,ROW()-2))","v":""},null,null,{"$f":"IF(OR(F33=\"\",G33=\"\"),\"\",IF((G33*F33-1)>=coeff!$B$10,coeff!$B$8/coeff!$B$9*(G33*F33-1)/(G33-1),\"\"))","v":""},{"$f":"IF(OR(F33=\"\",H33=\"\"),\"\",IF((H33*(1-F33)-1)>=coeff!$B$10,coeff!$B$8/coeff!$B$9*(H33*(1-F33)-1)/(H33-1),\"\"))","v":""}]
[null,null,null,null,null,{"$f":"IF(E34=\"\",\"\",HLOOKUP(E34,$Q$3:AK36,ROW()-2))","v":""},null,null,{"$f":"IF(OR(F34=\"\",G34=\"\"),\"\",IF((G34*F34-1)>=coeff!$B$10,coeff!$B$8/coeff!$B$9*(G34*F34-1)/(G34-1),\"\"))","v":""},{"$f":"IF(OR(F34=\"\",H34=\"\"),\"\",IF((H34*(1-F34)-1)>=coeff!$B$10,coeff!$B$8/coeff!$B$9*(H34*(1-F34)-1)/(H34-1),\"\"))","v":""}]
[null,null,null,null,null,{"$f":"IF(E35=\"\",\"\",HLOOKUP(E35,$Q$3:AK37,ROW()-2))","v":""},null,null,{"$f":"IF(OR(F35=\"\",G35=\"\"),\"\",IF((G35*F35-1)>=coeff!$B$10,coeff!$B$8/coeff!$B$9*(G35*F35-1)/(G35-1),\"\"))","v":""},{"$f":"IF(OR(F35=\"\",H35=\"\"),\"\",IF((H35*(1-F35)-1)>=coeff!$B$10,coeff!$B$8/coeff!$B$9*(H35*(1-F35)-1)/(H35-1),\"\"))","v":""}]
[null,null,null,null,null,{"$f":"IF(E36=\"\",\"\",HLOOKUP(E36,$Q$3:AK38,ROW()-2))","v":""},null,null,{"$f":"IF(OR(F36=\"\",G36=\"\"),\"\",IF((G36*F36-1)>=coeff!$B$10,coeff!$B$8/coeff!$B$9*(G36*F36-1)/(G36-1),\"\"))","v":""},{"$f":"IF(OR(F36=\"\",H36=\"\"),\"\",IF((H36*(1-F36)-1)>=coeff!$B$10,coeff!$B$8/coeff!$B$9*(H36*(1-F36)-1)/(H36-1),\"\"))","v":""}]
[null,null,null,null,null,{"$f":"IF(E37=\"\",\"\",HLOOKUP(E37,$Q$3:AK39,ROW()-2))","v":""},null,null,{"$f":"IF(OR(F37=\"\",G37=\"\"),\"\",IF((G37*F37-1)>=coeff!$B$10,coeff!$B$8/coeff!$B$9*(G37*F37-1)/(G37-1),\"\"))","v":""},{"$f":"IF(OR(F37=\"\",H37=\"\"),\"\",IF((H37*(1-F37)-1)>=coeff!$B$10,coeff!$B$8/coeff!$B$9*(H37*(1-F37)-1)/(H37-1),\"\"))","v":""}]
[null,null,null,null,null,{"$f":"IF(E38=\"\",\"\",HLOOKUP(E38,$Q$3:AK40,ROW()-2))","v":""},null,null,{"$f":"IF(OR(F38=\"\",G38=\"\"),\"\",IF((G38*F38-1)>=coeff!$B$10,coeff!$B$8/coeff!$B$9*(G38*F38-1)/(G38-1),\"\"))","v":""},{"$f":"IF(OR(F38=\"\",H38=\"\"),\"\",IF((H38*(1-F38)-1)>=coeff!$B$10,coeff!$B$8/coeff!$B$9*(H38*(1-F38)-1)/(H38-1),\"\"))","v":""}]
[null,null,null,null,null,{"$f":"IF(E39=\"\",\"\",HLOOKUP(E39,$Q$3:AK41,ROW()-2))","v":""},null,null,{"$f":"IF(OR(F39=\"\",G39=\"\"),\"\",IF((G39*F39-1)>=coeff!$B$10,coeff!$B$8/coeff!$B$9*(G39*F39-1)/(G39-1),\"\"))","v":""},{"$f":"IF(OR(F39=\"\",H39=\"\"),\"\",IF((H39*(1-F39)-1)>=coeff!$B$10,coeff!$B$8/coeff!$B$9*(H39*(1-F39)-1)/(H39-1),\"\"))","v":""}]
[null,null,null,null,null,{"$f":"IF(E40=\"\",\"\",HLOOKUP(E40,$Q$3:AK42,ROW()-2))","v":""},null,null,{"$f":"IF(OR(F40=\"\",G40=\"\"),\"\",IF((G40*F40-1)>=coeff!$B$10,coeff!$B$8/coeff!$B$9*(G40*F40-1)/(G40-1),\"\"))","v":""},{"$f":"IF(OR(F40=\"\",H40=\"\"),\"\",IF((H40*(1-F40)-1)>=coeff!$B$10,coeff!$B$8/coeff!$B$9*(H40*(1-F40)-1)/(H40-1),\"\"))","v":""}]
[null,null,null,null,null,{"$f":"IF(E41=\"\",\"\",HLOOKUP(E41,$Q$3:AK43,ROW()-2))","v":""},null,null,{"$f":"IF(OR(F41=\"\",G41=\"\"),\"\",IF((G41*F41-1)>=coeff!$B$10,coeff!$B$8/coeff!$B$9*(G41*F41-1)/(G41-1),\"\"))","v":""},{"$f":"IF(OR(F41=\"\",H41=\"\"),\"\",IF((H41*(1-F41)-1)>=coeff!$B$10,coeff!$B$8/coeff!$B$9*(H41*(1-F41)-1)/(H41-1),\"\"))","v":""}]
[null,null,null,null,null,{"$f":"IF(E42=\"\",\"\",HLOOKUP(E42,$Q$3:AK44,ROW()-2))","v":""},null,null,{"$f":"IF(OR(F42=\"\",G42=\"\"),\"\",IF((G42*F42-1)>=coeff!$B$10,coeff!$B$8/coeff!$B$9*(G42*F42-1)/(G42-1),\"\"))","v":""},{"$f":"IF(OR(F42=\"\",H42=\"\"),\"\",IF((H42*(1-F42)-1)>=coeff!$B$10,coeff!$B$8/coeff!$B$9*(H42*(1-F42)-1)/(H42-1),\"\"))","v":""}]
[null,null,null,null,null,{"$f":"IF(E43=\"\",\"\",HLOOKUP(E43,$Q$3:AK45,ROW()-2))","v":""},null,null,{"$f":"IF(OR(F43=\"\",G43=\"\"),\"\",IF((G43*F43-1)>=coeff!$B$10,coeff!$B$8/coeff!$B$9*(G43*F43-1)/(G43-1),\"\"))","v":""},{"$f":"IF(OR(F43=\"\",H43=\"\"),\"\",IF((H43*(1-F43)-1)>=coeff!$B$10,coeff!$B$8/coeff!$B$9*(H43*(1-F43)-1)/(H43-1),\"\"))","v":""}]
[null,null,null,null,null,{"$f":"IF(E44=\"\",\"\",HLOOKUP(E44,$Q$3:AK46,ROW()-2))","v":""},null,null,{"$f":"IF(OR(F44=\"\",G44=\"\"),\"\",IF((G44*F44-1)>=coeff!$B$10,coeff!$B$8/coeff!$B$9*(G44*F44-1)/(G44-1),\"\"))","v":""},{"$f":"IF(OR(F44=\"\",H44=\"\"),\"\",IF((H44*(1-F44)-1)>=coeff!$B$10,coeff!$B$8/coeff!$B$9*(H44*(1-F44)-1)/(H44-1),\"\"))","v":""}]
[null,null,null,null,null,{"$f":"IF(E45=\"\",\"\",HLOOKUP(E45,$Q$3:AK47,ROW()-2))","v":""},null,null,{"$f":"IF(OR(F45=\"\",G45=\"\"),\"\",IF((G45*F45-1)>=coeff!$B$10,coeff!$B$8/coeff!$B$9*(G45*F45-1)/(G45-1),\"\"))","v":""},{"$f":"IF(OR(F45=\"\",H45=\"\"),\"\",IF((H45*(1-F45)-1)>=coeff!$B$10,coeff!$B$8/coeff!$B$9*(H45*(1-F45)-1)/(H45-1),\"\"))","v":""}]
[null,null,null,null,null,{"$f":"IF(E46=\"\",\"\",HLOOKUP(E46,$Q$3:AK48,ROW()-2))","v":""},null,null,{"$f":"IF(OR(F46=\"\",G46=\"\"),\"\",IF((G46*F46-1)>=coeff!$B$10,coeff!$B$8/coeff!$B$9*(G46*F46-1)/(G46-1),\"\"))","v":""},{"$f":"IF(OR(F46=\"\",H46=\"\"),\"\",IF((H46*(1-F46)-1)>=coeff!$B$10,coeff!$B$8/coeff!$B$9*(H46*(1-F46)-1)/(H46-1),\"\"))","v":""}]
[null,null,null,null,null,{"$f":"IF(E47=\"\",\"\",HLOOKUP(E47,$Q$3:AK49,ROW()-2))","v":""},null,null,{"$f":"IF(OR(F47=\"\",G47=\"\"),\"\",IF((G47*F47-1)>=coeff!$B$10,coeff!$B$8/coeff!$B$9*(G47*F47-1)/(G47-1),\"\"))","v":""},{"$f":"IF(OR(F47=\"\",H47=\"\"),\"\",IF((H47*(1-F47)-1)>=coeff!$B$10,coeff!$B$8/coeff!$B$9*(H47*(1-F47)-1)/(H47-1),\"\"))","v":""}]
[null,null,null,null,null,{"$f":"IF(E48=\"\",\"\",HLOOKUP(E48,$Q$3:AK50,ROW()-2))","v":""},null,null,{"$f":"IF(OR(F48=\"\",G48=\"\"),\"\",IF((G48*F48-1)>=coeff!$B$10,coeff!$B$8/coeff!$B$9*(G48*F48-1)/(G48-1),\"\"))","v":""},{"$f":"IF(OR(F48=\"\",H48=\"\"),\"\",IF((H48*(1-F48)-1)>=coeff!$B$10,coeff!$B$8/coeff!$B$9*(H48*(1-F48)-1)/(H48-1),\"\"))","v":""}]
[null,null,null,null,null,{"$f":"IF(E49=\"\",\"\",HLOOKUP(E49,$Q$3:AK51,ROW()-2))","v":""},null,null,{"$f":"IF(OR(F49=\"\",G49=\"\"),\"\",IF((G49*F49-1)>=coeff!$B$10,coeff!$B$8/coeff!$B$9*(G49*F49-1)/(G49-1),\"\"))","v":""},{"$f":"IF(OR(F49=\"\",H49=\"\"),\"\",IF((H49*(1-F49)-1)>=coeff!$B$10,coeff!$B$8/coeff!$B$9*(H49*(1-F49)-1)/(H49-1),\"\"))","v":""}]
[null,null,null,null,null,{"$f":"IF(E50=\"\",\"\",HLOOKUP(E50,$Q$3:AK52,ROW()-2))","v":""},null,null,{"$f":"IF(OR(F50=\"\",G50=\"\"),\"\",IF((G50*F50-1)>=coeff!$B$10,coeff!$B$8/coeff!$B$9*(G50*F50-1)/(G50-1),\"\"))","v":""},{"$f":"IF(OR(F50=\"\",H50=\"\"),\"\",IF((H50*(1-F50)-1)>=coeff!$B$10,coeff!$B$8/coeff!$B$9*(H50*(1-F50)-1)/(H50-1),\"\"))","v":""}]
[null,null,null,null,null,{"$f":"IF(E51=\"\",\"\",HLOOKUP(E51,$Q$3:AK53,ROW()-2))","v":""},null,null,{"$f":"IF(OR(F51=\"\",G51=\"\"),\"\",IF((G51*F51-1)>=coeff!$B$10,coeff!$B$8/coeff!$B$9*(G51*F51-1)/(G51-1),\"\"))","v":""},{"$f":"IF(OR(F51=\"\",H51=\"\"),\"\",IF((H51*(1-F51)-1)>=coeff!$B$10,coeff!$B$8/coeff!$B$9*(H51*(1-F51)-1)/(H51-1),\"\"))","v":""}]
[null,null,null,null,null,{"$f":"IF(E52=\"\",\"\",HLOOKUP(E52,$Q$3:AK54,ROW()-2))","v":""},null,null,{"$f":"IF(OR(F52=\"\",G52=\"\"),\"\",IF((G52*F52-1)>=coeff!$B$10,coeff!$B$8/coeff!$B$9*(G52*F52-1)/(G52-1),\"\"))","v":""},{"$f":"IF(OR(F52=\"\",H52=\"\"),\"\",IF((H52*(1-F52)-1)>=coeff!$B$10,coeff!$B$8/coeff!$B$9*(H52*(1-F52)-1)/(H52-1),\"\"))","v":""}]
[null,null,null,null,null,{"$f":"IF(E53=\"\",\"\",HLOOKUP(E53,$Q$3:AK55,ROW()-2))","v":""},null,null,{"$f":"IF(OR(F53=\"\",G53=\"\"),\"\",IF((G53*F53-1)>=coeff!$B$10,coeff!$B$8/coeff!$B$9*(G53*F53-1)/(G53-1),\"\"))","v":""},{"$f":"IF(OR(F53=\"\",H53=\"\"),\"\",IF((H53*(1-F53)-1)>=coeff!$B$10,coeff!$B$8/coeff!$B$9*(H53*(1-F53)-1)/(H53-1),\"\"))","v":""}]
[null,null,null,null,null,{"$f":"IF(E54=\"\",\"\",HLOOKUP(E54,$Q$3:AK56,ROW()-2))","v":""},null,null,{"$f":"IF(OR(F54=\"\",G54=\"\"),\"\",IF((G54*F54-1)>=coeff!$B$10,coeff!$B$8/coeff!$B$9*(G54*F54-1)/(G54-1),\"\"))","v":""},{"$f":"IF(OR(F54=\"\",H54=\"\"),\"\",IF((H54*(1-F54)-1)>=coeff!$B$10,coeff!$B$8/coeff!$B$9*(H54*(1-F54)-1)/(H54-1),\"\"))","v":""}]
[null,null,null,null,null,{"$f":"IF(E55=\"\",\"\",HLOOKUP(E55,$Q$3:AK57,ROW()-2))","v":""},null,null,{"$f":"IF(OR(F55=\"\",G55=\"\"),\"\",IF((G55*F55-1)>=coeff!$B$10,coeff!$B$8/coeff!$B$9*(G55*F55-1)/(G55-1),\"\"))","v":""},{"$f":"IF(OR(F55=\"\",H55=\"\"),\"\",IF((H55*(1-F55)-1)>=coeff!$B$10,coeff!$B$8/coeff!$B$9*(H55*(1-F55)-1)/(H55-1),\"\"))","v":""}]
[null,null,null,null,null,{"$f":"IF(E56=\"\",\"\",HLOOKUP(E56,$Q$3:AK58,ROW()-2))","v":""},null,null,{"$f":"IF(OR(F56=\"\",G56=\"\"),\"\",IF((G56*F56-1)>=coeff!$B$10,coeff!$B$8/coeff!$B$9*(G56*F56-1)/(G56-1),\"\"))","v":""},{"$f":"IF(OR(F56=\"\",H56=\"\"),\"\",IF((H56*(1-F56)-1)>=coeff!$B$10,coeff!$B$8/coeff!$B$9*(H56*(1-F56)-1)/(H56-1),\"\"))","v":""}]
[null,null,null,null,null,{"$f":"IF(E57=\"\",\"\",HLOOKUP(E57,$Q$3:AK59,ROW()-2))","v":""},null,null,{"$f":"IF(OR(F57=\"\",G57=\"\"),\"\",IF((G57*F57-1)>=coeff!$B$10,coeff!$B$8/coeff!$B$9*(G57*F57-1)/(G57-1),\"\"))","v":""},{"$f":"IF(OR(F57=\"\",H57=\"\"),\"\",IF((H57*(1-F57)-1)>=coeff!$B$10,coeff!$B$8/coeff!$B$9*(H57*(1-F57)-1)/(H57-1),\"\"))","v":""}]
[null,null,null,null,null,{"$f":"IF(E58=\"\",\"\",HLOOKUP(E58,$Q$3:AK60,ROW()-2))","v":""},null,null,{"$f":"IF(OR(F58=\"\",G58=\"\"),\"\",IF((G58*F58-1)>=coeff!$B$10,coeff!$B$8/coeff!$B$9*(G58*F58-1)/(G58-1),\"\"))","v":""},{"$f":"IF(OR(F58=\"\",H58=\"\"),\"\",IF((H58*(1-F58)-1)>=coeff!$B$10,coeff!$B$8/coeff!$B$9*(H58*(1-F58)-1)/(H58-1),\"\"))","v":""}]
[null,null,null,null,null,{"$f":"IF(E59=\"\",\"\",HLOOKUP(E59,$Q$3:AK61,ROW()-2))","v":""},null,null,{"$f":"IF(OR(F59=\"\",G59=\"\"),\"\",IF((G59*F59-1)>=coeff!$B$10,coeff!$B$8/coeff!$B$9*(G59*F59-1)/(G59-1),\"\"))","v":""},{"$f":"IF(OR(F59=\"\",H59=\"\"),\"\",IF((H59*(1-F59)-1)>=coeff!$B$10,coeff!$B$8/coeff!$B$9*(H59*(1-F59)-1)/(H59-1),\"\"))","v":""}]
[null,null,null,null,null,{"$f":"IF(E60=\"\",\"\",HLOOKUP(E60,$Q$3:AK62,ROW()-2))","v":""},null,null,{"$f":"IF(OR(F60=\"\",G60=\"\"),\"\",IF((G60*F60-1)>=coeff!$B$10,coeff!$B$8/coeff!$B$9*(G60*F60-1)/(G60-1),\"\"))","v":""},{"$f":"IF(OR(F60=\"\",H60=\"\"),\"\",IF((H60*(1-F60)-1)>=coeff!$B$10,coeff!$B$8/coeff!$B$9*(H60*(1-F60)-1)/(H60-1),\"\"))","v":""}]
[null,null,null,null,null,{"$f":"IF(E61=\"\",\"\",HLOOKUP(E61,$Q$3:AK63,ROW()-2))","v":""},null,null,{"$f":"IF(OR(F61=\"\",G61=\"\"),\"\",IF((G61*F61-1)>=coeff!$B$10,coeff!$B$8/coeff!$B$9*(G61*F61-1)/(G61-1),\"\"))","v":""},{"$f":"IF(OR(F61=\"\",H61=\"\"),\"\",IF((H61*(1-F61)-1)>=coeff!$B$10,coeff!$B$8/coeff!$B$9*(H61*(1-F61)-1)/(H61-1),\"\"))","v":""}]
[null,null,null,null,null,{"$f":"IF(E62=\"\",\"\",HLOOKUP(E62,$Q$3:AK64,ROW()-2))","v":""},null,null,{"$f":"IF(OR(F62=\"\",G62=\"\"),\"\",IF((G62*F62-1)>=coeff!$B$10,coeff!$B$8/coeff!$B$9*(G62*F62-1)/(G62-1),\"\"))","v":""},{"$f":"IF(OR(F62=\"\",H62=\"\"),\"\",IF((H62*(1-F62)-1)>=coeff!$B$10,coeff!$B$8/coeff!$B$9*(H62*(1-F62)-1)/(H62-1),\"\"))","v":""}]
[null,null,null,null,null,{"$f":"IF(E63=\"\",\"\",HLOOKUP(E63,$Q$3:AK65,ROW()-2))","v":""},null,null,{"$f":"IF(OR(F63=\"\",G63=\"\"),\"\",IF((G63*F63-1)>=coeff!$B$10,coeff!$B$8/coeff!$B$9*(G63*F63-1)/(G63-1),\"\"))","v":""},{"$f":"IF(OR(F63=\"\",H63=\"\"),\"\",IF((H63*(1-F63)-1)>=coeff!$B$10,coeff!$B$8/coeff!$B$9*(H63*(1-F63)-1)/(H63-1),\"\"))","v":""}]
[null,null,null,null,null,{"$f":"IF(E64=\"\",\"\",HLOOKUP(E64,$Q$3:AK66,ROW()-2))","v":""},null,null,{"$f":"IF(OR(F64=\"\",G64=\"\"),\"\",IF((G64*F64-1)>=coeff!$B$10,coeff!$B$8/coeff!$B$9*(G64*F64-1)/(G64-1),\"\"))","v":""},{"$f":"IF(OR(F64=\"\",H64=\"\"),\"\",IF((H64*(1-F64)-1)>=coeff!$B$10,coeff!$B$8/coeff!$B$9*(H64*(1-F64)-1)/(H64-1),\"\"))","v":""}]
[null,null,null,null,null,{"$f":"IF(E65=\"\",\"\",HLOOKUP(E65,$Q$3:AK67,ROW()-2))","v":""},null,null,{"$f":"IF(OR(F65=\"\",G65=\"\"),\"\",IF((G65*F65-1)>=coeff!$B$10,coeff!$B$8/coeff!$B$9*(G65*F65-1)/(G65-1),\"\"))","v":""},{"$f":"IF(OR(F65=\"\",H65=\"\"),\"\",IF((H65*(1-F65)-1)>=coeff!$B$10,coeff!$B$8/coeff!$B$9*(H65*(1-F65)-1)/(H65-1),\"\"))","v":""}]
[null,null,null,null,null,{"$f":"IF(E66=\"\",\"\",HLOOKUP(E66,$Q$3:AK68,ROW()-2))","v":""},null,null,{"$f":"IF(OR(F66=\"\",G66=\"\"),\"\",IF((G66*F66-1)>=coeff!$B$10,coeff!$B$8/coeff!$B$9*(G66*F66-1)/(G66-1),\"\"))","v":""},{"$f":"IF(OR(F66=\"\",H66=\"\"),\"\",IF((H66*(1-F66)-1)>=coeff!$B$10,coeff!$B$8/coeff!$B$9*(H66*(1-F66)-1)/(H66-1),\"\"))","v":""}]
[null,null,null,null,null,{"$f":"IF(E67=\"\",\"\",HLOOKUP(E67,$Q$3:AK69,ROW()-2))","v":""},null,null,{"$f":"IF(OR(F67=\"\",G67=\"\"),\"\",IF((G67*F67-1)>=coeff!$B$10,coeff!$B$8/coeff!$B$9*(G67*F67-1)/(G67-1),\"\"))","v":""},{"$f":"IF(OR(F67=\"\",H67=\"\"),\"\",IF((H67*(1-F67)-1)>=coeff!$B$10,coeff!$B$8/coeff!$B$9*(H67*(1-F67)-1)/(H67-1),\"\"))","v":""}]
[null,null,null,null,null,{"$f":"IF(E68=\"\",\"\",HLOOKUP(E68,$Q$3:AK70,ROW()-2))","v":""},null,null,{"$f":"IF(OR(F68=\"\",G68=\"\"),\"\",IF((G68*F68-1)>=coeff!$B$10,coeff!$B$8/coeff!$B$9*(G68*F68-1)/(G68-1),\"\"))","v":""},{"$f":"IF(OR(F68=\"\",H68=\"\"),\"\",IF((H68*(1-F68)-1)>=coeff!$B$10,coeff!$B$8/coeff!$B$9*(H68*(1-F68)-1)/(H68-1),\"\"))","v":""}]
[null,null,null,null,null,{"$f":"IF(E69=\"\",\"\",HLOOKUP(E69,$Q$3:AK71,ROW()-2))","v":""},null,null,{"$f":"IF(OR(F69=\"\",G69=\"\"),\"\",IF((G69*F69-1)>=coeff!$B$10,coeff!$B$8/coeff!$B$9*(G69*F69-1)/(G69-1),\"\"))","v":""},{"$f":"IF(OR(F69=\"\",H69=\"\"),\"\",IF((H69*(1-F69)-1)>=coeff!$B$10,coeff!$B$8/coeff!$B$9*(H69*(1-F69)-1)/(H69-1),\"\"))","v":""}]
[null,null,null,null,null,{"$f":"IF(E70=\"\",\"\",HLOOKUP(E70,$Q$3:AK72,ROW()-2))","v":""},null,null,{"$f":"IF(OR(F70=\"\",G70=\"\"),\"\",IF((G70*F70-1)>=coeff!$B$10,coeff!$B$8/coeff!$B$9*(G70*F70-1)/(G70-1),\"\"))","v":""},{"$f":"IF(OR(F70=\"\",H70=\"\"),\"\",IF((H70*(1-F70)-1)>=coeff!$B$10,coeff!$B$8/coeff!$B$9*(H70*(1-F70)-1)/(H70-1),\"\"))","v":""}]
[null,null,null,null,null,{"$f":"IF(E71=\"\",\"\",HLOOKUP(E71,$Q$3:AK73,ROW()-2))","v":""},null,null,{"$f":"IF(OR(F71=\"\",G71=\"\"),\"\",IF((G71*F71-1)>=coeff!$B$10,coeff!$B$8/coeff!$B$9*(G71*F71-1)/(G71-1),\"\"))","v":""},{"$f":"IF(OR(F71=\"\",H71=\"\"),\"\",IF((H71*(1-F71)-1)>=coeff!$B$10,coeff!$B$8/coeff!$B$9*(H71*(1-F71)-1)/(H71-1),\"\"))","v":""}]
[null,null,null,null,null,{"$f":"IF(E72=\"\",\"\",HLOOKUP(E72,$Q$3:AK74,ROW()-2))","v":""},null,null,{"$f":"IF(OR(F72=\"\",G72=\"\"),\"\",IF((G72*F72-1)>=coeff!$B$10,coeff!$B$8/coeff!$B$9*(G72*F72-1)/(G72-1),\"\"))","v":""},{"$f":"IF(OR(F72=\"\",H72=\"\"),\"\",IF((H72*(1-F72)-1)>=coeff!$B$10,coeff!$B$8/coeff!$B$9*(H72*(1-F72)-1)/(H72-1),\"\"))","v":""}]
[null,null,null,null,null,{"$f":"IF(E73=\"\",\"\",HLOOKUP(E73,$Q$3:AK75,ROW()-2))","v":""},null,null,{"$f":"IF(OR(F73=\"\",G73=\"\"),\"\",IF((G73*F73-1)>=coeff!$B$10,coeff!$B$8/coeff!$B$9*(G73*F73-1)/(G73-1),\"\"))","v":""},{"$f":"IF(OR(F73=\"\",H73=\"\"),\"\",IF((H73*(1-F73)-1)>=coeff!$B$10,coeff!$B$8/coeff!$B$9*(H73*(1-F73)-1)/(H73-1),\"\"))","v":""}]
[null,null,null,null,null,{"$f":"IF(E74=\"\",\"\",HLOOKUP(E74,$Q$3:AK76,ROW()-2))","v":""},null,null,{"$f":"IF(OR(F74=\"\",G74=\"\"),\"\",IF((G74*F74-1)>=coeff!$B$10,coeff!$B$8/coeff!$B$9*(G74*F74-1)/(G74-1),\"\"))","v":""},{"$f":"IF(OR(F74=\"\",H74=\"\"),\"\",IF((H74*(1-F74)-1)>=coeff!$B$10,coeff!$B$8/coeff!$B$9*(H74*(1-F74)-1)/(H74-1),\"\"))","v":""}]
[null,null,null,null,null,{"$f":"IF(E75=\"\",\"\",HLOOKUP(E75,$Q$3:AK77,ROW()-2))","v":""},null,null,{"$f":"IF(OR(F75=\"\",G75=\"\"),\"\",IF((G75*F75-1)>=coeff!$B$10,coeff!$B$8/coeff!$B$9*(G75*F75-1)/(G75-1),\"\"))","v":""},{"$f":"IF(OR(F75=\"\",H75=\"\"),\"\",IF((H75*(1-F75)-1)>=coeff!$B$10,coeff!$B$8/coeff!$B$9*(H75*(1-F75)-1)/(H75-1),\"\"))","v":""}]
[null,null,null,null,null,{"$f":"IF(E76=\"\",\"\",HLOOKUP(E76,$Q$3:AK78,ROW()-2))","v":""},null,null,{"$f":"IF(OR(F76=\"\",G76=\"\"),\"\",IF((G76*F76-1)>=coeff!$B$10,coeff!$B$8/coeff!$B$9*(G76*F76-1)/(G76-1),\"\"))","v":""},{"$f":"IF(OR(F76=\"\",H76=\"\"),\"\",IF((H76*(1-F76)-1)>=coeff!$B$10,coeff!$B$8/coeff!$B$9*(H76*(1-F76)-1)/(H76-1),\"\"))","v":""}]
[null,null,null,null,null,{"$f":"IF(E77=\"\",\"\",HLOOKUP(E77,$Q$3:AK79,ROW()-2))","v":""},null,null,{"$f":"IF(OR(F77=\"\",G77=\"\"),\"\",IF((G77*F77-1)>=coeff!$B$10,coeff!$B$8/coeff!$B$9*(G77*F77-1)/(G77-1),\"\"))","v":""},{"$f":"IF(OR(F77=\"\",H77=\"\"),\"\",IF((H77*(1-F77)-1)>=coeff!$B$10,coeff!$B$8/coeff!$B$9*(H77*(1-F77)-1)/(H77-1),\"\"))","v":""}]
[null,null,null,null,null,{"$f":"IF(E78=\"\",\"\",HLOOKUP(E78,$Q$3:AK80,ROW()-2))","v":""},null,null,{"$f":"IF(OR(F78=\"\",G78=\"\"),\"\",IF((G78*F78-1)>=coeff!$B$10,coeff!$B$8/coeff!$B$9*(G78*F78-1)/(G78-1),\"\"))","v":""},{"$f":"IF(OR(F78=\"\",H78=\"\"),\"\",IF((H78*(1-F78)-1)>=coeff!$B$10,coeff!$B$8/coeff!$B$9*(H78*(1-F78)-1)/(H78-1),\"\"))","v":""}]
[null,null,null,null,null,{"$f":"IF(E79=\"\",\"\",HLOOKUP(E79,$Q$3:AK81,ROW()-2))","v":""},null,null,{"$f":"IF(OR(F79=\"\",G79=\"\"),\"\",IF((G79*F79-1)>=coeff!$B$10,coeff!$B$8/coeff!$B$9*(G79*F79-1)/(G79-1),\"\"))","v":""},{"$f":"IF(OR(F79=\"\",H79=\"\"),\"\",IF((H79*(1-F79)-1)>=coeff!$B$10,coeff!$B$8/coeff!$B$9*(H79*(1-F79)-1)/(H79-1),\"\"))","v":""}]
[null,null,null,null,null,{"$f":"IF(E80=\"\",\"\",HLOOKUP(E80,$Q$3:AK82,ROW()-2))","v":""},null,null,{"$f":"IF(OR(F80=\"\",G80=\"\"),\"\",IF((G80*F80-1)>=coeff!$B$10,coeff!$B$8/coeff!$B$9*(G80*F80-1)/(G80-1),\"\"))","v":""},{"$f":"IF(OR(F80=\"\",H80=\"\"),\"\",IF((H80*(1-F80)-1)>=coeff!$B$10,coeff!$B$8/coeff!$B$9*(H80*(1-F80)-1)/(H80-1),\"\"))","v":""}]
[null,null,null,null,null,{"$f":"IF(E81=\"\",\"\",HLOOKUP(E81,$Q$3:AK83,ROW()-2))","v":""},null,null,{"$f":"IF(OR(F81=\"\",G81=\"\"),\"\",IF((G81*F81-1)>=coeff!$B$10,coeff!$B$8/coeff!$B$9*(G81*F81-1)/(G81-1),\"\"))","v":""},{"$f":"IF(OR(F81=\"\",H81=\"\"),\"\",IF((H81*(1-F81)-1)>=coeff!$B$10,coeff!$B$8/coeff!$B$9*(H81*(1-F81)-1)/(H81-1),\"\"))","v":""}]
[null,null,null,null,null,{"$f":"IF(E82=\"\",\"\",HLOOKUP(E82,$Q$3:AK84,ROW()-2))","v":""},null,null,{"$f":"IF(OR(F82=\"\",G82=\"\"),\"\",IF((G82*F82-1)>=coeff!$B$10,coeff!$B$8/coeff!$B$9*(G82*F82-1)/(G82-1),\"\"))","v":""},{"$f":"IF(OR(F82=\"\",H82=\"\"),\"\",IF((H82*(1-F82)-1)>=coeff!$B$10,coeff!$B$8/coeff!$B$9*(H82*(1-F82)-1)/(H82-1),\"\"))","v":""}]
[null,null,null,null,null,{"$f":"IF(E83=\"\",\"\",HLOOKUP(E83,$Q$3:AK85,ROW()-2))","v":""},null,null,{"$f":"IF(OR(F83=\"\",G83=\"\"),\"\",IF((G83*F83-1)>=coeff!$B$10,coeff!$B$8/coeff!$B$9*(G83*F83-1)/(G83-1),\"\"))","v":""},{"$f":"IF(OR(F83=\"\",H83=\"\"),\"\",IF((H83*(1-F83)-1)>=coeff!$B$10,coeff!$B$8/coeff!$B$9*(H83*(1-F83)-1)/(H83-1),\"\"))","v":""}]
[null,null,null,null,null,{"$f":"IF(E84=\"\",\"\",HLOOKUP(E84,$Q$3:AK86,ROW()-2))","v":""},null,null,{"$f":"IF(OR(F84=\"\",G84=\"\"),\"\",IF((G84*F84-1)>=coeff!$B$10,coeff!$B$8/coeff!$B$9*(G84*F84-1)/(G84-1),\"\"))","v":""},{"$f":"IF(OR(F84=\"\",H84=\"\"),\"\",IF((H84*(1-F84)-1)>=coeff!$B$10,coeff!$B$8/coeff!$B$9*(H84*(1-F84)-1)/(H84-1),\"\"))","v":""}]
[null,null,null,null,null,{"$f":"IF(E85=\"\",\"\",HLOOKUP(E85,$Q$3:AK87,ROW()-2))","v":""},null,null,{"$f":"IF(OR(F85=\"\",G85=\"\"),\"\",IF((G85*F85-1)>=coeff!$B$10,coeff!$B$8/coeff!$B$9*(G85*F85-1)/(G85-1),\"\"))","v":""},{"$f":"IF(OR(F85=\"\",H85=\"\"),\"\",IF((H85*(1-F85)-1)>=coeff!$B$10,coeff!$B$8/coeff!$B$9*(H85*(1-F85)-1)/(H85-1),\"\"))","v":""}]
[null,null,null,null,null,{"$f":"IF(E86=\"\",\"\",HLOOKUP(E86,$Q$3:AK88,ROW()-2))","v":""},null,null,{"$f":"IF(OR(F86=\"\",G86=\"\"),\"\",IF((G86*F86-1)>=coeff!$B$10,coeff!$B$8/coeff!$B$9*(G86*F86-1)/(G86-1),\"\"))","v":""},{"$f":"IF(OR(F86=\"\",H86=\"\"),\"\",IF((H86*(1-F86)-1)>=coeff!$B$10,coeff!$B$8/coeff!$B$9*(H86*(1-F86)-1)/(H86-1),\"\"))","v":""}]
[null,null,null,null,null,{"$f":"IF(E87=\"\",\"\",HLOOKUP(E87,$Q$3:AK89,ROW()-2))","v":""},null,null,{"$f":"IF(OR(F87=\"\",G87=\"\"),\"\",IF((G87*F87-1)>=coeff!$B$10,coeff!$B$8/coeff!$B$9*(G87*F87-1)/(G87-1),\"\"))","v":""},{"$f":"IF(OR(F87=\"\",H87=\"\"),\"\",IF((H87*(1-F87)-1)>=coeff!$B$10,coeff!$B$8/coeff!$B$9*(H87*(1-F87)-1)/(H87-1),\"\"))","v":""}]
[null,null,null,null,null,{"$f":"IF(E88=\"\",\"\",HLOOKUP(E88,$Q$3:AK90,ROW()-2))","v":""},null,null,{"$f":"IF(OR(F88=\"\",G88=\"\"),\"\",IF((G88*F88-1)>=coeff!$B$10,coeff!$B$8/coeff!$B$9*(G88*F88-1)/(G88-1),\"\"))","v":""},{"$f":"IF(OR(F88=\"\",H88=\"\"),\"\",IF((H88*(1-F88)-1)>=coeff!$B$10,coeff!$B$8/coeff!$B$9*(H88*(1-F88)-1)/(H88-1),\"\"))","v":""}]
[null,null,null,null,null,{"$f":"IF(E89=\"\",\"\",HLOOKUP(E89,$Q$3:AK91,ROW()-2))","v":""},null,null,{"$f":"IF(OR(F89=\"\",G89=\"\"),\"\",IF((G89*F89-1)>=coeff!$B$10,coeff!$B$8/coeff!$B$9*(G89*F89-1)/(G89-1),\"\"))","v":""},{"$f":"IF(OR(F89=\"\",H89=\"\"),\"\",IF((H89*(1-F89)-1)>=coeff!$B$10,coeff!$B$8/coeff!$B$9*(H89*(1-F89)-1)/(H89-1),\"\"))","v":""}]
[null,null,null,null,null,{"$f":"IF(E90=\"\",\"\",HLOOKUP(E90,$Q$3:AK92,ROW()-2))","v":""},null,null,{"$f":"IF(OR(F90=\"\",G90=\"\"),\"\",IF((G90*F90-1)>=coeff!$B$10,coeff!$B$8/coeff!$B$9*(G90*F90-1)/(G90-1),\"\"))","v":""},{"$f":"IF(OR(F90=\"\",H90=\"\"),\"\",IF((H90*(1-F90)-1)>=coeff!$B$10,coeff!$B$8/coeff!$B$9*(H90*(1-F90)-1)/(H90-1),\"\"))","v":""}]
[null,null,null,null,null,{"$f":"IF(E91=\"\",\"\",HLOOKUP(E91,$Q$3:AK93,ROW()-2))","v":""},null,null,{"$f":"IF(OR(F91=\"\",G91=\"\"),\"\",IF((G91*F91-1)>=coeff!$B$10,coeff!$B$8/coeff!$B$9*(G91*F91-1)/(G91-1),\"\"))","v":""},{"$f":"IF(OR(F91=\"\",H91=\"\"),\"\",IF((H91*(1-F91)-1)>=coeff!$B$10,coeff!$B$8/coeff!$B$9*(H91*(1-F91)-1)/(H91-1),\"\"))","v":""}]
[null,null,null,null,null,{"$f":"IF(E92=\"\",\"\",HLOOKUP(E92,$Q$3:AK94,ROW()-2))","v":""},null,null,{"$f":"IF(OR(F92=\"\",G92=\"\"),\"\",IF((G92*F92-1)>=coeff!$B$10,coeff!$B$8/coeff!$B$9*(G92*F92-1)/(G92-1),\"\"))","v":""},{"$f":"IF(OR(F92=\"\",H92=\"\"),\"\",IF((H92*(1-F92)-1)>=coeff!$B$10,coeff!$B$8/coeff!$B$9*(H92*(1-F92)-1)/(H92-1),\"\"))","v":""}]
[null,null,null,null,null,{"$f":"IF(E93=\"\",\"\",HLOOKUP(E93,$Q$3:AK95,ROW()-2))","v":""},null,null,{"$f":"IF(OR(F93=\"\",G93=\"\"),\"\",IF((G93*F93-1)>=coeff!$B$10,coeff!$B$8/coeff!$B$9*(G93*F93-1)/(G93-1),\"\"))","v":""},{"$f":"IF(OR(F93=\"\",H93=\"\"),\"\",IF((H93*(1-F93)-1)>=coeff!$B$10,coeff!$B$8/coeff!$B$9*(H93*(1-F93)-1)/(H93-1),\"\"))","v":""}]
[null,null,null,null,null,{"$f":"IF(E94=\"\",\"\",HLOOKUP(E94,$Q$3:AK96,ROW()-2))","v":""},null,null,{"$f":"IF(OR(F94=\"\",G94=\"\"),\"\",IF((G94*F94-1)>=coeff!$B$10,coeff!$B$8/coeff!$B$9*(G94*F94-1)/(G94-1),\"\"))","v":""},{"$f":"IF(OR(F94=\"\",H94=\"\"),\"\",IF((H94*(1-F94)-1)>=coeff!$B$10,coeff!$B$8/coeff!$B$9*(H94*(1-F94)-1)/(H94-1),\"\"))","v":""}]
[null,null,null,null,null,{"$f":"IF(E95=\"\",\"\",HLOOKUP(E95,$Q$3:AK97,ROW()-2))","v":""},null,null,{"$f":"IF(OR(F95=\"\",G95=\"\"),\"\",IF((G95*F95-1)>=coeff!$B$10,coeff!$B$8/coeff!$B$9*(G95*F95-1)/(G95-1),\"\"))","v":""},{"$f":"IF(OR(F95=\"\",H95=\"\"),\"\",IF((H95*(1-F95)-1)>=coeff!$B$10,coeff!$B$8/coeff!$B$9*(H95*(1-F95)-1)/(H95-1),\"\"))","v":""}]
[null,null,null,null,null,{"$f":"IF(E96=\"\",\"\",HLOOKUP(E96,$Q$3:AK98,ROW()-2))","v":""},null,null,{"$f":"IF(OR(F96=\"\",G96=\"\"),\"\",IF((G96*F96-1)>=coeff!$B$10,coeff!$B$8/coeff!$B$9*(G96*F96-1)/(G96-1),\"\"))","v":""},{"$f":"IF(OR(F96=\"\",H96=\"\"),\"\",IF((H96*(1-F96)-1)>=coeff!$B$10,coeff!$B$8/coeff!$B$9*(H96*(1-F96)-1)/(H96-1),\"\"))","v":""}]
[null,null,null,null,null,{"$f":"IF(E97=\"\",\"\",HLOOKUP(E97,$Q$3:AK99,ROW()-2))","v":""},null,null,{"$f":"IF(OR(F97=\"\",G97=\"\"),\"\",IF((G97*F97-1)>=coeff!$B$10,coeff!$B$8/coeff!$B$9*(G97*F97-1)/(G97-1),\"\"))","v":""},{"$f":"IF(OR(F97=\"\",H97=\"\"),\"\",IF((H97*(1-F97)-1)>=coeff!$B$10,coeff!$B$8/coeff!$B$9*(H97*(1-F97)-1)/(H97-1),\"\"))","v":""}]
[null,null,null,null,null,{"$f":"IF(E98=\"\",\"\",HLOOKUP(E98,$Q$3:AK100,ROW()-2))","v":""},null,null,{"$f":"IF(OR(F98=\"\",G98=\"\"),\"\",IF((G98*F98-1)>=coeff!$B$10,coeff!$B$8/coeff!$B$9*(G98*F98-1)/(G98-1),\"\"))","v":""},{"$f":"IF(OR(F98=\"\",H98=\"\"),\"\",IF((H98*(1-F98)-1)>=coeff!$B$10,coeff!$B$8/coeff!$B$9*(H98*(1-F98)-1)/(H98-1),\"\"))","v":""}]
[null,null,null,null,null,{"$f":"IF(E99=\"\",\"\",HLOOKUP(E99,$Q$3:AK101,ROW()-2))","v":""},null,null,{"$f":"IF(OR(F99=\"\",G99=\"\"),\"\",IF((G99*F99-1)>=coeff!$B$10,coeff!$B$8/coeff!$B$9*(G99*F99-1)/(G99-1),\"\"))","v":""},{"$f":"IF(OR(F99=\"\",H99=\"\"),\"\",IF((H99*(1-F99)-1)>=coeff!$B$10,coeff!$B$8/coeff!$B$9*(H99*(1-F99)-1)/(H99-1),\"\"))","v":""}]
[null,null,null,null,null,{"$f":"IF(E100=\"\",\"\",HLOOKUP(E100,$Q$3:AK102,ROW()-2))","v":""},null,null,{"$f":"IF(OR(F100=\"\",G100=\"\"),\"\",IF((G100*F100-1)>=coeff!$B$10,coeff!$B$8/coeff!$B$9*(G100*F100-1)/(G100-1),\"\"))","v":""},{"$f":"IF(OR(F100=\"\",H100=\"\"),\"\",IF((H100*(1-F100)-1)>=coeff!$B$10,coeff!$B$8/coeff!$B$9*(H100*(1-F100)-1)/(H100-1),\"\"))","v":""}]
[null,null,null,null,null,{"$f":"IF(E101=\"\",\"\",HLOOKUP(E101,$Q$3:AK103,ROW()-2))","v":""},null,null,{"$f":"IF(OR(F101=\"\",G101=\"\"),\"\",IF((G101*F101-1)>=coeff!$B$10,coeff!$B$8/coeff!$B$9*(G101*F101-1)/(G101-1),\"\"))","v":""},{"$f":"IF(OR(F101=\"\",H101=\"\"),\"\",IF((H101*(1-F101)-1)>=coeff!$B$10,coeff!$B$8/coeff!$B$9*(H101*(1-F101)-1)/(H101-1),\"\"))","v":""}]
[null,null,null,null,null,{"$f":"IF(E102=\"\",\"\",HLOOKUP(E102,$Q$3:AK104,ROW()-2))","v":""},null,null,{"$f":"IF(OR(F102=\"\",G102=\"\"),\"\",IF((G102*F102-1)>=coeff!$B$10,coeff!$B$8/coeff!$B$9*(G102*F102-1)/(G102-1),\"\"))","v":""},{"$f":"IF(OR(F102=\"\",H102=\"\"),\"\",IF((H102*(1-F102)-1)>=coeff!$B$10,coeff!$B$8/coeff!$B$9*(H102*(1-F102)-1)/(H102-1),\"\"))","v":""}]
[null,null,null,null,null,{"$f":"IF(E103=\"\",\"\",HLOOKUP(E103,$Q$3:AK105,ROW()-2))","v":""},null,null,{"$f":"IF(OR(F103=\"\",G103=\"\"),\"\",IF((G103*F103-1)>=coeff!$B$10,coeff!$B$8/coeff!$B$9*(G103*F103-1)/(G103-1),\"\"))","v":""},{"$f":"IF(OR(F103=\"\",H103=\"\"),\"\",IF((H103*(1-F103)-1)>=coeff!$B$10,coeff!$B$8/coeff!$B$9*(H103*(1-F103)-1)/(H103-1),\"\"))","v":""}]
[null,null,null,null,null,{"$f":"IF(E104=\"\",\"\",HLOOKUP(E104,$Q$3:AK106,ROW()-2))","v":""},null,null,{"$f":"IF(OR(F104=\"\",G104=\"\"),\"\",IF((G104*F104-1)>=coeff!$B$10,coeff!$B$8/coeff!$B$9*(G104*F104-1)/(G104-1),\"\"))","v":""},{"$f":"IF(OR(F104=\"\",H104=\"\"),\"\",IF((H104*(1-F104)-1)>=coeff!$B$10,coeff!$B$8/coeff!$B$9*(H104*(1-F104)-1)/(H104-1),\"\"))","v":""}]
[null,null,null,null,null,{"$f":"IF(E105=\"\",\"\",HLOOKUP(E105,$Q$3:AK107,ROW()-2))","v":""},null,null,{"$f":"IF(OR(F105=\"\",G105=\"\"),\"\",IF((G105*F105-1)>=coeff!$B$10,coeff!$B$8/coeff!$B$9*(G105*F105-1)/(G105-1),\"\"))","v":""},{"$f":"IF(OR(F105=\"\",H105=\"\"),\"\",IF((H105*(1-F105)-1)>=coeff!$B$10,coeff!$B$8/coeff!$B$9*(H105*(1-F105)-1)/(H105-1),\"\"))","v":""}]
[null,null,null,null,null,{"$f":"IF(E106=\"\",\"\",HLOOKUP(E106,$Q$3:AK108,ROW()-2))","v":""},null,null,{"$f":"IF(OR(F106=\"\",G106=\"\"),\"\",IF((G106*F106-1)>=coeff!$B$10,coeff!$B$8/coeff!$B$9*(G106*F106-1)/(G106-1),\"\"))","v":""},{"$f":"IF(OR(F106=\"\",H106=\"\"),\"\",IF((H106*(1-F106)-1)>=coeff!$B$10,coeff!$B$8/coeff!$B$9*(H106*(1-F106)-1)/(H106-1),\"\"))","v":""}]
[null,null,null,null,null,{"$f":"IF(E107=\"\",\"\",HLOOKUP(E107,$Q$3:AK109,ROW()-2))","v":""},null,null,{"$f":"IF(OR(F107=\"\",G107=\"\"),\"\",IF((G107*F107-1)>=coeff!$B$10,coeff!$B$8/coeff!$B$9*(G107*F107-1)/(G107-1),\"\"))","v":""},{"$f":"IF(OR(F107=\"\",H107=\"\"),\"\",IF((H107*(1-F107)-1)>=coeff!$B$10,coeff!$B$8/coeff!$B$9*(H107*(1-F107)-1)/(H107-1),\"\"))","v":""}]
[null,null,null,null,null,{"$f":"IF(E108=\"\",\"\",HLOOKUP(E108,$Q$3:AK110,ROW()-2))","v":""},null,null,{"$f":"IF(OR(F108=\"\",G108=\"\"),\"\",IF((G108*F108-1)>=coeff!$B$10,coeff!$B$8/coeff!$B$9*(G108*F108-1)/(G108-1),\"\"))","v":""},{"$f":"IF(OR(F108=\"\",H108=\"\"),\"\",IF((H108*(1-F108)-1)>=coeff!$B$10,coeff!$B$8/coeff!$B$9*(H108*(1-F108)-1)/(H108-1),\"\"))","v":""}]
[null,null,null,null,null,{"$f":"IF(E109=\"\",\"\",HLOOKUP(E109,$Q$3:AK111,ROW()-2))","v":""},null,null,{"$f":"IF(OR(F109=\"\",G109=\"\"),\"\",IF((G109*F109-1)>=coeff!$B$10,coeff!$B$8/coeff!$B$9*(G109*F109-1)/(G109-1),\"\"))","v":""},{"$f":"IF(OR(F109=\"\",H109=\"\"),\"\",IF((H109*(1-F109)-1)>=coeff!$B$10,coeff!$B$8/coeff!$B$9*(H109*(1-F109)-1)/(H109-1),\"\"))","v":""}]
[null,null,null,null,null,{"$f":"IF(E110=\"\",\"\",HLOOKUP(E110,$Q$3:AK112,ROW()-2))","v":""},null,null,{"$f":"IF(OR(F110=\"\",G110=\"\"),\"\",IF((G110*F110-1)>=coeff!$B$10,coeff!$B$8/coeff!$B$9*(G110*F110-1)/(G110-1),\"\"))","v":""},{"$f":"IF(OR(F110=\"\",H110=\"\"),\"\",IF((H110*(1-F110)-1)>=coeff!$B$10,coeff!$B$8/coeff!$B$9*(H110*(1-F110)-1)/(H110-1),\"\"))","v":""}]
[null,null,null,null,null,{"$f":"IF(E111=\"\",\"\",HLOOKUP(E111,$Q$3:AK113,ROW()-2))","v":""},null,null,{"$f":"IF(OR(F111=\"\",G111=\"\"),\"\",IF((G111*F111-1)>=coeff!$B$10,coeff!$B$8/coeff!$B$9*(G111*F111-1)/(G111-1),\"\"))","v":""},{"$f":"IF(OR(F111=\"\",H111=\"\"),\"\",IF((H111*(1-F111)-1)>=coeff!$B$10,coeff!$B$8/coeff!$B$9*(H111*(1-F111)-1)/(H111-1),\"\"))","v":""}]
[null,null,null,null,null,{"$f":"IF(E112=\"\",\"\",HLOOKUP(E112,$Q$3:AK114,ROW()-2))","v":""},null,null,{"$f":"IF(OR(F112=\"\",G112=\"\"),\"\",IF((G112*F112-1)>=coeff!$B$10,coeff!$B$8/coeff!$B$9*(G112*F112-1)/(G112-1),\"\"))","v":""},{"$f":"IF(OR(F112=\"\",H112=\"\"),\"\",IF((H112*(1-F112)-1)>=coeff!$B$10,coeff!$B$8/coeff!$B$9*(H112*(1-F112)-1)/(H112-1),\"\"))","v":""}]
[null,null,null,null,null,{"$f":"IF(E113=\"\",\"\",HLOOKUP(E113,$Q$3:AK115,ROW()-2))","v":""},null,null,{"$f":"IF(OR(F113=\"\",G113=\"\"),\"\",IF((G113*F113-1)>=coeff!$B$10,coeff!$B$8/coeff!$B$9*(G113*F113-1)/(G113-1),\"\"))","v":""},{"$f":"IF(OR(F113=\"\",H113=\"\"),\"\",IF((H113*(1-F113)-1)>=coeff!$B$10,coeff!$B$8/coeff!$B$9*(H113*(1-F113)-1)/(H113-1),\"\"))","v":""}]
[null,null,null,null,null,{"$f":"IF(E114=\"\",\"\",HLOOKUP(E114,$Q$3:AK116,ROW()-2))","v":""},null,null,{"$f":"IF(OR(F114=\"\",G114=\"\"),\"\",IF((G114*F114-1)>=coeff!$B$10,coeff!$B$8/coeff!$B$9*(G114*F114-1)/(G114-1),\"\"))","v":""},{"$f":"IF(OR(F114=\"\",H114=\"\"),\"\",IF((H114*(1-F114)-1)>=coeff!$B$10,coeff!$B$8/coeff!$B$9*(H114*(1-F114)-1)/(H114-1),\"\"))","v":""}]
[null,null,null,null,null,{"$f":"IF(E115=\"\",\"\",HLOOKUP(E115,$Q$3:AK117,ROW()-2))","v":""},null,null,{"$f":"IF(OR(F115=\"\",G115=\"\"),\"\",IF((G115*F115-1)>=coeff!$B$10,coeff!$B$8/coeff!$B$9*(G115*F115-1)/(G115-1),\"\"))","v":""},{"$f":"IF(OR(F115=\"\",H115=\"\"),\"\",IF((H115*(1-F115)-1)>=coeff!$B$10,coeff!$B$8/coeff!$B$9*(H115*(1-F115)-1)/(H115-1),\"\"))","v":""}]
[null,null,null,null,null,{"$f":"IF(E116=\"\",\"\",HLOOKUP(E116,$Q$3:AK118,ROW()-2))","v":""},null,null,{"$f":"IF(OR(F116=\"\",G116=\"\"),\"\",IF((G116*F116-1)>=coeff!$B$10,coeff!$B$8/coeff!$B$9*(G116*F116-1)/(G116-1),\"\"))","v":""},{"$f":"IF(OR(F116=\"\",H116=\"\"),\"\",IF((H116*(1-F116)-1)>=coeff!$B$10,coeff!$B$8/coeff!$B$9*(H116*(1-F116)-1)/(H116-1),\"\"))","v":""}]
[null,null,null,null,null,{"$f":"IF(E117=\"\",\"\",HLOOKUP(E117,$Q$3:AK119,ROW()-2))","v":""},null,null,{"$f":"IF(OR(F117=\"\",G117=\"\"),\"\",IF((G117*F117-1)>=coeff!$B$10,coeff!$B$8/coeff!$B$9*(G117*F117-1)/(G117-1),\"\"))","v":""},{"$f":"IF(OR(F117=\"\",H117=\"\"),\"\",IF((H117*(1-F117)-1)>=coeff!$B$10,coeff!$B$8/coeff!$B$9*(H117*(1-F117)-1)/(H117-1),\"\"))","v":""}]
[null,null,null,null,null,{"$f":"IF(E118=\"\",\"\",HLOOKUP(E118,$Q$3:AK120,ROW()-2))","v":""},null,null,{"$f":"IF(OR(F118=\"\",G118=\"\"),\"\",IF((G118*F118-1)>=coeff!$B$10,coeff!$B$8/coeff!$B$9*(G118*F118-1)/(G118-1),\"\"))","v":""},{"$f":"IF(OR(F118=\"\",H118=\"\"),\"\",IF((H118*(1-F118)-1)>=coeff!$B$10,coeff!$B$8/coeff!$B$9*(H118*(1-F118)-1)/(H118-1),\"\"))","v":""}]
[null,null,null,null,null,{"$f":"IF(E119=\"\",\"\",HLOOKUP(E119,$Q$3:AK121,ROW()-2))","v":""},null,null,{"$f":"IF(OR(F119=\"\",G119=\"\"),\"\",IF((G119*F119-1)>=coeff!$B$10,coeff!$B$8/coeff!$B$9*(G119*F119-1)/(G119-1),\"\"))","v":""},{"$f":"IF(OR(F119=\"\",H119=\"\"),\"\",IF((H119*(1-F119)-1)>=coeff!$B$10,coeff!$B$8/coeff!$B$9*(H119*(1-F119)-1)/(H119-1),\"\"))","v":""}]
[null,null,null,null,null,{"$f":"IF(E120=\"\",\"\",HLOOKUP(E120,$Q$3:AK122,ROW()-2))","v":""},null,null,{"$f":"IF(OR(F120=\"\",G120=\"\"),\"\",IF((G120*F120-1)>=coeff!$B$10,coeff!$B$8/coeff!$B$9*(G120*F120-1)/(G120-1),\"\"))","v":""},{"$f":"IF(OR(F120=\"\",H120=\"\"),\"\",IF((H120*(1-F120)-1)>=coeff!$B$10,coeff!$B$8/coeff!$B$9*(H120*(1-F120)-1)/(H120-1),\"\"))","v":""}]
[null,null,null,null,null,{"$f":"IF(E121=\"\",\"\",HLOOKUP(E121,$Q$3:AK123,ROW()-2))","v":""},null,null,{"$f":"IF(OR(F121=\"\",G121=\"\"),\"\",IF((G121*F121-1)>=coeff!$B$10,coeff!$B$8/coeff!$B$9*(G121*F121-1)/(G121-1),\"\"))","v":""},{"$f":"IF(OR(F121=\"\",H121=\"\"),\"\",IF((H121*(1-F121)-1)>=coeff!$B$10,coeff!$B$8/coeff!$B$9*(H121*(1-F121)-1)/(H121-1),\"\"))","v":""}]
[null,null,null,null,null,{"$f":"IF(E122=\"\",\"\",HLOOKUP(E122,$Q$3:AK124,ROW()-2))","v":""},null,null,{"$f":"IF(OR(F122=\"\",G122=\"\"),\"\",IF((G122*F122-1)>=coeff!$B$10,coeff!$B$8/coeff!$B$9*(G122*F122-1)/(G122-1),\"\"))","v":""},{"$f":"IF(OR(F122=\"\",H122=\"\"),\"\",IF((H122*(1-F122)-1)>=coeff!$B$10,coeff!$B$8/coeff!$B$9*(H122*(1-F122)-1)/(H122-1),\"\"))","v":""}]
[null,null,null,null,null,{"$f":"IF(E123=\"\",\"\",HLOOKUP(E123,$Q$3:AK125,ROW()-2))","v":""},null,null,{"$f":"IF(OR(F123=\"\",G123=\"\"),\"\",IF((G123*F123-1)>=coeff!$B$10,coeff!$B$8/coeff!$B$9*(G123*F123-1)/(G123-1),\"\"))","v":""},{"$f":"IF(OR(F123=\"\",H123=\"\"),\"\",IF((H123*(1-F123)-1)>=coeff!$B$10,coeff!$B$8/coeff!$B$9*(H123*(1-F123)-1)/(H123-1),\"\"))","v":""}]
[null,null,null,null,null,{"$f":"IF(E124=\"\",\"\",HLOOKUP(E124,$Q$3:AK126,ROW()-2))","v":""},null,null,{"$f":"IF(OR(F124=\"\",G124=\"\"),\"\",IF((G124*F124-1)>=coeff!$B$10,coeff!$B$8/coeff!$B$9*(G124*F124-1)/(G124-1),\"\"))","v":""},{"$f":"IF(OR(F124=\"\",H124=\"\"),\"\",IF((H124*(1-F124)-1)>=coeff!$B$10,coeff!$B$8/coeff!$B$9*(H124*(1-F124)-1)/(H124-1),\"\"))","v":""}]
[null,null,null,null,null,{"$f":"IF(E125=\"\",\"\",HLOOKUP(E125,$Q$3:AK127,ROW()-2))","v":""},null,null,{"$f":"IF(OR(F125=\"\",G125=\"\"),\"\",IF((G125*F125-1)>=coeff!$B$10,coeff!$B$8/coeff!$B$9*(G125*F125-1)/(G125-1),\"\"))","v":""},{"$f":"IF(OR(F125=\"\",H125=\"\"),\"\",IF((H125*(1-F125)-1)>=coeff!$B$10,coeff!$B$8/coeff!$B$9*(H125*(1-F125)-1)/(H125-1),\"\"))","v":""}]
[null,null,null,null,null,{"$f":"IF(E126=\"\",\"\",HLOOKUP(E126,$Q$3:AK128,ROW()-2))","v":""},null,null,{"$f":"IF(OR(F126=\"\",G126=\"\"),\"\",IF((G126*F126-1)>=coeff!$B$10,coeff!$B$8/coeff!$B$9*(G126*F126-1)/(G126-1),\"\"))","v":""},{"$f":"IF(OR(F126=\"\",H126=\"\"),\"\",IF((H126*(1-F126)-1)>=coeff!$B$10,coeff!$B$8/coeff!$B$9*(H126*(1-F126)-1)/(H126-1),\"\"))","v":""}]
[null,null,null,null,null,{"$f":"IF(E127=\"\",\"\",HLOOKUP(E127,$Q$3:AK129,ROW()-2))","v":""},null,null,{"$f":"IF(OR(F127=\"\",G127=\"\"),\"\",IF((G127*F127-1)>=coeff!$B$10,coeff!$B$8/coeff!$B$9*(G127*F127-1)/(G127-1),\"\"))","v":""},{"$f":"IF(OR(F127=\"\",H127=\"\"),\"\",IF((H127*(1-F127)-1)>=coeff!$B$10,coeff!$B$8/coeff!$B$9*(H127*(1-F127)-1)/(H127-1),\"\"))","v":""}]
[null,null,null,null,null,{"$f":"IF(E128=\"\",\"\",HLOOKUP(E128,$Q$3:AK130,ROW()-2))","v":""},null,null,{"$f":"IF(OR(F128=\"\",G128=\"\"),\"\",IF((G128*F128-1)>=coeff!$B$10,coeff!$B$8/coeff!$B$9*(G128*F128-1)/(G128-1),\"\"))","v":""},{"$f":"IF(OR(F128=\"\",H128=\"\"),\"\",IF((H128*(1-F128)-1)>=coeff!$B$10,coeff!$B$8/coeff!$B$9*(H128*(1-F128)-1)/(H128-1),\"\"))","v":""}]
[null,null,null,null,null,{"$f":"IF(E129=\"\",\"\",HLOOKUP(E129,$Q$3:AK131,ROW()-2))","v":""},null,null,{"$f":"IF(OR(F129=\"\",G129=\"\"),\"\",IF((G129*F129-1)>=coeff!$B$10,coeff!$B$8/coeff!$B$9*(G129*F129-1)/(G129-1),\"\"))","v":""},{"$f":"IF(OR(F129=\"\",H129=\"\"),\"\",IF((H129*(1-F129)-1)>=coeff!$B$10,coeff!$B$8/coeff!$B$9*(H129*(1-F129)-1)/(H129-1),\"\"))","v":""}]
[null,null,null,null,null,{"$f":"IF(E130=\"\",\"\",HLOOKUP(E130,$Q$3:AK132,ROW()-2))","v":""},null,null,{"$f":"IF(OR(F130=\"\",G130=\"\"),\"\",IF((G130*F130-1)>=coeff!$B$10,coeff!$B$8/coeff!$B$9*(G130*F130-1)/(G130-1),\"\"))","v":""},{"$f":"IF(OR(F130=\"\",H130=\"\"),\"\",IF((H130*(1-F130)-1)>=coeff!$B$10,coeff!$B$8/coeff!$B$9*(H130*(1-F130)-1)/(H130-1),\"\"))","v":""}]
[null,null,null,null,null,{"$f":"IF(E131=\"\",\"\",HLOOKUP(E131,$Q$3:AK133,ROW()-2))","v":""},null,null,{"$f":"IF(OR(F131=\"\",G131=\"\"),\"\",IF((G131*F131-1)>=coeff!$B$10,coeff!$B$8/coeff!$B$9*(G131*F131-1)/(G131-1),\"\"))","v":""},{"$f":"IF(OR(F131=\"\",H131=\"\"),\"\",IF((H131*(1-F131)-1)>=coeff!$B$10,coeff!$B$8/coeff!$B$9*(H131*(1-F131)-1)/(H131-1),\"\"))","v":""}]
[null,null,null,null,null,{"$f":"IF(E132=\"\",\"\",HLOOKUP(E132,$Q$3:AK134,ROW()-2))","v":""},null,null,{"$f":"IF(OR(F132=\"\",G132=\"\"),\"\",IF((G132*F132-1)>=coeff!$B$10,coeff!$B$8/coeff!$B$9*(G132*F132-1)/(G132-1),\"\"))","v":""},{"$f":"IF(OR(F132=\"\",H132=\"\"),\"\",IF((H132*(1-F132)-1)>=coeff!$B$10,coeff!$B$8/coeff!$B$9*(H132*(1-F132)-1)/(H132-1),\"\"))","v":""}]
[null,null,null,null,null,{"$f":"IF(E133=\"\",\"\",HLOOKUP(E133,$Q$3:AK135,ROW()-2))","v":""},null,null,{"$f":"IF(OR(F133=\"\",G133=\"\"),\"\",IF((G133*F133-1)>=coeff!$B$10,coeff!$B$8/coeff!$B$9*(G133*F133-1)/(G133-1),\"\"))","v":""},{"$f":"IF(OR(F133=\"\",H133=\"\"),\"\",IF((H133*(1-F133)-1)>=coeff!$B$10,coeff!$B$8/coeff!$B$9*(H133*(1-F133)-1)/(H133-1),\"\"))","v":""}]
[null,null,null,null,null,{"$f":"IF(E134=\"\",\"\",HLOOKUP(E134,$Q$3:AK136,ROW()-2))","v":""},null,null,{"$f":"IF(OR(F134=\"\",G134=\"\"),\"\",IF((G134*F134-1)>=coeff!$B$10,coeff!$B$8/coeff!$B$9*(G134*F134-1)/(G134-1),\"\"))","v":""},{"$f":"IF(OR(F134=\"\",H134=\"\"),\"\",IF((H134*(1-F134)-1)>=coeff!$B$10,coeff!$B$8/coeff!$B$9*(H134*(1-F134)-1)/(H134-1),\"\"))","v":""}]
[null,null,null,null,null,{"$f":"IF(E135=\"\",\"\",HLOOKUP(E135,$Q$3:AK137,ROW()-2))","v":""},null,null,{"$f":"IF(OR(F135=\"\",G135=\"\"),\"\",IF((G135*F135-1)>=coeff!$B$10,coeff!$B$8/coeff!$B$9*(G135*F135-1)/(G135-1),\"\"))","v":""},{"$f":"IF(OR(F135=\"\",H135=\"\"),\"\",IF((H135*(1-F135)-1)>=coeff!$B$10,coeff!$B$8/coeff!$B$9*(H135*(1-F135)-1)/(H135-1),\"\"))","v":""}]
[null,null,null,null,null,{"$f":"IF(E136=\"\",\"\",HLOOKUP(E136,$Q$3:AK138,ROW()-2))","v":""},null,null,{"$f":"IF(OR(F136=\"\",G136=\"\"),\"\",IF((G136*F136-1)>=coeff!$B$10,coeff!$B$8/coeff!$B$9*(G136*F136-1)/(G136-1),\"\"))","v":""},{"$f":"IF(OR(F136=\"\",H136=\"\"),\"\",IF((H136*(1-F136)-1)>=coeff!$B$10,coeff!$B$8/coeff!$B$9*(H136*(1-F136)-1)/(H136-1),\"\"))","v":""}]
[null,null,null,null,null,{"$f":"IF(E137=\"\",\"\",HLOOKUP(E137,$Q$3:AK139,ROW()-2))","v":""},null,null,{"$f":"IF(OR(F137=\"\",G137=\"\"),\"\",IF((G137*F137-1)>=coeff!$B$10,coeff!$B$8/coeff!$B$9*(G137*F137-1)/(G137-1),\"\"))","v":""},{"$f":"IF(OR(F137=\"\",H137=\"\"),\"\",IF((H137*(1-F137)-1)>=coeff!$B$10,coeff!$B$8/coeff!$B$9*(H137*(1-F137)-1)/(H137-1),\"\"))","v":""}]
[null,null,null,null,null,{"$f":"IF(E138=\"\",\"\",HLOOKUP(E138,$Q$3:AK140,ROW()-2))","v":""},null,null,{"$f":"IF(OR(F138=\"\",G138=\"\"),\"\",IF((G138*F138-1)>=coeff!$B$10,coeff!$B$8/coeff!$B$9*(G138*F138-1)/(G138-1),\"\"))","v":""},{"$f":"IF(OR(F138=\"\",H138=\"\"),\"\",IF((H138*(1-F138)-1)>=coeff!$B$10,coeff!$B$8/coeff!$B$9*(H138*(1-F138)-1)/(H138-1),\"\"))","v":""}]
[null,null,null,null,null,{"$f":"IF(E139=\"\",\"\",HLOOKUP(E139,$Q$3:AK141,ROW()-2))","v":""},null,null,{"$f":"IF(OR(F139=\"\",G139=\"\"),\"\",IF((G139*F139-1)>=coeff!$B$10,coeff!$B$8/coeff!$B$9*(G139*F139-1)/(G139-1),\"\"))","v":""},{"$f":"IF(OR(F139=\"\",H139=\"\"),\"\",IF((H139*(1-F139)-1)>=coeff!$B$10,coeff!$B$8/coeff!$B$9*(H139*(1-F139)-1)/(H139-1),\"\"))","v":""}]
[null,null,null,null,null,{"$f":"IF(E140=\"\",\"\",HLOOKUP(E140,$Q$3:AK142,ROW()-2))","v":""},null,null,{"$f":"IF(OR(F140=\"\",G140=\"\"),\"\",IF((G140*F140-1)>=coeff!$B$10,coeff!$B$8/coeff!$B$9*(G140*F140-1)/(G140-1),\"\"))","v":""},{"$f":"IF(OR(F140=\"\",H140=\"\"),\"\",IF((H140*(1-F140)-1)>=coeff!$B$10,coeff!$B$8/coeff!$B$9*(H140*(1-F140)-1)/(H140-1),\"\"))","v":""}]
[null,null,null,null,null,{"$f":"IF(E141=\"\",\"\",HLOOKUP(E141,$Q$3:AK143,ROW()-2))","v":""},null,null,{"$f":"IF(OR(F141=\"\",G141=\"\"),\"\",IF((G141*F141-1)>=coeff!$B$10,coeff!$B$8/coeff!$B$9*(G141*F141-1)/(G141-1),\"\"))","v":""},{"$f":"IF(OR(F141=\"\",H141=\"\"),\"\",IF((H141*(1-F141)-1)>=coeff!$B$10,coeff!$B$8/coeff!$B$9*(H141*(1-F141)-1)/(H141-1),\"\"))","v":""}]
[null,null,null,null,null,{"$f":"IF(E142=\"\",\"\",HLOOKUP(E142,$Q$3:AK144,ROW()-2))","v":""},null,null,{"$f":"IF(OR(F142=\"\",G142=\"\"),\"\",IF((G142*F142-1)>=coeff!$B$10,coeff!$B$8/coeff!$B$9*(G142*F142-1)/(G142-1),\"\"))","v":""},{"$f":"IF(OR(F142=\"\",H142=\"\"),\"\",IF((H142*(1-F142)-1)>=coeff!$B$10,coeff!$B$8/coeff!$B$9*(H142*(1-F142)-1)/(H142-1),\"\"))","v":""}]
[null,null,null,null,null,{"$f":"IF(E143=\"\",\"\",HLOOKUP(E143,$Q$3:AK145,ROW()-2))","v":""},null,null,{"$f":"IF(OR(F143=\"\",G143=\"\"),\"\",IF((G143*F143-1)>=coeff!$B$10,coeff!$B$8/coeff!$B$9*(G143*F143-1)/(G143-1),\"\"))","v":""},{"$f":"IF(OR(F143=\"\",H143=\"\"),\"\",IF((H143*(1-F143)-1)>=coeff!$B$10,coeff!$B$8/coeff!$B$9*(H143*(1-F143)-1)/(H143-1),\"\"))","v":""}]
[null,null,null,null,null,{"$f":"IF(E144=\"\",\"\",HLOOKUP(E144,$Q$3:AK146,ROW()-2))","v":""},null,null,{"$f":"IF(OR(F144=\"\",G144=\"\"),\"\",IF((G144*F144-1)>=coeff!$B$10,coeff!$B$8/coeff!$B$9*(G144*F144-1)/(G144-1),\"\"))","v":""},{"$f":"IF(OR(F144=\"\",H144=\"\"),\"\",IF((H144*(1-F144)-1)>=coeff!$B$10,coeff!$B$8/coeff!$B$9*(H144*(1-F144)-1)/(H144-1),\"\"))","v":""}]
[null,null,null,null,null,{"$f":"IF(E145=\"\",\"\",HLOOKUP(E145,$Q$3:AK147,ROW()-2))","v":""},null,null,{"$f":"IF(OR(F145=\"\",G145=\"\"),\"\",IF((G145*F145-1)>=coeff!$B$10,coeff!$B$8/coeff!$B$9*(G145*F145-1)/(G145-1),\"\"))","v":""},{"$f":"IF(OR(F145=\"\",H145=\"\"),\"\",IF((H145*(1-F145)-1)>=coeff!$B$10,coeff!$B$8/coeff!$B$9*(H145*(1-F145)-1)/(H145-1),\"\"))","v":""}]
[null,null,null,null,null,{"$f":"IF(E146=\"\",\"\",HLOOKUP(E146,$Q$3:AK148,ROW()-2))","v":""},null,null,{"$f":"IF(OR(F146=\"\",G146=\"\"),\"\",IF((G146*F146-1)>=coeff!$B$10,coeff!$B$8/coeff!$B$9*(G146*F146-1)/(G146-1),\"\"))","v":""},{"$f":"IF(OR(F146=\"\",H146=\"\"),\"\",IF((H146*(1-F146)-1)>=coeff!$B$10,coeff!$B$8/coeff!$B$9*(H146*(1-F146)-1)/(H146-1),\"\"))","v":""}]
[null,null,null,null,null,{"$f":"IF(E147=\"\",\"\",HLOOKUP(E147,$Q$3:AK149,ROW()-2))","v":""},null,null,{"$f":"IF(OR(F147=\"\",G147=\"\"),\"\",IF((G147*F147-1)>=coeff!$B$10,coeff!$B$8/coeff!$B$9*(G147*F147-1)/(G147-1),\"\"))","v":""},{"$f":"IF(OR(F147=\"\",H147=\"\"),\"\",IF((H147*(1-F147)-1)>=coeff!$B$10,coeff!$B$8/coeff!$B$9*(H147*(1-F147)-1)/(H147-1),\"\"))","v":""}]
[null,null,null,null,null,{"$f":"IF(E148=\"\",\"\",HLOOKUP(E148,$Q$3:AK150,ROW()-2))","v":""},null,null,{"$f":"IF(OR(F148=\"\",G148=\"\"),\"\",IF((G148*F148-1)>=coeff!$B$10,coeff!$B$8/coeff!$B$9*(G148*F148-1)/(G148-1),\"\"))","v":""},{"$f":"IF(OR(F148=\"\",H148=\"\"),\"\",IF((H148*(1-F148)-1)>=coeff!$B$10,coeff!$B$8/coeff!$B$9*(H148*(1-F148)-1)/(H148-1),\"\"))","v":""}]
[null,null,null,null,null,{"$f":"IF(E149=\"\",\"\",HLOOKUP(E149,$Q$3:AK151,ROW()-2))","v":""},null,null,{"$f":"IF(OR(F149=\"\",G149=\"\"),\"\",IF((G149*F149-1)>=coeff!$B$10,coeff!$B$8/coeff!$B$9*(G149*F149-1)/(G149-1),\"\"))","v":""},{"$f":"IF(OR(F149=\"\",H149=\"\"),\"\",IF((H149*(1-F149)-1)>=coeff!$B$10,coeff!$B$8/coeff!$B$9*(H149*(1-F149)-1)/(H149-1),\"\"))","v":""}]
[null,null,null,null,null,{"$f":"IF(E150=\"\",\"\",HLOOKUP(E150,$Q$3:AK152,ROW()-2))","v":""},null,null,{"$f":"IF(OR(F150=\"\",G150=\"\"),\"\",IF((G150*F150-1)>=coeff!$B$10,coeff!$B$8/coeff!$B$9*(G150*F150-1)/(G150-1),\"\"))","v":""},{"$f":"IF(OR(F150=\"\",H150=\"\"),\"\",IF((H150*(1-F150)-1)>=coeff!$B$10,coeff!$B$8/coeff!$B$9*(H150*(1-F150)-1)/(H150-1),\"\"))","v":""}]
[null,null,null,null,null,{"$f":"IF(E151=\"\",\"\",HLOOKUP(E151,$Q$3:AK153,ROW()-2))","v":""},null,null,{"$f":"IF(OR(F151=\"\",G151=\"\"),\"\",IF((G151*F151-1)>=coeff!$B$10,coeff!$B$8/coeff!$B$9*(G151*F151-1)/(G151-1),\"\"))","v":""},{"$f":"IF(OR(F151=\"\",H151=\"\"),\"\",IF((H151*(1-F151)-1)>=coeff!$B$10,coeff!$B$8/coeff!$B$9*(H151*(1-F151)-1)/(H151-1),\"\"))","v":""}]
[null,null,null,null,null,{"$f":"IF(E152=\"\",\"\",HLOOKUP(E152,$Q$3:AK154,ROW()-2))","v":""},null,null,{"$f":"IF(OR(F152=\"\",G152=\"\"),\"\",IF((G152*F152-1)>=coeff!$B$10,coeff!$B$8/coeff!$B$9*(G152*F152-1)/(G152-1),\"\"))","v":""},{"$f":"IF(OR(F152=\"\",H152=\"\"),\"\",IF((H152*(1-F152)-1)>=coeff!$B$10,coeff!$B$8/coeff!$B$9*(H152*(1-F152)-1)/(H152-1),\"\"))","v":""}]
[null,null,null,null,null,{"$f":"IF(E153=\"\",\"\",HLOOKUP(E153,$Q$3:AK155,ROW()-2))","v":""},null,null,{"$f":"IF(OR(F153=\"\",G153=\"\"),\"\",IF((G153*F153-1)>=coeff!$B$10,coeff!$B$8/coeff!$B$9*(G153*F153-1)/(G153-1),\"\"))","v":""},{"$f":"IF(OR(F153=\"\",H153=\"\"),\"\",IF((H153*(1-F153)-1)>=coeff!$B$10,coeff!$B$8/coeff!$B$9*(H153*(1-F153)-1)/(H153-1),\"\"))","v":""}]
[null,null,null,null,null,{"$f":"IF(E154=\"\",\"\",HLOOKUP(E154,$Q$3:AK156,ROW()-2))","v":""},null,null,{"$f":"IF(OR(F154=\"\",G154=\"\"),\"\",IF((G154*F154-1)>=coeff!$B$10,coeff!$B$8/coeff!$B$9*(G154*F154-1)/(G154-1),\"\"))","v":""},{"$f":"IF(OR(F154=\"\",H154=\"\"),\"\",IF((H154*(1-F154)-1)>=coeff!$B$10,coeff!$B$8/coeff!$B$9*(H154*(1-F154)-1)/(H154-1),\"\"))","v":""}]
[null,null,null,null,null,{"$f":"IF(E155=\"\",\"\",HLOOKUP(E155,$Q$3:AK157,ROW()-2))","v":""},null,null,{"$f":"IF(OR(F155=\"\",G155=\"\"),\"\",IF((G155*F155-1)>=coeff!$B$10,coeff!$B$8/coeff!$B$9*(G155*F155-1)/(G155-1),\"\"))","v":""},{"$f":"IF(OR(F155=\"\",H155=\"\"),\"\",IF((H155*(1-F155)-1)>=coeff!$B$10,coeff!$B$8/coeff!$B$9*(H155*(1-F155)-1)/(H155-1),\"\"))","v":""}]
[null,null,null,null,null,{"$f":"IF(E156=\"\",\"\",HLOOKUP(E156,$Q$3:AK158,ROW()-2))","v":""},null,null,{"$f":"IF(OR(F156=\"\",G156=\"\"),\"\",IF((G156*F156-1)>=coeff!$B$10,coeff!$B$8/coeff!$B$9*(G156*F156-1)/(G156-1),\"\"))","v":""},{"$f":"IF(OR(F156=\"\",H156=\"\"),\"\",IF((H156*(1-F156)-1)>=coeff!$B$10,coeff!$B$8/coeff!$B$9*(H156*(1-F156)-1)/(H156-1),\"\"))","v":""}]
[null,null,null,null,null,{"$f":"IF(E157=\"\",\"\",HLOOKUP(E157,$Q$3:AK159,ROW()-2))","v":""},null,null,{"$f":"IF(OR(F157=\"\",G157=\"\"),\"\",IF((G157*F157-1)>=coeff!$B$10,coeff!$B$8/coeff!$B$9*(G157*F157-1)/(G157-1),\"\"))","v":""},{"$f":"IF(OR(F157=\"\",H157=\"\"),\"\",IF((H157*(1-F157)-1)>=coeff!$B$10,coeff!$B$8/coeff!$B$9*(H157*(1-F157)-1)/(H157-1),\"\"))","v":""}]
[null,null,null,null,null,{"$f":"IF(E158=\"\",\"\",HLOOKUP(E158,$Q$3:AK160,ROW()-2))","v":""},null,null,{"$f":"IF(OR(F158=\"\",G158=\"\"),\"\",IF((G158*F158-1)>=coeff!$B$10,coeff!$B$8/coeff!$B$9*(G158*F158-1)/(G158-1),\"\"))","v":""},{"$f":"IF(OR(F158=\"\",H158=\"\"),\"\",IF((H158*(1-F158)-1)>=coeff!$B$10,coeff!$B$8/coeff!$B$9*(H158*(1-F158)-1)/(H158-1),\"\"))","v":""}]
[null,null,null,null,null,{"$f":"IF(E159=\"\",\"\",HLOOKUP(E159,$Q$3:AK161,ROW()-2))","v":""},null,null,{"$f":"IF(OR(F159=\"\",G159=\"\"),\"\",IF((G159*F159-1)>=coeff!$B$10,coeff!$B$8/coeff!$B$9*(G159*F159-1)/(G159-1),\"\"))","v":""},{"$f":"IF(OR(F159=\"\",H159=\"\"),\"\",IF((H159*(1-F159)-1)>=coeff!$B$10,coeff!$B$8/coeff!$B$9*(H159*(1-F159)-1)/(H159-1),\"\"))","v":""}]
[null,null,null,null,null,{"$f":"IF(E160=\"\",\"\",HLOOKUP(E160,$Q$3:AK162,ROW()-2))","v":""},null,null,{"$f":"IF(OR(F160=\"\",G160=\"\"),\"\",IF((G160*F160-1)>=coeff!$B$10,coeff!$B$8/coeff!$B$9*(G160*F160-1)/(G160-1),\"\"))","v":""},{"$f":"IF(OR(F160=\"\",H160=\"\"),\"\",IF((H160*(1-F160)-1)>=coeff!$B$10,coeff!$B$8/coeff!$B$9*(H160*(1-F160)-1)/(H160-1),\"\"))","v":""}]
[null,null,null,null,null,{"$f":"IF(E161=\"\",\"\",HLOOKUP(E161,$Q$3:AK163,ROW()-2))","v":""},null,null,{"$f":"IF(OR(F161=\"\",G161=\"\"),\"\",IF((G161*F161-1)>=coeff!$B$10,coeff!$B$8/coeff!$B$9*(G161*F161-1)/(G161-1),\"\"))","v":""},{"$f":"IF(OR(F161=\"\",H161=\"\"),\"\",IF((H161*(1-F161)-1)>=coeff!$B$10,coeff!$B$8/coeff!$B$9*(H161*(1-F161)-1)/(H161-1),\"\"))","v":""}]
[null,null,null,null,null,{"$f":"IF(E162=\"\",\"\",HLOOKUP(E162,$Q$3:AK164,ROW()-2))","v":""},null,null,{"$f":"IF(OR(F162=\"\",G162=\"\"),\"\",IF((G162*F162-1)>=coeff!$B$10,coeff!$B$8/coeff!$B$9*(G162*F162-1)/(G162-1),\"\"))","v":""},{"$f":"IF(OR(F162=\"\",H162=\"\"),\"\",IF((H162*(1-F162)-1)>=coeff!$B$10,coeff!$B$8/coeff!$B$9*(H162*(1-F162)-1)/(H162-1),\"\"))","v":""}]
[null,null,null,null,null,{"$f":"IF(E163=\"\",\"\",HLOOKUP(E163,$Q$3:AK165,ROW()-2))","v":""},null,null,{"$f":"IF(OR(F163=\"\",G163=\"\"),\"\",IF((G163*F163-1)>=coeff!$B$10,coeff!$B$8/coeff!$B$9*(G163*F163-1)/(G163-1),\"\"))","v":""},{"$f":"IF(OR(F163=\"\",H163=\"\"),\"\",IF((H163*(1-F163)-1)>=coeff!$B$10,coeff!$B$8/coeff!$B$9*(H163*(1-F163)-1)/(H163-1),\"\"))","v":""}]
[null,null,null,null,null,{"$f":"IF(E164=\"\",\"\",HLOOKUP(E164,$Q$3:AK166,ROW()-2))","v":""},null,null,{"$f":"IF(OR(F164=\"\",G164=\"\"),\"\",IF((G164*F164-1)>=coeff!$B$10,coeff!$B$8/coeff!$B$9*(G164*F164-1)/(G164-1),\"\"))","v":""},{"$f":"IF(OR(F164=\"\",H164=\"\"),\"\",IF((H164*(1-F164)-1)>=coeff!$B$10,coeff!$B$8/coeff!$B$9*(H164*(1-F164)-1)/(H164-1),\"\"))","v":""}]
[null,null,null,null,null,{"$f":"IF(E165=\"\",\"\",HLOOKUP(E165,$Q$3:AK167,ROW()-2))","v":""},null,null,{"$f":"IF(OR(F165=\"\",G165=\"\"),\"\",IF((G165*F165-1)>=coeff!$B$10,coeff!$B$8/coeff!$B$9*(G165*F165-1)/(G165-1),\"\"))","v":""},{"$f":"IF(OR(F165=\"\",H165=\"\"),\"\",IF((H165*(1-F165)-1)>=coeff!$B$10,coeff!$B$8/coeff!$B$9*(H165*(1-F165)-1)/(H165-1),\"\"))","v":""}]
[null,null,null,null,null,{"$f":"IF(E166=\"\",\"\",HLOOKUP(E166,$Q$3:AK168,ROW()-2))","v":""},null,null,{"$f":"IF(OR(F166=\"\",G166=\"\"),\"\",IF((G166*F166-1)>=coeff!$B$10,coeff!$B$8/coeff!$B$9*(G166*F166-1)/(G166-1),\"\"))","v":""},{"$f":"IF(OR(F166=\"\",H166=\"\"),\"\",IF((H166*(1-F166)-1)>=coeff!$B$10,coeff!$B$8/coeff!$B$9*(H166*(1-F166)-1)/(H166-1),\"\"))","v":""}]
[null,null,null,null,null,{"$f":"IF(E167=\"\",\"\",HLOOKUP(E167,$Q$3:AK169,ROW()-2))","v":""},null,null,{"$f":"IF(OR(F167=\"\",G167=\"\"),\"\",IF((G167*F167-1)>=coeff!$B$10,coeff!$B$8/coeff!$B$9*(G167*F167-1)/(G167-1),\"\"))","v":""},{"$f":"IF(OR(F167=\"\",H167=\"\"),\"\",IF((H167*(1-F167)-1)>=coeff!$B$10,coeff!$B$8/coeff!$B$9*(H167*(1-F167)-1)/(H167-1),\"\"))","v":""}]
[null,null,null,null,null,{"$f":"IF(E168=\"\",\"\",HLOOKUP(E168,$Q$3:AK170,ROW()-2))","v":""},null,null,{"$f":"IF(OR(F168=\"\",G168=\"\"),\"\",IF((G168*F168-1)>=coeff!$B$10,coeff!$B$8/coeff!$B$9*(G168*F168-1)/(G168-1),\"\"))","v":""},{"$f":"IF(OR(F168=\"\",H168=\"\"),\"\",IF((H168*(1-F168)-1)>=coeff!$B$10,coeff!$B$8/coeff!$B$9*(H168*(1-F168)-1)/(H168-1),\"\"))","v":""}]
[null,null,null,null,null,{"$f":"IF(E169=\"\",\"\",HLOOKUP(E169,$Q$3:AK171,ROW()-2))","v":""},null,null,{"$f":"IF(OR(F169=\"\",G169=\"\"),\"\",IF((G169*F169-1)>=coeff!$B$10,coeff!$B$8/coeff!$B$9*(G169*F169-1)/(G169-1),\"\"))","v":""},{"$f":"IF(OR(F169=\"\",H169=\"\"),\"\",IF((H169*(1-F169)-1)>=coeff!$B$10,coeff!$B$8/coeff!$B$9*(H169*(1-F169)-1)/(H169-1),\"\"))","v":""}]
[null,null,null,null,null,{"$f":"IF(E170=\"\",\"\",HLOOKUP(E170,$Q$3:AK172,ROW()-2))","v":""},null,null,{"$f":"IF(OR(F170=\"\",G170=\"\"),\"\",IF((G170*F170-1)>=coeff!$B$10,coeff!$B$8/coeff!$B$9*(G170*F170-1)/(G170-1),\"\"))","v":""},{"$f":"IF(OR(F170=\"\",H170=\"\"),\"\",IF((H170*(1-F170)-1)>=coeff!$B$10,coeff!$B$8/coeff!$B$9*(H170*(1-F170)-1)/(H170-1),\"\"))","v":""}]
[null,null,null,null,null,{"$f":"IF(E171=\"\",\"\",HLOOKUP(E171,$Q$3:AK173,ROW()-2))","v":""},null,null,{"$f":"IF(OR(F171=\"\",G171=\"\"),\"\",IF((G171*F171-1)>=coeff!$B$10,coeff!$B$8/coeff!$B$9*(G171*F171-1)/(G171-1),\"\"))","v":""},{"$f":"IF(OR(F171=\"\",H171=\"\"),\"\",IF((H171*(1-F171)-1)>=coeff!$B$10,coeff!$B$8/coeff!$B$9*(H171*(1-F171)-1)/(H171-1),\"\"))","v":""}]
[null,null,null,null,null,{"$f":"IF(E172=\"\",\"\",HLOOKUP(E172,$Q$3:AK174,ROW()-2))","v":""},null,null,{"$f":"IF(OR(F172=\"\",G172=\"\"),\"\",IF((G172*F172-1)>=coeff!$B$10,coeff!$B$8/coeff!$B$9*(G172*F172-1)/(G172-1),\"\"))","v":""},{"$f":"IF(OR(F172=\"\",H172=\"\"),\"\",IF((H172*(1-F172)-1)>=coeff!$B$10,coeff!$B$8/coeff!$B$9*(H172*(1-F172)-1)/(H172-1),\"\"))","v":""}]
[null,null,null,null,null,{"$f":"IF(E173=\"\",\"\",HLOOKUP(E173,$Q$3:AK175,ROW()-2))","v":""},null,null,{"$f":"IF(OR(F173=\"\",G173=\"\"),\"\",IF((G173*F173-1)>=coeff!$B$10,coeff!$B$8/coeff!$B$9*(G173*F173-1)/(G173-1),\"\"))","v":""},{"$f":"IF(OR(F173=\"\",H173=\"\"),\"\",IF((H173*(1-F173)-1)>=coeff!$B$10,coeff!$B$8/coeff!$B$9*(H173*(1-F173)-1)/(H173-1),\"\"))","v":""}]
[null,null,null,null,null,{"$f":"IF(E174=\"\",\"\",HLOOKUP(E174,$Q$3:AK176,ROW()-2))","v":""},null,null,{"$f":"IF(OR(F174=\"\",G174=\"\"),\"\",IF((G174*F174-1)>=coeff!$B$10,coeff!$B$8/coeff!$B$9*(G174*F174-1)/(G174-1),\"\"))","v":""},{"$f":"IF(OR(F174=\"\",H174=\"\"),\"\",IF((H174*(1-F174)-1)>=coeff!$B$10,coeff!$B$8/coeff!$B$9*(H174*(1-F174)-1)/(H174-1),\"\"))","v":""}]
[null,null,null,null,null,{"$f":"IF(E175=\"\",\"\",HLOOKUP(E175,$Q$3:AK177,ROW()-2))","v":""},null,null,{"$f":"IF(OR(F175=\"\",G175=\"\"),\"\",IF((G175*F175-1)>=coeff!$B$10,coeff!$B$8/coeff!$B$9*(G175*F175-1)/(G175-1),\"\"))","v":""},{"$f":"IF(OR(F175=\"\",H175=\"\"),\"\",IF((H175*(1-F175)-1)>=coeff!$B$10,coeff!$B$8/coeff!$B$9*(H175*(1-F175)-1)/(H175-1),\"\"))","v":""}]
[null,null,null,null,null,{"$f":"IF(E176=\"\",\"\",HLOOKUP(E176,$Q$3:AK178,ROW()-2))","v":""},null,null,{"$f":"IF(OR(F176=\"\",G176=\"\"),\"\",IF((G176*F176-1)>=coeff!$B$10,coeff!$B$8/coeff!$B$9*(G176*F176-1)/(G176-1),\"\"))","v":""},{"$f":"IF(OR(F176=\"\",H176=\"\"),\"\",IF((H176*(1-F176)-1)>=coeff!$B$10,coeff!$B$8/coeff!$B$9*(H176*(1-F176)-1)/(H176-1),\"\"))","v":""}]
[null,null,null,null,null,{"$f":"IF(E177=\"\",\"\",HLOOKUP(E177,$Q$3:AK179,ROW()-2))","v":""},null,null,{"$f":"IF(OR(F177=\"\",G177=\"\"),\"\",IF((G177*F177-1)>=coeff!$B$10,coeff!$B$8/coeff!$B$9*(G177*F177-1)/(G177-1),\"\"))","v":""},{"$f":"IF(OR(F177=\"\",H177=\"\"),\"\",IF((H177*(1-F177)-1)>=coeff!$B$10,coeff!$B$8/coeff!$B$9*(H177*(1-F177)-1)/(H177-1),\"\"))","v":""}]
[null,null,null,null,null,{"$f":"IF(E178=\"\",\"\",HLOOKUP(E178,$Q$3:AK180,ROW()-2))","v":""},null,null,{"$f":"IF(OR(F178=\"\",G178=\"\"),\"\",IF((G178*F178-1)>=coeff!$B$10,coeff!$B$8/coeff!$B$9*(G178*F178-1)/(G178-1),\"\"))","v":""},{"$f":"IF(OR(F178=\"\",H178=\"\"),\"\",IF((H178*(1-F178)-1)>=coeff!$B$10,coeff!$B$8/coeff!$B$9*(H178*(1-F178)-1)/(H178-1),\"\"))","v":""}]
[null,null,null,null,null,{"$f":"IF(E179=\"\",\"\",HLOOKUP(E179,$Q$3:AK181,ROW()-2))","v":""},null,null,{"$f":"IF(OR(F179=\"\",G179=\"\"),\"\",IF((G179*F179-1)>=coeff!$B$10,coeff!$B$8/coeff!$B$9*(G179*F179-1)/(G179-1),\"\"))","v":""},{"$f":"IF(OR(F179=\"\",H179=\"\"),\"\",IF((H179*(1-F179)-1)>=coeff!$B$10,coeff!$B$8/coeff!$B$9*(H179*(1-F179)-1)/(H179-1),\"\"))","v":""}]
[null,null,null,null,null,{"$f":"IF(E180=\"\",\"\",HLOOKUP(E180,$Q$3:AK182,ROW()-2))","v":""},null,null,{"$f":"IF(OR(F180=\"\",G180=\"\"),\"\",IF((G180*F180-1)>=coeff!$B$10,coeff!$B$8/coeff!$B$9*(G180*F180-1)/(G180-1),\"\"))","v":""},{"$f":"IF(OR(F180=\"\",H180=\"\"),\"\",IF((H180*(1-F180)-1)>=coeff!$B$10,coeff!$B$8/coeff!$B$9*(H180*(1-F180)-1)/(H180-1),\"\"))","v":""}]
[null,null,null,null,null,{"$f":"IF(E181=\"\",\"\",HLOOKUP(E181,$Q$3:AK183,ROW()-2))","v":""},null,null,{"$f":"IF(OR(F181=\"\",G181=\"\"),\"\",IF((G181*F181-1)>=coeff!$B$10,coeff!$B$8/coeff!$B$9*(G181*F181-1)/(G181-1),\"\"))","v":""},{"$f":"IF(OR(F181=\"\",H181=\"\"),\"\",IF((H181*(1-F181)-1)>=coeff!$B$10,coeff!$B$8/coeff!$B$9*(H181*(1-F181)-1)/(H181-1),\"\"))","v":""}]
[null,null,null,null,null,{"$f":"IF(E182=\"\",\"\",HLOOKUP(E182,$Q$3:AK184,ROW()-2))","v":""}]
[null,null,null,null,null,{"$f":"IF(E183=\"\",\"\",HLOOKUP(E183,$Q$3:AK185,ROW()-2))","v":""}]
[null,null,null,null,null,{"$f":"IF(E184=\"\",\"\",HLOOKUP(E184,$Q$3:AK186,ROW()-2))","v":""}]
[null,null,null,null,null,{"$f":"IF(E185=\"\",\"\",HLOOKUP(E185,$Q$3:AK187,ROW()-2))","v":""}]
[null,null,null,null,null,{"$f":"IF(E186=\"\",\"\",HLOOKUP(E186,$Q$3:AK188,ROW()-2))","v":""}]
[null,null,null,null,null,{"$f":"IF(E187=\"\",\"\",HLOOKUP(E187,$Q$3:AK189,ROW()-2))","v":""}]
[null,null,null,null,null,{"$f":"IF(E188=\"\",\"\",HLOOKUP(E188,$Q$3:AK190,ROW()-2))","v":""}]
[null,null,null,null,null,{"$f":"IF(E189=\"\",\"\",HLOOKUP(E189,$Q$3:AK191,ROW()-2))","v":""}]
[null,null,null,null,null,{"$f":"IF(E190=\"\",\"\",HLOOKUP(E190,$Q$3:AK192,ROW()-2))","v":""}]
[null,null,null,null,null,{"$f":"IF(E191=\"\",\"\",HLOOKUP(E191,$Q$3:AK193,ROW()-2))","v":""}]
[null,null,null,null,null,{"$f":"IF(E192=\"\",\"\",HLOOKUP(E192,$Q$3:AK194,ROW()-2))","v":""}]
[null,null,null,null,null,{"$f":"IF(E193=\"\",\"\",HLOOKUP(E193,$Q$3:AK195,ROW()-2))","v":""}]
[null,null,null,null,null,{"$f":"IF(E194=\"\",\"\",HLOOKUP(E194,$Q$3:AK196,ROW()-2))","v":""}]
[null,null,null,null,null,{"$f":"IF(E195=\"\",\"\",HLOOKUP(E195,$Q$3:AK197,ROW()-2))","v":""}]
[null,null,null,null,null,{"$f":"IF(E196=\"\",\"\",HLOOKUP(E196,$Q$3:AK198,ROW()-2))","v":""}]
[null,null,null,null,null,{"$f":"IF(E197=\"\",\"\",HLOOKUP(E197,$Q$3:AK199,ROW()-2))","v":""}]
[null,null,null,null,null,{"$f":"IF(E198=\"\",\"\",HLOOKUP(E198,$Q$3:AK200,ROW()-2))","v":""}]
[null,null,null,null,null,{"$f":"IF(E199=\"\",\"\",HLOOKUP(E199,$Q$3:AK201,ROW()-2))","v":""}]
[null,null,null,null,null,{"$f":"IF(E200=\"\",\"\",HLOOKUP(E200,$Q$3:AK202,ROW()-2))","v":""}]

{"sheet":"totals","index":3,"n_rows":200,"n_cols":33,"rows_kept":200,"cut":false,"hidden":false,"merged":[]}
[null,null,null,null,null,null,null,null,null,null,null,null,"Sportpunter's EURO icehockey totals Probabilities as of 22/02/2016 4:43:44 PM AEST"]
[]
["League","Start Time","Team1","Team2","ExpectedTotal","TotalLine","ProbOver","OddsOver","OddsUnder"," $BetOver "," $BetUnder ",null," League ","Team1","Team2","Ref",3,3.5,4,4.5,5,5.5,6,6.5,7,7.5,8,8.5,9,9.5,10,10.5,11]
["Russia - KHL","2016-02-22","Avangard Omsk ","Neftekhimik Nizhne… ",4.8,4,{"$f":"IF(F4=\"\",\"\",HLOOKUP(F4,$Q$3:AL6,ROW()-2))","v":0.60299999999999998},1.78,2.16,{"$f":"IF(OR(G4=\"\",H4=\"\"),\"\",IF((H4*G4-1)>=coeff!$B$15,coeff!$B$13/coeff!$B$14*(H4*G4-1)/(H4-1),\"\"))","v":9.4025641025640976},{"$f":"IF(OR(G4=\"\",I4=\"\"),\"\",IF((I4*(1-G4)-1)>=coeff!$B$15,coeff!$B$13/coeff!$B$14*(I4*(1-G4)-1)/(I4-1),\"\"))","v":""},null,"Russia - KHL","Avangard Omsk ","Neftekhimik Nizhne… ",85,0.80300000000000005,0.69199999999999995,0.60299999999999998,0.46800000000000003,0.38,0.32700000000000001,0.222,0.193,0.122,0.112,5.0999999999999997E-2,4.8000000000000001E-2,1.9E-2,1.9E-2,8.0000000000000002E-3,7.0000000000000001E-3,1E-3]
["Russia - KHL","2016-02-22","Sibir Novosibirsk ","Admiral Vladivostok ",5,4.5,{"$f":"IF(F5=\"\",\"\",HLOOKUP(F5,$Q$3:AL7,ROW()-2))","v":0.495},2.04,1.87,{"$f":"IF(OR(G5=\"\",H5=\"\"),\"\",IF((H5*G5-1)>=coeff!$B$15,coeff!$B$13/coeff!$B$14*(H5*G5-1)/(H5-1),\"\"))","v":""},{"$f":"IF(OR(G5=\"\",I5=\"\"),\"\",IF((I5*(1-G5)-1)>=coeff!$B$15,coeff!$B$13/coeff!$B$14*(I5*(1-G5)-1)/(I5-1),\"\"))","v":""},null,"Russia - KHL","Sibir Novosibirsk ","Admiral Vladivostok ",85,0.81699999999999995,0.70599999999999996,0.626,0.495,0.40799999999999997,0.34799999999999998,0.24099999999999999,0.20799999999999999,0.13300000000000001,0.121,5.8000000000000003E-2,5.3999999999999999E-2,2.1999999999999999E-2,2.1000000000000001E-2,8.0000000000000002E-3,8.0000000000000002E-3,1E-3]
["Russia - KHL","2016-02-22","Salavat Yulaev Ufa ","Ak Bars Kazan ",4.9000000000000004,4.5,{"$f":"IF(F6=\"\",\"\",HLOOKUP(F6,$Q$3:AL8,ROW()-2))","v":0.47399999999999998},2.06,1.85,{"$f":"IF(OR(G6=\"\",H6=\"\"),\"\",IF((H6*G6-1)>=coeff!$B$15,coeff!$B$13/coeff!$B$14*(H6*G6-1)/(H6-1),\"\"))","v":""},{"$f":"IF(OR(G6=\"\",I6=\"\"),\"\",IF((I6*(1-G6)-1)>=coeff!$B$15,coeff!$B$13/coeff!$B$14*(I6*(1-G6)-1)/(I6-1),\"\"))","v":""},null,"Russia - KHL","Salavat Yulaev Ufa ","Ak Bars Kazan ",85,0.80600000000000005,0.69499999999999995,0.60799999999999998,0.47399999999999998,0.38600000000000001,0.33100000000000002,0.22600000000000001,0.19600000000000001,0.125,0.114,5.1999999999999998E-2,4.9000000000000002E-2,0.02,1.9E-2,8.0000000000000002E-3,8.0000000000000002E-3,1E-3]
["Russia - KHL","2016-02-22","Metallurg Magnitogorsk ","Avtomobilist ",5.3,4.5,{"$f":"IF(F7=\"\",\"\",HLOOKUP(F7,$Q$3:AL9,ROW()-2))","v":0.54600000000000004},1.85,2.0699999999999998,{"$f":"IF(OR(G7=\"\",H7=\"\"),\"\",IF((H7*G7-1)>=coeff!$B$15,coeff!$B$13/coeff!$B$14*(H7*G7-1)/(H7-1),\"\"))","v":""},{"$f":"IF(OR(G7=\"\",I7=\"\"),\"\",IF((I7*(1-G7)-1)>=coeff!$B$15,coeff!$B$13/coeff!$B$14*(I7*(1-G7)-1)/(I7-1),\"\"))","v":""},null,"Russia - KHL","Metallurg Magnitogorsk ","Avtomobilist ",85,0.84,0.73199999999999998,0.66800000000000004,0.54600000000000004,0.46400000000000002,0.39100000000000001,0.28100000000000003,0.23599999999999999,0.154,0.13900000000000001,7.4999999999999997E-2,7.0000000000000007E-2,2.8000000000000001E-2,2.7E-2,1.0999999999999999E-2,0.01,2E-3]
["Sweden - HockeyAllsvenskan","2016-02-22","Asplöven HC ","Västerås ",5.6,5.5,{"$f":"IF(F8=\"\",\"\",HLOOKUP(F8,$Q$3:AL10,ROW()-2))","v":0.439},2.0499999999999998,1.84,{"$f":"IF(OR(G8=\"\",H8=\"\"),\"\",IF((H8*G8-1)>=coeff!$B$15,coeff!$B$13/coeff!$B$14*(H8*G8-1)/(H8-1),\"\"))","v":""},{"$f":"IF(OR(G8=\"\",I8=\"\"),\"\",IF((I8*(1-G8)-1)>=coeff!$B$15,coeff!$B$13/coeff!$B$14*(I8*(1-G8)-1)/(I8-1),\"\"))","v":""},null,"Sweden - HockeyAllsvenskan","Asplöven HC ","Västerås ",105,0.88100000000000001,0.78300000000000003,0.73799999999999999,0.61,0.53,0.439,0.33700000000000002,0.28499999999999998,0.191,0.16800000000000001,9.1999999999999998E-2,8.4000000000000005E-2,3.9E-2,3.7999999999999999E-2,0.01,0.01,2E-3]
["Sweden - HockeyAllsvenskan","2016-02-22","Leksand ","Mora ",5.4,5,{"$f":"IF(F9=\"\",\"\",HLOOKUP(F9,$Q$3:AL11,ROW()-2))","v":0.503},1.9,1.9,{"$f":"IF(OR(G9=\"\",H9=\"\"),\"\",IF((H9*G9-1)>=coeff!$B$15,coeff!$B$13/coeff!$B$14*(H9*G9-1)/(H9-1),\"\"))","v":""},{"$f":"IF(OR(G9=\"\",I9=\"\"),\"\",IF((I9*(1-G9)-1)>=coeff!$B$15,coeff!$B$13/coeff!$B$14*(I9*(1-G9)-1)/(I9-1),\"\"))","v":""},null,"Sweden - HockeyAllsvenskan","Leksand ","Mora ",105,0.86799999999999999,0.76600000000000001,0.71499999999999997,0.58899999999999997,0.503,0.41699999999999998,0.311,0.26400000000000001,0.17699999999999999,0.157,8.5000000000000006E-2,7.9000000000000001E-2,3.6999999999999998E-2,3.5000000000000003E-2,8.0000000000000002E-3,8.0000000000000002E-3,2E-3]
["Sweden - HockeyAllsvenskan","2016-02-22","IK Pantern ","IK Oskarshamn ",4.9000000000000004,4.5,{"$f":"IF(F10=\"\",\"\",HLOOKUP(F10,$Q$3:AL12,ROW()-2))","v":0.54},1.93,1.97,{"$f":"IF(OR(G10=\"\",H10=\"\"),\"\",IF((H10*G10-1)>=coeff!$B$15,coeff!$B$13/coeff!$B$14*(H10*G10-1)/(H10-1),\"\"))","v":""},{"$f":"IF(OR(G10=\"\",I10=\"\"),\"\",IF((I10*(1-G10)-1)>=coeff!$B$15,coeff!$B$13/coeff!$B$14*(I10*(1-G10)-1)/(I10-1),\"\"))","v":""},null,"Sweden - HockeyAllsvenskan","IK Pantern ","IK Oskarshamn ",105,0.83399999999999996,0.72399999999999998,0.66,0.54,0.441,0.36699999999999999,0.25800000000000001,0.219,0.14699999999999999,0.13500000000000001,7.1999999999999995E-2,6.7000000000000004E-2,3.1E-2,0.03,5.0000000000000001E-3,5.0000000000000001E-3,2E-3]
["Sweden - HockeyAllsvenskan","2016-02-22","BIK Karlskoga ","Tingsryds AIF ",5.7,5,{"$f":"IF(F11=\"\",\"\",HLOOKUP(F11,$Q$3:AL13,ROW()-2))","v":0.55600000000000005},1.85,2.06,{"$f":"IF(OR(G11=\"\",H11=\"\"),\"\",IF((H11*G11-1)>=coeff!$B$15,coeff!$B$13/coeff!$B$14*(H11*G11-1)/(H11-1),\"\"))","v":""},{"$f":"IF(OR(G11=\"\",I11=\"\"),\"\",IF((I11*(1-G11)-1)>=coeff!$B$15,coeff!$B$13/coeff!$B$14*(I11*(1-G11)-1)/(I11-1),\"\"))","v":""},null,"Sweden - HockeyAllsvenskan","BIK Karlskoga ","Tingsryds AIF ",105,0.89300000000000002,0.79900000000000004,0.75900000000000001,0.63,0.55600000000000005,0.46100000000000002,0.36299999999999999,0.307,0.20599999999999999,0.17899999999999999,9.9000000000000005E-2,0.09,4.2000000000000003E-2,0.04,1.2E-2,1.0999999999999999E-2,2E-3]
["Sweden - HockeyAllsvenskan","2016-02-22","Almtuna IS ","HC Vita Hästen ",5.2,5,{"$f":"IF(F12=\"\",\"\",HLOOKUP(F12,$Q$3:AL14,ROW()-2))","v":0.47899999999999998},2.02,1.79,{"$f":"IF(OR(G12=\"\",H12=\"\"),\"\",IF((H12*G12-1)>=coeff!$B$15,coeff!$B$13/coeff!$B$14*(H12*G12-1)/(H12-1),\"\"))","v":""},{"$f":"IF(OR(G12=\"\",I12=\"\"),\"\",IF((I12*(1-G12)-1)>=coeff!$B$15,coeff!$B$13/coeff!$B$14*(I12*(1-G12)-1)/(I12-1),\"\"))","v":""},null,"Sweden - HockeyAllsvenskan","Almtuna IS ","HC Vita Hästen ",105,0.85599999999999998,0.75,0.69499999999999995,0.56999999999999995,0.47899999999999998,0.39700000000000002,0.28999999999999998,0.246,0.16500000000000001,0.14799999999999999,0.08,7.3999999999999996E-2,3.5000000000000003E-2,3.3000000000000002E-2,7.0000000000000001E-3,7.0000000000000001E-3,2E-3]
["Sweden - HockeyAllsvenskan","2016-02-22","Timrå ","AIK ",4.8,5,{"$f":"IF(F13=\"\",\"\",HLOOKUP(F13,$Q$3:AL15,ROW()-2))","v":0.41899999999999998},1.95,1.85,{"$f":"IF(OR(G13=\"\",H13=\"\"),\"\",IF((H13*G13-1)>=coeff!$B$15,coeff!$B$13/coeff!$B$14*(H13*G13-1)/(H13-1),\"\"))","v":""},{"$f":"IF(OR(G13=\"\",I13=\"\"),\"\",IF((I13*(1-G13)-1)>=coeff!$B$15,coeff!$B$13/coeff!$B$14*(I13*(1-G13)-1)/(I13-1),\"\"))","v":8.805882352941186},null,"Sweden - HockeyAllsvenskan","Timrå ","AIK ",105,0.81899999999999995,0.70699999999999996,0.63900000000000001,0.52100000000000002,0.41899999999999998,0.35,0.24,0.20399999999999999,0.13800000000000001,0.128,6.7000000000000004E-2,6.3E-2,0.03,2.9000000000000001E-2,5.0000000000000001E-3,4.0000000000000001E-3,2E-3]
["Sweden - HockeyAllsvenskan","2016-02-22","Björklöven ","IF Sundsvall Hockey ",5.6,5.5,{"$f":"IF(F14=\"\",\"\",HLOOKUP(F14,$Q$3:AL16,ROW()-2))","v":0.441},2.09,1.81,{"$f":"IF(OR(G14=\"\",H14=\"\"),\"\",IF((H14*G14-1)>=coeff!$B$15,coeff!$B$13/coeff!$B$14*(H14*G14-1)/(H14-1),\"\"))","v":""},{"$f":"IF(OR(G14=\"\",I14=\"\"),\"\",IF((I14*(1-G14)-1)>=coeff!$B$15,coeff!$B$13/coeff!$B$14*(I14*(1-G14)-1)/(I14-1),\"\"))","v":""},null,"Sweden - HockeyAllsvenskan","Björklöven ","IF Sundsvall Hockey ",105,0.88200000000000001,0.78500000000000003,0.74,0.61199999999999999,0.53200000000000003,0.441,0.33900000000000002,0.28699999999999998,0.192,0.16900000000000001,9.2999999999999999E-2,8.5000000000000006E-2,0.04,3.7999999999999999E-2,0.01,0.01,2E-3]
[null,null,null,null,null,null,{"$f":"IF(F15=\"\",\"\",HLOOKUP(F15,$Q$3:AL17,ROW()-2))","v":""},null,null,{"$f":"IF(OR(G15=\"\",H15=\"\"),\"\",IF((H15*G15-1)>=coeff!$B$15,coeff!$B$13/coeff!$B$14*(H15*G15-1)/(H15-1),\"\"))","v":""},{"$f":"IF(OR(G15=\"\",I15=\"\"),\"\",IF((I15*(1-G15)-1)>=coeff!$B$15,coeff!$B$13/coeff!$B$14*(I15*(1-G15)-1)/(I15-1),\"\"))","v":""}]
[null,null,null,null,null,null,{"$f":"IF(F16=\"\",\"\",HLOOKUP(F16,$Q$3:AL18,ROW()-2))","v":""},null,null,{"$f":"IF(OR(G16=\"\",H16=\"\"),\"\",IF((H16*G16-1)>=coeff!$B$15,coeff!$B$13/coeff!$B$14*(H16*G16-1)/(H16-1),\"\"))","v":""},{"$f":"IF(OR(G16=\"\",I16=\"\"),\"\",IF((I16*(1-G16)-1)>=coeff!$B$15,coeff!$B$13/coeff!$B$14*(I16*(1-G16)-1)/(I16-1),\"\"))","v":""}]
[null,null,null,null,null,null,{"$f":"IF(F17=\"\",\"\",HLOOKUP(F17,$Q$3:AL19,ROW()-2))","v":""},null,null,{"$f":"IF(OR(G17=\"\",H17=\"\"),\"\",IF((H17*G17-1)>=coeff!$B$15,coeff!$B$13/coeff!$B$14*(H17*G17-1)/(H17-1),\"\"))","v":""},{"$f":"IF(OR(G17=\"\",I17=\"\"),\"\",IF((I17*(1-G17)-1)>=coeff!$B$15,coeff!$B$13/coeff!$B$14*(I17*(1-G17)-1)/(I17-1),\"\"))","v":""}]
[null,null,null,null,null,null,{"$f":"IF(F18=\"\",\"\",HLOOKUP(F18,$Q$3:AL20,ROW()-2))","v":""},null,null,{"$f":"IF(OR(G18=\"\",H18=\"\"),\"\",IF((H18*G18-1)>=coeff!$B$15,coeff!$B$13/coeff!$B$14*(H18*G18-1)/(H18-1),\"\"))","v":""},{"$f":"IF(OR(G18=\"\",I18=\"\"),\"\",IF((I18*(1-G18)-1)>=coeff!$B$15,coeff!$B$13/coeff!$B$14*(I18*(1-G18)-1)/(I18-1),\"\"))","v":""}]
[null,null,null,null,null,null,{"$f":"IF(F19=\"\",\"\",HLOOKUP(F19,$Q$3:AL21,ROW()-2))","v":""},null,null,{"$f":"IF(OR(G19=\"\",H19=\"\"),\"\",IF((H19*G19-1)>=coeff!$B$15,coeff!$B$13/coeff!$B$14*(H19*G19-1)/(H19-1),\"\"))","v":""},{"$f":"IF(OR(G19=\"\",I19=\"\"),\"\",IF((I19*(1-G19)-1)>=coeff!$B$15,coeff!$B$13/coeff!$B$14*(I19*(1-G19)-1)/(I19-1),\"\"))","v":""}]
[null,null,null,null,null,null,{"$f":"IF(F20=\"\",\"\",HLOOKUP(F20,$Q$3:AL22,ROW()-2))","v":""},null,null,{"$f":"IF(OR(G20=\"\",H20=\"\"),\"\",IF((H20*G20-1)>=coeff!$B$15,coeff!$B$13/coeff!$B$14*(H20*G20-1)/(H20-1),\"\"))","v":""},{"$f":"IF(OR(G20=\"\",I20=\"\"),\"\",IF((I20*(1-G20)-1)>=coeff!$B$15,coeff!$B$13/coeff!$B$14*(I20*(1-G20)-1)/(I20-1),\"\"))","v":""}]
[null,null,null,null,null,null,{"$f":"IF(F21=\"\",\"\",HLOOKUP(F21,$Q$3:AL23,ROW()-2))","v":""},null,null,{"$f":"IF(OR(G21=\"\",H21=\"\"),\"\",IF((H21*G21-1)>=coeff!$B$15,coeff!$B$13/coeff!$B$14*(H21*G21-1)/(H21-1),\"\"))","v":""},{"$f":"IF(OR(G21=\"\",I21=\"\"),\"\",IF((I21*(1-G21)-1)>=coeff!$B$15,coeff!$B$13/coeff!$B$14*(I21*(1-G21)-1)/(I21-1),\"\"))","v":""}]
[null,null,null,null,null,null,{"$f":"IF(F22=\"\",\"\",HLOOKUP(F22,$Q$3:AL24,ROW()-2))","v":""},null,null,{"$f":"IF(OR(G22=\"\",H22=\"\"),\"\",IF((H22*G22-1)>=coeff!$B$15,coeff!$B$13/coeff!$B$14*(H22*G22-1)/(H22-1),\"\"))","v":""},{"$f":"IF(OR(G22=\"\",I22=\"\"),\"\",IF((I22*(1-G22)-1)>=coeff!$B$15,coeff!$B$13/coeff!$B$14*(I22*(1-G22)-1)/(I22-1),\"\"))","v":""}]
[null,null,null,null,null,null,{"$f":"IF(F23=\"\",\"\",HLOOKUP(F23,$Q$3:AL25,ROW()-2))","v":""},null,null,{"$f":"IF(OR(G23=\"\",H23=\"\"),\"\",IF((H23*G23-1)>=coeff!$B$15,coeff!$B$13/coeff!$B$14*(H23*G23-1)/(H23-1),\"\"))","v":""},{"$f":"IF(OR(G23=\"\",I23=\"\"),\"\",IF((I23*(1-G23)-1)>=coeff!$B$15,coeff!$B$13/coeff!$B$14*(I23*(1-G23)-1)/(I23-1),\"\"))","v":""}]
[null,null,null,null,null,null,{"$f":"IF(F24=\"\",\"\",HLOOKUP(F24,$Q$3:AL26,ROW()-2))","v":""},null,null,{"$f":"IF(OR(G24=\"\",H24=\"\"),\"\",IF((H24*G24-1)>=coeff!$B$15,coeff!$B$13/coeff!$B$14*(H24*G24-1)/(H24-1),\"\"))","v":""},{"$f":"IF(OR(G24=\"\",I24=\"\"),\"\",IF((I24*(1-G24)-1)>=coeff!$B$15,coeff!$B$13/coeff!$B$14*(I24*(1-G24)-1)/(I24-1),\"\"))","v":""}]
[null,null,null,null,null,null,{"$f":"IF(F25=\"\",\"\",HLOOKUP(F25,$Q$3:AL27,ROW()-2))","v":""},null,null,{"$f":"IF(OR(G25=\"\",H25=\"\"),\"\",IF((H25*G25-1)>=coeff!$B$15,coeff!$B$13/coeff!$B$14*(H25*G25-1)/(H25-1),\"\"))","v":""},{"$f":"IF(OR(G25=\"\",I25=\"\"),\"\",IF((I25*(1-G25)-1)>=coeff!$B$15,coeff!$B$13/coeff!$B$14*(I25*(1-G25)-1)/(I25-1),\"\"))","v":""}]
[null,null,null,null,null,null,{"$f":"IF(F26=\"\",\"\",HLOOKUP(F26,$Q$3:AL28,ROW()-2))","v":""},null,null,{"$f":"IF(OR(G26=\"\",H26=\"\"),\"\",IF((H26*G26-1)>=coeff!$B$15,coeff!$B$13/coeff!$B$14*(H26*G26-1)/(H26-1),\"\"))","v":""},{"$f":"IF(OR(G26=\"\",I26=\"\"),\"\",IF((I26*(1-G26)-1)>=coeff!$B$15,coeff!$B$13/coeff!$B$14*(I26*(1-G26)-1)/(I26-1),\"\"))","v":""}]
[null,null,null,null,null,null,{"$f":"IF(F27=\"\",\"\",HLOOKUP(F27,$Q$3:AL29,ROW()-2))","v":""},null,null,{"$f":"IF(OR(G27=\"\",H27=\"\"),\"\",IF((H27*G27-1)>=coeff!$B$15,coeff!$B$13/coeff!$B$14*(H27*G27-1)/(H27-1),\"\"))","v":""},{"$f":"IF(OR(G27=\"\",I27=\"\"),\"\",IF((I27*(1-G27)-1)>=coeff!$B$15,coeff!$B$13/coeff!$B$14*(I27*(1-G27)-1)/(I27-1),\"\"))","v":""}]
[null,null,null,null,null,null,{"$f":"IF(F28=\"\",\"\",HLOOKUP(F28,$Q$3:AL30,ROW()-2))","v":""},null,null,{"$f":"IF(OR(G28=\"\",H28=\"\"),\"\",IF((H28*G28-1)>=coeff!$B$15,coeff!$B$13/coeff!$B$14*(H28*G28-1)/(H28-1),\"\"))","v":""},{"$f":"IF(OR(G28=\"\",I28=\"\"),\"\",IF((I28*(1-G28)-1)>=coeff!$B$15,coeff!$B$13/coeff!$B$14*(I28*(1-G28)-1)/(I28-1),\"\"))","v":""}]
[null,null,null,null,null,null,{"$f":"IF(F29=\"\",\"\",HLOOKUP(F29,$Q$3:AL31,ROW()-2))","v":""},null,null,{"$f":"IF(OR(G29=\"\",H29=\"\"),\"\",IF((H29*G29-1)>=coeff!$B$15,coeff!$B$13/coeff!$B$14*(H29*G29-1)/(H29-1),\"\"))","v":""},{"$f":"IF(OR(G29=\"\",I29=\"\"),\"\",IF((I29*(1-G29)-1)>=coeff!$B$15,coeff!$B$13/coeff!$B$14*(I29*(1-G29)-1)/(I29-1),\"\"))","v":""}]
[null,null,null,null,null,null,{"$f":"IF(F30=\"\",\"\",HLOOKUP(F30,$Q$3:AL32,ROW()-2))","v":""},null,null,{"$f":"IF(OR(G30=\"\",H30=\"\"),\"\",IF((H30*G30-1)>=coeff!$B$15,coeff!$B$13/coeff!$B$14*(H30*G30-1)/(H30-1),\"\"))","v":""},{"$f":"IF(OR(G30=\"\",I30=\"\"),\"\",IF((I30*(1-G30)-1)>=coeff!$B$15,coeff!$B$13/coeff!$B$14*(I30*(1-G30)-1)/(I30-1),\"\"))","v":""}]
[null,null,null,null,null,null,{"$f":"IF(F31=\"\",\"\",HLOOKUP(F31,$Q$3:AL33,ROW()-2))","v":""},null,null,{"$f":"IF(OR(G31=\"\",H31=\"\"),\"\",IF((H31*G31-1)>=coeff!$B$15,coeff!$B$13/coeff!$B$14*(H31*G31-1)/(H31-1),\"\"))","v":""},{"$f":"IF(OR(G31=\"\",I31=\"\"),\"\",IF((I31*(1-G31)-1)>=coeff!$B$15,coeff!$B$13/coeff!$B$14*(I31*(1-G31)-1)/(I31-1),\"\"))","v":""}]
[null,null,null,null,null,null,{"$f":"IF(F32=\"\",\"\",HLOOKUP(F32,$Q$3:AL34,ROW()-2))","v":""},null,null,{"$f":"IF(OR(G32=\"\",H32=\"\"),\"\",IF((H32*G32-1)>=coeff!$B$15,coeff!$B$13/coeff!$B$14*(H32*G32-1)/(H32-1),\"\"))","v":""},{"$f":"IF(OR(G32=\"\",I32=\"\"),\"\",IF((I32*(1-G32)-1)>=coeff!$B$15,coeff!$B$13/coeff!$B$14*(I32*(1-G32)-1)/(I32-1),\"\"))","v":""}]
[null,null,null,null,null,null,{"$f":"IF(F33=\"\",\"\",HLOOKUP(F33,$Q$3:AL35,ROW()-2))","v":""},null,null,{"$f":"IF(OR(G33=\"\",H33=\"\"),\"\",IF((H33*G33-1)>=coeff!$B$15,coeff!$B$13/coeff!$B$14*(H33*G33-1)/(H33-1),\"\"))","v":""},{"$f":"IF(OR(G33=\"\",I33=\"\"),\"\",IF((I33*(1-G33)-1)>=coeff!$B$15,coeff!$B$13/coeff!$B$14*(I33*(1-G33)-1)/(I33-1),\"\"))","v":""}]
[null,null,null,null,null,null,{"$f":"IF(F34=\"\",\"\",HLOOKUP(F34,$Q$3:AL36,ROW()-2))","v":""},null,null,{"$f":"IF(OR(G34=\"\",H34=\"\"),\"\",IF((H34*G34-1)>=coeff!$B$15,coeff!$B$13/coeff!$B$14*(H34*G34-1)/(H34-1),\"\"))","v":""},{"$f":"IF(OR(G34=\"\",I34=\"\"),\"\",IF((I34*(1-G34)-1)>=coeff!$B$15,coeff!$B$13/coeff!$B$14*(I34*(1-G34)-1)/(I34-1),\"\"))","v":""}]
[null,null,null,null,null,null,{"$f":"IF(F35=\"\",\"\",HLOOKUP(F35,$Q$3:AL37,ROW()-2))","v":""},null,null,{"$f":"IF(OR(G35=\"\",H35=\"\"),\"\",IF((H35*G35-1)>=coeff!$B$15,coeff!$B$13/coeff!$B$14*(H35*G35-1)/(H35-1),\"\"))","v":""},{"$f":"IF(OR(G35=\"\",I35=\"\"),\"\",IF((I35*(1-G35)-1)>=coeff!$B$15,coeff!$B$13/coeff!$B$14*(I35*(1-G35)-1)/(I35-1),\"\"))","v":""}]
[null,null,null,null,null,null,{"$f":"IF(F36=\"\",\"\",HLOOKUP(F36,$Q$3:AL38,ROW()-2))","v":""},null,null,{"$f":"IF(OR(G36=\"\",H36=\"\"),\"\",IF((H36*G36-1)>=coeff!$B$15,coeff!$B$13/coeff!$B$14*(H36*G36-1)/(H36-1),\"\"))","v":""},{"$f":"IF(OR(G36=\"\",I36=\"\"),\"\",IF((I36*(1-G36)-1)>=coeff!$B$15,coeff!$B$13/coeff!$B$14*(I36*(1-G36)-1)/(I36-1),\"\"))","v":""}]
[null,null,null,null,null,null,{"$f":"IF(F37=\"\",\"\",HLOOKUP(F37,$Q$3:AL39,ROW()-2))","v":""},null,null,{"$f":"IF(OR(G37=\"\",H37=\"\"),\"\",IF((H37*G37-1)>=coeff!$B$15,coeff!$B$13/coeff!$B$14*(H37*G37-1)/(H37-1),\"\"))","v":""},{"$f":"IF(OR(G37=\"\",I37=\"\"),\"\",IF((I37*(1-G37)-1)>=coeff!$B$15,coeff!$B$13/coeff!$B$14*(I37*(1-G37)-1)/(I37-1),\"\"))","v":""}]
[null,null,null,null,null,null,{"$f":"IF(F38=\"\",\"\",HLOOKUP(F38,$Q$3:AL40,ROW()-2))","v":""},null,null,{"$f":"IF(OR(G38=\"\",H38=\"\"),\"\",IF((H38*G38-1)>=coeff!$B$15,coeff!$B$13/coeff!$B$14*(H38*G38-1)/(H38-1),\"\"))","v":""},{"$f":"IF(OR(G38=\"\",I38=\"\"),\"\",IF((I38*(1-G38)-1)>=coeff!$B$15,coeff!$B$13/coeff!$B$14*(I38*(1-G38)-1)/(I38-1),\"\"))","v":""}]
[null,null,null,null,null,null,{"$f":"IF(F39=\"\",\"\",HLOOKUP(F39,$Q$3:AL41,ROW()-2))","v":""},null,null,{"$f":"IF(OR(G39=\"\",H39=\"\"),\"\",IF((H39*G39-1)>=coeff!$B$15,coeff!$B$13/coeff!$B$14*(H39*G39-1)/(H39-1),\"\"))","v":""},{"$f":"IF(OR(G39=\"\",I39=\"\"),\"\",IF((I39*(1-G39)-1)>=coeff!$B$15,coeff!$B$13/coeff!$B$14*(I39*(1-G39)-1)/(I39-1),\"\"))","v":""}]
[null,null,null,null,null,null,{"$f":"IF(F40=\"\",\"\",HLOOKUP(F40,$Q$3:AL42,ROW()-2))","v":""},null,null,{"$f":"IF(OR(G40=\"\",H40=\"\"),\"\",IF((H40*G40-1)>=coeff!$B$15,coeff!$B$13/coeff!$B$14*(H40*G40-1)/(H40-1),\"\"))","v":""},{"$f":"IF(OR(G40=\"\",I40=\"\"),\"\",IF((I40*(1-G40)-1)>=coeff!$B$15,coeff!$B$13/coeff!$B$14*(I40*(1-G40)-1)/(I40-1),\"\"))","v":""}]
[null,null,null,null,null,null,{"$f":"IF(F41=\"\",\"\",HLOOKUP(F41,$Q$3:AL43,ROW()-2))","v":""},null,null,{"$f":"IF(OR(G41=\"\",H41=\"\"),\"\",IF((H41*G41-1)>=coeff!$B$15,coeff!$B$13/coeff!$B$14*(H41*G41-1)/(H41-1),\"\"))","v":""},{"$f":"IF(OR(G41=\"\",I41=\"\"),\"\",IF((I41*(1-G41)-1)>=coeff!$B$15,coeff!$B$13/coeff!$B$14*(I41*(1-G41)-1)/(I41-1),\"\"))","v":""}]
[null,null,null,null,null,null,{"$f":"IF(F42=\"\",\"\",HLOOKUP(F42,$Q$3:AL44,ROW()-2))","v":""},null,null,{"$f":"IF(OR(G42=\"\",H42=\"\"),\"\",IF((H42*G42-1)>=coeff!$B$15,coeff!$B$13/coeff!$B$14*(H42*G42-1)/(H42-1),\"\"))","v":""},{"$f":"IF(OR(G42=\"\",I42=\"\"),\"\",IF((I42*(1-G42)-1)>=coeff!$B$15,coeff!$B$13/coeff!$B$14*(I42*(1-G42)-1)/(I42-1),\"\"))","v":""}]
[null,null,null,null,null,null,{"$f":"IF(F43=\"\",\"\",HLOOKUP(F43,$Q$3:AL45,ROW()-2))","v":""},null,null,{"$f":"IF(OR(G43=\"\",H43=\"\"),\"\",IF((H43*G43-1)>=coeff!$B$15,coeff!$B$13/coeff!$B$14*(H43*G43-1)/(H43-1),\"\"))","v":""},{"$f":"IF(OR(G43=\"\",I43=\"\"),\"\",IF((I43*(1-G43)-1)>=coeff!$B$15,coeff!$B$13/coeff!$B$14*(I43*(1-G43)-1)/(I43-1),\"\"))","v":""}]
[null,null,null,null,null,null,{"$f":"IF(F44=\"\",\"\",HLOOKUP(F44,$Q$3:AL46,ROW()-2))","v":""},null,null,{"$f":"IF(OR(G44=\"\",H44=\"\"),\"\",IF((H44*G44-1)>=coeff!$B$15,coeff!$B$13/coeff!$B$14*(H44*G44-1)/(H44-1),\"\"))","v":""},{"$f":"IF(OR(G44=\"\",I44=\"\"),\"\",IF((I44*(1-G44)-1)>=coeff!$B$15,coeff!$B$13/coeff!$B$14*(I44*(1-G44)-1)/(I44-1),\"\"))","v":""}]
[null,null,null,null,null,null,{"$f":"IF(F45=\"\",\"\",HLOOKUP(F45,$Q$3:AL47,ROW()-2))","v":""},null,null,{"$f":"IF(OR(G45=\"\",H45=\"\"),\"\",IF((H45*G45-1)>=coeff!$B$15,coeff!$B$13/coeff!$B$14*(H45*G45-1)/(H45-1),\"\"))","v":""},{"$f":"IF(OR(G45=\"\",I45=\"\"),\"\",IF((I45*(1-G45)-1)>=coeff!$B$15,coeff!$B$13/coeff!$B$14*(I45*(1-G45)-1)/(I45-1),\"\"))","v":""}]
[null,null,null,null,null,null,{"$f":"IF(F46=\"\",\"\",HLOOKUP(F46,$Q$3:AL48,ROW()-2))","v":""},null,null,{"$f":"IF(OR(G46=\"\",H46=\"\"),\"\",IF((H46*G46-1)>=coeff!$B$15,coeff!$B$13/coeff!$B$14*(H46*G46-1)/(H46-1),\"\"))","v":""},{"$f":"IF(OR(G46=\"\",I46=\"\"),\"\",IF((I46*(1-G46)-1)>=coeff!$B$15,coeff!$B$13/coeff!$B$14*(I46*(1-G46)-1)/(I46-1),\"\"))","v":""}]
[null,null,null,null,null,null,{"$f":"IF(F47=\"\",\"\",HLOOKUP(F47,$Q$3:AL49,ROW()-2))","v":""},null,null,{"$f":"IF(OR(G47=\"\",H47=\"\"),\"\",IF((H47*G47-1)>=coeff!$B$15,coeff!$B$13/coeff!$B$14*(H47*G47-1)/(H47-1),\"\"))","v":""},{"$f":"IF(OR(G47=\"\",I47=\"\"),\"\",IF((I47*(1-G47)-1)>=coeff!$B$15,coeff!$B$13/coeff!$B$14*(I47*(1-G47)-1)/(I47-1),\"\"))","v":""}]
[null,null,null,null,null,null,{"$f":"IF(F48=\"\",\"\",HLOOKUP(F48,$Q$3:AL50,ROW()-2))","v":""},null,null,{"$f":"IF(OR(G48=\"\",H48=\"\"),\"\",IF((H48*G48-1)>=coeff!$B$15,coeff!$B$13/coeff!$B$14*(H48*G48-1)/(H48-1),\"\"))","v":""},{"$f":"IF(OR(G48=\"\",I48=\"\"),\"\",IF((I48*(1-G48)-1)>=coeff!$B$15,coeff!$B$13/coeff!$B$14*(I48*(1-G48)-1)/(I48-1),\"\"))","v":""}]
[null,null,null,null,null,null,{"$f":"IF(F49=\"\",\"\",HLOOKUP(F49,$Q$3:AL51,ROW()-2))","v":""},null,null,{"$f":"IF(OR(G49=\"\",H49=\"\"),\"\",IF((H49*G49-1)>=coeff!$B$15,coeff!$B$13/coeff!$B$14*(H49*G49-1)/(H49-1),\"\"))","v":""},{"$f":"IF(OR(G49=\"\",I49=\"\"),\"\",IF((I49*(1-G49)-1)>=coeff!$B$15,coeff!$B$13/coeff!$B$14*(I49*(1-G49)-1)/(I49-1),\"\"))","v":""}]
[null,null,null,null,null,null,{"$f":"IF(F50=\"\",\"\",HLOOKUP(F50,$Q$3:AL52,ROW()-2))","v":""},null,null,{"$f":"IF(OR(G50=\"\",H50=\"\"),\"\",IF((H50*G50-1)>=coeff!$B$15,coeff!$B$13/coeff!$B$14*(H50*G50-1)/(H50-1),\"\"))","v":""},{"$f":"IF(OR(G50=\"\",I50=\"\"),\"\",IF((I50*(1-G50)-1)>=coeff!$B$15,coeff!$B$13/coeff!$B$14*(I50*(1-G50)-1)/(I50-1),\"\"))","v":""}]
[null,null,null,null,null,null,{"$f":"IF(F51=\"\",\"\",HLOOKUP(F51,$Q$3:AL53,ROW()-2))","v":""},null,null,{"$f":"IF(OR(G51=\"\",H51=\"\"),\"\",IF((H51*G51-1)>=coeff!$B$15,coeff!$B$13/coeff!$B$14*(H51*G51-1)/(H51-1),\"\"))","v":""},{"$f":"IF(OR(G51=\"\",I51=\"\"),\"\",IF((I51*(1-G51)-1)>=coeff!$B$15,coeff!$B$13/coeff!$B$14*(I51*(1-G51)-1)/(I51-1),\"\"))","v":""}]
[null,null,null,null,null,null,{"$f":"IF(F52=\"\",\"\",HLOOKUP(F52,$Q$3:AL54,ROW()-2))","v":""},null,null,{"$f":"IF(OR(G52=\"\",H52=\"\"),\"\",IF((H52*G52-1)>=coeff!$B$15,coeff!$B$13/coeff!$B$14*(H52*G52-1)/(H52-1),\"\"))","v":""},{"$f":"IF(OR(G52=\"\",I52=\"\"),\"\",IF((I52*(1-G52)-1)>=coeff!$B$15,coeff!$B$13/coeff!$B$14*(I52*(1-G52)-1)/(I52-1),\"\"))","v":""}]
[null,null,null,null,null,null,{"$f":"IF(F53=\"\",\"\",HLOOKUP(F53,$Q$3:AL55,ROW()-2))","v":""},null,null,{"$f":"IF(OR(G53=\"\",H53=\"\"),\"\",IF((H53*G53-1)>=coeff!$B$15,coeff!$B$13/coeff!$B$14*(H53*G53-1)/(H53-1),\"\"))","v":""},{"$f":"IF(OR(G53=\"\",I53=\"\"),\"\",IF((I53*(1-G53)-1)>=coeff!$B$15,coeff!$B$13/coeff!$B$14*(I53*(1-G53)-1)/(I53-1),\"\"))","v":""}]
[null,null,null,null,null,null,{"$f":"IF(F54=\"\",\"\",HLOOKUP(F54,$Q$3:AL56,ROW()-2))","v":""},null,null,{"$f":"IF(OR(G54=\"\",H54=\"\"),\"\",IF((H54*G54-1)>=coeff!$B$15,coeff!$B$13/coeff!$B$14*(H54*G54-1)/(H54-1),\"\"))","v":""},{"$f":"IF(OR(G54=\"\",I54=\"\"),\"\",IF((I54*(1-G54)-1)>=coeff!$B$15,coeff!$B$13/coeff!$B$14*(I54*(1-G54)-1)/(I54-1),\"\"))","v":""}]
[null,null,null,null,null,null,{"$f":"IF(F55=\"\",\"\",HLOOKUP(F55,$Q$3:AL57,ROW()-2))","v":""},null,null,{"$f":"IF(OR(G55=\"\",H55=\"\"),\"\",IF((H55*G55-1)>=coeff!$B$15,coeff!$B$13/coeff!$B$14*(H55*G55-1)/(H55-1),\"\"))","v":""},{"$f":"IF(OR(G55=\"\",I55=\"\"),\"\",IF((I55*(1-G55)-1)>=coeff!$B$15,coeff!$B$13/coeff!$B$14*(I55*(1-G55)-1)/(I55-1),\"\"))","v":""}]
[null,null,null,null,null,null,{"$f":"IF(F56=\"\",\"\",HLOOKUP(F56,$Q$3:AL58,ROW()-2))","v":""},null,null,{"$f":"IF(OR(G56=\"\",H56=\"\"),\"\",IF((H56*G56-1)>=coeff!$B$15,coeff!$B$13/coeff!$B$14*(H56*G56-1)/(H56-1),\"\"))","v":""},{"$f":"IF(OR(G56=\"\",I56=\"\"),\"\",IF((I56*(1-G56)-1)>=coeff!$B$15,coeff!$B$13/coeff!$B$14*(I56*(1-G56)-1)/(I56-1),\"\"))","v":""}]
[null,null,null,null,null,null,{"$f":"IF(F57=\"\",\"\",HLOOKUP(F57,$Q$3:AL59,ROW()-2))","v":""},null,null,{"$f":"IF(OR(G57=\"\",H57=\"\"),\"\",IF((H57*G57-1)>=coeff!$B$15,coeff!$B$13/coeff!$B$14*(H57*G57-1)/(H57-1),\"\"))","v":""},{"$f":"IF(OR(G57=\"\",I57=\"\"),\"\",IF((I57*(1-G57)-1)>=coeff!$B$15,coeff!$B$13/coeff!$B$14*(I57*(1-G57)-1)/(I57-1),\"\"))","v":""}]
[null,null,null,null,null,null,{"$f":"IF(F58=\"\",\"\",HLOOKUP(F58,$Q$3:AL60,ROW()-2))","v":""},null,null,{"$f":"IF(OR(G58=\"\",H58=\"\"),\"\",IF((H58*G58-1)>=coeff!$B$15,coeff!$B$13/coeff!$B$14*(H58*G58-1)/(H58-1),\"\"))","v":""},{"$f":"IF(OR(G58=\"\",I58=\"\"),\"\",IF((I58*(1-G58)-1)>=coeff!$B$15,coeff!$B$13/coeff!$B$14*(I58*(1-G58)-1)/(I58-1),\"\"))","v":""}]
[null,null,null,null,null,null,{"$f":"IF(F59=\"\",\"\",HLOOKUP(F59,$Q$3:AL61,ROW()-2))","v":""},null,null,{"$f":"IF(OR(G59=\"\",H59=\"\"),\"\",IF((H59*G59-1)>=coeff!$B$15,coeff!$B$13/coeff!$B$14*(H59*G59-1)/(H59-1),\"\"))","v":""},{"$f":"IF(OR(G59=\"\",I59=\"\"),\"\",IF((I59*(1-G59)-1)>=coeff!$B$15,coeff!$B$13/coeff!$B$14*(I59*(1-G59)-1)/(I59-1),\"\"))","v":""}]
[null,null,null,null,null,null,{"$f":"IF(F60=\"\",\"\",HLOOKUP(F60,$Q$3:AL62,ROW()-2))","v":""},null,null,{"$f":"IF(OR(G60=\"\",H60=\"\"),\"\",IF((H60*G60-1)>=coeff!$B$15,coeff!$B$13/coeff!$B$14*(H60*G60-1)/(H60-1),\"\"))","v":""},{"$f":"IF(OR(G60=\"\",I60=\"\"),\"\",IF((I60*(1-G60)-1)>=coeff!$B$15,coeff!$B$13/coeff!$B$14*(I60*(1-G60)-1)/(I60-1),\"\"))","v":""}]
[null,null,null,null,null,null,{"$f":"IF(F61=\"\",\"\",HLOOKUP(F61,$Q$3:AL63,ROW()-2))","v":""},null,null,{"$f":"IF(OR(G61=\"\",H61=\"\"),\"\",IF((H61*G61-1)>=coeff!$B$15,coeff!$B$13/coeff!$B$14*(H61*G61-1)/(H61-1),\"\"))","v":""},{"$f":"IF(OR(G61=\"\",I61=\"\"),\"\",IF((I61*(1-G61)-1)>=coeff!$B$15,coeff!$B$13/coeff!$B$14*(I61*(1-G61)-1)/(I61-1),\"\"))","v":""}]
[null,null,null,null,null,null,{"$f":"IF(F62=\"\",\"\",HLOOKUP(F62,$Q$3:AL64,ROW()-2))","v":""},null,null,{"$f":"IF(OR(G62=\"\",H62=\"\"),\"\",IF((H62*G62-1)>=coeff!$B$15,coeff!$B$13/coeff!$B$14*(H62*G62-1)/(H62-1),\"\"))","v":""},{"$f":"IF(OR(G62=\"\",I62=\"\"),\"\",IF((I62*(1-G62)-1)>=coeff!$B$15,coeff!$B$13/coeff!$B$14*(I62*(1-G62)-1)/(I62-1),\"\"))","v":""}]
[null,null,null,null,null,null,{"$f":"IF(F63=\"\",\"\",HLOOKUP(F63,$Q$3:AL65,ROW()-2))","v":""},null,null,{"$f":"IF(OR(G63=\"\",H63=\"\"),\"\",IF((H63*G63-1)>=coeff!$B$15,coeff!$B$13/coeff!$B$14*(H63*G63-1)/(H63-1),\"\"))","v":""},{"$f":"IF(OR(G63=\"\",I63=\"\"),\"\",IF((I63*(1-G63)-1)>=coeff!$B$15,coeff!$B$13/coeff!$B$14*(I63*(1-G63)-1)/(I63-1),\"\"))","v":""}]
[null,null,null,null,null,null,{"$f":"IF(F64=\"\",\"\",HLOOKUP(F64,$Q$3:AL66,ROW()-2))","v":""},null,null,{"$f":"IF(OR(G64=\"\",H64=\"\"),\"\",IF((H64*G64-1)>=coeff!$B$15,coeff!$B$13/coeff!$B$14*(H64*G64-1)/(H64-1),\"\"))","v":""},{"$f":"IF(OR(G64=\"\",I64=\"\"),\"\",IF((I64*(1-G64)-1)>=coeff!$B$15,coeff!$B$13/coeff!$B$14*(I64*(1-G64)-1)/(I64-1),\"\"))","v":""}]
[null,null,null,null,null,null,{"$f":"IF(F65=\"\",\"\",HLOOKUP(F65,$Q$3:AL67,ROW()-2))","v":""},null,null,{"$f":"IF(OR(G65=\"\",H65=\"\"),\"\",IF((H65*G65-1)>=coeff!$B$15,coeff!$B$13/coeff!$B$14*(H65*G65-1)/(H65-1),\"\"))","v":""},{"$f":"IF(OR(G65=\"\",I65=\"\"),\"\",IF((I65*(1-G65)-1)>=coeff!$B$15,coeff!$B$13/coeff!$B$14*(I65*(1-G65)-1)/(I65-1),\"\"))","v":""}]
[null,null,null,null,null,null,{"$f":"IF(F66=\"\",\"\",HLOOKUP(F66,$Q$3:AL68,ROW()-2))","v":""},null,null,{"$f":"IF(OR(G66=\"\",H66=\"\"),\"\",IF((H66*G66-1)>=coeff!$B$15,coeff!$B$13/coeff!$B$14*(H66*G66-1)/(H66-1),\"\"))","v":""},{"$f":"IF(OR(G66=\"\",I66=\"\"),\"\",IF((I66*(1-G66)-1)>=coeff!$B$15,coeff!$B$13/coeff!$B$14*(I66*(1-G66)-1)/(I66-1),\"\"))","v":""}]
[null,null,null,null,null,null,{"$f":"IF(F67=\"\",\"\",HLOOKUP(F67,$Q$3:AL69,ROW()-2))","v":""},null,null,{"$f":"IF(OR(G67=\"\",H67=\"\"),\"\",IF((H67*G67-1)>=coeff!$B$15,coeff!$B$13/coeff!$B$14*(H67*G67-1)/(H67-1),\"\"))","v":""},{"$f":"IF(OR(G67=\"\",I67=\"\"),\"\",IF((I67*(1-G67)-1)>=coeff!$B$15,coeff!$B$13/coeff!$B$14*(I67*(1-G67)-1)/(I67-1),\"\"))","v":""}]
[null,null,null,null,null,null,{"$f":"IF(F68=\"\",\"\",HLOOKUP(F68,$Q$3:AL70,ROW()-2))","v":""},null,null,{"$f":"IF(OR(G68=\"\",H68=\"\"),\"\",IF((H68*G68-1)>=coeff!$B$15,coeff!$B$13/coeff!$B$14*(H68*G68-1)/(H68-1),\"\"))","v":""},{"$f":"IF(OR(G68=\"\",I68=\"\"),\"\",IF((I68*(1-G68)-1)>=coeff!$B$15,coeff!$B$13/coeff!$B$14*(I68*(1-G68)-1)/(I68-1),\"\"))","v":""}]
[null,null,null,null,null,null,{"$f":"IF(F69=\"\",\"\",HLOOKUP(F69,$Q$3:AL71,ROW()-2))","v":""},null,null,{"$f":"IF(OR(G69=\"\",H69=\"\"),\"\",IF((H69*G69-1)>=coeff!$B$15,coeff!$B$13/coeff!$B$14*(H69*G69-1)/(H69-1),\"\"))","v":""},{"$f":"IF(OR(G69=\"\",I69=\"\"),\"\",IF((I69*(1-G69)-1)>=coeff!$B$15,coeff!$B$13/coeff!$B$14*(I69*(1-G69)-1)/(I69-1),\"\"))","v":""}]
[null,null,null,null,null,null,{"$f":"IF(F70=\"\",\"\",HLOOKUP(F70,$Q$3:AL72,ROW()-2))","v":""},null,null,{"$f":"IF(OR(G70=\"\",H70=\"\"),\"\",IF((H70*G70-1)>=coeff!$B$15,coeff!$B$13/coeff!$B$14*(H70*G70-1)/(H70-1),\"\"))","v":""},{"$f":"IF(OR(G70=\"\",I70=\"\"),\"\",IF((I70*(1-G70)-1)>=coeff!$B$15,coeff!$B$13/coeff!$B$14*(I70*(1-G70)-1)/(I70-1),\"\"))","v":""}]
[null,null,null,null,null,null,{"$f":"IF(F71=\"\",\"\",HLOOKUP(F71,$Q$3:AL73,ROW()-2))","v":""},null,null,{"$f":"IF(OR(G71=\"\",H71=\"\"),\"\",IF((H71*G71-1)>=coeff!$B$15,coeff!$B$13/coeff!$B$14*(H71*G71-1)/(H71-1),\"\"))","v":""},{"$f":"IF(OR(G71=\"\",I71=\"\"),\"\",IF((I71*(1-G71)-1)>=coeff!$B$15,coeff!$B$13/coeff!$B$14*(I71*(1-G71)-1)/(I71-1),\"\"))","v":""}]
[null,null,null,null,null,null,{"$f":"IF(F72=\"\",\"\",HLOOKUP(F72,$Q$3:AL74,ROW()-2))","v":""},null,null,{"$f":"IF(OR(G72=\"\",H72=\"\"),\"\",IF((H72*G72-1)>=coeff!$B$15,coeff!$B$13/coeff!$B$14*(H72*G72-1)/(H72-1),\"\"))","v":""},{"$f":"IF(OR(G72=\"\",I72=\"\"),\"\",IF((I72*(1-G72)-1)>=coeff!$B$15,coeff!$B$13/coeff!$B$14*(I72*(1-G72)-1)/(I72-1),\"\"))","v":""}]
[null,null,null,null,null,null,{"$f":"IF(F73=\"\",\"\",HLOOKUP(F73,$Q$3:AL75,ROW()-2))","v":""},null,null,{"$f":"IF(OR(G73=\"\",H73=\"\"),\"\",IF((H73*G73-1)>=coeff!$B$15,coeff!$B$13/coeff!$B$14*(H73*G73-1)/(H73-1),\"\"))","v":""},{"$f":"IF(OR(G73=\"\",I73=\"\"),\"\",IF((I73*(1-G73)-1)>=coeff!$B$15,coeff!$B$13/coeff!$B$14*(I73*(1-G73)-1)/(I73-1),\"\"))","v":""}]
[null,null,null,null,null,null,{"$f":"IF(F74=\"\",\"\",HLOOKUP(F74,$Q$3:AL76,ROW()-2))","v":""},null,null,{"$f":"IF(OR(G74=\"\",H74=\"\"),\"\",IF((H74*G74-1)>=coeff!$B$15,coeff!$B$13/coeff!$B$14*(H74*G74-1)/(H74-1),\"\"))","v":""},{"$f":"IF(OR(G74=\"\",I74=\"\"),\"\",IF((I74*(1-G74)-1)>=coeff!$B$15,coeff!$B$13/coeff!$B$14*(I74*(1-G74)-1)/(I74-1),\"\"))","v":""}]
[null,null,null,null,null,null,{"$f":"IF(F75=\"\",\"\",HLOOKUP(F75,$Q$3:AL77,ROW()-2))","v":""},null,null,{"$f":"IF(OR(G75=\"\",H75=\"\"),\"\",IF((H75*G75-1)>=coeff!$B$15,coeff!$B$13/coeff!$B$14*(H75*G75-1)/(H75-1),\"\"))","v":""},{"$f":"IF(OR(G75=\"\",I75=\"\"),\"\",IF((I75*(1-G75)-1)>=coeff!$B$15,coeff!$B$13/coeff!$B$14*(I75*(1-G75)-1)/(I75-1),\"\"))","v":""}]
[null,null,null,null,null,null,{"$f":"IF(F76=\"\",\"\",HLOOKUP(F76,$Q$3:AL78,ROW()-2))","v":""},null,null,{"$f":"IF(OR(G76=\"\",H76=\"\"),\"\",IF((H76*G76-1)>=coeff!$B$15,coeff!$B$13/coeff!$B$14*(H76*G76-1)/(H76-1),\"\"))","v":""},{"$f":"IF(OR(G76=\"\",I76=\"\"),\"\",IF((I76*(1-G76)-1)>=coeff!$B$15,coeff!$B$13/coeff!$B$14*(I76*(1-G76)-1)/(I76-1),\"\"))","v":""}]
[null,null,null,null,null,null,{"$f":"IF(F77=\"\",\"\",HLOOKUP(F77,$Q$3:AL79,ROW()-2))","v":""},null,null,{"$f":"IF(OR(G77=\"\",H77=\"\"),\"\",IF((H77*G77-1)>=coeff!$B$15,coeff!$B$13/coeff!$B$14*(H77*G77-1)/(H77-1),\"\"))","v":""},{"$f":"IF(OR(G77=\"\",I77=\"\"),\"\",IF((I77*(1-G77)-1)>=coeff!$B$15,coeff!$B$13/coeff!$B$14*(I77*(1-G77)-1)/(I77-1),\"\"))","v":""}]
[null,null,null,null,null,null,{"$f":"IF(F78=\"\",\"\",HLOOKUP(F78,$Q$3:AL80,ROW()-2))","v":""},null,null,{"$f":"IF(OR(G78=\"\",H78=\"\"),\"\",IF((H78*G78-1)>=coeff!$B$15,coeff!$B$13/coeff!$B$14*(H78*G78-1)/(H78-1),\"\"))","v":""},{"$f":"IF(OR(G78=\"\",I78=\"\"),\"\",IF((I78*(1-G78)-1)>=coeff!$B$15,coeff!$B$13/coeff!$B$14*(I78*(1-G78)-1)/(I78-1),\"\"))","v":""}]
[null,null,null,null,null,null,{"$f":"IF(F79=\"\",\"\",HLOOKUP(F79,$Q$3:AL81,ROW()-2))","v":""},null,null,{"$f":"IF(OR(G79=\"\",H79=\"\"),\"\",IF((H79*G79-1)>=coeff!$B$15,coeff!$B$13/coeff!$B$14*(H79*G79-1)/(H79-1),\"\"))","v":""},{"$f":"IF(OR(G79=\"\",I79=\"\"),\"\",IF((I79*(1-G79)-1)>=coeff!$B$15,coeff!$B$13/coeff!$B$14*(I79*(1-G79)-1)/(I79-1),\"\"))","v":""}]
[null,null,null,null,null,null,{"$f":"IF(F80=\"\",\"\",HLOOKUP(F80,$Q$3:AL82,ROW()-2))","v":""},null,null,{"$f":"IF(OR(G80=\"\",H80=\"\"),\"\",IF((H80*G80-1)>=coeff!$B$15,coeff!$B$13/coeff!$B$14*(H80*G80-1)/(H80-1),\"\"))","v":""},{"$f":"IF(OR(G80=\"\",I80=\"\"),\"\",IF((I80*(1-G80)-1)>=coeff!$B$15,coeff!$B$13/coeff!$B$14*(I80*(1-G80)-1)/(I80-1),\"\"))","v":""}]
[null,null,null,null,null,null,{"$f":"IF(F81=\"\",\"\",HLOOKUP(F81,$Q$3:AL83,ROW()-2))","v":""},null,null,{"$f":"IF(OR(G81=\"\",H81=\"\"),\"\",IF((H81*G81-1)>=coeff!$B$15,coeff!$B$13/coeff!$B$14*(H81*G81-1)/(H81-1),\"\"))","v":""},{"$f":"IF(OR(G81=\"\",I81=\"\"),\"\",IF((I81*(1-G81)-1)>=coeff!$B$15,coeff!$B$13/coeff!$B$14*(I81*(1-G81)-1)/(I81-1),\"\"))","v":""}]
[null,null,null,null,null,null,{"$f":"IF(F82=\"\",\"\",HLOOKUP(F82,$Q$3:AL84,ROW()-2))","v":""},null,null,{"$f":"IF(OR(G82=\"\",H82=\"\"),\"\",IF((H82*G82-1)>=coeff!$B$15,coeff!$B$13/coeff!$B$14*(H82*G82-1)/(H82-1),\"\"))","v":""},{"$f":"IF(OR(G82=\"\",I82=\"\"),\"\",IF((I82*(1-G82)-1)>=coeff!$B$15,coeff!$B$13/coeff!$B$14*(I82*(1-G82)-1)/(I82-1),\"\"))","v":""}]
[null,null,null,null,null,null,{"$f":"IF(F83=\"\",\"\",HLOOKUP(F83,$Q$3:AL85,ROW()-2))","v":""},null,null,{"$f":"IF(OR(G83=\"\",H83=\"\"),\"\",IF((H83*G83-1)>=coeff!$B$15,coeff!$B$13/coeff!$B$14*(H83*G83-1)/(H83-1),\"\"))","v":""},{"$f":"IF(OR(G83=\"\",I83=\"\"),\"\",IF((I83*(1-G83)-1)>=coeff!$B$15,coeff!$B$13/coeff!$B$14*(I83*(1-G83)-1)/(I83-1),\"\"))","v":""}]
[null,null,null,null,null,null,{"$f":"IF(F84=\"\",\"\",HLOOKUP(F84,$Q$3:AL86,ROW()-2))","v":""},null,null,{"$f":"IF(OR(G84=\"\",H84=\"\"),\"\",IF((H84*G84-1)>=coeff!$B$15,coeff!$B$13/coeff!$B$14*(H84*G84-1)/(H84-1),\"\"))","v":""},{"$f":"IF(OR(G84=\"\",I84=\"\"),\"\",IF((I84*(1-G84)-1)>=coeff!$B$15,coeff!$B$13/coeff!$B$14*(I84*(1-G84)-1)/(I84-1),\"\"))","v":""}]
[null,null,null,null,null,null,{"$f":"IF(F85=\"\",\"\",HLOOKUP(F85,$Q$3:AL87,ROW()-2))","v":""},null,null,{"$f":"IF(OR(G85=\"\",H85=\"\"),\"\",IF((H85*G85-1)>=coeff!$B$15,coeff!$B$13/coeff!$B$14*(H85*G85-1)/(H85-1),\"\"))","v":""},{"$f":"IF(OR(G85=\"\",I85=\"\"),\"\",IF((I85*(1-G85)-1)>=coeff!$B$15,coeff!$B$13/coeff!$B$14*(I85*(1-G85)-1)/(I85-1),\"\"))","v":""}]
[null,null,null,null,null,null,{"$f":"IF(F86=\"\",\"\",HLOOKUP(F86,$Q$3:AL88,ROW()-2))","v":""},null,null,{"$f":"IF(OR(G86=\"\",H86=\"\"),\"\",IF((H86*G86-1)>=coeff!$B$15,coeff!$B$13/coeff!$B$14*(H86*G86-1)/(H86-1),\"\"))","v":""},{"$f":"IF(OR(G86=\"\",I86=\"\"),\"\",IF((I86*(1-G86)-1)>=coeff!$B$15,coeff!$B$13/coeff!$B$14*(I86*(1-G86)-1)/(I86-1),\"\"))","v":""}]
[null,null,null,null,null,null,{"$f":"IF(F87=\"\",\"\",HLOOKUP(F87,$Q$3:AL89,ROW()-2))","v":""},null,null,{"$f":"IF(OR(G87=\"\",H87=\"\"),\"\",IF((H87*G87-1)>=coeff!$B$15,coeff!$B$13/coeff!$B$14*(H87*G87-1)/(H87-1),\"\"))","v":""},{"$f":"IF(OR(G87=\"\",I87=\"\"),\"\",IF((I87*(1-G87)-1)>=coeff!$B$15,coeff!$B$13/coeff!$B$14*(I87*(1-G87)-1)/(I87-1),\"\"))","v":""}]
[null,null,null,null,null,null,{"$f":"IF(F88=\"\",\"\",HLOOKUP(F88,$Q$3:AL90,ROW()-2))","v":""},null,null,{"$f":"IF(OR(G88=\"\",H88=\"\"),\"\",IF((H88*G88-1)>=coeff!$B$15,coeff!$B$13/coeff!$B$14*(H88*G88-1)/(H88-1),\"\"))","v":""},{"$f":"IF(OR(G88=\"\",I88=\"\"),\"\",IF((I88*(1-G88)-1)>=coeff!$B$15,coeff!$B$13/coeff!$B$14*(I88*(1-G88)-1)/(I88-1),\"\"))","v":""}]
[null,null,null,null,null,null,{"$f":"IF(F89=\"\",\"\",HLOOKUP(F89,$Q$3:AL91,ROW()-2))","v":""},null,null,{"$f":"IF(OR(G89=\"\",H89=\"\"),\"\",IF((H89*G89-1)>=coeff!$B$15,coeff!$B$13/coeff!$B$14*(H89*G89-1)/(H89-1),\"\"))","v":""},{"$f":"IF(OR(G89=\"\",I89=\"\"),\"\",IF((I89*(1-G89)-1)>=coeff!$B$15,coeff!$B$13/coeff!$B$14*(I89*(1-G89)-1)/(I89-1),\"\"))","v":""}]
[null,null,null,null,null,null,{"$f":"IF(F90=\"\",\"\",HLOOKUP(F90,$Q$3:AL92,ROW()-2))","v":""},null,null,{"$f":"IF(OR(G90=\"\",H90=\"\"),\"\",IF((H90*G90-1)>=coeff!$B$15,coeff!$B$13/coeff!$B$14*(H90*G90-1)/(H90-1),\"\"))","v":""},{"$f":"IF(OR(G90=\"\",I90=\"\"),\"\",IF((I90*(1-G90)-1)>=coeff!$B$15,coeff!$B$13/coeff!$B$14*(I90*(1-G90)-1)/(I90-1),\"\"))","v":""}]
[null,null,null,null,null,null,{"$f":"IF(F91=\"\",\"\",HLOOKUP(F91,$Q$3:AL93,ROW()-2))","v":""},null,null,{"$f":"IF(OR(G91=\"\",H91=\"\"),\"\",IF((H91*G91-1)>=coeff!$B$15,coeff!$B$13/coeff!$B$14*(H91*G91-1)/(H91-1),\"\"))","v":""},{"$f":"IF(OR(G91=\"\",I91=\"\"),\"\",IF((I91*(1-G91)-1)>=coeff!$B$15,coeff!$B$13/coeff!$B$14*(I91*(1-G91)-1)/(I91-1),\"\"))","v":""}]
[null,null,null,null,null,null,{"$f":"IF(F92=\"\",\"\",HLOOKUP(F92,$Q$3:AL94,ROW()-2))","v":""},null,null,{"$f":"IF(OR(G92=\"\",H92=\"\"),\"\",IF((H92*G92-1)>=coeff!$B$15,coeff!$B$13/coeff!$B$14*(H92*G92-1)/(H92-1),\"\"))","v":""},{"$f":"IF(OR(G92=\"\",I92=\"\"),\"\",IF((I92*(1-G92)-1)>=coeff!$B$15,coeff!$B$13/coeff!$B$14*(I92*(1-G92)-1)/(I92-1),\"\"))","v":""}]
[null,null,null,null,null,null,{"$f":"IF(F93=\"\",\"\",HLOOKUP(F93,$Q$3:AL95,ROW()-2))","v":""},null,null,{"$f":"IF(OR(G93=\"\",H93=\"\"),\"\",IF((H93*G93-1)>=coeff!$B$15,coeff!$B$13/coeff!$B$14*(H93*G93-1)/(H93-1),\"\"))","v":""},{"$f":"IF(OR(G93=\"\",I93=\"\"),\"\",IF((I93*(1-G93)-1)>=coeff!$B$15,coeff!$B$13/coeff!$B$14*(I93*(1-G93)-1)/(I93-1),\"\"))","v":""}]
[null,null,null,null,null,null,{"$f":"IF(F94=\"\",\"\",HLOOKUP(F94,$Q$3:AL96,ROW()-2))","v":""},null,null,{"$f":"IF(OR(G94=\"\",H94=\"\"),\"\",IF((H94*G94-1)>=coeff!$B$15,coeff!$B$13/coeff!$B$14*(H94*G94-1)/(H94-1),\"\"))","v":""},{"$f":"IF(OR(G94=\"\",I94=\"\"),\"\",IF((I94*(1-G94)-1)>=coeff!$B$15,coeff!$B$13/coeff!$B$14*(I94*(1-G94)-1)/(I94-1),\"\"))","v":""}]
[null,null,null,null,null,null,{"$f":"IF(F95=\"\",\"\",HLOOKUP(F95,$Q$3:AL97,ROW()-2))","v":""},null,null,{"$f":"IF(OR(G95=\"\",H95=\"\"),\"\",IF((H95*G95-1)>=coeff!$B$15,coeff!$B$13/coeff!$B$14*(H95*G95-1)/(H95-1),\"\"))","v":""},{"$f":"IF(OR(G95=\"\",I95=\"\"),\"\",IF((I95*(1-G95)-1)>=coeff!$B$15,coeff!$B$13/coeff!$B$14*(I95*(1-G95)-1)/(I95-1),\"\"))","v":""}]
[null,null,null,null,null,null,{"$f":"IF(F96=\"\",\"\",HLOOKUP(F96,$Q$3:AL98,ROW()-2))","v":""},null,null,{"$f":"IF(OR(G96=\"\",H96=\"\"),\"\",IF((H96*G96-1)>=coeff!$B$15,coeff!$B$13/coeff!$B$14*(H96*G96-1)/(H96-1),\"\"))","v":""},{"$f":"IF(OR(G96=\"\",I96=\"\"),\"\",IF((I96*(1-G96)-1)>=coeff!$B$15,coeff!$B$13/coeff!$B$14*(I96*(1-G96)-1)/(I96-1),\"\"))","v":""}]
[null,null,null,null,null,null,{"$f":"IF(F97=\"\",\"\",HLOOKUP(F97,$Q$3:AL99,ROW()-2))","v":""},null,null,{"$f":"IF(OR(G97=\"\",H97=\"\"),\"\",IF((H97*G97-1)>=coeff!$B$15,coeff!$B$13/coeff!$B$14*(H97*G97-1)/(H97-1),\"\"))","v":""},{"$f":"IF(OR(G97=\"\",I97=\"\"),\"\",IF((I97*(1-G97)-1)>=coeff!$B$15,coeff!$B$13/coeff!$B$14*(I97*(1-G97)-1)/(I97-1),\"\"))","v":""}]
[null,null,null,null,null,null,{"$f":"IF(F98=\"\",\"\",HLOOKUP(F98,$Q$3:AL100,ROW()-2))","v":""},null,null,{"$f":"IF(OR(G98=\"\",H98=\"\"),\"\",IF((H98*G98-1)>=coeff!$B$15,coeff!$B$13/coeff!$B$14*(H98*G98-1)/(H98-1),\"\"))","v":""},{"$f":"IF(OR(G98=\"\",I98=\"\"),\"\",IF((I98*(1-G98)-1)>=coeff!$B$15,coeff!$B$13/coeff!$B$14*(I98*(1-G98)-1)/(I98-1),\"\"))","v":""}]
[null,null,null,null,null,null,{"$f":"IF(F99=\"\",\"\",HLOOKUP(F99,$Q$3:AL101,ROW()-2))","v":""},null,null,{"$f":"IF(OR(G99=\"\",H99=\"\"),\"\",IF((H99*G99-1)>=coeff!$B$15,coeff!$B$13/coeff!$B$14*(H99*G99-1)/(H99-1),\"\"))","v":""},{"$f":"IF(OR(G99=\"\",I99=\"\"),\"\",IF((I99*(1-G99)-1)>=coeff!$B$15,coeff!$B$13/coeff!$B$14*(I99*(1-G99)-1)/(I99-1),\"\"))","v":""}]
[null,null,null,null,null,null,{"$f":"IF(F100=\"\",\"\",HLOOKUP(F100,$Q$3:AL102,ROW()-2))","v":""},null,null,{"$f":"IF(OR(G100=\"\",H100=\"\"),\"\",IF((H100*G100-1)>=coeff!$B$15,coeff!$B$13/coeff!$B$14*(H100*G100-1)/(H100-1),\"\"))","v":""},{"$f":"IF(OR(G100=\"\",I100=\"\"),\"\",IF((I100*(1-G100)-1)>=coeff!$B$15,coeff!$B$13/coeff!$B$14*(I100*(1-G100)-1)/(I100-1),\"\"))","v":""}]
[null,null,null,null,null,null,{"$f":"IF(F101=\"\",\"\",HLOOKUP(F101,$Q$3:AL103,ROW()-2))","v":""},null,null,{"$f":"IF(OR(G101=\"\",H101=\"\"),\"\",IF((H101*G101-1)>=coeff!$B$15,coeff!$B$13/coeff!$B$14*(H101*G101-1)/(H101-1),\"\"))","v":""},{"$f":"IF(OR(G101=\"\",I101=\"\"),\"\",IF((I101*(1-G101)-1)>=coeff!$B$15,coeff!$B$13/coeff!$B$14*(I101*(1-G101)-1)/(I101-1),\"\"))","v":""}]
[null,null,null,null,null,null,{"$f":"IF(F102=\"\",\"\",HLOOKUP(F102,$Q$3:AL104,ROW()-2))","v":""},null,null,{"$f":"IF(OR(G102=\"\",H102=\"\"),\"\",IF((H102*G102-1)>=coeff!$B$15,coeff!$B$13/coeff!$B$14*(H102*G102-1)/(H102-1),\"\"))","v":""},{"$f":"IF(OR(G102=\"\",I102=\"\"),\"\",IF((I102*(1-G102)-1)>=coeff!$B$15,coeff!$B$13/coeff!$B$14*(I102*(1-G102)-1)/(I102-1),\"\"))","v":""}]
[null,null,null,null,null,null,{"$f":"IF(F103=\"\",\"\",HLOOKUP(F103,$Q$3:AL105,ROW()-2))","v":""},null,null,{"$f":"IF(OR(G103=\"\",H103=\"\"),\"\",IF((H103*G103-1)>=coeff!$B$15,coeff!$B$13/coeff!$B$14*(H103*G103-1)/(H103-1),\"\"))","v":""},{"$f":"IF(OR(G103=\"\",I103=\"\"),\"\",IF((I103*(1-G103)-1)>=coeff!$B$15,coeff!$B$13/coeff!$B$14*(I103*(1-G103)-1)/(I103-1),\"\"))","v":""}]
[null,null,null,null,null,null,{"$f":"IF(F104=\"\",\"\",HLOOKUP(F104,$Q$3:AL106,ROW()-2))","v":""},null,null,{"$f":"IF(OR(G104=\"\",H104=\"\"),\"\",IF((H104*G104-1)>=coeff!$B$15,coeff!$B$13/coeff!$B$14*(H104*G104-1)/(H104-1),\"\"))","v":""},{"$f":"IF(OR(G104=\"\",I104=\"\"),\"\",IF((I104*(1-G104)-1)>=coeff!$B$15,coeff!$B$13/coeff!$B$14*(I104*(1-G104)-1)/(I104-1),\"\"))","v":""}]
[null,null,null,null,null,null,{"$f":"IF(F105=\"\",\"\",HLOOKUP(F105,$Q$3:AL107,ROW()-2))","v":""},null,null,{"$f":"IF(OR(G105=\"\",H105=\"\"),\"\",IF((H105*G105-1)>=coeff!$B$15,coeff!$B$13/coeff!$B$14*(H105*G105-1)/(H105-1),\"\"))","v":""},{"$f":"IF(OR(G105=\"\",I105=\"\"),\"\",IF((I105*(1-G105)-1)>=coeff!$B$15,coeff!$B$13/coeff!$B$14*(I105*(1-G105)-1)/(I105-1),\"\"))","v":""}]
[null,null,null,null,null,null,{"$f":"IF(F106=\"\",\"\",HLOOKUP(F106,$Q$3:AL108,ROW()-2))","v":""},null,null,{"$f":"IF(OR(G106=\"\",H106=\"\"),\"\",IF((H106*G106-1)>=coeff!$B$15,coeff!$B$13/coeff!$B$14*(H106*G106-1)/(H106-1),\"\"))","v":""},{"$f":"IF(OR(G106=\"\",I106=\"\"),\"\",IF((I106*(1-G106)-1)>=coeff!$B$15,coeff!$B$13/coeff!$B$14*(I106*(1-G106)-1)/(I106-1),\"\"))","v":""}]
[null,null,null,null,null,null,{"$f":"IF(F107=\"\",\"\",HLOOKUP(F107,$Q$3:AL109,ROW()-2))","v":""},null,null,{"$f":"IF(OR(G107=\"\",H107=\"\"),\"\",IF((H107*G107-1)>=coeff!$B$15,coeff!$B$13/coeff!$B$14*(H107*G107-1)/(H107-1),\"\"))","v":""},{"$f":"IF(OR(G107=\"\",I107=\"\"),\"\",IF((I107*(1-G107)-1)>=coeff!$B$15,coeff!$B$13/coeff!$B$14*(I107*(1-G107)-1)/(I107-1),\"\"))","v":""}]
[null,null,null,null,null,null,{"$f":"IF(F108=\"\",\"\",HLOOKUP(F108,$Q$3:AL110,ROW()-2))","v":""},null,null,{"$f":"IF(OR(G108=\"\",H108=\"\"),\"\",IF((H108*G108-1)>=coeff!$B$15,coeff!$B$13/coeff!$B$14*(H108*G108-1)/(H108-1),\"\"))","v":""},{"$f":"IF(OR(G108=\"\",I108=\"\"),\"\",IF((I108*(1-G108)-1)>=coeff!$B$15,coeff!$B$13/coeff!$B$14*(I108*(1-G108)-1)/(I108-1),\"\"))","v":""}]
[null,null,null,null,null,null,{"$f":"IF(F109=\"\",\"\",HLOOKUP(F109,$Q$3:AL111,ROW()-2))","v":""},null,null,{"$f":"IF(OR(G109=\"\",H109=\"\"),\"\",IF((H109*G109-1)>=coeff!$B$15,coeff!$B$13/coeff!$B$14*(H109*G109-1)/(H109-1),\"\"))","v":""},{"$f":"IF(OR(G109=\"\",I109=\"\"),\"\",IF((I109*(1-G109)-1)>=coeff!$B$15,coeff!$B$13/coeff!$B$14*(I109*(1-G109)-1)/(I109-1),\"\"))","v":""}]
[null,null,null,null,null,null,{"$f":"IF(F110=\"\",\"\",HLOOKUP(F110,$Q$3:AL112,ROW()-2))","v":""},null,null,{"$f":"IF(OR(G110=\"\",H110=\"\"),\"\",IF((H110*G110-1)>=coeff!$B$15,coeff!$B$13/coeff!$B$14*(H110*G110-1)/(H110-1),\"\"))","v":""},{"$f":"IF(OR(G110=\"\",I110=\"\"),\"\",IF((I110*(1-G110)-1)>=coeff!$B$15,coeff!$B$13/coeff!$B$14*(I110*(1-G110)-1)/(I110-1),\"\"))","v":""}]
[null,null,null,null,null,null,{"$f":"IF(F111=\"\",\"\",HLOOKUP(F111,$Q$3:AL113,ROW()-2))","v":""},null,null,{"$f":"IF(OR(G111=\"\",H111=\"\"),\"\",IF((H111*G111-1)>=coeff!$B$15,coeff!$B$13/coeff!$B$14*(H111*G111-1)/(H111-1),\"\"))","v":""},{"$f":"IF(OR(G111=\"\",I111=\"\"),\"\",IF((I111*(1-G111)-1)>=coeff!$B$15,coeff!$B$13/coeff!$B$14*(I111*(1-G111)-1)/(I111-1),\"\"))","v":""}]
[null,null,null,null,null,null,{"$f":"IF(F112=\"\",\"\",HLOOKUP(F112,$Q$3:AL114,ROW()-2))","v":""},null,null,{"$f":"IF(OR(G112=\"\",H112=\"\"),\"\",IF((H112*G112-1)>=coeff!$B$15,coeff!$B$13/coeff!$B$14*(H112*G112-1)/(H112-1),\"\"))","v":""},{"$f":"IF(OR(G112=\"\",I112=\"\"),\"\",IF((I112*(1-G112)-1)>=coeff!$B$15,coeff!$B$13/coeff!$B$14*(I112*(1-G112)-1)/(I112-1),\"\"))","v":""}]
[null,null,null,null,null,null,{"$f":"IF(F113=\"\",\"\",HLOOKUP(F113,$Q$3:AL115,ROW()-2))","v":""},null,null,{"$f":"IF(OR(G113=\"\",H113=\"\"),\"\",IF((H113*G113-1)>=coeff!$B$15,coeff!$B$13/coeff!$B$14*(H113*G113-1)/(H113-1),\"\"))","v":""},{"$f":"IF(OR(G113=\"\",I113=\"\"),\"\",IF((I113*(1-G113)-1)>=coeff!$B$15,coeff!$B$13/coeff!$B$14*(I113*(1-G113)-1)/(I113-1),\"\"))","v":""}]
[null,null,null,null,null,null,{"$f":"IF(F114=\"\",\"\",HLOOKUP(F114,$Q$3:AL116,ROW()-2))","v":""},null,null,{"$f":"IF(OR(G114=\"\",H114=\"\"),\"\",IF((H114*G114-1)>=coeff!$B$15,coeff!$B$13/coeff!$B$14*(H114*G114-1)/(H114-1),\"\"))","v":""},{"$f":"IF(OR(G114=\"\",I114=\"\"),\"\",IF((I114*(1-G114)-1)>=coeff!$B$15,coeff!$B$13/coeff!$B$14*(I114*(1-G114)-1)/(I114-1),\"\"))","v":""}]
[null,null,null,null,null,null,{"$f":"IF(F115=\"\",\"\",HLOOKUP(F115,$Q$3:AL117,ROW()-2))","v":""},null,null,{"$f":"IF(OR(G115=\"\",H115=\"\"),\"\",IF((H115*G115-1)>=coeff!$B$15,coeff!$B$13/coeff!$B$14*(H115*G115-1)/(H115-1),\"\"))","v":""},{"$f":"IF(OR(G115=\"\",I115=\"\"),\"\",IF((I115*(1-G115)-1)>=coeff!$B$15,coeff!$B$13/coeff!$B$14*(I115*(1-G115)-1)/(I115-1),\"\"))","v":""}]
[null,null,null,null,null,null,{"$f":"IF(F116=\"\",\"\",HLOOKUP(F116,$Q$3:AL118,ROW()-2))","v":""},null,null,{"$f":"IF(OR(G116=\"\",H116=\"\"),\"\",IF((H116*G116-1)>=coeff!$B$15,coeff!$B$13/coeff!$B$14*(H116*G116-1)/(H116-1),\"\"))","v":""},{"$f":"IF(OR(G116=\"\",I116=\"\"),\"\",IF((I116*(1-G116)-1)>=coeff!$B$15,coeff!$B$13/coeff!$B$14*(I116*(1-G116)-1)/(I116-1),\"\"))","v":""}]
[null,null,null,null,null,null,{"$f":"IF(F117=\"\",\"\",HLOOKUP(F117,$Q$3:AL119,ROW()-2))","v":""},null,null,{"$f":"IF(OR(G117=\"\",H117=\"\"),\"\",IF((H117*G117-1)>=coeff!$B$15,coeff!$B$13/coeff!$B$14*(H117*G117-1)/(H117-1),\"\"))","v":""},{"$f":"IF(OR(G117=\"\",I117=\"\"),\"\",IF((I117*(1-G117)-1)>=coeff!$B$15,coeff!$B$13/coeff!$B$14*(I117*(1-G117)-1)/(I117-1),\"\"))","v":""}]
[null,null,null,null,null,null,{"$f":"IF(F118=\"\",\"\",HLOOKUP(F118,$Q$3:AL120,ROW()-2))","v":""},null,null,{"$f":"IF(OR(G118=\"\",H118=\"\"),\"\",IF((H118*G118-1)>=coeff!$B$15,coeff!$B$13/coeff!$B$14*(H118*G118-1)/(H118-1),\"\"))","v":""},{"$f":"IF(OR(G118=\"\",I118=\"\"),\"\",IF((I118*(1-G118)-1)>=coeff!$B$15,coeff!$B$13/coeff!$B$14*(I118*(1-G118)-1)/(I118-1),\"\"))","v":""}]
[null,null,null,null,null,null,{"$f":"IF(F119=\"\",\"\",HLOOKUP(F119,$Q$3:AL121,ROW()-2))","v":""},null,null,{"$f":"IF(OR(G119=\"\",H119=\"\"),\"\",IF((H119*G119-1)>=coeff!$B$15,coeff!$B$13/coeff!$B$14*(H119*G119-1)/(H119-1),\"\"))","v":""},{"$f":"IF(OR(G119=\"\",I119=\"\"),\"\",IF((I119*(1-G119)-1)>=coeff!$B$15,coeff!$B$13/coeff!$B$14*(I119*(1-G119)-1)/(I119-1),\"\"))","v":""}]
[null,null,null,null,null,null,{"$f":"IF(F120=\"\",\"\",HLOOKUP(F120,$Q$3:AL122,ROW()-2))","v":""},null,null,{"$f":"IF(OR(G120=\"\",H120=\"\"),\"\",IF((H120*G120-1)>=coeff!$B$15,coeff!$B$13/coeff!$B$14*(H120*G120-1)/(H120-1),\"\"))","v":""},{"$f":"IF(OR(G120=\"\",I120=\"\"),\"\",IF((I120*(1-G120)-1)>=coeff!$B$15,coeff!$B$13/coeff!$B$14*(I120*(1-G120)-1)/(I120-1),\"\"))","v":""}]
[null,null,null,null,null,null,{"$f":"IF(F121=\"\",\"\",HLOOKUP(F121,$Q$3:AL123,ROW()-2))","v":""},null,null,{"$f":"IF(OR(G121=\"\",H121=\"\"),\"\",IF((H121*G121-1)>=coeff!$B$15,coeff!$B$13/coeff!$B$14*(H121*G121-1)/(H121-1),\"\"))","v":""},{"$f":"IF(OR(G121=\"\",I121=\"\"),\"\",IF((I121*(1-G121)-1)>=coeff!$B$15,coeff!$B$13/coeff!$B$14*(I121*(1-G121)-1)/(I121-1),\"\"))","v":""}]
[null,null,null,null,null,null,{"$f":"IF(F122=\"\",\"\",HLOOKUP(F122,$Q$3:AL124,ROW()-2))","v":""},null,null,{"$f":"IF(OR(G122=\"\",H122=\"\"),\"\",IF((H122*G122-1)>=coeff!$B$15,coeff!$B$13/coeff!$B$14*(H122*G122-1)/(H122-1),\"\"))","v":""},{"$f":"IF(OR(G122=\"\",I122=\"\"),\"\",IF((I122*(1-G122)-1)>=coeff!$B$15,coeff!$B$13/coeff!$B$14*(I122*(1-G122)-1)/(I122-1),\"\"))","v":""}]
[null,null,null,null,null,null,{"$f":"IF(F123=\"\",\"\",HLOOKUP(F123,$Q$3:AL125,ROW()-2))","v":""},null,null,{"$f":"IF(OR(G123=\"\",H123=\"\"),\"\",IF((H123*G123-1)>=coeff!$B$15,coeff!$B$13/coeff!$B$14*(H123*G123-1)/(H123-1),\"\"))","v":""},{"$f":"IF(OR(G123=\"\",I123=\"\"),\"\",IF((I123*(1-G123)-1)>=coeff!$B$15,coeff!$B$13/coeff!$B$14*(I123*(1-G123)-1)/(I123-1),\"\"))","v":""}]
[null,null,null,null,null,null,{"$f":"IF(F124=\"\",\"\",HLOOKUP(F124,$Q$3:AL126,ROW()-2))","v":""},null,null,{"$f":"IF(OR(G124=\"\",H124=\"\"),\"\",IF((H124*G124-1)>=coeff!$B$15,coeff!$B$13/coeff!$B$14*(H124*G124-1)/(H124-1),\"\"))","v":""},{"$f":"IF(OR(G124=\"\",I124=\"\"),\"\",IF((I124*(1-G124)-1)>=coeff!$B$15,coeff!$B$13/coeff!$B$14*(I124*(1-G124)-1)/(I124-1),\"\"))","v":""}]
[null,null,null,null,null,null,{"$f":"IF(F125=\"\",\"\",HLOOKUP(F125,$Q$3:AL127,ROW()-2))","v":""},null,null,{"$f":"IF(OR(G125=\"\",H125=\"\"),\"\",IF((H125*G125-1)>=coeff!$B$15,coeff!$B$13/coeff!$B$14*(H125*G125-1)/(H125-1),\"\"))","v":""},{"$f":"IF(OR(G125=\"\",I125=\"\"),\"\",IF((I125*(1-G125)-1)>=coeff!$B$15,coeff!$B$13/coeff!$B$14*(I125*(1-G125)-1)/(I125-1),\"\"))","v":""}]
[null,null,null,null,null,null,{"$f":"IF(F126=\"\",\"\",HLOOKUP(F126,$Q$3:AL128,ROW()-2))","v":""},null,null,{"$f":"IF(OR(G126=\"\",H126=\"\"),\"\",IF((H126*G126-1)>=coeff!$B$15,coeff!$B$13/coeff!$B$14*(H126*G126-1)/(H126-1),\"\"))","v":""},{"$f":"IF(OR(G126=\"\",I126=\"\"),\"\",IF((I126*(1-G126)-1)>=coeff!$B$15,coeff!$B$13/coeff!$B$14*(I126*(1-G126)-1)/(I126-1),\"\"))","v":""}]
[null,null,null,null,null,null,{"$f":"IF(F127=\"\",\"\",HLOOKUP(F127,$Q$3:AL129,ROW()-2))","v":""},null,null,{"$f":"IF(OR(G127=\"\",H127=\"\"),\"\",IF((H127*G127-1)>=coeff!$B$15,coeff!$B$13/coeff!$B$14*(H127*G127-1)/(H127-1),\"\"))","v":""},{"$f":"IF(OR(G127=\"\",I127=\"\"),\"\",IF((I127*(1-G127)-1)>=coeff!$B$15,coeff!$B$13/coeff!$B$14*(I127*(1-G127)-1)/(I127-1),\"\"))","v":""}]
[null,null,null,null,null,null,{"$f":"IF(F128=\"\",\"\",HLOOKUP(F128,$Q$3:AL130,ROW()-2))","v":""},null,null,{"$f":"IF(OR(G128=\"\",H128=\"\"),\"\",IF((H128*G128-1)>=coeff!$B$15,coeff!$B$13/coeff!$B$14*(H128*G128-1)/(H128-1),\"\"))","v":""},{"$f":"IF(OR(G128=\"\",I128=\"\"),\"\",IF((I128*(1-G128)-1)>=coeff!$B$15,coeff!$B$13/coeff!$B$14*(I128*(1-G128)-1)/(I128-1),\"\"))","v":""}]
[null,null,null,null,null,null,{"$f":"IF(F129=\"\",\"\",HLOOKUP(F129,$Q$3:AL131,ROW()-2))","v":""},null,null,{"$f":"IF(OR(G129=\"\",H129=\"\"),\"\",IF((H129*G129-1)>=coeff!$B$15,coeff!$B$13/coeff!$B$14*(H129*G129-1)/(H129-1),\"\"))","v":""},{"$f":"IF(OR(G129=\"\",I129=\"\"),\"\",IF((I129*(1-G129)-1)>=coeff!$B$15,coeff!$B$13/coeff!$B$14*(I129*(1-G129)-1)/(I129-1),\"\"))","v":""}]
[null,null,null,null,null,null,{"$f":"IF(F130=\"\",\"\",HLOOKUP(F130,$Q$3:AL132,ROW()-2))","v":""},null,null,{"$f":"IF(OR(G130=\"\",H130=\"\"),\"\",IF((H130*G130-1)>=coeff!$B$15,coeff!$B$13/coeff!$B$14*(H130*G130-1)/(H130-1),\"\"))","v":""},{"$f":"IF(OR(G130=\"\",I130=\"\"),\"\",IF((I130*(1-G130)-1)>=coeff!$B$15,coeff!$B$13/coeff!$B$14*(I130*(1-G130)-1)/(I130-1),\"\"))","v":""}]
[null,null,null,null,null,null,{"$f":"IF(F131=\"\",\"\",HLOOKUP(F131,$Q$3:AL133,ROW()-2))","v":""},null,null,{"$f":"IF(OR(G131=\"\",H131=\"\"),\"\",IF((H131*G131-1)>=coeff!$B$15,coeff!$B$13/coeff!$B$14*(H131*G131-1)/(H131-1),\"\"))","v":""},{"$f":"IF(OR(G131=\"\",I131=\"\"),\"\",IF((I131*(1-G131)-1)>=coeff!$B$15,coeff!$B$13/coeff!$B$14*(I131*(1-G131)-1)/(I131-1),\"\"))","v":""}]
[null,null,null,null,null,null,{"$f":"IF(F132=\"\",\"\",HLOOKUP(F132,$Q$3:AL134,ROW()-2))","v":""},null,null,{"$f":"IF(OR(G132=\"\",H132=\"\"),\"\",IF((H132*G132-1)>=coeff!$B$15,coeff!$B$13/coeff!$B$14*(H132*G132-1)/(H132-1),\"\"))","v":""},{"$f":"IF(OR(G132=\"\",I132=\"\"),\"\",IF((I132*(1-G132)-1)>=coeff!$B$15,coeff!$B$13/coeff!$B$14*(I132*(1-G132)-1)/(I132-1),\"\"))","v":""}]
[null,null,null,null,null,null,{"$f":"IF(F133=\"\",\"\",HLOOKUP(F133,$Q$3:AL135,ROW()-2))","v":""},null,null,{"$f":"IF(OR(G133=\"\",H133=\"\"),\"\",IF((H133*G133-1)>=coeff!$B$15,coeff!$B$13/coeff!$B$14*(H133*G133-1)/(H133-1),\"\"))","v":""},{"$f":"IF(OR(G133=\"\",I133=\"\"),\"\",IF((I133*(1-G133)-1)>=coeff!$B$15,coeff!$B$13/coeff!$B$14*(I133*(1-G133)-1)/(I133-1),\"\"))","v":""}]
[null,null,null,null,null,null,{"$f":"IF(F134=\"\",\"\",HLOOKUP(F134,$Q$3:AL136,ROW()-2))","v":""},null,null,{"$f":"IF(OR(G134=\"\",H134=\"\"),\"\",IF((H134*G134-1)>=coeff!$B$15,coeff!$B$13/coeff!$B$14*(H134*G134-1)/(H134-1),\"\"))","v":""},{"$f":"IF(OR(G134=\"\",I134=\"\"),\"\",IF((I134*(1-G134)-1)>=coeff!$B$15,coeff!$B$13/coeff!$B$14*(I134*(1-G134)-1)/(I134-1),\"\"))","v":""}]
[null,null,null,null,null,null,{"$f":"IF(F135=\"\",\"\",HLOOKUP(F135,$Q$3:AL137,ROW()-2))","v":""},null,null,{"$f":"IF(OR(G135=\"\",H135=\"\"),\"\",IF((H135*G135-1)>=coeff!$B$15,coeff!$B$13/coeff!$B$14*(H135*G135-1)/(H135-1),\"\"))","v":""},{"$f":"IF(OR(G135=\"\",I135=\"\"),\"\",IF((I135*(1-G135)-1)>=coeff!$B$15,coeff!$B$13/coeff!$B$14*(I135*(1-G135)-1)/(I135-1),\"\"))","v":""}]
[null,null,null,null,null,null,{"$f":"IF(F136=\"\",\"\",HLOOKUP(F136,$Q$3:AL138,ROW()-2))","v":""},null,null,{"$f":"IF(OR(G136=\"\",H136=\"\"),\"\",IF((H136*G136-1)>=coeff!$B$15,coeff!$B$13/coeff!$B$14*(H136*G136-1)/(H136-1),\"\"))","v":""},{"$f":"IF(OR(G136=\"\",I136=\"\"),\"\",IF((I136*(1-G136)-1)>=coeff!$B$15,coeff!$B$13/coeff!$B$14*(I136*(1-G136)-1)/(I136-1),\"\"))","v":""}]
[null,null,null,null,null,null,{"$f":"IF(F137=\"\",\"\",HLOOKUP(F137,$Q$3:AL139,ROW()-2))","v":""},null,null,{"$f":"IF(OR(G137=\"\",H137=\"\"),\"\",IF((H137*G137-1)>=coeff!$B$15,coeff!$B$13/coeff!$B$14*(H137*G137-1)/(H137-1),\"\"))","v":""},{"$f":"IF(OR(G137=\"\",I137=\"\"),\"\",IF((I137*(1-G137)-1)>=coeff!$B$15,coeff!$B$13/coeff!$B$14*(I137*(1-G137)-1)/(I137-1),\"\"))","v":""}]
[null,null,null,null,null,null,{"$f":"IF(F138=\"\",\"\",HLOOKUP(F138,$Q$3:AL140,ROW()-2))","v":""},null,null,{"$f":"IF(OR(G138=\"\",H138=\"\"),\"\",IF((H138*G138-1)>=coeff!$B$15,coeff!$B$13/coeff!$B$14*(H138*G138-1)/(H138-1),\"\"))","v":""},{"$f":"IF(OR(G138=\"\",I138=\"\"),\"\",IF((I138*(1-G138)-1)>=coeff!$B$15,coeff!$B$13/coeff!$B$14*(I138*(1-G138)-1)/(I138-1),\"\"))","v":""}]
[null,null,null,null,null,null,{"$f":"IF(F139=\"\",\"\",HLOOKUP(F139,$Q$3:AL141,ROW()-2))","v":""},null,null,{"$f":"IF(OR(G139=\"\",H139=\"\"),\"\",IF((H139*G139-1)>=coeff!$B$15,coeff!$B$13/coeff!$B$14*(H139*G139-1)/(H139-1),\"\"))","v":""},{"$f":"IF(OR(G139=\"\",I139=\"\"),\"\",IF((I139*(1-G139)-1)>=coeff!$B$15,coeff!$B$13/coeff!$B$14*(I139*(1-G139)-1)/(I139-1),\"\"))","v":""}]
[null,null,null,null,null,null,{"$f":"IF(F140=\"\",\"\",HLOOKUP(F140,$Q$3:AL142,ROW()-2))","v":""},null,null,{"$f":"IF(OR(G140=\"\",H140=\"\"),\"\",IF((H140*G140-1)>=coeff!$B$15,coeff!$B$13/coeff!$B$14*(H140*G140-1)/(H140-1),\"\"))","v":""},{"$f":"IF(OR(G140=\"\",I140=\"\"),\"\",IF((I140*(1-G140)-1)>=coeff!$B$15,coeff!$B$13/coeff!$B$14*(I140*(1-G140)-1)/(I140-1),\"\"))","v":""}]
[null,null,null,null,null,null,{"$f":"IF(F141=\"\",\"\",HLOOKUP(F141,$Q$3:AL143,ROW()-2))","v":""},null,null,{"$f":"IF(OR(G141=\"\",H141=\"\"),\"\",IF((H141*G141-1)>=coeff!$B$15,coeff!$B$13/coeff!$B$14*(H141*G141-1)/(H141-1),\"\"))","v":""},{"$f":"IF(OR(G141=\"\",I141=\"\"),\"\",IF((I141*(1-G141)-1)>=coeff!$B$15,coeff!$B$13/coeff!$B$14*(I141*(1-G141)-1)/(I141-1),\"\"))","v":""}]
[null,null,null,null,null,null,{"$f":"IF(F142=\"\",\"\",HLOOKUP(F142,$Q$3:AL144,ROW()-2))","v":""},null,null,{"$f":"IF(OR(G142=\"\",H142=\"\"),\"\",IF((H142*G142-1)>=coeff!$B$15,coeff!$B$13/coeff!$B$14*(H142*G142-1)/(H142-1),\"\"))","v":""},{"$f":"IF(OR(G142=\"\",I142=\"\"),\"\",IF((I142*(1-G142)-1)>=coeff!$B$15,coeff!$B$13/coeff!$B$14*(I142*(1-G142)-1)/(I142-1),\"\"))","v":""}]
[null,null,null,null,null,null,{"$f":"IF(F143=\"\",\"\",HLOOKUP(F143,$Q$3:AL145,ROW()-2))","v":""},null,null,{"$f":"IF(OR(G143=\"\",H143=\"\"),\"\",IF((H143*G143-1)>=coeff!$B$15,coeff!$B$13/coeff!$B$14*(H143*G143-1)/(H143-1),\"\"))","v":""},{"$f":"IF(OR(G143=\"\",I143=\"\"),\"\",IF((I143*(1-G143)-1)>=coeff!$B$15,coeff!$B$13/coeff!$B$14*(I143*(1-G143)-1)/(I143-1),\"\"))","v":""}]
[null,null,null,null,null,null,{"$f":"IF(F144=\"\",\"\",HLOOKUP(F144,$Q$3:AL146,ROW()-2))","v":""},null,null,{"$f":"IF(OR(G144=\"\",H144=\"\"),\"\",IF((H144*G144-1)>=coeff!$B$15,coeff!$B$13/coeff!$B$14*(H144*G144-1)/(H144-1),\"\"))","v":""},{"$f":"IF(OR(G144=\"\",I144=\"\"),\"\",IF((I144*(1-G144)-1)>=coeff!$B$15,coeff!$B$13/coeff!$B$14*(I144*(1-G144)-1)/(I144-1),\"\"))","v":""}]
[null,null,null,null,null,null,{"$f":"IF(F145=\"\",\"\",HLOOKUP(F145,$Q$3:AL147,ROW()-2))","v":""},null,null,{"$f":"IF(OR(G145=\"\",H145=\"\"),\"\",IF((H145*G145-1)>=coeff!$B$15,coeff!$B$13/coeff!$B$14*(H145*G145-1)/(H145-1),\"\"))","v":""},{"$f":"IF(OR(G145=\"\",I145=\"\"),\"\",IF((I145*(1-G145)-1)>=coeff!$B$15,coeff!$B$13/coeff!$B$14*(I145*(1-G145)-1)/(I145-1),\"\"))","v":""}]
[null,null,null,null,null,null,{"$f":"IF(F146=\"\",\"\",HLOOKUP(F146,$Q$3:AL148,ROW()-2))","v":""},null,null,{"$f":"IF(OR(G146=\"\",H146=\"\"),\"\",IF((H146*G146-1)>=coeff!$B$15,coeff!$B$13/coeff!$B$14*(H146*G146-1)/(H146-1),\"\"))","v":""},{"$f":"IF(OR(G146=\"\",I146=\"\"),\"\",IF((I146*(1-G146)-1)>=coeff!$B$15,coeff!$B$13/coeff!$B$14*(I146*(1-G146)-1)/(I146-1),\"\"))","v":""}]
[null,null,null,null,null,null,{"$f":"IF(F147=\"\",\"\",HLOOKUP(F147,$Q$3:AL149,ROW()-2))","v":""},null,null,{"$f":"IF(OR(G147=\"\",H147=\"\"),\"\",IF((H147*G147-1)>=coeff!$B$15,coeff!$B$13/coeff!$B$14*(H147*G147-1)/(H147-1),\"\"))","v":""},{"$f":"IF(OR(G147=\"\",I147=\"\"),\"\",IF((I147*(1-G147)-1)>=coeff!$B$15,coeff!$B$13/coeff!$B$14*(I147*(1-G147)-1)/(I147-1),\"\"))","v":""}]
[null,null,null,null,null,null,{"$f":"IF(F148=\"\",\"\",HLOOKUP(F148,$Q$3:AL150,ROW()-2))","v":""},null,null,{"$f":"IF(OR(G148=\"\",H148=\"\"),\"\",IF((H148*G148-1)>=coeff!$B$15,coeff!$B$13/coeff!$B$14*(H148*G148-1)/(H148-1),\"\"))","v":""},{"$f":"IF(OR(G148=\"\",I148=\"\"),\"\",IF((I148*(1-G148)-1)>=coeff!$B$15,coeff!$B$13/coeff!$B$14*(I148*(1-G148)-1)/(I148-1),\"\"))","v":""}]
[null,null,null,null,null,null,{"$f":"IF(F149=\"\",\"\",HLOOKUP(F149,$Q$3:AL151,ROW()-2))","v":""},null,null,{"$f":"IF(OR(G149=\"\",H149=\"\"),\"\",IF((H149*G149-1)>=coeff!$B$15,coeff!$B$13/coeff!$B$14*(H149*G149-1)/(H149-1),\"\"))","v":""},{"$f":"IF(OR(G149=\"\",I149=\"\"),\"\",IF((I149*(1-G149)-1)>=coeff!$B$15,coeff!$B$13/coeff!$B$14*(I149*(1-G149)-1)/(I149-1),\"\"))","v":""}]
[null,null,null,null,null,null,{"$f":"IF(F150=\"\",\"\",HLOOKUP(F150,$Q$3:AL152,ROW()-2))","v":""},null,null,{"$f":"IF(OR(G150=\"\",H150=\"\"),\"\",IF((H150*G150-1)>=coeff!$B$15,coeff!$B$13/coeff!$B$14*(H150*G150-1)/(H150-1),\"\"))","v":""},{"$f":"IF(OR(G150=\"\",I150=\"\"),\"\",IF((I150*(1-G150)-1)>=coeff!$B$15,coeff!$B$13/coeff!$B$14*(I150*(1-G150)-1)/(I150-1),\"\"))","v":""}]
[null,null,null,null,null,null,{"$f":"IF(F151=\"\",\"\",HLOOKUP(F151,$Q$3:AL153,ROW()-2))","v":""},null,null,{"$f":"IF(OR(G151=\"\",H151=\"\"),\"\",IF((H151*G151-1)>=coeff!$B$15,coeff!$B$13/coeff!$B$14*(H151*G151-1)/(H151-1),\"\"))","v":""},{"$f":"IF(OR(G151=\"\",I151=\"\"),\"\",IF((I151*(1-G151)-1)>=coeff!$B$15,coeff!$B$13/coeff!$B$14*(I151*(1-G151)-1)/(I151-1),\"\"))","v":""}]
[null,null,null,null,null,null,{"$f":"IF(F152=\"\",\"\",HLOOKUP(F152,$Q$3:AL154,ROW()-2))","v":""},null,null,{"$f":"IF(OR(G152=\"\",H152=\"\"),\"\",IF((H152*G152-1)>=coeff!$B$15,coeff!$B$13/coeff!$B$14*(H152*G152-1)/(H152-1),\"\"))","v":""},{"$f":"IF(OR(G152=\"\",I152=\"\"),\"\",IF((I152*(1-G152)-1)>=coeff!$B$15,coeff!$B$13/coeff!$B$14*(I152*(1-G152)-1)/(I152-1),\"\"))","v":""}]
[null,null,null,null,null,null,{"$f":"IF(F153=\"\",\"\",HLOOKUP(F153,$Q$3:AL155,ROW()-2))","v":""},null,null,{"$f":"IF(OR(G153=\"\",H153=\"\"),\"\",IF((H153*G153-1)>=coeff!$B$15,coeff!$B$13/coeff!$B$14*(H153*G153-1)/(H153-1),\"\"))","v":""},{"$f":"IF(OR(G153=\"\",I153=\"\"),\"\",IF((I153*(1-G153)-1)>=coeff!$B$15,coeff!$B$13/coeff!$B$14*(I153*(1-G153)-1)/(I153-1),\"\"))","v":""}]
[null,null,null,null,null,null,{"$f":"IF(F154=\"\",\"\",HLOOKUP(F154,$Q$3:AL156,ROW()-2))","v":""},null,null,{"$f":"IF(OR(G154=\"\",H154=\"\"),\"\",IF((H154*G154-1)>=coeff!$B$15,coeff!$B$13/coeff!$B$14*(H154*G154-1)/(H154-1),\"\"))","v":""},{"$f":"IF(OR(G154=\"\",I154=\"\"),\"\",IF((I154*(1-G154)-1)>=coeff!$B$15,coeff!$B$13/coeff!$B$14*(I154*(1-G154)-1)/(I154-1),\"\"))","v":""}]
[null,null,null,null,null,null,{"$f":"IF(F155=\"\",\"\",HLOOKUP(F155,$Q$3:AL157,ROW()-2))","v":""},null,null,{"$f":"IF(OR(G155=\"\",H155=\"\"),\"\",IF((H155*G155-1)>=coeff!$B$15,coeff!$B$13/coeff!$B$14*(H155*G155-1)/(H155-1),\"\"))","v":""},{"$f":"IF(OR(G155=\"\",I155=\"\"),\"\",IF((I155*(1-G155)-1)>=coeff!$B$15,coeff!$B$13/coeff!$B$14*(I155*(1-G155)-1)/(I155-1),\"\"))","v":""}]
[null,null,null,null,null,null,{"$f":"IF(F156=\"\",\"\",HLOOKUP(F156,$Q$3:AL158,ROW()-2))","v":""},null,null,{"$f":"IF(OR(G156=\"\",H156=\"\"),\"\",IF((H156*G156-1)>=coeff!$B$15,coeff!$B$13/coeff!$B$14*(H156*G156-1)/(H156-1),\"\"))","v":""},{"$f":"IF(OR(G156=\"\",I156=\"\"),\"\",IF((I156*(1-G156)-1)>=coeff!$B$15,coeff!$B$13/coeff!$B$14*(I156*(1-G156)-1)/(I156-1),\"\"))","v":""}]
[null,null,null,null,null,null,{"$f":"IF(F157=\"\",\"\",HLOOKUP(F157,$Q$3:AL159,ROW()-2))","v":""},null,null,{"$f":"IF(OR(G157=\"\",H157=\"\"),\"\",IF((H157*G157-1)>=coeff!$B$15,coeff!$B$13/coeff!$B$14*(H157*G157-1)/(H157-1),\"\"))","v":""},{"$f":"IF(OR(G157=\"\",I157=\"\"),\"\",IF((I157*(1-G157)-1)>=coeff!$B$15,coeff!$B$13/coeff!$B$14*(I157*(1-G157)-1)/(I157-1),\"\"))","v":""}]
[null,null,null,null,null,null,{"$f":"IF(F158=\"\",\"\",HLOOKUP(F158,$Q$3:AL160,ROW()-2))","v":""},null,null,{"$f":"IF(OR(G158=\"\",H158=\"\"),\"\",IF((H158*G158-1)>=coeff!$B$15,coeff!$B$13/coeff!$B$14*(H158*G158-1)/(H158-1),\"\"))","v":""},{"$f":"IF(OR(G158=\"\",I158=\"\"),\"\",IF((I158*(1-G158)-1)>=coeff!$B$15,coeff!$B$13/coeff!$B$14*(I158*(1-G158)-1)/(I158-1),\"\"))","v":""}]
[null,null,null,null,null,null,{"$f":"IF(F159=\"\",\"\",HLOOKUP(F159,$Q$3:AL161,ROW()-2))","v":""},null,null,{"$f":"IF(OR(G159=\"\",H159=\"\"),\"\",IF((H159*G159-1)>=coeff!$B$15,coeff!$B$13/coeff!$B$14*(H159*G159-1)/(H159-1),\"\"))","v":""},{"$f":"IF(OR(G159=\"\",I159=\"\"),\"\",IF((I159*(1-G159)-1)>=coeff!$B$15,coeff!$B$13/coeff!$B$14*(I159*(1-G159)-1)/(I159-1),\"\"))","v":""}]
[null,null,null,null,null,null,{"$f":"IF(F160=\"\",\"\",HLOOKUP(F160,$Q$3:AL162,ROW()-2))","v":""},null,null,{"$f":"IF(OR(G160=\"\",H160=\"\"),\"\",IF((H160*G160-1)>=coeff!$B$15,coeff!$B$13/coeff!$B$14*(H160*G160-1)/(H160-1),\"\"))","v":""},{"$f":"IF(OR(G160=\"\",I160=\"\"),\"\",IF((I160*(1-G160)-1)>=coeff!$B$15,coeff!$B$13/coeff!$B$14*(I160*(1-G160)-1)/(I160-1),\"\"))","v":""}]
[null,null,null,null,null,null,{"$f":"IF(F161=\"\",\"\",HLOOKUP(F161,$Q$3:AL163,ROW()-2))","v":""},null,null,{"$f":"IF(OR(G161=\"\",H161=\"\"),\"\",IF((H161*G161-1)>=coeff!$B$15,coeff!$B$13/coeff!$B$14*(H161*G161-1)/(H161-1),\"\"))","v":""},{"$f":"IF(OR(G161=\"\",I161=\"\"),\"\",IF((I161*(1-G161)-1)>=coeff!$B$15,coeff!$B$13/coeff!$B$14*(I161*(1-G161)-1)/(I161-1),\"\"))","v":""}]
[null,null,null,null,null,null,{"$f":"IF(F162=\"\",\"\",HLOOKUP(F162,$Q$3:AL164,ROW()-2))","v":""},null,null,{"$f":"IF(OR(G162=\"\",H162=\"\"),\"\",IF((H162*G162-1)>=coeff!$B$15,coeff!$B$13/coeff!$B$14*(H162*G162-1)/(H162-1),\"\"))","v":""},{"$f":"IF(OR(G162=\"\",I162=\"\"),\"\",IF((I162*(1-G162)-1)>=coeff!$B$15,coeff!$B$13/coeff!$B$14*(I162*(1-G162)-1)/(I162-1),\"\"))","v":""}]
[null,null,null,null,null,null,{"$f":"IF(F163=\"\",\"\",HLOOKUP(F163,$Q$3:AL165,ROW()-2))","v":""},null,null,{"$f":"IF(OR(G163=\"\",H163=\"\"),\"\",IF((H163*G163-1)>=coeff!$B$15,coeff!$B$13/coeff!$B$14*(H163*G163-1)/(H163-1),\"\"))","v":""},{"$f":"IF(OR(G163=\"\",I163=\"\"),\"\",IF((I163*(1-G163)-1)>=coeff!$B$15,coeff!$B$13/coeff!$B$14*(I163*(1-G163)-1)/(I163-1),\"\"))","v":""}]
[null,null,null,null,null,null,{"$f":"IF(F164=\"\",\"\",HLOOKUP(F164,$Q$3:AL166,ROW()-2))","v":""},null,null,{"$f":"IF(OR(G164=\"\",H164=\"\"),\"\",IF((H164*G164-1)>=coeff!$B$15,coeff!$B$13/coeff!$B$14*(H164*G164-1)/(H164-1),\"\"))","v":""},{"$f":"IF(OR(G164=\"\",I164=\"\"),\"\",IF((I164*(1-G164)-1)>=coeff!$B$15,coeff!$B$13/coeff!$B$14*(I164*(1-G164)-1)/(I164-1),\"\"))","v":""}]
[null,null,null,null,null,null,{"$f":"IF(F165=\"\",\"\",HLOOKUP(F165,$Q$3:AL167,ROW()-2))","v":""},null,null,{"$f":"IF(OR(G165=\"\",H165=\"\"),\"\",IF((H165*G165-1)>=coeff!$B$15,coeff!$B$13/coeff!$B$14*(H165*G165-1)/(H165-1),\"\"))","v":""},{"$f":"IF(OR(G165=\"\",I165=\"\"),\"\",IF((I165*(1-G165)-1)>=coeff!$B$15,coeff!$B$13/coeff!$B$14*(I165*(1-G165)-1)/(I165-1),\"\"))","v":""}]
[null,null,null,null,null,null,{"$f":"IF(F166=\"\",\"\",HLOOKUP(F166,$Q$3:AL168,ROW()-2))","v":""},null,null,{"$f":"IF(OR(G166=\"\",H166=\"\"),\"\",IF((H166*G166-1)>=coeff!$B$15,coeff!$B$13/coeff!$B$14*(H166*G166-1)/(H166-1),\"\"))","v":""},{"$f":"IF(OR(G166=\"\",I166=\"\"),\"\",IF((I166*(1-G166)-1)>=coeff!$B$15,coeff!$B$13/coeff!$B$14*(I166*(1-G166)-1)/(I166-1),\"\"))","v":""}]
[null,null,null,null,null,null,{"$f":"IF(F167=\"\",\"\",HLOOKUP(F167,$Q$3:AL169,ROW()-2))","v":""},null,null,{"$f":"IF(OR(G167=\"\",H167=\"\"),\"\",IF((H167*G167-1)>=coeff!$B$15,coeff!$B$13/coeff!$B$14*(H167*G167-1)/(H167-1),\"\"))","v":""},{"$f":"IF(OR(G167=\"\",I167=\"\"),\"\",IF((I167*(1-G167)-1)>=coeff!$B$15,coeff!$B$13/coeff!$B$14*(I167*(1-G167)-1)/(I167-1),\"\"))","v":""}]
[null,null,null,null,null,null,{"$f":"IF(F168=\"\",\"\",HLOOKUP(F168,$Q$3:AL170,ROW()-2))","v":""},null,null,{"$f":"IF(OR(G168=\"\",H168=\"\"),\"\",IF((H168*G168-1)>=coeff!$B$15,coeff!$B$13/coeff!$B$14*(H168*G168-1)/(H168-1),\"\"))","v":""},{"$f":"IF(OR(G168=\"\",I168=\"\"),\"\",IF((I168*(1-G168)-1)>=coeff!$B$15,coeff!$B$13/coeff!$B$14*(I168*(1-G168)-1)/(I168-1),\"\"))","v":""}]
[null,null,null,null,null,null,{"$f":"IF(F169=\"\",\"\",HLOOKUP(F169,$Q$3:AL171,ROW()-2))","v":""},null,null,{"$f":"IF(OR(G169=\"\",H169=\"\"),\"\",IF((H169*G169-1)>=coeff!$B$15,coeff!$B$13/coeff!$B$14*(H169*G169-1)/(H169-1),\"\"))","v":""},{"$f":"IF(OR(G169=\"\",I169=\"\"),\"\",IF((I169*(1-G169)-1)>=coeff!$B$15,coeff!$B$13/coeff!$B$14*(I169*(1-G169)-1)/(I169-1),\"\"))","v":""}]
[null,null,null,null,null,null,{"$f":"IF(F170=\"\",\"\",HLOOKUP(F170,$Q$3:AL172,ROW()-2))","v":""},null,null,{"$f":"IF(OR(G170=\"\",H170=\"\"),\"\",IF((H170*G170-1)>=coeff!$B$15,coeff!$B$13/coeff!$B$14*(H170*G170-1)/(H170-1),\"\"))","v":""},{"$f":"IF(OR(G170=\"\",I170=\"\"),\"\",IF((I170*(1-G170)-1)>=coeff!$B$15,coeff!$B$13/coeff!$B$14*(I170*(1-G170)-1)/(I170-1),\"\"))","v":""}]
[null,null,null,null,null,null,{"$f":"IF(F171=\"\",\"\",HLOOKUP(F171,$Q$3:AL173,ROW()-2))","v":""},null,null,{"$f":"IF(OR(G171=\"\",H171=\"\"),\"\",IF((H171*G171-1)>=coeff!$B$15,coeff!$B$13/coeff!$B$14*(H171*G171-1)/(H171-1),\"\"))","v":""},{"$f":"IF(OR(G171=\"\",I171=\"\"),\"\",IF((I171*(1-G171)-1)>=coeff!$B$15,coeff!$B$13/coeff!$B$14*(I171*(1-G171)-1)/(I171-1),\"\"))","v":""}]
[null,null,null,null,null,null,{"$f":"IF(F172=\"\",\"\",HLOOKUP(F172,$Q$3:AL174,ROW()-2))","v":""},null,null,{"$f":"IF(OR(G172=\"\",H172=\"\"),\"\",IF((H172*G172-1)>=coeff!$B$15,coeff!$B$13/coeff!$B$14*(H172*G172-1)/(H172-1),\"\"))","v":""},{"$f":"IF(OR(G172=\"\",I172=\"\"),\"\",IF((I172*(1-G172)-1)>=coeff!$B$15,coeff!$B$13/coeff!$B$14*(I172*(1-G172)-1)/(I172-1),\"\"))","v":""}]
[null,null,null,null,null,null,{"$f":"IF(F173=\"\",\"\",HLOOKUP(F173,$Q$3:AL175,ROW()-2))","v":""},null,null,{"$f":"IF(OR(G173=\"\",H173=\"\"),\"\",IF((H173*G173-1)>=coeff!$B$15,coeff!$B$13/coeff!$B$14*(H173*G173-1)/(H173-1),\"\"))","v":""},{"$f":"IF(OR(G173=\"\",I173=\"\"),\"\",IF((I173*(1-G173)-1)>=coeff!$B$15,coeff!$B$13/coeff!$B$14*(I173*(1-G173)-1)/(I173-1),\"\"))","v":""}]
[null,null,null,null,null,null,{"$f":"IF(F174=\"\",\"\",HLOOKUP(F174,$Q$3:AL176,ROW()-2))","v":""},null,null,{"$f":"IF(OR(G174=\"\",H174=\"\"),\"\",IF((H174*G174-1)>=coeff!$B$15,coeff!$B$13/coeff!$B$14*(H174*G174-1)/(H174-1),\"\"))","v":""},{"$f":"IF(OR(G174=\"\",I174=\"\"),\"\",IF((I174*(1-G174)-1)>=coeff!$B$15,coeff!$B$13/coeff!$B$14*(I174*(1-G174)-1)/(I174-1),\"\"))","v":""}]
[null,null,null,null,null,null,{"$f":"IF(F175=\"\",\"\",HLOOKUP(F175,$Q$3:AL177,ROW()-2))","v":""},null,null,{"$f":"IF(OR(G175=\"\",H175=\"\"),\"\",IF((H175*G175-1)>=coeff!$B$15,coeff!$B$13/coeff!$B$14*(H175*G175-1)/(H175-1),\"\"))","v":""},{"$f":"IF(OR(G175=\"\",I175=\"\"),\"\",IF((I175*(1-G175)-1)>=coeff!$B$15,coeff!$B$13/coeff!$B$14*(I175*(1-G175)-1)/(I175-1),\"\"))","v":""}]
[null,null,null,null,null,null,{"$f":"IF(F176=\"\",\"\",HLOOKUP(F176,$Q$3:AL178,ROW()-2))","v":""},null,null,{"$f":"IF(OR(G176=\"\",H176=\"\"),\"\",IF((H176*G176-1)>=coeff!$B$15,coeff!$B$13/coeff!$B$14*(H176*G176-1)/(H176-1),\"\"))","v":""},{"$f":"IF(OR(G176=\"\",I176=\"\"),\"\",IF((I176*(1-G176)-1)>=coeff!$B$15,coeff!$B$13/coeff!$B$14*(I176*(1-G176)-1)/(I176-1),\"\"))","v":""}]
[null,null,null,null,null,null,{"$f":"IF(F177=\"\",\"\",HLOOKUP(F177,$Q$3:AL179,ROW()-2))","v":""},null,null,{"$f":"IF(OR(G177=\"\",H177=\"\"),\"\",IF((H177*G177-1)>=coeff!$B$15,coeff!$B$13/coeff!$B$14*(H177*G177-1)/(H177-1),\"\"))","v":""},{"$f":"IF(OR(G177=\"\",I177=\"\"),\"\",IF((I177*(1-G177)-1)>=coeff!$B$15,coeff!$B$13/coeff!$B$14*(I177*(1-G177)-1)/(I177-1),\"\"))","v":""}]
[null,null,null,null,null,null,{"$f":"IF(F178=\"\",\"\",HLOOKUP(F178,$Q$3:AL180,ROW()-2))","v":""},null,null,{"$f":"IF(OR(G178=\"\",H178=\"\"),\"\",IF((H178*G178-1)>=coeff!$B$15,coeff!$B$13/coeff!$B$14*(H178*G178-1)/(H178-1),\"\"))","v":""},{"$f":"IF(OR(G178=\"\",I178=\"\"),\"\",IF((I178*(1-G178)-1)>=coeff!$B$15,coeff!$B$13/coeff!$B$14*(I178*(1-G178)-1)/(I178-1),\"\"))","v":""}]
[null,null,null,null,null,null,{"$f":"IF(F179=\"\",\"\",HLOOKUP(F179,$Q$3:AL181,ROW()-2))","v":""},null,null,{"$f":"IF(OR(G179=\"\",H179=\"\"),\"\",IF((H179*G179-1)>=coeff!$B$15,coeff!$B$13/coeff!$B$14*(H179*G179-1)/(H179-1),\"\"))","v":""},{"$f":"IF(OR(G179=\"\",I179=\"\"),\"\",IF((I179*(1-G179)-1)>=coeff!$B$15,coeff!$B$13/coeff!$B$14*(I179*(1-G179)-1)/(I179-1),\"\"))","v":""}]
[null,null,null,null,null,null,{"$f":"IF(F180=\"\",\"\",HLOOKUP(F180,$Q$3:AL182,ROW()-2))","v":""},null,null,{"$f":"IF(OR(G180=\"\",H180=\"\"),\"\",IF((H180*G180-1)>=coeff!$B$15,coeff!$B$13/coeff!$B$14*(H180*G180-1)/(H180-1),\"\"))","v":""},{"$f":"IF(OR(G180=\"\",I180=\"\"),\"\",IF((I180*(1-G180)-1)>=coeff!$B$15,coeff!$B$13/coeff!$B$14*(I180*(1-G180)-1)/(I180-1),\"\"))","v":""}]
[null,null,null,null,null,null,{"$f":"IF(F181=\"\",\"\",HLOOKUP(F181,$Q$3:AL183,ROW()-2))","v":""},null,null,{"$f":"IF(OR(G181=\"\",H181=\"\"),\"\",IF((H181*G181-1)>=coeff!$B$15,coeff!$B$13/coeff!$B$14*(H181*G181-1)/(H181-1),\"\"))","v":""},{"$f":"IF(OR(G181=\"\",I181=\"\"),\"\",IF((I181*(1-G181)-1)>=coeff!$B$15,coeff!$B$13/coeff!$B$14*(I181*(1-G181)-1)/(I181-1),\"\"))","v":""}]
[null,null,null,null,null,null,{"$f":"IF(F182=\"\",\"\",HLOOKUP(F182,$Q$3:AL184,ROW()-2))","v":""}]
[null,null,null,null,null,null,{"$f":"IF(F183=\"\",\"\",HLOOKUP(F183,$Q$3:AL185,ROW()-2))","v":""}]
[null,null,null,null,null,null,{"$f":"IF(F184=\"\",\"\",HLOOKUP(F184,$Q$3:AL186,ROW()-2))","v":""}]
[null,null,null,null,null,null,{"$f":"IF(F185=\"\",\"\",HLOOKUP(F185,$Q$3:AL187,ROW()-2))","v":""}]
[null,null,null,null,null,null,{"$f":"IF(F186=\"\",\"\",HLOOKUP(F186,$Q$3:AL188,ROW()-2))","v":""}]
[null,null,null,null,null,null,{"$f":"IF(F187=\"\",\"\",HLOOKUP(F187,$Q$3:AL189,ROW()-2))","v":""}]
[null,null,null,null,null,null,{"$f":"IF(F188=\"\",\"\",HLOOKUP(F188,$Q$3:AL190,ROW()-2))","v":""}]
[null,null,null,null,null,null,{"$f":"IF(F189=\"\",\"\",HLOOKUP(F189,$Q$3:AL191,ROW()-2))","v":""}]
[null,null,null,null,null,null,{"$f":"IF(F190=\"\",\"\",HLOOKUP(F190,$Q$3:AL192,ROW()-2))","v":""}]
[null,null,null,null,null,null,{"$f":"IF(F191=\"\",\"\",HLOOKUP(F191,$Q$3:AL193,ROW()-2))","v":""}]
[null,null,null,null,null,null,{"$f":"IF(F192=\"\",\"\",HLOOKUP(F192,$Q$3:AL194,ROW()-2))","v":""}]
[null,null,null,null,null,null,{"$f":"IF(F193=\"\",\"\",HLOOKUP(F193,$Q$3:AL195,ROW()-2))","v":""}]
[null,null,null,null,null,null,{"$f":"IF(F194=\"\",\"\",HLOOKUP(F194,$Q$3:AL196,ROW()-2))","v":""}]
[null,null,null,null,null,null,{"$f":"IF(F195=\"\",\"\",HLOOKUP(F195,$Q$3:AL197,ROW()-2))","v":""}]
[null,null,null,null,null,null,{"$f":"IF(F196=\"\",\"\",HLOOKUP(F196,$Q$3:AL198,ROW()-2))","v":""}]
[null,null,null,null,null,null,{"$f":"IF(F197=\"\",\"\",HLOOKUP(F197,$Q$3:AL199,ROW()-2))","v":""}]
[null,null,null,null,null,null,{"$f":"IF(F198=\"\",\"\",HLOOKUP(F198,$Q$3:AL200,ROW()-2))","v":""}]
[null,null,null,null,null,null,{"$f":"IF(F199=\"\",\"\",HLOOKUP(F199,$Q$3:AL201,ROW()-2))","v":""}]
[null,null,null,null,null,null,{"$f":"IF(F200=\"\",\"\",HLOOKUP(F200,$Q$3:AL202,ROW()-2))","v":""}]